{"text_format":"1","workbook":"xlsx","n_sheets":8,"sheets":["Disclaimer","Change Log","Potable Water Calculator","Raw Data","RAINFALL DATA","RAINFALL OUTPUT","SWIMMING POOL","hidden"],"not_rendered":{"charts":8,"images":5,"macros":1,"external_links":4,"defined_names":60,"comments":1,"pivot_tables":0},"unopened":[],"bounds":{"document_bytes":16777216,"sheet_cells":100000,"rows_first":2000,"rows_last":500,"rows_between":2000,"halvings":0,"cell_chars":16384,"cell_head_chars":4096},"cells_cut":0,"cells_raw":0,"read":"whole","date_system":"1900"}

{"sheet":"Disclaimer","index":0,"n_rows":14,"n_cols":2,"rows_kept":14,"cut":false,"hidden":false,"merged":[]}
[]
[]
[]
[]
[]
[]
[]
[]
[]
[]
[]
[]
[]
[null,"DISCLAIMER, AUTHORISATION AND ACKNOWLEDGEMENT"]

{"sheet":"Change Log","index":1,"n_rows":36,"n_cols":11,"rows_kept":36,"cut":false,"hidden":false,"merged":[[14,3,14,8],[15,3,15,8],[16,3,16,8]]}
[]
[]
[]
[]
[]
[]
[]
[]
[]
[]
[]
[]
[]
[null,"Change Log"]
[null,null,"Calculator Release","Summary of Changes"]
[null,"Green Star - Design & As Built NZv1.1","2022-09-02","V1.1 release "]
[null,"Green Star - Green Star Buildings NZ","2024-12-13","Green Star Buildings draft release "]
[]
[]
[]
[]
[]
[]
[]
[]
[]
[]
[]
[]
[]
[null," SUMMARY OF CHANGES - INTERNAL USE ONLY"]
[null,"Release Number","Date"," Author","Reviewer","Approver","Sheet","Range","New Value ","Old Value"," Comments"]
[null,"GS-D&AB v1.2 Release 1","2017-03-20","MA","KD","NS","Potable Water Calculator","E559","To\n=IF(OR(E558<=MIN($C$566:$C$578),E558>=MAX($C$566:$C$578)), NA(),FORECAST(E558,OFFSET($E$566:$E$578,MATCH(E558,$C$566:$C$578)-1,0,2),OFFSET($C$566:$C$578,MATCH(E558,$C$566:$C$578)-1,0,2)))","From =IF(E557<0,0,VLOOKUP(E557,C565:E575,3,TRUE))","Project team submitted a request regarding interpolation about results instead of doing v lookup. The GBCA send this to Peer Review with the Author of the calculator and they agreed with the chnages. GBCA to implement in both interiors and D&AB in v1.2"]
[null,"GS-D&AB v1.2 Release 1","2017-05-23","MA","SN",null,"Potable Water Calculator","GZ1659: HC2023","Rain\n=SUM(AE1659,AT1659,BL1659,BZ1659,CN1659,DB1659,DP1659,ED1659,ER1659,FF1659,FT1659,GH1659,GV1659)\nGrey\n=SUM(AC1659,AR1659,BJ1659,BX1659,CL1659,CZ1659,DN1659,EB1659, EP1659,FD1659,FR1659,GF1659,GT1659)\nBlack\n=SUM(AD1659,AS1659,BK1659,BY1659,CM1659,DA1659,DO1659,EC1659, EQ1659,FE1659,FS1659,GG1659,GU1659)\nOffsite\n=SUM(AF1659,AU1659,BM1659,CA1659,CO1659,DC1659,DQ1659,EE1659,ES1659,FG1659,FU1659,GI1659,GW1659)","Rain\n=SUM(AE1659,AT1659,BL1659,BZ1659,CN1659,DB1659,DP1659,ED1659,FF1659,FT1659,GH1659,GV1659)\nGrey\n=SUM(AC1659,AR1659,BJ1659,BX1659,CL1659,CZ1659,DN1659,EB1659,FD1659,FR1659,GF1659,GT1659)\nBlack\n=SUM(AD1659,AS1659,BK1659,BY1659,CM1659,DA1659,DO1659,EC1659,FE1659,FS1659,GG1659,GU1659)\nOffsite\n=SUM(AF1659,AU1659,BM1659,CA1659,CO1659,DC1659,DQ1659,EE1659,ES1659,FG1659,FU1659,GI1659,GW1659)","Added Washdown usage for Rain, Grey , black and offsite reclaimed water for each day of the year in the final totals summation. "]
[null,"GS-D&AB v1.2 Release 1","2017-06-13","MA","SN",null,"Potable Water Calculator","X921:1284","IF($H$33=\"Yes\",HLOOKUP(MONTH(M921),$T$262:$AE$264,3)*0.001,0)","IF($H$33=\"Yes\",HLOOKUP(MONTH(M921),$T$262:$AD$264,3)*0.001,0)","we (Richard Stokes & Arup) noted a bug in the Green Star Potable Water calculator in the irrigation and washdown sections.\n\n I think the calculator was showing a significantly reduced the potable water shown in December and doubled counted irrigation in the washdown.\n\nPlease see notes below recommending fixes to specific cells:\n\n• In the ‘Absolute water uses – proposed’ table, the landscape irrigation column formula is incorrect: X921:1284. The formula includes a lookup for the month, and the range for the lookup doesn’t include December, i.e. AD should be replaced with AE in the formula below. The mistake means that the values for December in X1255:1284 are incorrect.\n=IF($H$33=\"Yes\",HLOOKUP(MONTH(M921),$T$262:$AD$264,3)*0.001,0)\nAGREE AND IMPLEMENTED\n• Under ‘9. Summary of Water Demand’, the washdown value for the Standard Practice Building is incorrect – it includes the landscape irrigation values. It gets this value from cell W915, which takes the sum of this column and the one next to it, i.e. =SUM(W550:X914)\nALREADY UPDATED\n\n"]
[null,"GS-D&AB v1.2 Release 1","2017-06-13","MA","SN",null,"Potable Water Calculator","W915","=sum(W550:W914)","=sum(W550:X914)","Washdown calculation was previously including the consumption of Landscape Irrigation. "]

{"sheet":"Potable Water Calculator","index":2,"n_rows":2106,"n_cols":230,"rows_kept":1125,"cut":true,"hidden":false,"merged":[[1739,217,1739,221],[1738,223,1738,229],[623,3,623,9],[1739,122,1739,126],[1738,138,1738,153],[1739,139,1739,143],[1739,144,1739,148],[1739,149,1739,153],[1738,155,1738,170],[1739,156,1739,160],[1739,161,1739,165],[1739,166,1739,170],[1370,34,1370,53],[1370,56,1370,57],[1370,60,1370,64],[1739,81,1739,85],[1739,76,1739,80],[1739,71,1739,75],[1738,70,1738,85],[1739,110,1739,114],[1739,115,1739,119],[1739,105,1739,109],[1738,121,1738,136],[1739,132,1739,136],[87,6,87,7],[94,6,94,7],[95,3,95,4],[1739,54,1739,58],[1739,59,1739,63],[1739,64,1739,68],[1738,53,1738,68],[1738,36,1738,51],[95,5,95,6],[96,3,96,4],[96,5,96,6],[188,3,188,6],[193,5,193,6],[194,5,194,6],[198,5,198,6],[199,2,199,3],[366,1,366,11],[144,11,146,11],[109,9,111,9],[520,1,520,11],[526,2,526,3],[526,7,526,10],[533,2,533,3],[547,2,547,3],[171,2,171,6],[173,7,173,8],[183,12,183,13],[187,3,187,6],[161,12,161,20],[65,21,66,21],[83,3,83,4],[84,3,84,4],[85,3,85,5],[161,21,161,24],[162,4,162,5],[162,6,162,8],[162,16,162,18],[163,7,163,8],[163,13,163,15],[163,16,163,18],[164,7,164,8],[164,13,164,15],[164,16,164,18],[164,9,166,10],[165,7,165,8],[127,6,129,6],[144,6,146,6],[127,7,129,7],[41,21,41,22],[42,21,42,22],[42,25,42,28],[45,12,45,13],[43,21,43,22],[67,3,67,4],[75,6,75,7],[65,4,65,11],[65,16,65,17],[65,18,65,19],[65,23,65,29],[73,9,75,9],[67,6,68,6],[67,7,68,7],[78,23,78,29],[31,18,31,19],[31,16,31,17],[30,25,30,28],[30,21,30,23],[30,15,30,19],[25,6,25,7],[127,9,129,9],[144,9,146,9],[127,10,129,10],[144,10,146,10],[92,9,94,9],[100,9,102,9],[38,21,38,22],[36,21,36,22],[35,21,35,22],[34,21,34,22],[31,28,32,28],[31,27,32,27],[31,26,32,26],[33,21,33,22],[32,21,32,22],[31,21,31,22],[67,8,68,8],[15,65,15,66],[1,6,1,7],[2,1,2,2],[5,1,5,2],[6,1,6,2],[8,1,8,2],[8,3,8,5],[13,6,13,7],[15,41,15,42],[15,43,15,44],[3,1,4,2],[13,56,14,72],[7,6,9,9],[13,41,14,54],[15,9,24,11],[15,67,15,68],[15,69,15,70],[15,71,15,72],[15,61,15,62],[13,8,14,8],[15,49,15,50],[15,51,15,52],[15,53,15,54],[13,2,14,2],[199,13,199,14],[199,15,199,17],[200,13,200,14],[200,15,200,17],[201,13,201,14],[201,15,201,17],[259,3,259,4],[259,5,259,6],[259,19,259,20],[260,3,260,4],[260,5,260,6],[260,19,260,20],[260,21,260,22],[202,13,202,14],[202,15,202,17],[205,2,205,5],[205,6,205,9],[221,6,221,11],[222,2,222,4],[241,3,241,4],[262,3,262,4],[262,5,262,6],[262,19,262,20],[262,21,262,22],[263,3,263,4],[263,5,263,6],[263,19,263,20],[261,3,261,4],[261,5,261,6],[265,3,265,4],[265,5,265,6],[265,19,265,20],[266,3,266,4],[266,5,266,6],[266,19,266,20],[266,21,266,22],[264,3,264,4],[264,5,264,6],[264,19,264,20],[264,21,264,22],[322,3,322,4],[290,6,290,7],[292,19,292,31],[322,12,322,21],[323,13,323,15],[323,16,323,24],[330,14,330,18],[292,32,292,33],[267,3,267,4],[267,5,267,6],[267,19,267,20],[267,21,267,22],[267,27,267,29],[268,3,268,4],[268,5,268,6],[268,27,268,29],[269,3,269,4],[269,5,269,6],[273,17,273,18],[274,32,274,33],[409,2,410,2],[638,4,638,6],[639,2,639,3],[673,2,673,3],[409,3,409,8],[1738,87,1738,102],[1739,98,1739,102],[1739,93,1739,97],[1739,88,1739,92],[1739,42,1739,46],[1739,47,1739,51],[1001,31,1001,36],[1001,37,1001,42],[1370,82,1370,85],[1370,67,1370,81],[1739,13,1739,16],[1739,25,1739,29],[1739,20,1739,24],[1739,30,1739,34],[1739,37,1739,41],[681,4,682,6],[671,6,673,9],[664,2,664,10],[671,2,671,3],[406,1,406,11],[1738,104,1738,119],[452,2,452,3],[409,9,414,9],[409,10,414,10],[13,3,14,3],[128,3,129,3],[145,3,146,3],[13,4,14,4],[128,4,129,4],[145,4,146,4],[13,5,14,5],[67,5,68,5],[76,5,77,5],[127,5,129,5],[144,5,146,5],[345,2,345,3],[346,2,346,3],[347,2,347,3],[348,2,348,3],[349,2,349,3],[353,2,353,3],[354,2,354,3],[369,2,369,3],[662,2,663,6],[661,2,661,10],[660,2,660,10],[645,2,645,4],[641,2,641,3],[642,2,642,3],[643,2,643,3],[1739,127,1739,131],[1738,189,1738,204],[1739,190,1739,194],[1739,195,1739,199],[1739,200,1739,204],[1738,172,1738,187],[1739,173,1739,177],[1739,178,1739,182],[1739,183,1739,187],[1738,206,1738,221],[1739,207,1739,211],[1739,212,1739,216],[169,7,172,9],[197,13,198,14],[174,25,176,32],[177,25,178,32],[172,25,173,32],[258,15,270,17],[197,15,198,17],[258,12,272,13],[270,19,270,32],[272,17,272,18],[258,19,258,22],[257,24,257,26],[257,28,257,29],[677,2,678,9],[594,27,602,33],[427,6,439,7],[680,7,680,11],[1370,30,1370,31],[1001,20,1001,21],[1370,13,1370,27],[1000,13,1001,14],[76,7,77,9],[102,6,102,7],[85,9,87,9],[125,2,125,6],[134,13,135,15],[605,3,605,4],[630,20,630,21],[354,7,355,9],[449,6,450,8],[585,2,585,3],[386,2,386,3],[365,1,365,11],[388,2,388,3],[389,2,389,4],[390,2,390,3],[391,2,391,3],[394,1,394,11],[395,1,395,11],[387,2,387,3],[426,3,426,5],[629,13,630,14],[449,2,449,3],[451,2,451,3],[368,2,368,3],[103,3,103,4],[111,6,111,7],[127,3,127,4],[144,3,144,4],[127,8,129,8],[144,8,146,8],[127,11,129,11],[105,3,105,9],[95,7,99,9],[168,3,168,10],[144,7,146,7],[375,3,375,4],[368,7,368,10],[399,5,399,6],[399,4,400,4],[339,7,339,9],[340,2,340,3],[340,5,340,6],[307,5,308,8],[341,2,341,3],[166,2,166,3],[166,7,166,8],[399,3,400,3],[396,1,396,11],[397,1,397,11],[370,2,370,3],[341,5,341,6],[342,2,342,3],[343,2,343,3],[344,2,344,3],[274,1,274,8],[288,6,289,7],[307,3,307,4],[15,73,15,74],[198,19,198,20],[197,19,197,20],[196,19,196,20],[196,15,196,17],[196,13,196,14],[195,19,195,20],[195,12,195,17],[65,22,66,22],[65,20,66,20],[88,15,89,15],[98,13,98,20],[97,12,97,20],[65,15,66,15],[88,14,89,14],[65,14,66,14],[88,13,89,13],[65,13,66,13],[88,12,89,12],[169,20,169,23],[15,59,15,60],[39,28,40,28],[39,25,40,27],[40,21,40,22],[16,73,16,74],[16,71,16,72],[16,69,16,70],[16,67,16,68],[16,65,16,66],[16,63,16,64],[16,61,16,62],[16,59,16,60],[16,53,16,54],[39,21,39,22],[15,63,15,64],[15,47,15,48],[15,45,15,46],[16,51,16,52],[16,49,16,50],[16,47,16,48],[16,45,16,46],[16,43,16,44],[16,41,16,42],[45,40,47,40],[43,40,44,40],[86,14,87,15],[86,12,87,13],[86,19,87,21],[134,25,135,27],[393,12,393,17],[370,12,370,17],[1738,19,1738,23],[1738,12,1738,16],[383,12,383,17],[477,20,488,20],[593,27,593,33],[433,12,433,13],[453,14,453,20],[455,14,455,20],[434,15,435,16],[475,15,475,18],[475,19,475,21],[434,17,435,17],[274,19,274,30],[261,19,261,20],[261,28,261,29],[259,21,259,22]],"bounds":{"rows_first":500,"rows_last":125,"rows_between":500,"halvings":2}}
[null,"Water Use, Performance Pathway (25)",null,null,null,null,null,null,null,null,null,null,"x","x","x","x","x","x","x","x","x","x","x","x","x","x","x","x","x","x","x",null,"x","x","x","x","x","x","x"]
[null,null,null,null,null,null,"Weighted Points Achieved",null,{"$f":"IF(J52=0,\"Incomplete\",SUM(IFERROR(E642:E644,0)))","v":"Incomplete"},null,null,null,"REFERENCE DATA"]
[null,"Links to - Building and climate data:",null,"Building input, areas and operation","10-year rainfall data",null,null,null,null,null,null,null,"Reference Table 1: Constants used in multiple calculations"]
[null,"Links to - Water demand:",null,"1. Fixtures & Fittings","2. Whitegoods","3. Heat Rejection Water","4. Washdown Water","5. Landscape Irrigation","6. Swimming pools"]
[null,null,null,"7. Test Fire Water","8. Process Cooling","9. Dead Legs on Hot Water Runs",null,null,null,null,null,null,null,null,null,"Wks per year",{"$f":"365/7","v":52.142857142857146},null,null,"Completion check"]
[null,"Links to - Reclaimed water supply:",null,"10. Reclaimed water use","Rainwater collection","Greywater collection","Blackwater collection","Condensate Recovery Collection","Stormwater and off-site reclaimed water supply",null,null,null,"Specific Heat Capacity of Water (kJ/(kg.K)) @ 20 deg C",4.18,null,null,null,null,null,"Complete",null,null,null,null,null,null,null,null,null,null,null,null,null,null,null,null,null,null,null,null,null,null,null,"`"]
[null,"Links to - Results:",null,"Project Checklist","11. Summary of Water Demand","12. Results","Domestic hot water results",null,null,null,null,null,"Density of water (kg/l)",0.997,null,null,null,null,null,"Incomplete"]
[null,null,null,null,null,null,"For details on what information is required and how this information is used to calculate the reduction in potable water consumption against the Standard Practice Benchmark, please refer to the Green Star - Potable Water Calculator Guide, available from the NZGBC website."]
[null,"Instructions:",null,"Enter information into light blue cells"]
[]
[]
[null,"0. GENERAL"]
[null,"BUILDING OCCUPANCY, AREAS AND OPERATION"]
[null,null,"Space type description","Area (m²)","Peak days of operation (remaining days assumed off-peak)","Occupancy profile","Maximum design occupancy used in water use calculations (m²/person)\n(Enter manually OR use default)",null,"Percentage of building users who occupy the space continually for periods greater than one hour.",null,null,null,null,null,null,null,null,null,null,null,null,null,null,null,null,null,null,null,null,null,null,null,null,null,null,null,null,null,null,null,null,"STANDARD OCCUPANCY PROFILES BASED ON PROFILES GIVEN IN SPECIFICATION J of THE NCC 2013",null,null,null,null,null,null,null,null,null,null,null,null,null,null,"USER ENTERED OCCUPANCY PROFILES"]
[null,null,null,null,null,null,"Proposed Building design occupancy (m2/person)","Default design occupancy\n(Not applicable for residential areas)"]
[null,null,null,null,"Please Select","Please Select",null,"Office (10m2/person)",null,"INSTRUCTIONS ON HOW TO ENTER CUSTOMISED PROFILES\n1)\tAdd a name for the profile (this will appear in the drop down box under 'Occupancy Profiles'\n2) Add a description. This is for your own reference but also to help the Assessors keep track of what has been entered and why.\n3) Enter the percentage of design occupancy that is typically present on a typical peak and off-peak day.",null,null,null,null,null,null,null,null,null,null,null,null,null,null,null,null,null,null,null,null,null,null,null,null,null,null,null,null,null,null,null,"NCC Table 2b (Class 5, Class 8 or Class 9a)",null,"NCC Table 2c (Class 6 shop or shopping centre)",null,"NCC Table 2d (Class 6 restaurant or cafe)",null,"NCC Table 2f (Class 9b theatre or cinema)",null,"NCC Table 2a (Class 3  or class 9c aged care)",null,"NCC Table 2e (Class 9a ward)",null,"Class 1, 2 or 3 residential",null,null,null,null,"Enter name in this row (appears in 'Occupany profile' dropdown box)","<User entered occupancy profile 2>",null,"<User entered occupancy profile 2>",null,"<User entered occupancy profile 3>",null,"<User entered occupancy profile 4>",null,"<User entered occupancy profile 5>",null,"<User entered occupancy profile 6>",null,"<User entered occupancy profile 7>",null,"<User entered occupancy profile 8>"]
[null,null,null,null,"Please Select","Please Select",null,"Please select",null,null,null,null,null,null,null,null,null,null,null,null,null,null,null,null,null,null,null,null,null,null,null,null,null,null,null,null,null,null,null,null,"Further description:","Class 5 building, Class 8 laboratory or Class 9a clinic, Day surgery or procedure unit.",null,null,null,null,null,null,null,null,null,null,null,null,null,null,null,null,"Enter description here for reference","<Description>",null,"<Description>",null,"<Description>",null,"<Description>",null,"<Description>",null,"<Description>",null,"<Description>",null,"<Description>"]
[null,null,null,null,"Please Select","Please Select",null,"Please select",null,null,null,null,null,null,null,null,null,null,null,null,null,null,null,null,null,null,null,null,null,null,null,null,null,null,null,null,null,null,null,null,"Time period (local standard time)","Peak","Off-peak","Peak","Off-peak","Peak","Off-peak","Peak","Off-peak","Peak","Off-peak","Peak","Off-peak","Peak","Off-peak",null,null,null,"Time period (local standard time)","Peak","Off-peak","Peak","Off-peak","Peak","Off-peak","Peak","Off-peak","Peak","Off-peak","Peak","Off-peak","Peak","Off-peak","Peak","Off-peak"]
[null,null,null,null,"Please Select","Please Select",null,"Please select",null,null,null,null,null,null,null,null,null,null,null,null,null,null,null,null,null,null,null,null,null,null,null,null,null,null,null,null,null,null,null,null,"12:00am to 1:00am",0,0,0,0,0,0,0,0,0.85,0.85,0.85,0.85,0,0,null,null,null,"12:00am to 1:00am"]
[null,null,null,null,"Please Select","Please Select",null,"Please select",null,null,null,null,null,null,null,null,null,null,null,null,null,null,null,null,null,null,null,null,null,null,null,null,null,null,null,null,null,null,null,null,"1:00am to 2:00am",0,0,0,0,0,0,0,0,0.85,0.85,0.85,0.85,0,0,null,null,null,"1:00am to 2:00am"]
[null,null,null,null,"Please Select","Please Select",null,"Please select",null,null,null,null,null,null,null,null,null,null,null,null,null,null,null,null,null,null,null,null,null,null,null,null,null,null,null,null,null,null,null,null,"2:00am to 3:00am",0,0,0,0,0,0,0,0,0.85,0.85,0.85,0.85,0,0,null,null,null,"2:00am to 3:00am"]
[null,null,null,null,"Please Select","Please Select",null,"Please select",null,null,null,null,null,null,null,null,null,null,null,null,null,null,null,null,null,null,null,null,null,null,null,null,null,null,null,null,null,null,null,null,"3:00am to 4:00am",0,0,0,0,0,0,0,0,0.85,0.85,0.85,0.85,0,0,null,null,null,"3:00am to 4:00am"]
[null,null,null,null,"Please Select","Please Select",null,"Please select",null,null,null,null,null,null,null,null,null,null,null,null,null,null,null,null,null,null,null,null,null,null,null,null,null,null,null,null,null,null,null,null,"4:00am to 5:00am",0,0,0,0,0,0,0,0,0.85,0.85,0.85,0.85,0,0,null,null,null,"4:00am to 5:00am"]
[null,null,null,null,"Please Select","Please Select",null,"Please select",null,null,null,null,null,null,null,null,null,null,null,null,null,null,null,null,null,null,null,null,null,null,null,null,null,null,null,null,null,null,null,null,"5:00am to 6:00am",0,0,0,0,0,0,0,0,0.85,0.85,0.85,0.85,0,0,null,null,null,"5:00am to 6:00am"]
[null,null,null,null,"Please Select","Please Select",null,"Please select",null,null,null,null,null,null,null,null,null,null,null,null,null,null,null,null,null,null,null,null,null,null,null,null,null,null,null,null,null,null,null,null,"6:00am to 7:00am",0,0,0,0,0.05,0,0,0,0.85,0.85,0.85,0.85,0,0,null,null,null,"6:00am to 7:00am"]
[null,null,"Non occupied areas",null,"n/a","n/a",0,null,null,null,null,null,null,null,null,null,null,null,null,null,null,null,null,null,null,null,null,null,null,null,null,null,null,null,null,null,null,null,null,null,"7:00am to 8:00am",0.15,0,0.1,0,0.05,0,0,0,0.85,0.8,0.85,0.85,0.85,0,null,null,null,"7:00am to 8:00am"]
[null,null,"TOTAL AREA",{"$f":"SUM(D16:D26)","v":0},null,null,null,null,null,null,null,null,null,null,null,null,null,null,null,null,null,null,null,null,null,null,null,null,null,null,null,null,null,null,null,null,null,null,null,null,"8:00am to 9:00am",0.6,0,0.2,0,0.05,0,0.2,0,0.5,0.1,0.85,0.85,0.5,0,null,null,null,"8:00am to 9:00am"]
[null,null,null,null,null,null,null,null,null,null,null,null,null,null,null,null,null,null,null,null,null,null,null,null,null,null,null,null,null,null,null,null,null,null,null,null,null,null,null,null,"9:00am to 10:00am",1,0,0.2,0,0.05,0,0.8,0,0.2,0.1,0.85,0.85,0.2,0.1,null,null,null,"9:00am to 10:00am"]
[null,"PROJECT CHECKLIST",null,"Please provide responses to the following questions. Detailed inputs will be requested further on in the calculator.",null,null,null,null,null,null,null,null,null,null,null,null,null,null,null,null,null,null,null,null,null,null,null,null,null,null,null,null,null,null,null,null,null,null,null,null,"10:00am to 11:00am",1,0,0.15,0,0.2,0,0.8,0,0.2,0.1,0.85,0.85,0.2,0.1,null,null,null,"10:00am to 11:00am"]
[null,null,"WATER USES - ALL QUESTIONS MUST BE ANSWERED",null,null,null,null,null,null,null,null,null,null,null,null,null,null,null,null,null,null,null,null,null,null,null,null,null,null,null,null,null,null,null,null,null,null,null,null,null,"11:00am to 12:00pm",1,0,0.25,0,0.5,0,0.8,0,0.2,0.1,0.85,0.85,0.2,0.1,null,null,null,"11:00am to 12:00pm"]
[null,null,"1. Sanitation",null,null,null,"6. Swimming Pools",null,null,null,null,null,"REFERENCE DATA",null,null,"Design occupancies from Table D1.13 of the BCA",null,null,null,null,null,"Design occupancies from Table D1.13 of the BCA",null,null,null,"Usage rates of toilets, urinals and taps",null,null,null,null,null,null,null,null,null,null,null,null,null,null,"12:00pm to 1:00pm",1,0,0.25,0,0.8,0,0.2,0.2,0.2,0.1,0.85,0.85,0.2,0.1,null,null,null,"12:00pm to 1:00pm"]
[null,null,"Are fixtures and fittings provided  for building occupant sanitation?","Please Select",null,null,"Are there any swimming pools within the project?","Please Select",{"$f":"IF(H32=\"YES\",\"Enter Data into Swimming Pool tab\",\" \")","v":" "},null,null,null,"Dropdown options for Days of Operation",null,null,"Schedule","Equivalent number of hours occupied at full occupancy (sum of occupancy %s)",null,"Maximum percentage of design occupancy present in typical day",null,null,"Space type",null,"Maximum design occupancy (m²/person)",null,null,"Uses/person/day (for 9.5 hour office)","Uses per person per hour","Duration per use (mins) (used where the WELS rating is based on L/min)",null,null,null,null,null,null,null,null,null,null,null,"1:00pm to 2:00pm",1,0,0.15,0,0.7,0,0.8,0.8,0.2,0.1,0.85,0.85,0.2,0.1,null,null,null,"1:00pm to 2:00pm"]
[null,null,"Does the project provide for sports activities?","Please Select",null,null,null,null,null,null,null,null,"Please Select",null,null,null,"PEAK","OFF-PEAK","PEAK","OFF-PEAK",null,"Please select",null,0,null,null,null,null,null,null,null,null,null,null,null,null,null,null,null,null,"2:00pm to 3:00pm",1,0,0.15,0,0.4,0,0.8,0.8,0.2,0.1,0.85,0.85,0.2,0.1,null,null,null,"2:00pm to 3:00pm"]
[null,null,"Have showers been installed for post/pre activity use?","Please Select",null,null,null,null,null,null,null,null,"1 day a week",null,null,"Please Select",null,null,null,null,null,"Retail / Showroom (5m2/person)",null,5,null,"Toilet - no Urinals",2.2999999999999998,{"$f":"AA34/9.5","v":0.24210526315789471},null,null,null,null,null,null,null,null,null,null,null,null,"3:00pm to 4:00pm",1,0,0.15,0,0.2,0,0.8,0.8,0.3,0.1,0.85,0.85,0.3,0.1,null,null,null,"3:00pm to 4:00pm"]
[null,null,null,null,null,null,null,null,null,null,null,null,"2 days a week",null,null,{"$f":"BB16","v":"Class 1, 2 or 3 residential"},{"$f":"$BB$44","v":6.6499999999999995},{"$f":"$BC$44","v":4.7499999999999991},{"$f":"$BB$46","v":0.85},{"$f":"$BC$46","v":0.85},null,"Office (10m2/person)",null,10,null,"Toilet - with Urinals",1.3,{"$f":"AA35/9.5","v":0.1368421052631579},null,null,null,null,null,null,null,null,null,null,null,null,"4:00pm to 5:00pm",1,0,0.15,0,0.25,0,0.8,0.8,0.5,0.5,0.85,0.85,0.5,0.5,null,null,null,"4:00pm to 5:00pm"]
[null,null,"2. White Goods",null,null,null,"7. Test Fire Water",null,null,null,null,null,"3 days a week",null,null,{"$f":"AX16","v":"NCC Table 2a (Class 3  or class 9c aged care)"},{"$f":"$AX$44","v":14.299999999999999},{"$f":"$AY$44","v":13.299999999999995},{"$f":"$AX$46","v":0.85},{"$f":"$AY$46","v":0.85},null,"Art gallery, exhibition area, museum (4m2)",null,4,null,"Urinal ",{"$f":"2*50%","v":1},{"$f":"AA36/9.5","v":0.10526315789473684},null,null,null,null,null,null,null,null,null,null,null,null,"5:00pm to 6:00pm",0.5,0,0.05,0,0.5,0,0.2,0.2,0.5,0.5,0.85,0.85,0.5,0.5,null,null,null,"5:00pm to 6:00pm"]
[null,null,"Does the project include any dishwashers or washing machines?","Please Select",null,null,"Is there a retention tank on site?","Please Select",null,null,null,null,"4 days a week",null,null,{"$f":"AP16","v":"NCC Table 2b (Class 5, Class 8 or Class 9a)"},{"$f":"$AP$44","v":9.5000000000000018},{"$f":"$AQ$44","v":0},{"$f":"$AP$46","v":1},{"$f":"$AQ$46","v":0},null,"To be selected",null,20,null,"Indoor taps",2.5,{"$f":"AA37/9.5","v":0.26315789473684209},0.15,null,null,null,null,null,null,null,null,null,null,null,"6:00pm to 7:00pm",0.15,0,0.05,0,0.8,0,0.2,0.2,0.5,0.7,0.85,0.85,0.5,0.7,null,null,null,"6:00pm to 7:00pm"]
[null,null,null,null,null,null,"Will test fire water be captured in the retention tank?","Please Select"]
[null,null,null,null,null,null,null,null,null,null,null,null,"5 days a week",null,null,{"$f":"AR16","v":"NCC Table 2c (Class 6 shop or shopping centre)"},{"$f":"$AR$44","v":1.8499999999999996},{"$f":"$AS$44","v":0},{"$f":"$AR$46","v":0.25},{"$f":"$AS$46","v":0},null,"To be selected",null,30,null,null,null,null,null,null,null,null,null,null,null,null,null,null,null,null,"7:00pm to 8:00pm",0.05,0,0,0,0.8,0,0.8,0.8,0.7,0.7,0.85,0.85,0.7,0.7,null,null,null,"7:00pm to 8:00pm"]
[null,null,"3. Heat Rejection ",null,null,null,"8. Process Cooling",null,null,null,null,null,"6 days a week",null,null,{"$f":"AT16","v":"NCC Table 2d (Class 6 restaurant or cafe)"},{"$f":"$AT$44","v":7.2},{"$f":"$AU$44","v":0},{"$f":"$AT$46","v":0.8},{"$f":"$AU$46","v":0},null,"To be selected",null,31,null,"Number of times an automatic urinal will flush in one day (Assumes every 30 mins for 24 hours a day)",null,null,{"$f":"24*2","v":48},null,null,null,null,null,null,null,null,null,null,null,"8:00pm to 9:00pm",0.05,0,0,0,0.8,0,0.8,0.8,0.8,0.8,0.85,0.85,0.8,0.8,null,null,null,"8:00pm to 9:00pm"]
[null,null,"Does the project utilise water based heat rejection (project cooling)?","Please Select",null,null,"Does the project include any water based process cooling?","Please Select",null,null,null,null,"7 days a week",null,null,{"$f":"AZ16","v":"NCC Table 2e (Class 9a ward)"},{"$f":"$AZ$44","v":20.400000000000002},{"$f":"$BA$44","v":20.400000000000002},{"$f":"$AZ$46","v":0.85},{"$f":"$BA$46","v":0.85},null,"To be selected",null,32,null,null,null,null,null,null,null,null,null,null,null,null,null,null,null,null,"9:00pm to 10:00pm",0,0,0,0,0.5,0,0.8,0.8,0.8,0.85,0.85,0.85,0.8,0.85,null,null,null,"9:00pm to 10:00pm"]
[null,null,"Does the project have cooling towers?","Please Select",null,null,null,null,null,null,null,null,null,null,null,{"$f":"AV16","v":"NCC Table 2f (Class 9b theatre or cinema)"},{"$f":"$AV$44","v":9.7000000000000011},{"$f":"$AW$44","v":7.1},{"$f":"$AV$46","v":0.8},{"$f":"$AW$46","v":0.8},null,"To be selected",null,33,null,null,null,null,null,null,null,null,null,null,null,null,null,null,null,null,"10:00pm to 11:00pm",0,0,0,0,0.35,0,0.8,0.8,0.85,0.85,0.85,0.85,0,0,null,null,null,"10:00pm to 11:00pm"]
[null,null,"Does the project contain any other water cooled systems that are not conventional cooling towers?","Please Select",null,null,null,null,null,null,null,null,null,null,null,{"$f":"BH16","v":"<User entered occupancy profile 2>"},{"$f":"$BH$44","v":0},{"$f":"$BI$44","v":0},{"$f":"$BH$46","v":0},{"$f":"$BI$46","v":0},null,"To be selected",null,34,null,"Usage rates of showers",null,null,null,null,null,null,null,null,null,null,null,null,null,null,"11:00pm to 12:00am",0,0,0,0,0.2,0,0.1,0.1,0.85,0.85,0.85,0.85,0,0,null,null,null,"11:00pm to 12:00am"]
[null,null,null,null,null,null,null,null,null,null,null,null,null,null,null,{"$f":"$BJ$16","v":"<User entered occupancy profile 2>"},{"$f":"$BJ$44","v":0},{"$f":"$BK$44","v":0},{"$f":"$BJ$46","v":0},{"$f":"$BK$46","v":0},null,"To be selected",null,34,null,null,"% of occupants that shower - reference","% of occupants that shower - proposed","Duration per use (mins)",null,null,null,null,null,null,null,null,null,null,null,"Hours per day at peak occupancy",{"$f":"SUM(AP18:AP43)","v":9.5000000000000018},{"$f":"SUM(AQ18:AQ43)","v":0},1.8499999999999996,0,7.2,0,9.7000000000000011,7.1,14.299999999999999,13.299999999999995,20.400000000000002,20.400000000000002,{"$f":"SUM(BB18:BB43)","v":6.6499999999999995},4.7499999999999991,null,null,null,"Hours per day at peak occupancy",{"$f":"SUM(BH18:BH43)","v":0},0,0,0,0,0,0,0,0,0,0,0,0,0,0,0]
[null,null,"4. Wash Down",null,null,null,"9. Dead Legs on Hot Water Runs",null,null,null,null,null,null,null,null,{"$f":"$BN$16","v":"<User entered occupancy profile 4>"},{"$f":"$BL$44","v":0},{"$f":"$BM$44","v":0},{"$f":"$BL$46","v":0},{"$f":"$BM$46","v":0},null,null,null,null,null,"Showers by cyclists",{"$f":"F96","v":0},{"$f":"F97","v":0},5]
[null,null,"Does the project include wash down areas?","Please Select",null,null,"Has the position of the hot water flow been utilised to reduce wait time for hot water at the tap?","Please Select",null,null,null,null,"Showers by cyclists and gym users",null,null,{"$f":"$BN$16","v":"<User entered occupancy profile 4>"},{"$f":"$BN$44","v":0},{"$f":"$BO$44","v":0},{"$f":"$BN$46","v":0},{"$f":"$BO$46","v":0},null,null,null,null,null,"Shower usage - Sports",1,null,5,null,null,null,null,null,null,null,null,null,null,null,"Maximum occupancy during the day",{"$f":"MAX(AP19:AP43)","v":1},0,0.25,0,0.8,0,0.8,0.8,0.85,0.85,0.85,0.85,{"$f":"MAX(BB19:BB43)","v":0.85},0.85,null,null,null,"Maximum occupancy during the day",{"$f":"MAX(BH19:BH43)","v":0},0,0,0,0,0,0,0,0,0,0,0,0,0,0,0]
[null,null,null,null,null,null,"Have pipe diameters been reduced from standard?","Please Select"]
[null,null,null,null,null,null,null,null,null,null,null,null,"No showers installed",0,null,{"$f":"$BP$16","v":"<User entered occupancy profile 5>"},{"$f":"$BP$44","v":0},{"$f":"$BQ$44","v":0},{"$f":"$BP$46","v":0},{"$f":"$BQ$46","v":0}]
[null,null,"5. Landscape Irrigation",null,null,null,null,null,null,null,null,null,"No significant cycling or gym facilities",0.05,null,{"$f":"$BR$16","v":"<User entered occupancy profile 6>"},{"$f":"$BR$44","v":0},{"$f":"$BS$44","v":0},{"$f":"$BR$46","v":0},{"$f":"$BS$46","v":0}]
[null,null,"Are there any landscaped areas within the project?","Please Select",null,null,null,null,null,null,null,null,"Tra-3: 1 credit achieved (or gym provided)",0.1,null,{"$f":"$BT$16","v":"<User entered occupancy profile 7>"},{"$f":"$BT$44","v":0},{"$f":"$BU$44","v":0},{"$f":"$BT$46","v":0},{"$f":"$BU$46","v":0}]
[null,null,"Are any irrigation systems included in the project?","Please Select",null,null,null,null,null,null,null,null,"Tra-3: 2 credits achieved",0.15,null,{"$f":"$BV$16","v":"<User entered occupancy profile 8>"},{"$f":"$BV$44","v":0},{"$f":"$BW$44","v":0},{"$f":"$BV$46","v":0},{"$f":"$BW$46","v":0}]
[null,null,null,null,null,null,null,null,null,{"$f":"IF(OR(D32=\"Please select\",D33=\"Please select\",D34=\"Please select\",D37=\"Please select\",D41=\"Please select\",D42=\"Please Select\",D43=\"Please select\", D46=\"Please select\",D56=\"Please select\",D57=\"Please select\",D58=\"Please select\",D59=\"Please select\",D60=\"Please select\", D61=\"Please select\",D50=\"Please select\",D51=\"Please select\",H32=\"Please select\",H37=\"Please select\",H38=\"Please Select\",H41=\"Please select\",H46=\"Please select\",H47=\"Please select\",H50=\"Please select\",H51=\"Please select\"),0,1)","v":0}]
[]
[null,null,"WATER REUSE - ALL QUESTIONS MUST BE ANSWERED"]
[null,null,"10. Water Reclamation"]
[null,null,"Does any water collection, reclamation and/or reuse occur on the project site?","Please Select"]
[null,null,"Does the project include rainwater capture and reuse systems?","Please Select"]
[null,null,"Does the project include greywater capture, treatment and reuse systems?","Please Select"]
[null,null,"Does the project include blackwater capture, treatment and reuse systems?","Please Select"]
[null,null,"Does the project include condensate recovery capture, treatment and reuse systems?","Please Select"]
[null,null,"Does the project include other stormwater reuse or an off-site supply of non-potable water?","Please Select"]
[]
[]
[]
[null,"1. SANITATION FIXTURES AND FITTINGS",null,null,null,{"$f":"IF(AND(D32=\"No\"),\"THE PROJECT TEAM HAS INDICATED THAT SANITARY FIXTURES AND FITTINGS ARE NOT INCLUDED IN THE PROJECT, PLEASE PROCEED TO THE NEXT SECTION.\",\"\")","v":""},null,null,null,null,null,null,"1. Calculation of water demand from fittings"]
[null,"WATER DEMAND FROM FIXTURES AND FITTINGS:",null,null,"(Annual water demand from fixtures and fittings is calculated using assumed usage rates based on the space types and occupancies entered above. Please see pages 10-13 of the Green Star - Potable Water Calculator Guide for further details.)",null,null,null,null,null,null,null,null,"Maximum design occupancy (m²/person)","No. People in space (if occupied at maximum design occupancy)","Days of Operation per week","Equivalent hours at max occupancy\n(hours per day)",null,"Maximum percentage of design occupancy present in typical day",null,"Person hours/YEAR for toilets, urinals and tap calcs.","occupants present each day x no.work days per year (for work-place shower calcs.)","Sportspeople present each day x number of days per year open","Uses/YEAR"]
[null,null,null,null,null,null,null,null,null,null,null,null,null,null,null,null,"PEAK","OFF-PEAK","PEAK","OFF-PEAK",null,null,null,"Toilet - No Urinals"," Toilet - with Urinals","Urinals ","Urinals on Auto Flush","Indoor Taps","Work place showering - reference","Work place showering - proposed","Sports showering"]
[null,null,null,"Water efficiency\n(Enter manually OR nominate WELS Star Rating)",null,"Resulting water efficiency used in calculator  (l/min, except for toilets, L/flush)","Percentage of each type ","Proposed Building water demand (kL/year)  ","Standard Practice Building water demand (kL/year)  ",null,null,null,{"$f":"C16","v":0},{"$f":"IF(G16=\"\",VLOOKUP(H16,$V$33:$X$39,3,FALSE),G16)","v":10},{"$f":"IF(TYPE(D16/N68)=16,0,D16/N68)","v":0},{"$f":"IF(E16=\"1 day a week\",1,IF(E16=\"2 days a week\",2,IF(E16=\"3 days a week\",3,IF(E16=\"4 days a week\",4,IF(E16=\"5 days a week\",5,IF(E16=\"6 days a week\",6,IF(E16=\"7 days a week\",7,IF(E16=\"Please Select\",0,0))))))))","v":0},{"$f":"IF(ISBLANK(F16),0,VLOOKUP(F16,$P$34:$T$51,2,FALSE))","v":0},{"$f":"IF(ISBLANK(F16),0,VLOOKUP(F16,$P$34:$T$51,3,FALSE))","v":0},{"$f":"IF(ISBLANK(F16),0,VLOOKUP(F16,$P$34:$T$51,4,FALSE))","v":0},{"$f":"IF(ISBLANK(F16),0,VLOOKUP(F16,$P$34:$T$51,5,FALSE))","v":0},{"$f":"(O68*P68*Q68*$Q$5)+(O68*(7-P68)*R68*$Q$5)","v":0},{"$f":"I16*(O68*P68*S68*$Q$5+O68*(7-P68)*T68*$Q$5)","v":0},{"$f":"$H$104*$F$104","v":0},{"$f":"U68*$AB$34","v":0},{"$f":"U68*AB$35","v":0},{"$f":"U68*AB$36","v":0},null,{"$f":"U68*AB$37","v":0},{"$f":"V68*AA$45","v":0},{"$f":"V68*AB$45","v":0},{"$f":"W68*AA46","v":0}]
[null,null,null,"Manual entry from manufacturer's data sheet (l/min, or L/flush for toilets)","WELS Star Rating selection",null,null,null,null,null,null,null,0,0,0,0,0,0,0,0,{"$f":"(O69*P69*Q69*$Q$5)+(O69*(7-P69)*R69*$Q$5)","v":0},0,null,0,0,0,null,0,0,0]
[null,null,"Toilets",null,null,null,null,null,null,null,null,null,0,0,0,0,0,0,0,0,{"$f":"(O70*P70*Q70*$Q$5)+(O70*(7-P70)*R70*$Q$5)","v":0},0,null,0,0,0,null,0,0,0]
[null,null,"<enter description>",5,"Select star rating",{"$f":"IF(NOT(D71=\"\"),D71,IF(OR(E71=\"\",E71=$M$100),\"\",HLOOKUP(E71,$N$100:$U$104,2,FALSE)))","v":5},1,null,null,null,null,null,0,0,0,0,0,0,0,0,0,0,null,0,0,0,null,0,0,0]
[null,null,"<enter description>",null,"Select star rating",{"$f":"IF(NOT(D72=\"\"),D72,IF(OR(E72=\"\",E72=$M$100),\"\",HLOOKUP(E72,$N$100:$U$104,2,FALSE)))","v":""},null,null,null,null,null,null,0,0,0,0,0,0,0,0,0,0,null,0,0,0,null,0,0,0]
[null,null,"<enter description>",null,"Select star rating",{"$f":"IF(NOT(D73=\"\"),D73,IF(OR(E73=\"\",E73=$M$100),\"\",HLOOKUP(E73,$N$100:$U$104,2,FALSE)))","v":""},null,null,null,null,null,null,0,0,0,0,0,0,0,0,0,0,null,0,0,0,null,0,0,0]
[null,null,"<enter description>",null,"Select star rating",{"$f":"IF(NOT(D74=\"\"),D74,IF(OR(E74=\"\",E74=$M$100),\"\",HLOOKUP(E74,$N$100:$U$104,2,FALSE)))","v":""},null,null,null,{"$f":"CONCATENATE(\"(The Standard Practice Benchmark is based on \",$N$91,\"WELS rated toilets)\")","v":"(The Standard Practice Benchmark is based on 3 StarWELS rated toilets)"},null,null,0,0,0,0,0,0,0,0,0,0,null,0,0,0,null,0,0,0]
[null,null,null,null,null,"Total  ",{"$f":"SUM(G71:G74)","v":1},{"$f":"IF(Are_Urinals_installed?=\"yes\",Y80,X80)","v":0},{"$f":"IF(G77=\"yes\",Y81,X81)","v":0},null,null,null,0,0,0,0,0,0,0,0,0,0,null,0,0,0,null,0,0,0]
[null,null,null,null,null,null,{"$f":"IF(G75=1,\"\",\"Please ensure the total equals 100%\")","v":""},null,null,null,null,null,0,0,0,0,0,0,0,0,0,0,null,0,0,0,null,0,0,0]
[null,null,null,"Are urinals installed?","Please select","Would urinals normally be installed in the building type?","Please select","(Note: if \"No\" is selected, the project team should provide justification as to why the standard practice building does not have urinals.)",null,null,null,null,0,0,0,0,0,0,0,0,0,0,null,0,0,0,null,0,0,0]
[null,null,"Urinals",null,null,null,null,null,null,null,null,null,"Non occupied areas",{"$f":"G26","v":0},null,null,null,null,null,null,null,null,"Total Usage per year",{"$f":"SUM(X68:X77)","v":0},{"$f":"SUM(Y68:Y77)","v":0},{"$f":"SUM(Z68:Z77)","v":0},{"$f":"F85*AC40*7","v":0},{"$f":"SUM(AB68:AB77)","v":0},{"$f":"SUM(AC68:AC77)","v":0},{"$f":"SUM(AD68:AD77)","v":0},{"$f":"H104*F104","v":0}]
[null,null,"<enter description here>",null,"Select star rating",{"$f":"IF(NOT(D79=\"\"),D79,IF(OR(E79=\"\",E79=$M$100),\"\",HLOOKUP(E79,$N$100:$U$104,3,FALSE)))","v":""},null,null,null,null,null,null,null,null,null,null,null,null,null,null,null,null,null,"Water consumption/year (kL/year)",null,null,null,null,null,null,null,"TOTAL (kL/year)"]
[null,null,"<enter description here>",null,"Select star rating",{"$f":"IF(NOT(D80=\"\"),D80,IF(OR(E80=\"\",E80=$M$100),\"\",HLOOKUP(E80,$N$100:$U$104,3,FALSE)))","v":""},null,null,null,null,null,null,null,null,null,null,null,null,null,null,null,null,"Proposed Building ",{"$f":"X78*P91/1000","v":0},{"$f":"Y$78*P91/1000","v":0},{"$f":"Z$78*P92*SUM(G79:G82)/1000","v":0},{"$f":"P93*AA78/1000","v":0},{"$f":"AB78*P94*AC$37/1000","v":0},null,{"$f":"AD78*P95*AC$45/1000","v":0},{"$f":"AE78*P96*AC$46/1000","v":0},{"$f":"IF(E77=\"Yes\",Y80+Z80+AA80+AB80+AC80,X80+AB80+AC80+AD80+AE80)","v":0}]
[null,null,"<enter description here>",null,"Select star rating",{"$f":"IF(NOT(D81=\"\"),D81,IF(OR(E81=\"\",E81=$M$100),\"\",HLOOKUP(E81,$N$100:$U$104,3,FALSE)))","v":""},null,null,null,null,null,null,null,null,null,null,null,null,null,null,null,null,"Standard Practice Building",{"$f":"X$78*O91/1000","v":0},{"$f":"Y$78*O91/1000","v":0},{"$f":"IF(G77=\"No\",0,Z$78*O92/1000)","v":0},0,{"$f":"AB78*O94*AC$37/1000","v":0},{"$f":"AC78*O95*AC$45/1000","v":0},null,{"$f":"AE78*O96*AC$46/1000","v":0},{"$f":"IF(E78=\"Yes\",Y81+Z81+AA81+AB81+AC81,X81+AB81+AC81+AD81+AE81)","v":0}]
[null,null,"<enter description here>",null,"Select star rating",{"$f":"IF(NOT(D82=\"\"),D82,IF(OR(E82=\"\",E82=$M$100),\"\",HLOOKUP(E82,$N$100:$U$104,3,FALSE)))","v":""}]
[]
[null,null,"Urinals on auto timer","Enter average L/flush"]
[null,null,null,"Enter number of urinals on autotimer"]
[null,null,null,"Percentage of total number of Urinals",null,null,null,null,null,{"$f":"CONCATENATE(\"(The Standard Practice Benchmark is based on \",$N$92,\" WELS rated urinals)\")","v":"(The Standard Practice Benchmark is based on 3 Star WELS rated urinals)"},null,null,"REFERENCE DATA"]
[null,null,null,null,null,"Total",{"$f":"SUM(G79:G86)","v":0},{"$f":"IF(Are_Urinals_installed?=\"Yes\",(Z80+AA80),0)","v":0},{"$f":"IF(G77=\"yes\",Z81,0)","v":0},null,null,null,"Standard Practice Water Efficiency of fixtures and fittings",null,"Water efficiency (L/use for toilets & urinals and L/min for taps & showers)",null,null,null,null,"DHW requirements - for Ene-Con and Ene-1"]
[null,null,null,null,null,null,{"$f":"IF(G87=1,\"\",\"Please ensure the total equals 100%\")","v":"Please ensure the total equals 100%"}]
[null,null,"Indoor taps",null,null,null,null,null,null,null,null,null,"Fixture/Fitting","Stand. Practice WELS rating","Standard Practice Building","Proposed Building",null,"washing machines","Dishwashers","ANNUAL water usage (kL/year) from Taps and Showers","% of water used from taps and showers that is assumed to be HOT.","ANNUAL DHW usage (kL/year) from Taps and Showers"]
[null,null,"<enter description>",null,"Select star rating",{"$f":"IF(NOT(D90=\"\"),D90,IF(OR(E90=\"\",E90=$M$100),\"\",HLOOKUP(E90,$N$100:$U$104,4,FALSE)))","v":""},null,null,null,null,null,null,null,null,null,null,"Proposed",{"$f":"$J$131*K131+$J$132*K132+$J$133*K133+$J$134*K134+$J$135*K135+$J$136*K136+$J$137*K137+$J$138*K138+$J$139*K139+$J$140*K140","v":0},{"$f":"$J$148*K148+$J$149*K149+$J$150*K150+$J$151*K151+$J$152*K152+$J$153*K153+$J$154*K154+$J$155*K155+$J$156*K156+$J$157*K157","v":0},{"$f":"(AD80+AB80+AE80)","v":0},0.5,{"$f":"(T90*U90)+R90+S90","v":0}]
[null,null,"<enter description>",null,"Select star rating",{"$f":"IF(NOT(D91=\"\"),D91,IF(OR(E91=\"\",E91=$M$100),\"\",HLOOKUP(E91,$N$100:$U$104,4,FALSE)))","v":""},null,null,null,null,null,null,"Toilets","3 Star",{"$f":"HLOOKUP(N91,$N$100:$T$104,2,FALSE)","v":4},{"$f":"IF(F71=\"\",0,F71*G71)+IF(F72=\"\",0,F72*G72)+IF(F73=\"\",0,F73*G73)+IF(F74=\"\",0,F74*G74)","v":5},"Standard practice",{"$f":"$J$131*L131+$J$132*L132+$J$133*L133+$J$134*L134+$J$135*L135+$J$136*L136+$J$137*L137+$J$138*L138+$J$139*L139+$J$140*L140","v":0},{"$f":"$J$148*L148+$J$149*L149+$J$150*L150+$J$151*L151+$J$152*L152+$J$153*L153+$J$154*L154+$J$155*L155+$J$156*L156+$J$157*L157","v":0},{"$f":"(AC81+AB81+AE81)","v":0},0.5,{"$f":"(T91*U91)+R91+S91","v":0}]
[null,null,"<enter description>",null,"Select star rating",{"$f":"IF(NOT(D92=\"\"),D92,IF(OR(E92=\"\",E92=$M$100),\"\",HLOOKUP(E92,$N$100:$U$104,4,FALSE)))","v":""},null,null,null,null,null,null,"Urinals","3 Star",{"$f":"HLOOKUP(N92,$N$100:$U$104,3,FALSE)","v":2},{"$f":"IF(SUM(G79:G82)=0,0,(IF(F79=\"\",0,F79*G79)+IF(F80=\"\",0,F80*G80)+IF(F81=\"\",0,F81*G81)+IF(F82=\"\",0,F82*G82))/SUM(G79:G82))","v":0}]
[null,null,"<enter description>",null,"Select star rating",{"$f":"IF(NOT(D93=\"\"),D93,IF(OR(E93=\"\",E93=$M$100),\"\",HLOOKUP(E93,$N$100:$U$104,4,FALSE)))","v":""},null,null,null,{"$f":"CONCATENATE(\"(The Standard Practice Benchmark is based on \",$N$94,\" WELS rated taps)\")","v":"(The Standard Practice Benchmark is based on 4 Star WELS rated taps)"},null,null,"Urinals on Autoflush","/","/",{"$f":"F84","v":0}]
[null,null,null,null,null,"Total  ",{"$f":"SUM(G90:G93)","v":0},{"$f":"AB80","v":0},{"$f":"AB81","v":0},null,null,null,"Indoor Taps ","4 Star",{"$f":"HLOOKUP(N94,$N$100:$T$104,4,FALSE)","v":7.5},{"$f":"IF(F90=\"\",0,F90*G90)+IF(F91=\"\",0,F91*G91)+IF(F92=\"\",0,F92*G92)+IF(F93=\"\",0,F93*G93)","v":0}]
[null,null,null,null,null,null,{"$f":"IF(G94=1,\"\",\"Please ensure the total equals 100%\")","v":"Please ensure the total equals 100%"},null,null,null,null,null,"Showers - Cyclist","3 Star",{"$f":"HLOOKUP(N95,$N$100:$T$104,5,FALSE)","v":9},{"$f":"IF(F98=\"\",0,F98*G98)+IF(F99=\"\",0,F99*G99)+IF(F100=\"\",0,F100*G100)+IF(F101=\"\",0,F101*G101)","v":0}]
[null,null,null,"Shower demand by occupants (reference)",null,null,null,"For residential buildings\nEnter 100% for both \"reference\" and \"current\" shower demand\nFor other building Types\nUse the reference and proposed building bicycle accommodation percentage from the Sustainable Transport Calculator, or percentages determined under 17.B.4 'Active Transport Facilities' criterion to determine the number of building occupants that are likely to shower each day.",null,null,null,null,"Showers - Sports","3 Star",{"$f":"HLOOKUP(N96,$N$100:$T$104,5,FALSE)","v":9},{"$f":"IF(F107=\"\",0,F107*G107)+IF(F108=\"\",0,F108*G108)+IF(F109=\"\",0,F109*G109)+IF(F110=\"\",0,F110*G110)","v":0}]
[null,null,"Showers - Occupants","Shower demand by occupants (current)"]
[null,null,"<enter description>",null,"Select star rating",{"$f":"IF(NOT(D98=\"\"),D98,IF(OR(E98=\"\",E98=$M$100),\"\",HLOOKUP(E98,$N$100:$U$104,5,FALSE)))","v":""},null,null,null,null,null,null,"Water efficiency thresholds for WELS rated toilets, taps and shower. From AS/NZS 6400:2005"]
[null,null,"<enter description>",null,"Select star rating",{"$f":"IF(NOT(D99=\"\"),D99,IF(OR(E99=\"\",E99=$M$100),\"\",HLOOKUP(E99,$N$100:$U$104,5,FALSE)))","v":""},null,null,null,null,null,null,"Fixture/Fitting","WELS Ratings"]
[null,null,"<enter description>",null,"Select star rating",{"$f":"IF(NOT(D100=\"\"),D100,IF(OR(E100=\"\",E100=$M$100),\"\",HLOOKUP(E100,$N$100:$U$104,5,FALSE)))","v":""},null,null,null,null,null,null,"Select star rating","0 Star","1 Star","2 Star","3 Star","4 Star","5 Star","6 Star","Waterless"]
[null,null,"<enter description>",null,"Select star rating",{"$f":"IF(NOT(D101=\"\"),D101,IF(OR(E101=\"\",E101=$M$100),\"\",HLOOKUP(E101,$N$100:$U$104,5,FALSE)))","v":""},null,null,null,{"$f":"CONCATENATE(\"(The Standard Practice Benchmark is based on \",$N$95,\" WELS rated showers)\")","v":"(The Standard Practice Benchmark is based on 3 Star WELS rated showers)"},null,null,"Toilets (L/use)","n/a",5.5,4.5,4,3.5,3,2.5]
[null,null,null,null,null,"Total  ",{"$f":"SUM(G98:G101)","v":0},{"$f":"AD80","v":0},{"$f":"AC81","v":0},null,null,null,"Urinals (L/use)",2.5,2.5,2.5,2,1.5,1,1,0]
[null,null,null,null,null,null,{"$f":"IF(G102=1,\"\",\"Please ensure the total equals 100%\")","v":"Please ensure the total equals 100%"},null,null,null,null,null,"Indoor Taps (L/min)",18,16,12,9,7.5,6,4.5]
[null,null,null,"Indicate the number of people expected to participate in sporting activities each day. (Use an average based on weekly figures if required)",null,null,"Indicate the number of days/year that the sports facilities are in use",null,null,null,null,null,"Showers (L/min)",16,16,12,9,9,9,9]
[]
[null,null,"Showers - Sports facilities",{"$f":"IF(D34=\"No\",\"THE PROJECT TEAM HAS INDICATED THAT THERE ARE NO WHITE GOODS INCLUDED IN THE PROJECT, PLEASE PROCEED TO THE NEXT SECTION.\",\"\")","v":""}]
[null,null,"<enter description>",null,"Select star rating",{"$f":"IF(NOT(D107=\"\"),D107,IF(OR(E107=\"\",E107=$M$100),\"\",HLOOKUP(E107,$N$100:$U$104,5,FALSE)))","v":""}]
[null,null,"<enter description>",null,"Select star rating",{"$f":"IF(NOT(D108=\"\"),D108,IF(OR(E108=\"\",E108=$M$100),\"\",HLOOKUP(E108,$N$100:$U$104,5,FALSE)))","v":""}]
[null,null,"<enter description>",null,"Select star rating",{"$f":"IF(NOT(D109=\"\"),D109,IF(OR(E109=\"\",E109=$M$100),\"\",HLOOKUP(E109,$N$100:$U$104,5,FALSE)))","v":""}]
[null,null,"<enter description>",null,"Select star rating",{"$f":"IF(NOT(D110=\"\"),D110,IF(OR(E110=\"\",E110=$M$100),\"\",HLOOKUP(E110,$N$100:$U$104,5,FALSE)))","v":""},null,null,null,{"$f":"CONCATENATE(\"(The Standard Practice Benchmark is based on \",$N$96,\" WELS rated showers)\")","v":"(The Standard Practice Benchmark is based on 3 Star WELS rated showers)"}]
[null,null,null,null,null,"Total  ",{"$f":"SUM(G107:G110)","v":0},{"$f":"AE80","v":0},{"$f":"AE81","v":0}]
[null,null,null,null,null,null,{"$f":"IF(G111=1,\"\",\"Please ensure the total equals 100%\")","v":"Please ensure the total equals 100%"}]
[null,null,"RESULTS: WATER DEMAND FROM FITTINGS"]
[]
[null,null,null,"Proposed Building water demand (kL/year)  ","Standard Practice Building water demand (kL/year)  "]
[null,null,{"$f":"C70","v":"Toilets"},{"$f":"IF($D$32=\"Yes\",H75,0)","v":0},{"$f":"IF($D$32=\"Yes\",I75,0)","v":0}]
[null,null,{"$f":"C78","v":"Urinals"},{"$f":"IF($D$32=\"Yes\",H87,0)","v":0},{"$f":"IF($D$32=\"Yes\",I87,0)","v":0}]
[null,null,{"$f":"C89","v":"Indoor taps"},{"$f":"IF($D$32=\"Yes\",H94,0)","v":0},{"$f":"IF($D$32=\"Yes\",I94,0)","v":0}]
[null,null,{"$f":"C97","v":"Showers - Occupants"},{"$f":"IF($D$32=\"Yes\",H102,0)","v":0},{"$f":"IF($D$32=\"Yes\",I102,0)","v":0}]
[null,null,{"$f":"C106","v":"Showers - Sports facilities"},{"$f":"IF($D$34=\"Yes\",H111,0)","v":0},{"$f":"IF($D$34=\"Yes\",I111,0)","v":0}]
[null,null,"TOTAL",{"$f":"SUM(D116:D120)","v":0},{"$f":"SUM(E116:E120)","v":0}]
[]
[null,"2. WHITE GOODS",null,{"$f":"IF(D37=\"No\",\"THE PROJECT TEAM HAS INDICATED THAT THERE ARE NO WHITE GOODS INCLUDED IN THE PROJECT, PLEASE PROCEED TO THE NEXT SECTION.\",\"\")","v":""},null,null,null,null,null,null,null,null,"2. Calculation of whitegoods consumption"]
[null,"Water Demand from Washing Machines"]
[null,null,null,null,null,null,null,null,null,null,null,null,"Select star rating","2 Star","2.5 Star","3 Star","3.5 Star","4 Star","4.5 Star","5 Star","5.5 Star","6 Star"]
[null,null,"The project team is to provide documentary evidence  in accordance with the  water calculator guide and technical manual to substantiate the number of cycles per year. Otherwise, leave blank and a default value will be applied.",null,null,null,null,null,null,null,null,null,"Washing machine (L/kg)",{"$f":"30*(1-0.3)^(2-1)","v":21},{"$f":"30*(1-0.3)^(2.5-1)","v":17.569860557215584},{"$f":"30*(1-0.3)^(3-1)","v":14.699999999999998},{"$f":"30*(1-0.3)^(3.5-1)","v":12.298902390050909},{"$f":"30*(1-0.3)^(4-1)","v":10.289999999999997},{"$f":"30*(1-0.3)^(4.5-1)","v":8.6092316730356355},{"$f":"30*(1-0.3)^(5-1)","v":7.2029999999999976},{"$f":"30*(1-0.3)^(5.5-1)","v":6.026462171124944},{"$f":"30*(1-0.3)^(6-1)","v":5.0420999999999978}]
[null,null,null,null,null,null,null,null,null,null,null,null,"Select star rating","1 Star","1.5 Star","2 Star","2.5 Star","3 Star","3.5 Star","4 Star","4.5 Star","5 Star","5.5 Star","6 Star"]
[null,null,null,"Water efficiency\n(Enter manually OR nominate WELS Star Rating)",null,"Machine capacity (kg)","Resulting water efficiency used in calculator (L/kg)","Number of each type ","Number of cycles per year (leave blank if unknown)","Proportion of water per cycle that is sourced from DHW (%)","Proposed Building water demand (kL/year)  ","Standard Practice Building water demand (kL/year)  ","Dishwashers (stars)",1,1.5,2,2.5,3,3.5,4,4.5,5,5.5,6]
[null,null,null,"Manual entry from manufacturer's data sheet (L/kg) ","WELS Star Rating selection"]
[null,null,"Clothes washing machines"]
[null,null,"<enter description>",null,"Select star rating",null,{"$f":"IF(NOT(D131=\"\"),D131,IF(OR(E131=\"\",E131=$M$100),\"\",HLOOKUP(E131,$N$125:$V$126,2)))","v":""},null,null,null,{"$f":"IF(TYPE(G131*H131*IF(ISBLANK(I131),365,I131)*F131)=16,0,G131*H131*IF(ISBLANK(I131),365,I131)*F131*0.001)","v":0},{"$f":"IF(TYPE(HLOOKUP(M137,$N$125:$V$126,2)*H131*F131*IF(ISBLANK(I131),365,I131)*0.001)=16,0,HLOOKUP(M137,$N$125:$V$126,2)*H131*IF(ISBLANK(I131),365,I131)*F131*0.001)","v":0}]
[null,null,"<enter description>",null,"Select star rating",null,"",null,null,null,{"$f":"IF(TYPE(G132*H132*IF(ISBLANK(I132),365,I132)*F132)=16,0,G132*H132*IF(ISBLANK(I132),365,I132)*F132*0.001)","v":0},{"$f":"IF(TYPE(HLOOKUP(M138,$N$125:$V$126,2)*H132*F132*IF(ISBLANK(I132),365,I132)*0.001)=16,0,HLOOKUP(M138,$N$125:$V$126,2)*H132*IF(ISBLANK(I132),365,I132)*F132*0.001)","v":0}]
[null,null,"<enter description>",null,"Select star rating",null,"",null,null,null,0,0]
[null,null,"<enter description>",null,"Select star rating",null,"",null,null,null,0,0,"WASHING MACHINES",null,null,null,null,null,null,null,null,null,null,null,"WASHING MACHINES"]
[null,null,"<enter description>",null,"Select star rating",null,"",null,null,null,0,0,"Standard practice rating","Standard practice for washing machines is based on the minimum star rating allowed by AS 6400:2005",null,null,null,null,null,null,null,null,null,null,"Standard practice rating","No minimum practice for dishwashers. Lowest WELS rating permissble is 1 star"]
[null,null,"<enter description>",null,"Select star rating",null,"",null,null,null,0,0]
[null,null,"<enter description>",null,"Select star rating",null,"",null,null,null,0,0,{"$f":"IF(F131=\"\",\"\",IF(F131>=5,\"3 Star\",\"2.5 Star\"))","v":""},null,null,null,null,null,null,null,null,null,null,null,{"$f":"IF(F148=\"\",\"\",3.5)","v":""}]
[null,null,"<enter description>",null,"Select star rating",null,"",null,null,null,0,0,{"$f":"IF(F132=\"\",\"\",IF(F132>=5,\"3 Star\",\"2.5 Star\"))","v":""},null,null,null,null,null,null,null,null,null,null,null,{"$f":"IF(F149=\"\",\"\",3.5)","v":""}]
[null,null,"<enter description>",null,"Select star rating",null,"",null,null,null,0,0,"",null,null,null,null,null,null,null,null,null,null,null,""]
[null,null,"<enter description>",null,"Select star rating",null,"",null,null,null,0,0,"",null,null,null,null,null,null,null,null,null,null,null,""]
[null,null,null,null,null,null,"Total  ",{"$f":"SUM(H131:H140)","v":0},null,null,{"$f":"IF(D37=\"No\",0,SUM(K131:K140))","v":0},{"$f":"IF(D37=\"No\",0,SUM(L131:L140))","v":0},"",null,null,null,null,null,null,null,null,null,null,null,""]
[null,null,null,null,null,null,null,null,null,null,null,null,"",null,null,null,null,null,null,null,null,null,null,null,""]
[null,"Water Demand from Dishwashers",null,null,null,null,null,null,null,null,null,null,"",null,null,null,null,null,null,null,null,null,null,null,""]
[null,null,null,null,null,null,null,null,null,null,null,null,"",null,null,null,null,null,null,null,null,null,null,null,""]
[null,null,null,"Water efficiency\n(Enter manually OR nominate WELS Star Rating)",null,"Machine capacity\n (number of place settings)","Resulting water efficiency used in calculator (L/cycle)","Number of each type ","Number of cycles per year (leave blank if unknown)","Proportion of water per cycle that is sourced from DHW (%)","Proposed Building water demand (kL/year)  ","Standard Practice Building water demand (kL/year)  ","",null,null,null,null,null,null,null,null,null,null,null,""]
[null,null,null,"Manual entry from manufacturer's data sheet (L/cycle) ","WELS Star Rating selection",null,null,null,null,null,null,null,"",null,null,null,null,null,null,null,null,null,null,null,""]
[null,null,"Dishwashers",null,null,null,null,null,null,null,null,null,"",null,null,null,null,null,null,null,null,null,null,null,""]
[null,null,"<enter description>",null,"Select star rating",null,{"$f":"IF(NOT(D148=\"\"),D148,IF(OR(E149=\"\",E149=$M$100),\"\",(2.5*0.825^(HLOOKUP(E149,$N$127:$X$128,2)-1)+1.6*F148*0.825^(HLOOKUP(E149,$N$127:$X$128,2)-1))))","v":""},null,null,null,{"$f":"IF(TYPE(G148*IF(ISBLANK(I148),365,I148)*0.001*H148)=16,0,G148*IF(ISBLANK(I148),365,I148)*0.001*H148)","v":0},{"$f":"IF(Y137=\"\",0,IF(ISBLANK(I148),365,I148)*H148*(2.5*0.825^(Y137-1)+1.6*F148*0.825^(Y137-1))*0.001)","v":0}]
[null,null,"<enter description>",null,"Select star rating",null,{"$f":"IF(NOT(D149=\"\"),D149,IF(OR(E150=\"\",E150=$M$100),\"\",(2.5*0.825^(HLOOKUP(E150,$N$127:$X$128,2)-1)+1.6*F149*0.825^(HLOOKUP(E150,$N$127:$X$128,2)-1))))","v":""},null,null,null,{"$f":"IF(TYPE(G149*IF(ISBLANK(I149),365,I149)*0.001*H149)=16,0,G149*IF(ISBLANK(I149),365,I149)*0.001*H149)","v":0},{"$f":"IF(Y138=\"\",0,IF(ISBLANK(I149),365,I149)*H149*(2.5*0.825^(Y138-1)+1.6*F149*0.825^(Y138-1))*0.001)","v":0}]
[null,null,"<enter description>",null,"Select star rating",null,{"$f":"IF(NOT(D150=\"\"),D150,IF(OR(E151=\"\",E151=$M$100),\"\",(2.5*0.825^(HLOOKUP(E151,$N$127:$X$128,2)-1)+1.6*F150*0.825^(HLOOKUP(E151,$N$127:$X$128,2)-1))))","v":""},null,null,null,0,0]
[null,null,"<enter description>",null,"Select star rating",null,{"$f":"IF(NOT(D151=\"\"),D151,IF(OR(E152=\"\",E152=$M$100),\"\",(2.5*0.825^(HLOOKUP(E152,$N$127:$X$128,2)-1)+1.6*F151*0.825^(HLOOKUP(E152,$N$127:$X$128,2)-1))))","v":""},null,null,null,0,0]
[null,null,"<enter description>",null,"Select star rating",null,{"$f":"IF(NOT(D152=\"\"),D152,IF(OR(E152=\"\",E152=$M$100),\"\",(2.5*0.825^(HLOOKUP(E152,$N$127:$X$128,2)-1)+1.6*F152*0.825^(HLOOKUP(E152,$N$127:$X$128,2)-1))))","v":""},null,null,null,0,0]
[null,null,"<enter description>",null,"Select star rating",null,"",null,null,null,0,0]
[null,null,"<enter description>",null,"Select star rating",null,"",null,null,null,0,0]
[null,null,"<enter description>",null,"Select star rating",null,"",null,null,null,0,0]
[null,null,"<enter description>",null,"Select star rating",null,"",null,null,null,0,0]
[null,null,"<enter description>",null,"Select star rating",null,"",null,null,null,0,0]
[null,null,null,null,null,null,"Total  ",{"$f":"SUM(H148:H157)","v":0},null,null,{"$f":"IF(D37=\"No\",0,SUM(K148:K157))","v":0},{"$f":"IF(D37=\"No\",0,SUM(L148:L157))","v":0}]
[]
[null,"3. HEAT REJECTION WATER",null,null,null,null,null,null,null,null,null,null,"3. Calculation of water demand for heat rejection"]
[null,"This section requires outputs from the energy simulation undertaken for Energy Use (Credit 22).",null,null,null,null,null,null,null,null,null,null,"REFERENCE DATA"]
[null,null,"GENERAL INFORMATION",null,null,null,null,null,null,null,null,null,"Message to appear",null,null,null,null,null,null,null,null,"Standard Practice HVAC System Types (Table 6 from Appendix B of the GHG Emissions Calculator Guide)"]
[null,null,"Site elevation (m above sea level)",null,null,null,"Standard Practice Building HVAC system",null,null,null,null,null,null,"Yes",null,null,"No",null,null,null,null,"Building Type","System type",null,"Note","Reference"]
[null,null,"Maximum combined cooling tower air flow (L/s)",null,null,null,"Select one of the following building types:","Please select",null,{"$f":"VLOOKUP(H164,V163:Z167,5,FALSE)","v":0},null,null,"Does the building have cooling towers?","Enter the total monthly cooling load (in kWh) for all zones in the project conditioned with systems that use cooling towers below. Cooling load from zones which are naturally ventilated or conditioned by air-cooled systems should not be included in this figure.",null,null,"Please enter the average air temperture, relative humidity and heat rejection load for the standard practice building.",null,null,null,null,"Please select","",null,"",0]
[null,null,"Peak building cooling load (kW)",null,null,null,"Standard Practice HVAC system type assumed for Energy and Water Category",{"$f":"VLOOKUP(H164,V164:W167,2,FALSE)","v":""},null,{"$f":"IF(D42=\"No\",\"THE PROJECT TEAM HAS INDICATED THAT THERE ARE NO WATER BASED HEAT REJECTION SYSTEMS INCLUDED IN THE PROJECT, PLEASE COMPLETE THE STANDARD PRACTICE BUILDING COOLING LOAD ONLY.\",\"\")","v":""},null,null,"Does the building contain any other water cooled systems that are not conventional cooling towers?","Enter the total monthly water consumption in kL.",null,null,"Please proceed to following section.",null,null,null,null,"Non-residential and < 2,300m2","System type 1: Package/Split DX reverse cycle (heat pump) systems",null,"The Standard Practice Building is assumed to install no water cooled systems. \nNo further information is required for the Standard Practice Building.",1]
[null,null,null,null,null,null,"Maximum combined cooling tower air flow (L/s)",null,null,null,null,null,null,null,null,null,null,null,null,null,null,"Non-residential > 2,300m2 and less than 1,000 kWr total cooling capacity","System type 2: Air cooled chillers",null,"The Standard Practice Building is assumed to install no water cooled systems. \nNo further information is required for the Standard Practice Building.",2]
[null,null,null,null,null,null,"Peak building cooling load (kW)",null,null,null,null,null,null,null,null,null,null,null,null,null,null,"Non-residential and more than 1,000 kWr total cooling capacity","System type 3: Water cooled chillers",null,"Enter the total monthly cooling load (in kWh) for all zones conditioned by the Standard Practice HVAC system below.",3]
[]
[null,"Water Demand from Cooling Towers",null,{"$f":"IF(D42=\"No\",\"THE PROJECT TEAM HAS INDICATED THAT THERE ARE NO COOLING TOWERS INCLUDED IN THE PROJECT, PLEASE PROCEED TO THE NEXT SECTION.\",\"\")","v":""}]
[null,null,null,null,null,null,null,{"$f":"VLOOKUP(H164,V164:Y167,4,FALSE)","v":""},null,null,null,null,null,null,"Proposed Building",null,null,null,null,null,"Standard Practice Building",null,null,null,null,"METHODOLOGY"]
[null,null,null,null,null,null,null,null,null,null,null,null,null,null,"Evaporation (kL)","Drift (kL)","Bleed (kL)","TOTAL kL/month",null,null,"Evaporation (kL)","Drift (kL)","Bleed (kL)","TOTAL kL/month",null,"Total make-up water = Evaporation (L)+ Drift (L) + Bleed (L) "]
[null,null,{"$f":"IF(D42=\"Yes\",N164,IF(D42=\"No\",Q164,IF(OR(D42=\"Please Select\",D42=\"\"),\"Does the project rely on cooling towers for heat rejection? Please respond in the general section.\")))","v":"Does the project rely on cooling towers for heat rejection? Please respond in the general section."},null,null,null,null,null,null,null,null,null,"January",1,{"$f":"AD208","v":0},{"$f":"IF(OR($D$42=\"No\",$D$42=\"Please Select\"),0,IF(TYPE(((D176)*3600/($N$6*$D$194))*$D$195)=16,0,((D176)*3600/($N$6*$D$194))*$D$195)/1000)","v":0},{"$f":"IF(TYPE((O172/($D$199-1)))=16,0,(O172/($D$199-1)))","v":0},{"$f":"SUM(O172:Q172)","v":0},31,null,{"$f":"AD222","v":0},{"$f":"IF(NOT($H$165=$W$167),0,IF(TYPE(((G176)*3600/($N$6*$E$194))*$E$195)=16,0,((G176)*3600/($N$6*$E$194))*$E$195)/1000)","v":0},{"$f":"IF(TYPE((U172/($E$199-1)))=16,0,(U172/($E$199-1)))","v":0},{"$f":"SUM(U172:W172)","v":0},null,"Where"]
[null,null,null,null,null,null,null,null,null,null,null,null,"February",2,0,0,0,{"$f":"SUM(O173:Q173)","v":0},28,null,0,0,0,{"$f":"SUM(U173:W173)","v":0},null,"Evaporation = derived from diference in moisture content of entering and leaving cooling tower air conditions and the mass flow rate of air into the tower. Refer Thermodynamics: an engineering approach, Cengel and Boles 6th ed for more information."]
[null,null,"Data required for calculation of EVAPORATION:",null,null,null,null,{"$f":"IF(AND(SUM(G176:G187)>0,H164=\"Please select\"),\"Please select building type above\",\"\")","v":""},null,null,null,null,"March",3,0,0,0,{"$f":"SUM(O174:Q174)","v":0},31,null,0,0,0,0]
[null,null,"Inputs","Proposed Project \nmonthly cooling load \n(kWh/month)","Average dry bulb temperature (°C)","Average relative humidity (%)","Standard Practice Project monthly cooling load (kWh/month)",null,null,null,null,null,"April",4,0,0,0,0,30,null,0,0,0,0,null,"Drift = Drift Coefficient x Total Condenser Water Flow for month (L)\nWhere Total Condenser Water Flow for month (L) = (Total cooling load (kWh)+Total Compressor heat (kWh)) x 3600 (s/hour)) / (Specific Heat of Water (4.18 kJ/(kg.K) x Condenser Water Δt)"]
[null,null,"January",null,null,null,null,null,null,null,null,null,"May",5,0,0,0,0,31,null,0,0,0,0]
[null,null,"February",null,null,null,null,null,null,null,null,null,"June",6,0,0,0,0,30,null,0,0,0,0]
[null,null,"March",null,null,null,null,null,null,null,null,null,"July",7,0,0,0,0,31,null,0,0,0,0,null,"Bleed = (Evaporated quantity/(Cycles of concentration - 1) ~~~Derived from AIRAH best practice guidelines and http://www.conservationmechsys.com/ worked examples~~~"]
[null,null,"April",null,null,null,null,null,null,null,null,null,"August",8,0,0,0,0,31,null,0,0,0,0]
[null,null,"May",null,null,null,null,null,null,null,null,null,"September",9,0,0,0,0,30,null,0,0,0,0]
[null,null,"June",null,null,null,null,null,null,null,null,null,"October",10,0,0,0,0,31,null,0,0,0,0]
[null,null,"July",null,null,null,null,null,null,null,null,null,"November",11,0,0,0,0,30,null,0,0,0,0]
[null,null,"August",null,null,null,null,null,null,null,null,null,"December",12,0,0,0,0,31,null,0,0,0,0]
[null,null,"September",null,null,null,null,null,null,null,null,null,"TOTAL (L/year)",null,{"$f":"SUM(O172:O183)","v":0},{"$f":"SUM(P172:P183)","v":0},{"$f":"SUM(Q172:Q183)","v":0},{"$f":"SUM(R172:R183)","v":0},null,null,{"$f":"SUM(U172:U183)","v":0},{"$f":"SUM(V172:V183)","v":0},{"$f":"SUM(W172:W183)","v":0},{"$f":"SUM(X172:X183)","v":0}]
[null,null,"October"]
[null,null,"November"]
[null,null,"December"]
[null,null,null,"Visit the NIWA's website to obtain average dry bulb and relative humidity data relevant to your site: "]
[null,null,null,"https://cliflo.niwa.co.nz/"]
[]
[]
[null,null,"Data required for calculation of DRIFT:"]
[null,null,null,"Proposed Building","Standard Practice Building"]
[null,null,"Condenser Water Δt (°C)",null,{"$f":"N200","v":5.5},"(as per the requirements of the Greenhouse Gas Emissions Calculator Guide)"]
[null,null,"Drift coefficient (%)",null,{"$f":"N201","v":2.0000000000000002E-5},"(as required in AS3666.1 clause 4.4)",null,null,null,null,null,null,"REFERENCE DATA"]
[null,null,null,null,null,null,null,null,null,null,null,null,"Standard Practice Building Heat Rejection Characteristics",null,null,null,null,null,null,"Molar mass of water vapour",null,18.02,"kg/kmol"]
[null,null,"Data required for calculation of BLEED:",null,null,null,null,null,null,null,null,null,"Parameter","Value",null,"Further comments",null,null,null,"Molar mass of dry air",null,28.97,"kg/kmol"]
[null,null,null,"Proposed building","Standard Practice Building",null,null,null,null,null,null,null,"Monthly cooling load","As per Standard Practice Benchmark building in Greenhouse Gas Calculator",null,null,null,null,null,"Ambient pressure ",null,{"$f":"101.325*(1-(2.25577*10^-5*D163))^5.25588","v":101.325},"kPa"]
[null,null,"Cycles of concentration",null,6,"Standard practice cycles of concentration",null,null,null,null,null,null,"Total Compressor heat ",null,null,null,null,null,null,"Ideal gas constant for air",null,0.28699999999999998,"kJ/kg.K"]
[null,null,{"$f":"IF(AND(D42=\"Yes\",OR(ISTEXT(D199),D199=\"\")),\"Please Input the design cycle of concentration for the project cooling towers.\",\"\")","v":""},null,null,null,null,null,null,null,null,null,"Condenser Water Δt",5.5,null,"°C (as per the requirements in the GHG guide)"]
[null,null,null,null,null,null,null,null,null,null,null,null,"Drift coefficient (%)",2.0000000000000002E-5,null,"as required in AS3666.1 clause 4.4"]
[null,null,null,null,null,null,null,null,null,null,null,null,"TDS in make-up water","Mains water is used as make-up water; TDS ppm same as entered for location"]
[null,null,null,null,null,null,null,null,null,null,null,null,"TDS set point in system",500,null,"ppm (based on standard practice) "]
[]
[null,null,null,null,null,null,null,null,null,null,null,null,"EVAPORATION CALCULATION ",null,null,null,null,null,null,null,null,null,null,null,null,null,null,null,null,null,"H","H","temp","temp"]
[null,null,"Proposed Building",null,null,null,"Standard Practice Building",null,null,null,null,null,"Proposed design",null,null,null,null,null,null,null,null,null,null,null,null,null,null,null,null,null,9.4730000000000008,11.202999999999999,0,1]
[null,null,"Evaporation (kL)","Drift (kL)","Bleed (kL)","TOTAL kL/month","Evaporation (kL)","Drift (kL)","Bleed (kL)","TOTAL kL/month",null,null,null,"Days/month","Temp, db","RH %","Psat [Pa]","Pw [Pa]","w [kg/kg]","h (kJ/kg)","Specific volume (m3/kg)","Volume air entering (L/s)","Mass of air entering tower","Average heat rejection (kJ/s)","Leaving air enthalpy, kJ/kg dry air","T leaving ","Pw [Pa]","Moisture content of leaving air, kg H2O/kg dry air","water rejected L/s","Evaporation/ month (kL)",11.202999999999999,12.981999999999999,1,2]
[null,"January",{"$f":"IF($D$42=\"Yes\",O172,\"\")","v":""},{"$f":"IF($D$42=\"Yes\",P172,\"\")","v":""},{"$f":"IF($D$42=\"Yes\",Q172,\"\")","v":""},{"$f":"IF($D$42=\"Yes\",SUM(C208:E208),0)","v":0},{"$f":"IF($H$165=$W$167,U172,0)","v":0},{"$f":"IF($H$165=$W$167,V172,0)","v":0},{"$f":"IF($H$165=$W$167,W172,0)","v":0},{"$f":"IF($H$165=$W$167,SUM(G208:I208),0)","v":0},null,null,"January",31,{"$f":"E176","v":0},{"$f":"F176","v":0},{"$f":"611.21*EXP((18.678-$O208/234.5)*($O208/(257.14+$O208)))","v":611.21},{"$f":"$P208*$Q208/100","v":0},{"$f":"$V$196*$R208/($V$197*($V$198*1000-$R208))","v":0},{"$f":"1.006*$O208+$S208*(2501+1.805*$O208)","v":0},{"$f":"$V$199*($O208+273.15)/$V$198","v":0.77368911917098437},{"$f":"$D$164*X208/$D$165","v":{"$error":"#DIV/0!"}},{"$f":"V208/1000/U208","v":{"$error":"#DIV/0!"}},{"$f":"IF(OR($D$42=\"No\",$D$42=\"Please Select\"),0,D176*3600/N208/(24*3600))","v":0},{"$f":"IF(TYPE(T208+X208/W208)=16,\"\",T208+X208/W208)","v":""},{"$f":"VLOOKUP(Y208,$AE$206:$AH$256,4)+(Y208-VLOOKUP(Y208,$AE$206:$AF$256,2))*((VLOOKUP(Y208,$AE$206:$AH$256,4)-VLOOKUP(Y208,$AE$206:$AH$256,3))/(VLOOKUP(Y208,$AE$206:$AH$256,2)-VLOOKUP(Y208,$AE$206:$AH$256,1)))","v":{"$error":"#N/A"}},{"$f":"611.21*EXP((18.678-$Z208/234.5)*($Z208/(257.14+$Z208)))","v":{"$error":"#N/A"}},{"$f":"$V$196*$AA208/($V$197*($V$198*1000-$AA208))","v":{"$error":"#N/A"}},{"$f":"W208*(AB208-S208)","v":{"$error":"#DIV/0!"}},{"$f":"IF(TYPE(AC208*24*3600*N208*0.001)=16,0,AC208*24*3600*N208*0.001)","v":0},12.981999999999999,14.811,2,3]
[null,"February","","","",0,0,0,0,{"$f":"IF($H$165=$W$167,SUM(G209:I209),0)","v":0},null,null,"February",28,0,0,611.21,0,0,0,0.77368911917098437,{"$f":"$D$164*X209/$D$165","v":{"$error":"#DIV/0!"}},{"$f":"V209/1000/U209","v":{"$error":"#DIV/0!"}},{"$f":"IF(OR($D$42=\"No\",$D$42=\"Please Select\"),0,D177*3600/N209/(24*3600))","v":0},{"$f":"IF(TYPE(T209+X209/W209)=16,\"\",T209+X209/W209)","v":""},{"$error":"#N/A"},{"$error":"#N/A"},{"$error":"#N/A"},{"$error":"#DIV/0!"},0,14.811,16.696000000000002,3,4]
[null,"March","","","",0,0,0,0,0,null,null,"March",31,0,0,611.21,0,0,0,0.77368911917098437,{"$error":"#DIV/0!"},{"$error":"#DIV/0!"},0,"",{"$error":"#N/A"},{"$error":"#N/A"},{"$error":"#N/A"},{"$error":"#DIV/0!"},0,16.696000000000002,18.638999999999999,4,5]
[null,"April","","","",0,0,0,0,0,null,null,"April",30,0,0,611.21,0,0,0,0.77368911917098437,{"$error":"#DIV/0!"},{"$error":"#DIV/0!"},0,"",{"$error":"#N/A"},{"$error":"#N/A"},{"$error":"#N/A"},{"$error":"#DIV/0!"},0,18.638999999999999,20.643999999999998,5,6]
[null,"May","","","",0,0,0,0,0,null,null,"May",31,0,0,611.21,0,0,0,0.77368911917098437,{"$error":"#DIV/0!"},{"$error":"#DIV/0!"},0,"",{"$error":"#N/A"},{"$error":"#N/A"},{"$error":"#N/A"},{"$error":"#DIV/0!"},0,20.643999999999998,22.713000000000001,6,7]
[null,"June","","","",0,0,0,0,0,null,null,"June",30,0,0,611.21,0,0,0,0.77368911917098437,{"$error":"#DIV/0!"},{"$error":"#DIV/0!"},0,"",{"$error":"#N/A"},{"$error":"#N/A"},{"$error":"#N/A"},{"$error":"#DIV/0!"},0,22.713000000000001,24.852,7,8]
[null,"July","","","",0,0,0,0,0,null,null,"July",31,0,0,611.21,0,0,0,0.77368911917098437,{"$error":"#DIV/0!"},{"$error":"#DIV/0!"},0,"",{"$error":"#N/A"},{"$error":"#N/A"},{"$error":"#N/A"},{"$error":"#DIV/0!"},0,24.852,27.064,8,9]
[null,"August","","","",0,0,0,0,0,null,null,"August",31,0,0,611.21,0,0,0,0.77368911917098437,{"$error":"#DIV/0!"},{"$error":"#DIV/0!"},0,"",{"$error":"#N/A"},{"$error":"#N/A"},{"$error":"#N/A"},{"$error":"#DIV/0!"},0,27.064,29.352,9,10]
[null,"September","","","",0,0,0,0,0,null,null,"September",30,0,0,611.21,0,0,0,0.77368911917098437,{"$error":"#DIV/0!"},{"$error":"#DIV/0!"},0,"",{"$error":"#N/A"},{"$error":"#N/A"},{"$error":"#N/A"},{"$error":"#DIV/0!"},0,29.352,31.724,10,11]
[null,"October","","","",0,0,0,0,0,null,null,"October",31,0,0,611.21,0,0,0,0.77368911917098437,{"$error":"#DIV/0!"},{"$error":"#DIV/0!"},0,"",{"$error":"#N/A"},{"$error":"#N/A"},{"$error":"#N/A"},{"$error":"#DIV/0!"},0,31.724,34.179000000000002,11,12]
[null,"November","","","",0,0,0,0,0,null,null,"November",30,0,0,611.21,0,0,0,0.77368911917098437,{"$error":"#DIV/0!"},{"$error":"#DIV/0!"},0,"",{"$error":"#N/A"},{"$error":"#N/A"},{"$error":"#N/A"},{"$error":"#DIV/0!"},0,34.179000000000002,36.725999999999999,12,13]
[null,"December","","","",0,0,0,0,0,null,null,"December",31,0,0,611.21,0,0,0,0.77368911917098437,{"$error":"#DIV/0!"},{"$error":"#DIV/0!"},0,"",{"$error":"#N/A"},{"$error":"#N/A"},{"$error":"#N/A"},{"$error":"#DIV/0!"},0,36.725999999999999,39.369999999999997,13,14]
[null,"TOTAL (kL/year)",{"$f":"SUM(C208:C219)","v":0},{"$f":"SUM(D208:D219)","v":0},{"$f":"SUM(E208:E219)","v":0},0,0,0,0,0,null,null,"Standard practice",null,null,null,null,null,null,null,null,null,null,null,null,null,null,null,null,null,39.369999999999997,42.113,14,15]
[null,null,null,null,null,null,{"$f":"IF(AND(SUM(G176:G187)>0,H164=\"Please select\"),\"Please select building type above\",\"\")","v":""},null,null,null,null,null,null,"Days/month","Temp, db","RH %","Psat [Pa]","Pw [Pa]","w [kg/kg]","h (kJ/kg)","Specific volume (m3/kg)","Volume air entering (L/s)","Mass of air entering tower","Average heat rejection (kJ/s)","Leaving air enthalpy, kJ/kg dry air","T leaving ",null,"Moisture content of leaving air, kg H2O/kg dry air","water rejected L/s","Evaporation/ month (kL)",42.113,44.963000000000001,15,16]
[null,"Water demand from heat rejection systems that are not conventional cooling towers",null,null,null,null,{"$f":"IF(D43=\"No\",\"THE PROJECT TEAM HAS INDICATED THAT THERE ARE NO WATER BASED HEAT REJECTION SYSTEMS THAT ARE NOT CONVENTIONAL COOLING TOWERS INCLUDED IN THE PROJECT, PLEASE PROCEED TO THE NEXT SECTION.\",\"\")","v":""},null,null,null,null,null,"January",31,{"$f":"E176","v":0},{"$f":"F176","v":0},{"$f":"611.21*EXP((18.678-$O222/234.5)*($O222/(257.14+$O222)))","v":611.21},{"$f":"$P222*$Q222/100","v":0},{"$f":"$V$196*$R222/($V$197*($V$198*1000-$R222))","v":0},{"$f":"1.006*$O222+$S222*(2501+1.805*$O222)","v":0},{"$f":"$V$199*($O222+273.15)/$V$198","v":0.77368911917098437},{"$f":"$H$166*X222/$H$167","v":{"$error":"#DIV/0!"}},{"$f":"V222/1000/U222","v":{"$error":"#DIV/0!"}},{"$f":"IF(NOT($H$165=$W$167),0,G176*3600/N222/(24*3600))","v":0},{"$f":"IF(TYPE(T222+X222/W222)=16,\"\",T222+X222/W222)","v":""},{"$f":"VLOOKUP(Y222,$AE$206:$AH$256,4)+(Y222-VLOOKUP(Y222,$AE$206:$AF$256,2))*((VLOOKUP(Y222,$AE$206:$AH$256,4)-VLOOKUP(Y222,$AE$206:$AH$256,3))/(VLOOKUP(Y222,$AE$206:$AH$256,2)-VLOOKUP(Y222,$AE$206:$AH$256,1)))","v":{"$error":"#N/A"}},{"$f":"611.21*EXP((18.678-$Z222/234.5)*($Z222/(257.14+$Z222)))","v":{"$error":"#N/A"}},{"$f":"$V$196*$AA222/($V$197*($V$198*1000-$AA222))","v":{"$error":"#N/A"}},{"$f":"W222*(AB222-S222)","v":{"$error":"#DIV/0!"}},{"$f":"IF(TYPE(AC222*24*3600*N222*0.001)=16,0,AC222*24*3600*N222*0.001)","v":0},44.963000000000001,47.926000000000002,16,17]
[null,null,{"$f":"IF(D43=\"Yes\",N165,IF(D43=\"No\",Q165,\"\"))","v":""},null,null,null,null,null,null,null,null,null,"February",28,0,0,611.21,0,0,0,0.77368911917098437,{"$f":"$H$166*X223/$H$167","v":{"$error":"#DIV/0!"}},{"$f":"V223/1000/U223","v":{"$error":"#DIV/0!"}},0,"",{"$error":"#N/A"},{"$error":"#N/A"},{"$error":"#N/A"},{"$error":"#DIV/0!"},0,47.926000000000002,51.008000000000003,17,18]
[null,null,null,"Water demand per month (kL/month)",null,null,null,null,null,null,null,null,"March",31,0,0,611.21,0,0,0,0.77368911917098437,{"$error":"#DIV/0!"},{"$error":"#DIV/0!"},0,"",{"$error":"#N/A"},{"$error":"#N/A"},{"$error":"#N/A"},{"$error":"#DIV/0!"},0,51.008000000000003,54.216000000000001,18,19]
[1,31,"January",null,null,null,null,null,null,null,null,null,"April",30,0,0,611.21,0,0,0,0.77368911917098437,{"$error":"#DIV/0!"},{"$error":"#DIV/0!"},0,"",{"$error":"#N/A"},{"$error":"#N/A"},{"$error":"#N/A"},{"$error":"#DIV/0!"},0,54.216000000000001,57.555,19,20]
[2,28,"February",null,null,null,null,null,null,null,null,null,"May",31,0,0,611.21,0,0,0,0.77368911917098437,{"$error":"#DIV/0!"},{"$error":"#DIV/0!"},0,"",{"$error":"#N/A"},{"$error":"#N/A"},{"$error":"#N/A"},{"$error":"#DIV/0!"},0,57.555,61.034999999999997,20,21]
[3,31,"March",null,null,null,null,null,null,null,null,null,"June",30,0,0,611.21,0,0,0,0.77368911917098437,{"$error":"#DIV/0!"},{"$error":"#DIV/0!"},0,"",{"$error":"#N/A"},{"$error":"#N/A"},{"$error":"#N/A"},{"$error":"#DIV/0!"},0,61.034999999999997,64.66,21,22]
[null,30,"April",null,null,null,null,null,null,null,null,null,"July",31,0,0,611.21,0,0,0,0.77368911917098437,{"$error":"#DIV/0!"},{"$error":"#DIV/0!"},0,"",{"$error":"#N/A"},{"$error":"#N/A"},{"$error":"#N/A"},{"$error":"#DIV/0!"},0,64.66,68.44,22,23]
[4,31,"May",null,null,null,null,null,null,null,null,null,"August",31,0,0,611.21,0,0,0,0.77368911917098437,{"$error":"#DIV/0!"},{"$error":"#DIV/0!"},0,"",{"$error":"#N/A"},{"$error":"#N/A"},{"$error":"#N/A"},{"$error":"#DIV/0!"},0,68.44,72.385000000000005,23,24]
[5,30,"June",null,null,null,null,null,null,null,null,null,"September",30,0,0,611.21,0,0,0,0.77368911917098437,{"$error":"#DIV/0!"},{"$error":"#DIV/0!"},0,"",{"$error":"#N/A"},{"$error":"#N/A"},{"$error":"#N/A"},{"$error":"#DIV/0!"},0,72.385000000000005,76.5,24,25]
[6,31,"July",null,null,null,null,null,null,null,null,null,"October",31,0,0,611.21,0,0,0,0.77368911917098437,{"$error":"#DIV/0!"},{"$error":"#DIV/0!"},0,"",{"$error":"#N/A"},{"$error":"#N/A"},{"$error":"#N/A"},{"$error":"#DIV/0!"},0,76.5,80.798000000000002,25,26]
[null,31,"August",null,null,null,null,null,null,null,null,null,"November",30,0,0,611.21,0,0,0,0.77368911917098437,{"$error":"#DIV/0!"},{"$error":"#DIV/0!"},0,"",{"$error":"#N/A"},{"$error":"#N/A"},{"$error":"#N/A"},{"$error":"#DIV/0!"},0,80.798000000000002,85.284999999999997,26,27]
[7,30,"September",null,null,null,null,null,null,null,null,null,"December",31,0,0,611.21,0,0,0,0.77368911917098437,{"$error":"#DIV/0!"},{"$error":"#DIV/0!"},0,"",{"$error":"#N/A"},{"$error":"#N/A"},{"$error":"#N/A"},{"$error":"#DIV/0!"},0,85.284999999999997,89.975999999999999,27,28]
[8,31,"October",null,null,null,null,null,null,null,null,null,null,null,null,null,null,null,null,null,null,null,null,null,null,null,null,null,null,null,89.975999999999999,94.878,28,29]
[9,30,"November",null,null,null,null,null,null,null,null,null,null,null,null,null,null,null,null,null,null,null,null,null,null,null,null,null,null,null,94.878,100.006,29,30]
[null,31,"December",null,null,null,null,null,null,null,null,null,null,null,null,null,null,null,null,null,null,null,null,null,null,null,null,null,null,null,100.006,105.369,30,31]
[null,null,"Total make up water (kL/year)",{"$f":"SUM(D225:D236)","v":0},null,null,null,null,null,null,null,null,null,null,null,null,null,null,null,null,null,null,null,null,null,null,null,null,null,null,105.369,110.979,31,32]
[null,null,null,null,null,null,null,null,null,null,null,null,null,null,null,null,null,null,null,null,null,null,null,null,null,null,null,null,null,null,110.979,116.857,32,33]
[null,null,"RESULTS: WATER DEMAND FROM HEAT REJECTION",null,null,null,null,null,null,null,null,null,null,null,null,null,null,null,null,null,null,null,null,null,null,null,null,null,null,null,116.857,123.011,33,34]
[null,null,null,null,null,null,null,null,null,null,null,null,null,null,null,null,null,null,null,null,null,null,null,null,null,null,null,null,null,null,123.011,129.45500000000001,34,35]
[null,null,"Total water demand from heat rejection by month",null,null,null,null,null,null,null,null,null,null,null,null,null,null,null,null,null,null,null,null,null,null,null,null,null,null,null,129.45500000000001,136.209,35,36]
[null,null,null,"TOTAL water demand per month (kL/month)",null,null,null,null,null,null,null,null,null,null,null,null,null,null,null,null,null,null,null,null,null,null,null,null,null,null,136.209,143.29,36,37]
[null,null,null,"Proposed Building","Standard Practice Building",null,null,null,null,null,null,null,null,null,null,null,null,null,null,null,null,null,null,null,null,null,null,null,null,null,143.29,150.71299999999999,37,38]
[null,null,"January",{"$f":"F208+IF($D$43=\"Yes\",D225,0)","v":0},{"$f":"J208","v":0},null,null,null,null,null,null,null,null,null,null,null,null,null,null,null,null,null,null,null,null,null,null,null,null,null,150.71299999999999,158.50399999999999,38,39]
[null,null,"February",0,{"$f":"J209","v":0},null,null,null,null,null,null,null,null,null,null,null,null,null,null,null,null,null,null,null,null,null,null,null,null,null,158.50399999999999,166.68299999999999,39,40]
[null,null,"March",0,0,null,null,null,null,null,null,null,null,null,null,null,null,null,null,null,null,null,null,null,null,null,null,null,null,null,166.68299999999999,175.26499999999999,40,41]
[null,null,"April",0,0,null,null,null,null,null,null,null,null,null,null,null,null,null,null,null,null,null,null,null,null,null,null,null,null,null,175.26499999999999,184.27500000000001,41,42]
[null,null,"May",0,0,null,null,null,null,null,null,null,null,null,null,null,null,null,null,null,null,null,null,null,null,null,null,null,null,null,184.27500000000001,193.749,42,43]
[null,null,"June",0,0,null,null,null,null,null,null,null,null,null,null,null,null,null,null,null,null,null,null,null,null,null,null,null,null,null,193.749,203.69900000000001,43,44]
[null,null,"July",0,0,null,null,null,null,null,null,null,null,null,null,null,null,null,null,null,null,null,null,null,null,null,null,null,null,null,203.69900000000001,214.16399999999999,44,45]
[null,null,"August",0,0,null,null,null,null,null,null,null,null,null,null,null,null,null,null,null,null,null,null,null,null,null,null,null,null,null,214.16399999999999,225.179,45,46]
[null,null,"September",0,0,null,null,null,null,null,null,null,null,null,null,null,null,null,null,null,null,null,null,null,null,null,null,null,null,null,225.179,236.75899999999999,46,47]
[null,null,"October",0,0,null,null,null,null,null,null,null,null,null,null,null,null,null,null,null,null,null,null,null,null,null,null,null,null,null,236.75899999999999,248.95500000000001,47,48]
[null,null,"November",0,0,null,null,null,null,null,null,null,null,null,null,null,null,null,null,null,null,null,null,null,null,null,null,null,null,null,248.95500000000001,261.803,48,49]
[null,null,"December",0,0,null,null,null,null,null,null,null,null,null,null,null,null,null,null,null,null,null,null,null,null,null,null,null,null,null,261.803,275.34500000000003,49,50]
[null,null,"Total make up water (kL/year)",{"$f":"SUM(D244:D255)","v":0},0,null,null,null,null,null,null,null,null,null,null,null,null,null,null,null,null,null,null,null,null,null,null,null,null,null,275.34500000000003,289.62400000000002,50,51]
[]
[null,"4. WASHDOWN WATER",null,null,{"$f":"IF(D46=\"No\",\"THE PROJECT TEAM HAS INDICATED THAT WASHDOWN AREAS ARE NOT INCLUDED IN THE PROJECT, PLEASE PROCEED TO THE NEXT SECTION.\",\"\")","v":""},null,null,null,null,null,null,null,"5. Calculation of water demand for landscape irrigation",null,null,null,null,null,null,"REFERENCE DATA",null,null,null,null,"Water application efficiency - irrigation methods",null,null,null,"Rainfall water application efficiency"]
[null,null,null,null,null,null,null,null,null,null,null,null,"How to increase the number of zones for a project:\n1) Highlight the final zone's row in the 'Data for each landscaped zone' section (by clicking on the number of the row on the left hand side of the screen); \n2) Right click on the highlighted row and select \"Insert\". Do this as many times as you need to create the number of extra rows you want;\n3) Copy the formulas down into the new rows. You can do this by firstly highlighting the cells, from column C to AE, in the row just above all the new rows you have created, and secondly dragging down using the dark black cross that appears on the bottom right corner of the selected cells over all the new rows you have created (but no further!)).\n4) Do EXACTLY the same thing in the results section (highlight the ENTIRE last row of data (NOT THE RESULTS LINE, THE ONE BEFORE THAT), insert however many rows you want, highlight the cells in the previous row (from column C to AE) and pull down/copy into the new rows.\n",null,null,"METHODOLOGY\nIrrigation Requirement = Net water demand /application efficiency\n\nWhere: \nNet water demand (mm) = plant demand - available rainfall\n\nand where:\nPlant demand (L) = Area (m2) x (highest crop coefficient x density factor) x mean monthly evapotranspiration (mm) x micro climate factor\nand\nAvailable rainfall (L) = Area (m2) x monthly rainfall (mm) x rainfall availability (60% x percetange not undercover)",null,null,null,"Standard Practice Landscape irrigation properties",null,null,null,null,"Please select",null,0,null,null,"Ave. Efficiency"]
[null,null,"Washdown","Hose Flowrate (L/min)",null,"Number of Hoses",null,"Average daily use (minutes)","Proposed daily consumption (kL)","Standard practice daily consumption (kL)",null,null,null,null,null,null,null,null,null,"Input Parameter",null,"Value",null,null,"Sprinklers - Day (65%)",null,0.65,null,"Rainfall",0.6]
[null,null,"<enter description>",null,null,null,null,null,{"$f":"D261*F261*H261*0.001","v":0},{"$f":"IF(OR(TYPE(I261)=16,ISBLANK(I261)),0,H261*F261*12*0.001)","v":0},null,null,null,null,null,null,null,null,null,"Area of the zone",null,"Same as the proposed design",null,null,"Sprinklers - Night (75%)",null,0.75]
[null,null,"<enter description>",null,null,null,null,null,{"$f":"D262*F262*H262*0.001","v":0},{"$f":"IF(OR(TYPE(I262)=16,ISBLANK(I262)),0,H262*F262*12*0.001)","v":0},null,null,null,null,null,null,null,null,null,"Application Efficiency",null,"Sprinklers - Night (75%)",{"$f":"VLOOKUP(V262,Y259:AA269,3,FALSE)","v":0.75},null,"Sprays - Day (65%)",null,0.65,null,"Density factor (applied to crop coefficient)"]
[null,null,"<enter description>",null,null,null,null,null,0,0,null,null,null,null,null,null,null,null,null,"Average Crop factor",null,0.6,null,null,"Sprays - Night (70%)",null,0.7,null,"Please select",0]
[null,null,"<enter description>",null,null,null,null,null,0,0,null,null,null,null,null,null,null,null,null,"Density",null,"Normal",{"$f":"VLOOKUP(V264,AC263:AD266,2,FALSE)","v":1},null,"Microsprays - Day (60%)",null,0.6,null,"Sparse",0.8]
[null,null,"<enter description>",null,null,null,null,null,0,0,null,null,null,null,null,null,null,null,null,"Effective rainfall",null,"Same as the proposed design",null,null,"Microsprays - Night (65%)",null,0.65,null,"Normal",1]
[null,null,"<enter description>",null,null,null,null,null,0,0,null,null,null,null,null,null,null,null,null,"Microclimate factor",null,"Normal (1.0)",{"$f":"VLOOKUP(V266,AG259:AH262,2,FALSE)","v":{"$error":"#N/A"}},null,"Drip - Bare soil (80%)",null,0.8,null,"Dense/layered",1.2]
[null,null,"<enter description>",null,null,null,null,null,0,0,null,null,null,null,null,null,null,null,null,"Monthly evaporation",null,"Same as the proposed design",null,null,"Drip - Under mulch (85%)",null,0.85]
[null,null,"<enter description>",null,null,null,null,null,0,0,null,null,null,null,null,null,null,null,null,"Monthly Rainfall",null,"Same as the proposed design",null,null,"Subsurface drip (SDI) (90%)",null,0.9,"Notes: 1. Many factors impact on the Application Efficiency of an irrigation method, including uniformity, runoff, wind drift, evaporation. These are average values to reflect differences between various types."]
[null,null,"<enter description>",null,null,null,null,null,0,0,null,null,null,null,null,null,null,null,null,null,null,null,null,null,"Hand watering (50%)",null,0.5,"2. Sprays have fixed application of water and generally cover short distances. Sprinklers have rotating streams and cover larger distances."]
[null,null,"<enter description>",null,null,null,null,null,0,0]
[null,null,null,null,null,null,null,"Total  ",{"$f":"IF(D46=\"No\",0,SUM(I261:I270))","v":0},{"$f":"IF(D46=\"No\",0,SUM(J261:J270))","v":0},null,null,null,null,null,null,null,null,null,"Evapotranspiration and rainfall data transposed from columns D and E (for easier use in formulas below)"]
[null,null,null,null,null,null,null,null,null,null,null,null,null,null,null,null,null,null,null,"January","February","March","April","May","June","July","August","September","October","November","December",null,"ANNUAL TOTALS"]
[null,null,null,null,null,null,null,null,null,null,null,null,null,null,null,null,null,"Evapotranpiration (point potential) (mm)",null,{"$f":"E277","v":0},{"$f":"E278","v":0},{"$f":"E279","v":0},{"$f":"E280","v":0},{"$f":"E281","v":0},{"$f":"E282","v":0},{"$f":"E283","v":0},{"$f":"E284","v":0},{"$f":"E285","v":0},{"$f":"E286","v":0},{"$f":"E287","v":0},{"$f":"E288","v":0},null,{"$f":"E289","v":0}]
[null,"5. LANDSCAPE IRRIGATION",null,null,{"$f":"IF(D50=\"No\",\"THE PROJECT TEAM HAS INDICATED THAT NO LANDSCAPING IS INCLUDED IN THE DESIGN, PLEASE PROCEED TO THE NEXT SECTION.\",\"\")","v":""},null,null,null,null,null,null,null,null,null,null,null,null,"Monthly rainfall (mm)",null,{"$f":"D277","v":0},{"$f":"D278","v":0},{"$f":"D279","v":0},{"$f":"D280","v":0},{"$f":"D281","v":0},{"$f":"D282","v":0},{"$f":"D283","v":0},{"$f":"D284","v":0},{"$f":"D285","v":0},{"$f":"D286","v":0},{"$f":"D287","v":0},{"$f":"D288","v":0},null,{"$f":"D289","v":0}]
[null,"(The irrigation requirement for the site is calculated for each month of the year, for each landscaped ‘zone’ in the site (a zone being a landscaped area that has the same soil type, irrigation system and as far as possible, types of plants). Please see the Green Star- Calculator Guide for further details.)",null,null,null,null,null,null,null,null,null,null,"PROPOSED BUILDING DATA",null,null,null,null,null,null,"Montly irrigation requirement for the Proposed Building (L)",null,null,null,null,null,null,null,null,null,null,null,null,"ANNUAL TOTALS"]
[null,null,"Climate data","Monthly rainfall (mm)","Monthly evapotranspiration (point potential) (mm)",null,null,null,null,null,null,null,null,null,null,null,null,null,null,1,2,3,4,5,6,7,8,9,10,11,12]
[null,null,"January",{"$f":"SUM(D684:D714)","v":0},null,null,null,null,null,null,null,null,"Zone name and description","Area of zone","Effective rainfall","Max crop coefficient x density factor","Application efficiency",null,null,"January","February","March","April","May","June","July","August","September","October","November","December",null,"L/year","kL/year"]
[null,null,"February",{"$f":"SUM(D715:D742)","v":0},null,null,null,null,null,null,null,null,{"$f":"C293","v":0},{"$f":"D293","v":0},{"$f":"(100%-E293)*$AD$260","v":0.6},{"$f":"F293","v":0},{"$f":"IF(H293=\"\",VLOOKUP(G293,$Y$259:$AA$269,3,FALSE),H293)","v":0},null,"L/day",{"$f":"T289/31","v":0},{"$f":"U289/28","v":0},{"$f":"V289/31","v":0},{"$f":"W289/30","v":0},{"$f":"X289/31","v":0},{"$f":"Y289/30","v":0},{"$f":"Z289/31","v":0},{"$f":"AA289/31","v":0},{"$f":"AB289/30","v":0},{"$f":"AC289/31","v":0},{"$f":"AD289/30","v":0},{"$f":"AE289/31","v":0}]
[null,null,"March",{"$f":"SUM(D743:D773)","v":0},null,null,null,null,null,null,null,null,0,0,0.6,0,0,null,{"$f":"IF(OR(D293=\"\",E293=\"\",F293=\"\",AND(G293=\"Please select\",H293=\"\")),\"Incomplete\",\"Complete\")","v":"Incomplete"},{"$f":"IF($S279=\"Complete\",IF(($P278*T$273*$N278-T$274*$O278*$N278)/$Q278<0,0,($P278*T$273*$N278-T$274*$O278*$N278)/$Q278),0)","v":0},{"$f":"IF($S279=\"Complete\",IF(($P278*U$273*$N278-U$274*$O278*$N278)/$Q278<0,0,($P278*U$273*$N278-U$274*$O278*$N278)/$Q278),0)","v":0},{"$f":"IF($S279=\"Complete\",IF(($P278*V$273*$N278-V$274*$O278*$N278)/$Q278<0,0,($P278*V$273*$N278-V$274*$O278*$N278)/$Q278),0)","v":0},{"$f":"IF($S279=\"Complete\",IF(($P278*W$273*$N278-W$274*$O278*$N278)/$Q278<0,0,($P278*W$273*$N278-W$274*$O278*$N278)/$Q278),0)","v":0},{"$f":"IF($S279=\"Complete\",IF(($P278*X$273*$N278-X$274*$O278*$N278)/$Q278<0,0,($P278*X$273*$N278-X$274*$O278*$N278)/$Q278),0)","v":0},{"$f":"IF($S279=\"Complete\",IF(($P278*Y$273*$N278-Y$274*$O278*$N278)/$Q278<0,0,($P278*Y$273*$N278-Y$274*$O278*$N278)/$Q278),0)","v":0},{"$f":"IF($S279=\"Complete\",IF(($P278*Z$273*$N278-Z$274*$O278*$N278)/$Q278<0,0,($P278*Z$273*$N278-Z$274*$O278*$N278)/$Q278),0)","v":0},{"$f":"IF($S279=\"Complete\",IF(($P278*AA$273*$N278-AA$274*$O278*$N278)/$Q278<0,0,($P278*AA$273*$N278-AA$274*$O278*$N278)/$Q278),0)","v":0},{"$f":"IF($S279=\"Complete\",IF(($P278*AB$273*$N278-AB$274*$O278*$N278)/$Q278<0,0,($P278*AB$273*$N278-AB$274*$O278*$N278)/$Q278),0)","v":0},{"$f":"IF($S279=\"Complete\",IF(($P278*AC$273*$N278-AC$274*$O278*$N278)/$Q278<0,0,($P278*AC$273*$N278-AC$274*$O278*$N278)/$Q278),0)","v":0},{"$f":"IF($S279=\"Complete\",IF(($P278*AD$273*$N278-AD$274*$O278*$N278)/$Q278<0,0,($P278*AD$273*$N278-AD$274*$O278*$N278)/$Q278),0)","v":0},{"$f":"IF($S279=\"Complete\",IF(($P278*AE$273*$N278-AE$274*$O278*$N278)/$Q278<0,0,($P278*AE$273*$N278-AE$274*$O278*$N278)/$Q278),0)","v":0},null,{"$f":"IF(TYPE(SUM(T279:AE279))=16,0,SUM(T279:AE279))","v":0},{"$f":"AG279/1000","v":0}]
[null,null,"April",{"$f":"SUM(D774:D803)","v":0},null,null,null,null,null,null,null,null,0,0,0.6,0,0,null,"Incomplete",0,0,0,0,0,0,0,0,0,0,0,0,null,0,0]
[null,null,"May",{"$f":"SUM(D804:D834)","v":0},null,null,null,null,null,null,null,null,0,0,0.6,0,0,null,"Incomplete",0,0,0,0,0,0,0,0,0,0,0,0,null,0,0]
[null,null,"June",{"$f":"SUM(D835:D864)","v":0},null,null,null,null,null,null,null,null,0,0,0.6,0,0,null,"Incomplete",0,0,0,0,0,0,0,0,0,0,0,0,null,0,0]
[null,null,"July",{"$f":"SUM(D865:D895)","v":0},null,null,null,null,null,null,null,null,0,0,0.6,0,0,null,"Incomplete",0,0,0,0,0,0,0,0,0,0,0,0,null,0,0]
[null,null,"August",{"$f":"SUM(D896:D926)","v":0},null,null,null,null,null,null,null,null,0,0,0.6,0,0,null,"Incomplete",0,0,0,0,0,0,0,0,0,0,0,0,null,0,0]
[null,null,"September",{"$f":"SUM(D927:D956)","v":0},null,null,null,null,null,null,null,null,0,0,0.6,0,0,null,"Incomplete",0,0,0,0,0,0,0,0,0,0,0,0,null,0,0]
[null,null,"October",{"$f":"SUM(D957:D987)","v":0},null,null,null,null,null,null,null,null,0,0,0.6,0,0,null,"Incomplete",0,0,0,0,0,0,0,0,0,0,0,0,null,0,0]
[null,null,"November",{"$f":"SUM(D988:D1017)","v":0},null,null,null,null,null,null,null,null,0,0,0.6,0,0,null,"Incomplete",0,0,0,0,0,0,0,0,0,0,0,0,null,0,0]
[null,null,"December",{"$f":"SUM(D1018:D1048)","v":0},null,null,null,null,null,null,null,null,null,null,null,null,null,null,"Incomplete",0,0,0,0,0,0,0,0,0,0,0,0,null,0,0]
[null,null,null,null,null,null,{"$f":"IF(SUM(H293:H302)>0,\"Evidence for any user determine application efficiencies must be provided in the short report\",\"\")","v":""},null,null,null,null,null,null,null,null,null,null,null,"L/month",{"$f":"SUM(T279:T288)","v":0},0,0,0,0,0,0,0,0,0,{"$f":"SUM(AD279:AD288)","v":0},0,null,{"$f":"SUM(AG279:AG288)","v":0},{"$f":"SUM(AH279:AH288)","v":0}]
[null,null,null,null,null,null,null,null,null,null,null,null,"STANDARD PRACTICE BUILDING DATA",null,null,null,null,null,"kL/month",{"$f":"T289/1000","v":0},0,0,0,0,0,0,0,0,0,{"$f":"AD289/1000","v":0},0,null,{"$f":"AG289/1000","v":0}]
[null,null,"Data on each landscaped zone",null,null,null,"Irrigation system water application efficiency"]
[null,null,"Zone name and description","Area of zone (m2)","Percentage of zone undercover (%)","Weighted average crop coefficient in zone","Default water application efficiency for common irrigation systems","User determined application efficiency"]
[null,null,null,null,null,null,"Please select",null,null,null,null,null,null,null,null,null,null,null,null,"Monthly irrigation requirement for the Standard Practice Building (L)",null,null,null,null,null,null,null,null,null,null,null,null,"ANNUAL TOTALS"]
[null,null,null,null,null,null,"Please select",null,null,null,null,null,null,null,null,null,null,null,null,1,2,3,4,5,6,7,8,9,10,11,12]
[null,null,null,null,null,null,"Please select",null,null,null,null,null,"Zone name and description","Area of zone","Effective rainfall","Max crop coefficient","Application effieicy",null,"L/day",{"$f":"T307/31","v":0},{"$f":"U307/28","v":0},{"$f":"V307/31","v":0},{"$f":"W307/30","v":0},{"$f":"X307/31","v":0},{"$f":"Y307/30","v":0},{"$f":"Z307/31","v":0},{"$f":"AA307/31","v":0},{"$f":"AB307/30","v":0},{"$f":"AC307/31","v":0},{"$f":"AD307/30","v":0},{"$f":"AE307/31","v":0}]
[null,null,null,null,null,null,"Please select",null,null,null,null,null,{"$f":"M278","v":0},0,0.6,{"$f":"$V$263*$W$264","v":0.6},{"$f":"$W$262","v":0.75},null,null,"January","February","March","April","May","June","July","August","September","October","November","December",null,"L/year","kL/year"]
[null,null,null,null,null,null,"Please select",null,null,null,null,null,0,0,0.6,0.6,0.75,null,null,{"$f":"IF(($P296*T$273*$N296-T$274*$O296*$N296)/$Q296<0,0,($P296*T$273*$N296-T$274*$O296*$N296)/$Q296)","v":0},{"$f":"IF(($P296*U$273*$N296-U$274*$O296*$N296)/$Q296<0,0,($P296*U$273*$N296-U$274*$O296*$N296)/$Q296)","v":0},{"$f":"IF(($P296*V$273*$N296-V$274*$O296*$N296)/$Q296<0,0,($P296*V$273*$N296-V$274*$O296*$N296)/$Q296)","v":0},{"$f":"IF(($P296*W$273*$N296-W$274*$O296*$N296)/$Q296<0,0,($P296*W$273*$N296-W$274*$O296*$N296)/$Q296)","v":0},{"$f":"IF(($P296*X$273*$N296-X$274*$O296*$N296)/$Q296<0,0,($P296*X$273*$N296-X$274*$O296*$N296)/$Q296)","v":0},{"$f":"IF(($P296*Y$273*$N296-Y$274*$O296*$N296)/$Q296<0,0,($P296*Y$273*$N296-Y$274*$O296*$N296)/$Q296)","v":0},{"$f":"IF(($P296*Z$273*$N296-Z$274*$O296*$N296)/$Q296<0,0,($P296*Z$273*$N296-Z$274*$O296*$N296)/$Q296)","v":0},{"$f":"IF(($P296*AA$273*$N296-AA$274*$O296*$N296)/$Q296<0,0,($P296*AA$273*$N296-AA$274*$O296*$N296)/$Q296)","v":0},{"$f":"IF(($P296*AB$273*$N296-AB$274*$O296*$N296)/$Q296<0,0,($P296*AB$273*$N296-AB$274*$O296*$N296)/$Q296)","v":0},{"$f":"IF(($P296*AC$273*$N296-AC$274*$O296*$N296)/$Q296<0,0,($P296*AC$273*$N296-AC$274*$O296*$N296)/$Q296)","v":0},{"$f":"IF(($P296*AD$273*$N296-AD$274*$O296*$N296)/$Q296<0,0,($P296*AD$273*$N296-AD$274*$O296*$N296)/$Q296)","v":0},{"$f":"IF(($P296*AE$273*$N296-AE$274*$O296*$N296)/$Q296<0,0,($P296*AE$273*$N296-AE$274*$O296*$N296)/$Q296)","v":0},null,{"$f":"SUM(T297:AE297)","v":0},{"$f":"AG297/1000","v":0}]
[null,null,null,null,null,null,"Please select",null,null,null,null,null,0,0,0.6,0.6,0.75,null,null,0,0,0,0,0,0,0,0,0,0,0,0,null,{"$f":"IF(TYPE(SUM(T298:AE298))=16,0,SUM(T298:AE298))","v":0},0]
[null,null,null,null,null,null,"Please select",null,null,null,null,null,0,0,0.6,0.6,0.75,null,null,0,0,0,0,0,0,0,0,0,0,0,0,null,0,0]
[null,null,null,null,null,null,"Please select",null,null,null,null,null,0,0,0.6,0.6,0.75,null,null,0,0,0,0,0,0,0,0,0,0,0,0,null,0,0]
[null,null,null,null,null,null,"Please select",null,null,null,null,null,0,0,0.6,0.6,0.75,null,null,0,0,0,0,0,0,0,0,0,0,0,0,null,0,0]
[null,null,null,null,null,null,"Please select",null,null,null,null,null,0,0,0.6,0.6,0.75,null,null,0,0,0,0,0,0,0,0,0,0,0,0,null,0,0]
[null,null,"Standard practice landscape irrigation assumptions:","(Same as Proposed Building)","(Same as Proposed Building)","(0.6)","(75%)",null,null,null,null,null,0,0,0.6,0.6,0.75,null,null,0,0,0,0,0,0,0,0,0,0,0,0,null,0,0]
[null,null,null,null,null,null,null,null,null,null,null,null,0,0,0.6,0.6,0.75,null,null,0,0,0,0,0,0,0,0,0,0,0,0,null,0,0]
[null,null,"RESULTS: WATER DEMAND FROM IRRIGATION",null,null,null,null,null,null,null,null,null,0,0,0.6,0.6,0.75,null,null,0,0,0,0,0,0,0,0,0,0,0,0,null,0,0]
[null,null,null,null,null,null,null,null,null,null,null,null,null,null,null,null,null,null,null,0,0,0,0,0,0,0,0,0,0,0,0,null,0,0]
[null,null,"Annual irrigation requirement from each zone",null,null,null,null,null,null,null,null,null,null,null,null,null,null,null,"L/month",{"$f":"SUM(T297:T306)","v":0},0,0,0,0,0,0,0,0,0,{"$f":"SUM(AD297:AD306)","v":0},0,null,{"$f":"SUM(AG297:AG306)","v":0},{"$f":"SUM(AH297:AH306)","v":0}]
[null,null,null,"Annual irrigation requirement for each zone (kL/year)",null,"Note: The irrigation requirement for a particular zone will only be computed once every field related to that zone has been completed in the table above. ",null,null,null,null,null,null,null,null,null,null,null,null,"kL/month",{"$f":"T307/1000","v":0},0,0,0,0,0,0,0,0,0,{"$f":"AD307/1000","v":0},0,null,{"$f":"AG307/1000","v":0}]
[null,null,"Zone name and description","Proposed Building","Standard Practice Building"]
[null,null,{"$f":"C293","v":0},{"$f":"IF(AND($D$50=\"Yes\",$D$51=\"Yes\"),AH279,0)","v":0},{"$f":"IF($D$50=\"Yes\",AH297,0)","v":0}]
[null,null,0,0,0]
[null,null,0,0,0]
[null,null,0,0,0]
[null,null,0,0,0]
[null,null,0,0,0]
[null,null,0,0,0]
[null,null,0,0,0]
[null,null,0,0,0]
[null,null,0,0,0]
[null,null,"TOTAL for all zones (kL/year)",{"$f":"IF(D51=\"Yes\",AH289,0)","v":0},{"$f":"IF(D50=\"Yes\",AH307,0)","v":0}]
[]
[null,null,"Total irrigation requirement for all zones by month"]
[null,null,null,"Irrigation requirement for all zones per month (kL/month)",null,null,null,null,null,null,null,null,"6. Calculation of swimming pool demand"]
[null,null,null,"Proposed Building","Standard Practice Building",null,null,null,null,null,null,null,"REFERENCE DATA","The benchmarks used for the calculation of backwash and splash are based on the ACTPLA requirements for commercial developments",null,null,"The ACTPLA requirements mandate a usage profile for outdoor swimming pools of every day in January and every second day in  November, December, February and March. Given the climatic variation between locations, assume continuous use every day from 1 November to 31 March regardless of location to provide uniformity in swimming pool assessment."]
[null,null,"January",{"$f":"IF(AND($D$50=\"Yes\",$D$51=\"Yes\"),T290,0)","v":0},{"$f":"IF($D$50=\"Yes\",T308,0)","v":0},null,null,null,null,null,null,null,"Indoor or outdoor",null,"Consumption",null,null,null,null,null,null,null,"Water to sewer",null,null,"Molar mass of water vapour",null,18.02,"kg/kmol",null,null,"Non-potable water ","Non-potable water source"]
[null,null,"February",{"$f":"IF(AND($D$50=\"Yes\",$D$51=\"Yes\"),U290,0)","v":0},{"$f":"IF($D$50=\"Yes\",U308,0)","v":0},null,null,null,null,null,null,null,"Indoor",null,"Filter flushing (backwash)",null,250,"L/flush","Flushing occurs 5 times per year",null,null,null,"Reference",{"$f":"Q326*5","v":1250},"L","Molar mass of dry air",null,28.97,"kg/kmol",null,null,"Yes","Rainwater"]
[null,null,"March",{"$f":"IF(AND($D$50=\"Yes\",$D$51=\"Yes\"),V290,0)","v":0},{"$f":"IF($D$50=\"Yes\",V308,0)","v":0},null,null,null,null,null,null,null,"Outdoor",null,null,null,{"$f":"IF(E350>0,E350,5)","v":5},null,null,null,null,null,"Proposed",{"$f":"IF(OR(ISBLANK($E$350),ISBLANK($E$349)),Q326*Q327,$E$350*$E$349)","v":250},"L","Ambient pressure ",null,{"$f":"101.325*(1-(2.25577*10^-5*E342))^5.25588","v":101.26494866856827},"kPa",null,null,"No","Greywater"]
[null,null,"April",{"$f":"IF(AND($D$50=\"Yes\",$D$51=\"Yes\"),W290,0)","v":0},{"$f":"IF($D$50=\"Yes\",W308,0)","v":0},null,null,null,null,null,null,null,"Pool cover",null,"Exhaust air volume",null,{"$f":"E346*1000/12","v":6416.666666666667},"L/year/month","Assume same exhaust air volume",null,null,null,null,null,null,"Ideal gas constant for air",null,0.28699999999999998,"kJ/kg.K",null,null,null,"Blackwater"]
[null,null,"May",{"$f":"IF(AND($D$50=\"Yes\",$D$51=\"Yes\"),X290,0)","v":0},{"$f":"IF($D$50=\"Yes\",X308,0)","v":0},null,null,null,null,null,null,null,"Yes",null,"Pool hall temperature",null,{"$f":"E348","v":30},"deg C","Assume same as design",null,null,null,null,null,null,null,null,null,null,null,null,null,"Stormwater"]
[null,null,"June",{"$f":"IF(AND($D$50=\"Yes\",$D$51=\"Yes\"),Y290,0)","v":0},{"$f":"IF($D$50=\"Yes\",Y308,0)","v":0},null,null,null,null,null,null,null,"No",null,"Indoor pool water consumption assumes that evaporation is determined by the exhaustion of 100% RH moist air from the pool hall"]
[null,null,"July",{"$f":"IF(AND($D$50=\"Yes\",$D$51=\"Yes\"),Z290,0)","v":0},{"$f":"IF($D$50=\"Yes\",Z308,0)","v":0},null,null,null,null,null,null,null,null,null,"ACTPLA calculations assume that the use of a pool cover eliminates evaporation on days that the pool is not in use."]
[null,null,"August",{"$f":"IF(AND($D$50=\"Yes\",$D$51=\"Yes\"),AA290,0)","v":0},{"$f":"IF($D$50=\"Yes\",AA308,0)","v":0},null,null,null,null,null,null,null,"Reference pool calculations",null,"Assume that a pool cover is minimum practice to reduce evap losses"]
[null,null,"September",{"$f":"IF(AND($D$50=\"Yes\",$D$51=\"Yes\"),AB290,0)","v":0},{"$f":"IF($D$50=\"Yes\",AB308,0)","v":0},null,null,null,null,null,null,null,"Days","MONTH","Average Rainfall (mm/month)","Average PAN Evaporation (mm/month)","Evaporation Coefficient","Average Evaporation (mm/month)","Monthly evaporation consumption (mm/month)","Daily evaporation consumption (mm/day)",null,"Average Filter flush (mm/day)","Total Average water needs for the pool (mm/day)","Total Average water needs for the pool with cover (mm/day)","Temp, db","RH %","Psat [Pa]","Pw [Pa]","w [kg/kg]","Specific volume (m3/kg)","Average air exhaust rate (L/month)","Average air exhaust rate (kg/month)","Average evap losses (L/month","Total Average water needs for the pool (L/day)"]
[null,null,"October",{"$f":"IF(AND($D$50=\"Yes\",$D$51=\"Yes\"),AC290,0)","v":0},{"$f":"IF($D$50=\"Yes\",AC308,0)","v":0}]
[null,null,"November",{"$f":"IF(AND($D$50=\"Yes\",$D$51=\"Yes\"),AD290,0)","v":0},{"$f":"IF($D$50=\"Yes\",AD308,0)","v":0}]
[null,null,"December",{"$f":"IF(AND($D$50=\"Yes\",$D$51=\"Yes\"),AE290,0)","v":0},{"$f":"IF($D$50=\"Yes\",AE308,0)","v":0},null,null,null,null,null,null,null,31,"January",{"$f":"I342","v":0},{"$f":"J342","v":0},0.7,{"$f":"P336*Q336*O336","v":0},{"$f":"IF(R336-O336<0,0,R336-O336)","v":0},{"$f":"S336/M336","v":0},null,{"$f":"$Q$326/$E$345*5/365","v":6.8493150684931503E-2},{"$f":"U336+V336+T336","v":6.8493150684931503E-2},{"$f":"T336+U336+V336","v":6.8493150684931503E-2},{"$f":"$Q$329","v":30},100,{"$f":"611.21*EXP((18.678-$Y336/234.5)*($Y336/(257.14+$Y336)))","v":4245.1257162522897},{"$f":"$Z336*$AA336/100","v":4245.1257162522897},{"$f":"$AB$325*$AB336/($AB$326*($AB$327*1000-$AB336))","v":2.7216756621591436E-2},{"$f":"$AB$328*($Y336+273.15)/$AB$327","v":0.85917241003851186},{"$f":"$Q$328","v":6416.666666666667},{"$f":"AE336*0.001/AD336","v":7.4684272815267008},{"$f":"AF336*AC336","v":0.20326636766736597},{"$f":"(V336*$E$345+AG336/M336)","v":3.4312145138487482}]
[null,null,"Total make up water (kL/year)",{"$f":"AG290","v":0},{"$f":"AG308","v":0},null,null,null,null,null,null,null,28,"February",0,{"$f":"J343","v":0},0.7,{"$f":"P337*Q337*O337","v":0},{"$f":"IF(R337-O337<0,0,R337-O337)","v":0},{"$f":"S337/M337","v":0},null,6.8493150684931503E-2,{"$f":"U337+V337+T337","v":6.8493150684931503E-2},{"$f":"T337+U337+V337","v":6.8493150684931503E-2},30,100,4245.1257162522897,4245.1257162522897,2.7216756621591436E-2,0.85917241003851186,6416.666666666667,7.4684272815267008,{"$f":"AF337*AC337","v":0.20326636766736597},3.4319170473775524]
[null,null,null,null,null,null,null,null,null,null,null,null,31,"March",0,{"$f":"J344","v":0},0.7,{"$f":"P338*Q338*O338","v":0},{"$f":"IF(R338-O338<0,0,R338-O338)","v":0},{"$f":"S338/M338","v":0},null,6.8493150684931503E-2,{"$f":"U338+V338+T338","v":6.8493150684931503E-2},{"$f":"T338+U338+V338","v":6.8493150684931503E-2},30,100,4245.1257162522897,4245.1257162522897,2.7216756621591436E-2,0.85917241003851186,6416.666666666667,7.4684272815267008,0.20326636766736597,3.4312145138487482]
[null,"6. SWIMMING POOLS",null,null,{"$f":"IF(H32=\"No\",\"THE PROJECT TEAM HAS INDICATED THAT THERE ARE NO SWIMMING POOLS IN THE PROJECT, PLEASE PROCEED TO THE NEXT SECTION.\",\"\")","v":""},null,null,null,null,null,null,null,30,"April",0,{"$f":"J345","v":0},0.7,{"$f":"P339*Q339*O339","v":0},0,{"$f":"S339/M339","v":0},null,6.8493150684931503E-2,{"$f":"U339+V339+T339","v":6.8493150684931503E-2},{"$f":"U339+V339","v":6.8493150684931503E-2},30,100,4245.1257162522897,4245.1257162522897,2.7216756621591436E-2,0.85917241003851186,6416.666666666667,7.4684272815267008,0.20326636766736597,3.4314330798354873]
[null,null,null,null,null,null,null,{"$f":"IF(E341=\"Indoor\",\"Climate data not required for Indoor Pools\",\"Enter climate data relevant to the project location\")","v":"Enter climate data relevant to the project location"},null,null,null,null,31,"May",0,0,0.7,{"$f":"P340*Q340*O340","v":0},0,{"$f":"S340/M340","v":0},null,6.8493150684931503E-2,6.8493150684931503E-2,{"$f":"U340+V340","v":6.8493150684931503E-2},30,100,4245.1257162522897,4245.1257162522897,2.7216756621591436E-2,0.85917241003851186,6416.666666666667,7.4684272815267008,0.20326636766736597,3.4312145138487482]
[null,null,"Is the swimming pool outdoor or indoor",null,"Outdoor",null,null,"\"Enter the evapotranspiration and rainfall data below\"","Monthly rainfall (mm)","Monthly evapotranspiration (point potential) (mm)",null,null,30,"June",0,0,0.7,0,0,0,null,6.8493150684931503E-2,6.8493150684931503E-2,{"$f":"U341+V341","v":6.8493150684931503E-2},30,100,4245.1257162522897,4245.1257162522897,2.7216756621591436E-2,0.85917241003851186,6416.666666666667,7.4684272815267008,0.20326636766736597,3.4314330798354873]
[null,null,"Enter the project height above sea level (m)",null,5,null,null,"January",{"$f":"SUM(D684:D714)","v":0},null,null,null,31,"July",0,0,0.7,0,0,0,null,6.8493150684931503E-2,6.8493150684931503E-2,6.8493150684931503E-2,30,100,4245.1257162522897,4245.1257162522897,2.7216756621591436E-2,0.85917241003851186,6416.666666666667,7.4684272815267008,0.20326636766736597,3.4312145138487482]
[null,null,"Is a pool cover provided",null,"Yes",null,null,"February",{"$f":"SUM(D715:D742)","v":0},null,null,null,31,"August",0,0,0.7,0,0,0,null,6.8493150684931503E-2,6.8493150684931503E-2,6.8493150684931503E-2,30,100,4245.1257162522897,4245.1257162522897,2.7216756621591436E-2,0.85917241003851186,6416.666666666667,7.4684272815267008,0.20326636766736597,3.4312145138487482]
[null,null,"Enter the volume of the swimming pool (m3)",null,5000,null,null,"March",{"$f":"SUM(D743:D773)","v":0},null,null,null,30,"September",0,0,0.7,0,0,0,null,6.8493150684931503E-2,6.8493150684931503E-2,6.8493150684931503E-2,30,100,4245.1257162522897,4245.1257162522897,2.7216756621591436E-2,0.85917241003851186,6416.666666666667,7.4684272815267008,0.20326636766736597,3.4314330798354873]
[null,null,"Enter the surface area of the swimming pool (m2)",null,50,null,null,"April",{"$f":"SUM(D774:D803)","v":0},null,null,null,31,"October",0,0,0.7,0,0,0,null,6.8493150684931503E-2,6.8493150684931503E-2,6.8493150684931503E-2,30,100,4245.1257162522897,4245.1257162522897,2.7216756621591436E-2,0.85917241003851186,6416.666666666667,7.4684272815267008,0.20326636766736597,3.4312145138487482]
[null,null,"Enter the annual minimum pool hall exhaust air volume based on the requirements of AS1668.2 (m3)",null,77,null,null,"May",{"$f":"SUM(D804:D834)","v":0},null,null,null,30,"November",0,0,0.7,0,0,0,null,6.8493150684931503E-2,6.8493150684931503E-2,{"$f":"T346+U346+V346","v":6.8493150684931503E-2},30,100,4245.1257162522897,4245.1257162522897,2.7216756621591436E-2,0.85917241003851186,6416.666666666667,7.4684272815267008,0.20326636766736597,3.4314330798354873]
[null,null,"Enter the annual proposed design pool hall exhaust air volume (m3)",null,5,null,null,"June",{"$f":"SUM(D835:D864)","v":0},null,null,null,31,"December",0,0,0.7,0,0,0,null,6.8493150684931503E-2,6.8493150684931503E-2,{"$f":"T347+U347+V347","v":6.8493150684931503E-2},30,100,4245.1257162522897,4245.1257162522897,2.7216756621591436E-2,0.85917241003851186,6416.666666666667,7.4684272815267008,0.20326636766736597,3.4312145138487482]
[null,null,"Enter the average pool hall temperature while pool exhaust is operating",null,30,null,null,"July",{"$f":"SUM(D865:D895)","v":0},null,null,null,"Yearly Average",null,{"$f":"AVERAGE(O336:O347)","v":0},0,0.70000000000000007,0,0,0,null,{"$f":"AVERAGE(V336:V347)","v":6.8493150684931517E-2},{"$f":"AVERAGE(W336:W347)","v":6.8493150684931517E-2},{"$f":"AVERAGE(X336:X347)","v":6.8493150684931517E-2},null,null,null,null,null,null,null,null,{"$f":"AVERAGE(AG336:AG347)","v":0.20326636766736603},{"$f":"AVERAGE(AH336:AH347)","v":3.431345913638395}]
[null,null,"Enter water consumption for filter cleaning (backwash) (L/flush)",null,50,null,null,"August",{"$f":"SUM(D896:D926)","v":0},null,null,null,"Sum Yearly",null,{"$f":"SUM(O336:O347)","v":0},{"$f":"SUM(P336:P347)","v":0},{"$f":"SUM(Q336:Q347)","v":8.4},{"$f":"SUM(R336:R347)","v":0},{"$f":"SUM(S336:S347)","v":0},{"$f":"T348*365","v":0},null,{"$f":"V348*365","v":25.000000000000004},{"$f":"W348*365","v":25.000000000000004},{"$f":"X348*365","v":25.000000000000004},null,null,null,null,null,null,null,null,{"$f":"AG348*365","v":74.192224198588605},{"$f":"AH348*365","v":1252.4412584780141}]
[null,null,"Filter cleaning frequency (cleans/year)",null,5,null,null,"September",{"$f":"SUM(D927:D956)","v":0}]
[null,null,null,null,null,null,null,"October",{"$f":"SUM(D957:D987)","v":0},null,null,null,"Proposed design pool calculations"]
[null,null,null,null,null,null,null,"November",{"$f":"SUM(D988:D1017)","v":0},null,null,null,"Days","MONTH","Average Rainfall (mm/month)","Average PAN Evaporation (mm/month)","Evaporation Coefficient","Average Evaporation (mm/month)","Monthly evaporation consumption (mm/month)","Daily evaporation consumption (mm/day)",null,"Average Filter flush (mm/day)","Total Average water needs for the pool (mm/day)","Total Average water needs for the pool with cover (mm/day)","Temp, db","RH %","Psat [Pa]","Pw [Pa]","w [kg/kg]","Specific volume (m3/kg)","Average air exhaust rate (L/month)","Average air exhaust rate (kg/month)","Average evap losses (L/month","Total Average water needs for the pool (L/day)"]
[null,null,null,null,null,null,null,"December",{"$f":"SUM(D1018:D1048)","v":0}]
[null,null,"Reference swimming pool water consumption (L/day)",null,{"$f":"IF(OR(H32=\"No\",H32=\"Please Select\"),0,IF(AND(OR(E343=$M$329,E343=M330),E341=M327),E345*X348,IF(E341=M326,AH348,\"\")))","v":0},null,null,"TOTAL",{"$f":"SUM(I342:I353)","v":0},{"$f":"SUM(J342:J353)","v":0}]
[null,null,"Proposed swimming pool water consumption (L/day)",null,{"$f":"IF(OR(H32=\"No\",H32=\"Please Select\"),0,IF(AND(E343=$M$329,E341=M327),E345*X368,IF(AND(E343=$M$330,E341=M327),W368*E345,IF(E341=M326,AH368,\"\"))))","v":0},null,null,"Visit the Bureau of Meteorology's website to obtain rainfall and evapotranspiration data relevant to your site: \nhttp://www.bom.gov.au/climate/data/index.shtml",null,null,null,null,31,"January",{"$f":"I342","v":0},{"$f":"J342","v":0},0.7,{"$f":"P355*Q355*O355","v":0},{"$f":"IF(R355-O355<0,0,R355-O355)","v":0},{"$f":"S355/M355","v":0},null,{"$f":"IF(OR(ISBLANK($E$349),ISBLANK($E$350)),$Q$326/$E$345*$Q$327/365,$E$349/$E$345*$E$350/365)","v":1.3698630136986301E-2},{"$f":"U355+V355+T355","v":1.3698630136986301E-2},{"$f":"IF($E$343=\"Yes\",T355+U355+V355,T355+U355+V355)","v":1.3698630136986301E-2},{"$f":"$Q$329","v":30},100,{"$f":"611.21*EXP((18.678-$Y355/234.5)*($Y355/(257.14+$Y355)))","v":4245.1257162522897},{"$f":"$Z355*$AA355/100","v":4245.1257162522897},{"$f":"$AB$325*$AB355/($AB$326*($AB$327*1000-$AB355))","v":2.7216756621591436E-2},{"$f":"$V$199*($Y355+273.15)/$V$198","v":0.85866321243523303},{"$f":"$E$347*1000/12","v":416.66666666666669},{"$f":"AE355*0.001/AD355","v":0.48525039926302294},{"$f":"AF355*AC355","v":1.3206942017271768E-2},{"$f":"(V355*$E$345+AG355/M355)","v":0.68535753723696891}]
[null,null,null,null,null,null,null,null,null,null,null,null,28,"February",{"$f":"I343","v":0},{"$f":"J343","v":0},0.7,{"$f":"P356*Q356*O356","v":0},0,{"$f":"S356/M356","v":0},null,{"$f":"IF(OR(ISBLANK($E$349),ISBLANK($E$350)),$Q$326/$E$345*$Q$327/365,$E$349/$E$345*$E$350/365)","v":1.3698630136986301E-2},{"$f":"U356+V356+T356","v":1.3698630136986301E-2},{"$f":"IF($E$343=\"Yes\",T356+U356+V356,T356+U356+V356)","v":1.3698630136986301E-2},30,100,4245.1257162522897,4245.1257162522897,2.7216756621591436E-2,0.85866321243523303,{"$f":"$E$347*1000/12","v":416.66666666666669},0.48525039926302294,{"$f":"AF356*AC356","v":1.3206942017271768E-2},0.68540318334993189]
[null,null,null,null,null,null,null,null,null,null,null,null,31,"March",0,0,0.7,0,0,0,null,1.3698630136986301E-2,1.3698630136986301E-2,{"$f":"IF($E$343=\"Yes\",T357+U357+V357,T357+U357+V357)","v":1.3698630136986301E-2},30,100,4245.1257162522897,4245.1257162522897,2.7216756621591436E-2,0.85866321243523303,416.66666666666669,0.48525039926302294,1.3206942017271768E-2,0.68535753723696891]
[null,null,null,null,null,null,null,null,null,null,null,null,30,"April",0,0,0.7,0,0,0,null,1.3698630136986301E-2,1.3698630136986301E-2,{"$f":"IF($E$343=\"Yes\",U358+V358,T358+U358+V358)","v":1.3698630136986301E-2},30,100,4245.1257162522897,4245.1257162522897,2.7216756621591436E-2,0.85866321243523303,416.66666666666669,0.48525039926302294,1.3206942017271768E-2,0.68537173824989073]
[null,null,null,null,null,null,null,null,null,null,null,null,31,"May",0,0,0.7,0,0,0,null,1.3698630136986301E-2,1.3698630136986301E-2,{"$f":"IF($E$343=\"Yes\",U359+V359,T359+U359+V359)","v":1.3698630136986301E-2},30,100,4245.1257162522897,4245.1257162522897,2.7216756621591436E-2,0.85866321243523303,416.66666666666669,0.48525039926302294,1.3206942017271768E-2,0.68535753723696891]
[null,null,null,null,null,null,null,null,null,null,null,null,30,"June",0,0,0.7,0,0,0,null,1.3698630136986301E-2,1.3698630136986301E-2,1.3698630136986301E-2,30,100,4245.1257162522897,4245.1257162522897,2.7216756621591436E-2,0.85866321243523303,416.66666666666669,0.48525039926302294,1.3206942017271768E-2,0.68537173824989073]
[null,null,null,null,null,null,null,null,null,null,null,null,31,"July",0,0,0.7,0,0,0,null,1.3698630136986301E-2,1.3698630136986301E-2,1.3698630136986301E-2,30,100,4245.1257162522897,4245.1257162522897,2.7216756621591436E-2,0.85866321243523303,416.66666666666669,0.48525039926302294,1.3206942017271768E-2,0.68535753723696891]
[null,null,null,null,null,null,null,null,null,null,null,null,31,"August",0,0,0.7,0,0,0,null,1.3698630136986301E-2,1.3698630136986301E-2,1.3698630136986301E-2,30,100,4245.1257162522897,4245.1257162522897,2.7216756621591436E-2,0.85866321243523303,416.66666666666669,0.48525039926302294,1.3206942017271768E-2,0.68535753723696891]
[null,null,null,null,null,null,null,null,null,null,null,null,30,"September",0,0,0.7,0,0,0,null,1.3698630136986301E-2,1.3698630136986301E-2,1.3698630136986301E-2,30,100,4245.1257162522897,4245.1257162522897,2.7216756621591436E-2,0.85866321243523303,416.66666666666669,0.48525039926302294,1.3206942017271768E-2,0.68537173824989073]
[null,null,null,null,null,null,null,null,null,null,null,null,31,"October",0,0,0.7,0,0,0,null,1.3698630136986301E-2,1.3698630136986301E-2,1.3698630136986301E-2,30,100,4245.1257162522897,4245.1257162522897,2.7216756621591436E-2,0.85866321243523303,416.66666666666669,0.48525039926302294,1.3206942017271768E-2,0.68535753723696891]
[null,"7. TEST FIRE WATER",null,null,{"$f":"IF(OR(H37 =\"No\", H38 =\"No\"), \"THE PROJECT TEAM HAS INDICATED THAT TEST FIRE WATER WILL NOT BE CAPTURED IN THE PROJECT, PLEASE PROCEED TO THE NEXT SECTION.\",\"\")","v":""},null,null,null,null,null,null,null,30,"November",0,0,0.7,0,0,0,null,1.3698630136986301E-2,1.3698630136986301E-2,{"$f":"IF($E$343=\"Yes\",T365+U365+V365,T365+U365+V365)","v":1.3698630136986301E-2},30,100,4245.1257162522897,4245.1257162522897,2.7216756621591436E-2,0.85866321243523303,416.66666666666669,0.48525039926302294,1.3206942017271768E-2,0.68537173824989073]
[null,"Intent: Water conservation for fire water usage",null,null,null,null,null,null,null,null,null,null,31,"December",0,0,0.7,0,0,0,null,1.3698630136986301E-2,1.3698630136986301E-2,{"$f":"IF($E$343=\"Yes\",T366+U366+V366,T366+U366+V366)","v":1.3698630136986301E-2},30,100,4245.1257162522897,4245.1257162522897,2.7216756621591436E-2,0.85866321243523303,416.66666666666669,0.48525039926302294,1.3206942017271768E-2,0.68535753723696891]
[null,"Definition: Water-saving measures in the context of testing fire water systems in buildings refer to the implementation of strategies aimed at reducing the excessive consumption of water during routine testing and maintenance of water based fire suppression within buildings. The primary objective is to ensure that essential safety measures are adequately maintained while minimising the environmental impact associated with water usage."]
[null,null,null,null,null,null,null,null,null,null,null,null,"Yearly Average",null,{"$f":"AVERAGE(O355:O366)","v":0},0,0.70000000000000007,0,0,0,null,1.3698630136986301E-2,1.3698630136986301E-2,1.3698630136986301E-2,null,null,null,null,null,null,null,null,{"$f":"AVERAGE(AG355:AG366)","v":1.3206942017271768E-2},{"$f":"AVERAGE(AH355:AH366)","v":0.68536607475068967}]
[null,null,"Enter the capacity of the retention tank (kL)",null,null,null,"Acceptable Solution","If the volume of the quarterly and biannual fire tests are not known, the following figures are acceptable during design phases.",null,null,null,null,"Sum Yearly",null,{"$f":"SUM(O355:O366)","v":0},{"$f":"SUM(P355:P366)","v":0},{"$f":"SUM(Q355:Q366)","v":8.4},{"$f":"SUM(R355:R366)","v":0},{"$f":"SUM(S355:S366)","v":0},{"$f":"T368*365","v":0},null,{"$f":"V368*365","v":5},{"$f":"W368*365","v":5},{"$f":"X368*365","v":5},null,null,null,null,null,null,null,null,{"$f":"AG368*365","v":4.8205338363041959},{"$f":"AH368*365","v":250.15861728400174}]
[null,null,"Enter the volume of the quarterly testing (kL)",null,null,null,"Test","Flow Rate (L/s)","Duration (seconds)","Volume (L)","Volume (kL)"]
[null,null,"Enter the volume of the biennial testing (kL)",null,null,null,"Quarterly Test",25,150,{"$f":"H371*I371","v":3750},{"$f":"J371/1000","v":3.75},null,"7. Calculation of Test Fire Water"]
[null,null,null,null,null,null,"Biennial Test (2 yearly)",25,300,{"$f":"H372*I372","v":7500},{"$f":"J372/1000","v":7.5}]
[null,null,"RESULTS: WATER DEMAND FROM TEST FIRE WATER"]
[]
[null,null,"Total water demand from test fire water per year"]
[null,null,null,"TOTAL water demand (kL/year)"]
[null,null,null,"Proposed Building","Standard Practice Building"]
[null,null,"Capacity of retention tank (kL)",{"$f":"E369","v":0},0]
[null,null,"Volume of quarterly testing (kL)",{"$f":"(E370*4)","v":0},{"$f":"(E370*4)","v":0}]
[null,null,"Volume of biennial testing (kL)",{"$f":"E371/2","v":0},{"$f":"E371/2","v":0}]
[null,null,"Total test fire water (kL/year)",{"$f":"D379+D380","v":0},{"$f":"E379+E380","v":0}]
[null,null,"Total test fire water captured (kL/year)",{"$f":"IF(D381<(D378*4.5),D381,(D378*4.5))","v":0},{"$f":"IF(E381<(E378*4.5),E381,(E378*4.5))","v":0}]
[]
[null,"8. PROCESS COOLING",null,null,{"$f":"IF(H41=\"No\",\"THE PROJECT TEAM HAS INDICATED THAT THERE IS NO PROCESS COOLING IN THE PROJECT, PLEASE PROCEED TO THE NEXT SECTION.\",\"\")","v":""},null,null,null,null,null,null,null,"8. Calculation of process cooling demand"]
[null,null,null,null,null,null,null,null,null,null,null,null,"REFERENCE DATA"]
[null,null,null,null,null,null,null,null,null,null,null,null,"Closed/Open loop"]
[null,null,"Is all water based process cooling provided by closed loop systems?",null,null,null,null,null,null,null,null,null,"Yes"]
[null,null,"What percentage of the daily water requirements of open loop process cooling is sourced from non-potable water?",null,null,null,null,null,null,null,null,null,"No"]
[null,null,null,null,null,{"$f":"IF(E389=\"Yes\",1,0)","v":0}]
[null,null,"Where process cooling uses non-potable water in an open circuit system, identify the daily quantity of water that is lost through evaporation and discharge to sewer."]
[null,null,"Daily evaporation losses (L)"]
[null,null,"Combined quantity of water that is discharged to sewer (L)"]
[]
[null,"9. DEAD LEGS ON HOT WATER RUNS",null,null,null,{"$f":"IF(OR(H46 =\"No\", H47 =\"No\"), \"THE PROJECT TEAM HAS INDICATED THAT DEAD LEGS WILL NOT BE REDUCED IN THE PROJECT, PLEASE PROCEED TO THE NEXT SECTION.\",\"\")","v":""},null,null,null,null,null,null,"9. Calculation of Dead Legs on Hot Water Runs"]
[null,"Intent: Water conservation through dead leg reduction",null,null,null,null,null,null,null,null,null,null,"Reference Building accepted water use (L)",2]
[null,"Definition: Water-saving initiatives to reduce the water wasted waiting for hot water demand to come through shower and tap fittings. The primary objective is to reduce water consumption of domestic hot water fixtures within buildings."]
[null,"The New Zealand Building Code accepts 2L of water to be run before hot water arrives at the faucet and that people will wait for hot water."]
[null,"The Project Team must verify with documentation how dead legs have been reduced from 2L."]
[]
[null,null,null,"Water run before hot water (L)","Total Use (per year)","Total Water Demand (kL/year)"]
[null,null,null,null,null,"Proposed Building","Reference Building"]
[null,null,"Taps",null,{"$f":"AB78","v":0},{"$f":"(D402*E402)/1000","v":0},{"$f":"IF(D402=\"\",0,(N395*E402)/1000)","v":0}]
[null,null,"Showers",null,{"$f":"AD78+AE78","v":0},{"$f":"(D403*E403)/1000","v":0},{"$f":"IF(D403=\"\",0,(N395*E403)/1000)","v":0}]
[null,null,null,null,"Total",{"$f":"F402+F403","v":0},{"$f":"G402+G403","v":0}]
[]
[null,"10. RECLAIMED WATER USE",null,null,{"$f":"IF(D56=\"No\",\"THE PROJECT TEAM HAS INDICATED THAT NO RECLAIMED WATER IS USED IN THE PROJECT, PLEASE PROCEED TO THE NEXT SECTION.\",\"\")","v":""}]
[null,"Note: All systems entered into this calculator must comply with local EPA requirements.",null,null,null,null,null,null,null,null,null,null,"REFERENCE DATA"]
[null,"Reclaimed Water Use"]
[null,null,"How are the water demands from uses assessed in Potable Water credit met?",null,null,null,null,null,null,null,null,null,"Yes"]
[null,null,"Water use \n(assessed in Potable Water, Credit 18)","Percentage of fittings/systems connected to the following water sources",null,null,null,null,null,"Note: Where fittings or systems are supplied with water from more than one source, it is assumed that they are first supplied with water from any greywater and blackwater systems, followed by rainwater, stormwater and off-site reclaimed water systems.","Note: If there is insufficient rain/grey/black water or condensate recovery to service the indicated percentage of each water use, mains water will applied by the calculator to make up the difference.",null,"No"]
[null,null,null,"Rainwater","Greywater ","Blackwater ","Stormwater recycling or other off-site reclaimed water","Condensate Recovery","Mains water only \n(this column must be completed - please enter a figure of between 0% and 100% for each water use)"]
[null,null,"Toilets",null,null,null,null,1,null,null,null,null,"Non-potable water source"]
[null,null,"Urinals",null,null,null,null,null,null,null,null,null,"Rainwater"]
[null,null,"Indoor Taps",null,null,null,null,null,null,null,null,null,"Greywater"]
[null,null,"Showers - occupants",null,null,null,null,null,null,null,null,null,"Blackwater"]
[null,null,"Showers - sports",null,null,null,null,null,null,null,null,null,"Stormwater"]
[null,null,"Laundries"]
[null,null,"Dishwashers"]
[null,null,"Heat rejection"]
[null,null,"Wash down"]
[null,null,"Landscape irrigation"]
[null,null,"Swimming pools"]
[null,null,"Test Fire Water"]
[null,null,"Process cooling"]
[null,null,"Total monthly water demands from water uses not assessed in the Potable Water credit (kL) whose demands are completely or partially met by reclaimed water:"]
[null,null,"Note: The demand for reclaimed water from water uses assessed under other credits will be met before any water uses assessed under the Potable Water Credit."]
[null,null,null,"Monthly water demand (kL/month)"]
[null,null,null,"<Enter description of any other uses of rainwater or re-used water>","<Enter description of any other uses of rainwater or re-used water>","<Enter description of any other uses of rainwater or re-used water>","Note: This table only needs to be filled in if reclaimed water is used to meet the demand of these end uses.\n\nIf reclaimed water is not used for these end uses, leave these cells blank.\n\nWhen reclaimed water is used, enter the total demand for each month regardless of whether it is fully or partially met by the reclaimed water supply. In the table below, the percentage of the demand met by reclaimed water/connected to the reclaimed water supply is entered. \n"]
[1,31,"January"]
[2,28,"February"]
[3,31,"March"]
[4,30,"April"]
[5,31,"May",null,null,null,null,null,null,null,null,null,"REFERENCE DATA"]
[6,30,"June",null,null,null,null,null,null,null,null,null,"Run-off coefficient for different types of roofs"]
[7,31,"July",null,null,null,null,null,null,null,null,null,"Please Select",0,null,"First flush volume per every rainday (L/m2 roof area)",null,0.5]
[8,31,"August",null,null,null,null,null,null,null,null,null,"Pitched roof with profiled metal sheeting",0.9]
[9,30,"September",null,null,null,null,null,null,null,null,null,"Pitched roof with tiles",0.8]
[10,31,"October",null,null,null,null,null,null,null,null,null,"Flat roof without gravel",0.8]
[11,30,"November",null,null,null,null,null,null,null,null,null,"Flat roof with gravel",0.8]
[12,31,"December",null,null,null,null,null,null,null,null,null,"Green roof, intensive",0.5]
[null,null,null,null,null,null,null,null,null,null,null,null,"Green roof, extensive",0.7]
[null,null,"How are the water demands from the Non-Potable water uses met?",null,null,null,null,null,null,null,null,null,"Permeable pavement – Granular media  ",0.7]
[null,null,"Water use","Rainwater","Greywater ","Blackwater ","Stormwater recycling or other off-site reclaimed water","Condensate Recovery","Mains water only \n(this column must be completed - please enter a figure of between 0% and 100% for each water use)",null,null,null,"Permeable pavement – Plastic crates ",0.8]
[null,null,{"$f":"D428","v":"<Enter description of any other uses of rainwater or re-used water>"}]
[null,null,{"$f":"E428","v":"<Enter description of any other uses of rainwater or re-used water>"}]
[null,null,{"$f":"F428","v":"<Enter description of any other uses of rainwater or re-used water>"}]
[]
[null,"Rainwater Collection",null,{"$f":"IF(OR(D56=\"No\",D57=\"No\"),\"THE PROJECT TEAM HAS INDICATED THAT NO RAINWATER COLLECTION IS INCLUDED IN THE PROJECT, PLEASE PROCEED TO THE NEXT SECTION.\",\"\")","v":""}]
[]
[null,null,"Rainfall collection area (m2)",null,null,null,{"$f":"IF(D57=\"Yes\",\"Please complete the 10-year average rainfall data  table at the end of this spreadsheet to enable daily rainwater calculations to be undertaken.\",\"\")","v":""},null,null,null,null,null,null,null,"Green Star - Design & As Built v1",null,null,null,null,"Points Achieved",{"$f":"E674","v":{"$error":"#DIV/0!"}}]
[null,null,"Run-off co-efficient",null,{"$f":"VLOOKUP(D451,M435:N443,2,FALSE)","v":{"$error":"#N/A"}}]
[null,null,"Storage capacity (kL)",null,null,null,null,null,null,null,null,null,null,null,"Sewage Calculator"]
[null,null,"Rainwater tank reliability %",null,{"$f":"IF($D$57=\"Yes\",SUM(HQ1742:HQ2106)/SUM(O1742:O2106),\"\")","v":""}]
[null,null,null,null,null,null,null,null,null,null,null,null,null,null,"The Potable Water Calculator must be completed for this calculator to determine the reduction in discharge to sewer.\nNo additional data entry is required in this calculator."]
[]
[null,"Grey Water Collection",null,{"$f":"IF(D58=\"No\",\"THE PROJECT TEAM HAS INDICATED THAT NO GREYWATER COLLECTION IS INCLUDED IN THE PROJECT, PLEASE PROCEED TO THE NEXT SECTION.\",\"\")","v":""},null,null,null,null,null,null,null,null,null,null,"ANNUAL DEMAND FROM WATER USES THAT DISCHARGE TO SEWER "]
[null,null,null,null,null,null,null,null,null,null,null,null,null,null,"(all data from Potable Water Calculator)"]
[null,null,null,"% discharge water collected for re-use",null,null,null,null,null,null,null,null,null,null,null,"Proposed Building water demand (kL/year)","Standard Practice Building water demand (kL/year)"]
[null,null,"Toilets",null,{"$f":"IF(D459+D491>1,\"Warning, double counting of greywater and blackwater has occurred!\",\"\")","v":""},null,null,null,null,null,null,null,null,null,"Toilets",{"$f":"'Potable Water Calculator'!H75","v":0},{"$f":"'Potable Water Calculator'!I75","v":0}]
[null,null,"Urinals",null,"",null,null,null,null,null,null,null,null,null,"Urinals",{"$f":"'Potable Water Calculator'!H87","v":0},{"$f":"'Potable Water Calculator'!I87","v":0}]
[null,null,"Indoor taps",null,"",null,null,null,null,null,null,null,null,null,"Taps",{"$f":"'Potable Water Calculator'!H94","v":0},{"$f":"'Potable Water Calculator'!I94","v":0}]
[null,null,"Showers - occupants",null,"",null,null,null,null,null,null,null,null,null,"Showers - occupants",{"$f":"'Potable Water Calculator'!H94","v":0},{"$f":"'Potable Water Calculator'!I94","v":0}]
[null,null,"Showers - sport",null,"",null,null,null,null,null,null,null,null,null,"Showers - Sports",{"$f":"'Potable Water Calculator'!H111","v":0},{"$f":"'Potable Water Calculator'!I111","v":0}]
[null,null,"Washing machines",null,"",null,null,null,null,null,null,null,null,null,"Washing Machines",{"$f":"'Potable Water Calculator'!K141","v":0},{"$f":"'Potable Water Calculator'!L141","v":0}]
[null,null,"Dishwashers",null,{"$f":"IF(D465+D496>1,\"Warning, double counting of greywater and blackwater has occurred!\",\"\")","v":""},null,null,null,null,null,null,null,null,null,"Dishwashers",{"$f":"'Potable Water Calculator'!K158","v":0},{"$f":"'Potable Water Calculator'!L158","v":0}]
[null,null,"Cooling tower bleed +other heat rejection",null,{"$f":"IF(D466+D497>1,\"Warning, double counting of greywater and blackwater has occurred!\",\"\")","v":""},null,null,null,null,null,null,null,null,null,"Heat Rejection (Bleed)",{"$f":"'Potable Water Calculator'!E220","v":0},{"$f":"'Potable Water Calculator'!I220","v":0}]
[null,null,"Washdown",null,null,null,null,null,null,null,null,null,null,null,"Swimming Pools",{"$f":"IF('Potable Water Calculator'!H32=\"No\",0,'Potable Water Calculator'!X327*0.001)","v":0.25},{"$f":"IF('Potable Water Calculator'!H32=\"No\",0,'Potable Water Calculator'!X326*0.001)","v":1.25}]
[null,null,"Fire system test water",null,{"$f":"IF(D468+D498>1,\"Warning, double counting of greywater and blackwater has occurred!\",\"\")","v":""},null,null,null,null,null,null,null,null,null,"Fire System Water",{"$f":"IF('Potable Water Calculator'!#REF!=\"No\",0,'Potable Water Calculator'!D599)","v":{"$error":"#REF!"}},{"$f":"IF('Potable Water Calculator'!#REF!=\"No\",0,'Potable Water Calculator'!E599)","v":{"$error":"#REF!"}}]
[null,null,"Swimming pools filter cleaning",null,{"$f":"IF(D469+D501>1,\"Warning, double counting of greywater and blackwater has occurred!\",\"\")","v":""},null,null,null,null,null,null,null,null,null,"Process Cooling",{"$f":"IF('Potable Water Calculator'!H41=\"No\",0,'Potable Water Calculator'!D602)","v":0},{"$f":"IF('Potable Water Calculator'!H41=\"No\",0,'Potable Water Calculator'!E602)","v":0}]
[null,null,"Test Fire Water"]
[null,null,"Process Cooling",null,{"$f":"IF(D471+D503>1,\"Warning, double counting of greywater and blackwater has occurred!\",\"\")","v":""},null,null,null,null,null,null,null,null,null,"TOTAL",{"$f":"SUM(P459:P469)","v":{"$error":"#REF!"}},{"$f":"SUM(Q459:Q469)","v":{"$error":"#REF!"}}]
[]
[null,null,"Other sources","e.g. Cooling tower wash down or sewer mining etc..."]
[null,null,null,"<Enter description of any other sources of greywater> (kL/month)","<Enter description of any other sources of greywater> (kL/month)","<Enter description of any other sources of greywater> (kL/month)","kL/month greywater collected for re-use from other sources",null,null,null,null,null,null,null,"ESTIMATED DISCHARGE TO SEWER"]
[1,31,"January",null,null,null,{"$f":"SUM(D475:F475)","v":0},null,null,null,null,null,null,null,"(all data from Potable Water Calculator)"]
[2,28,"February",null,null,null,{"$f":"SUM(D476:F476)","v":0},null,null,null,null,null,null,null,null,"Proposed Building",null,null,null,"Standard Practice Building"]
[3,31,"March",null,null,null,0,null,null,null,null,null,null,null,null,"Monthly demand from above water uses (kL/month)","Greywater and blackwater collected on site (kL/month)","Greywater and blackwater treated and reused on site (kL/month)","Estimated discharge to sewer (kL/month)","Monthly demand from above water uses (kL/month)","Greywater and blackwater collected, treated and reused on site (kL/month)","Estimated discharge to sewer (kL/month)"]
[4,30,"April",null,null,null,0,null,null,null,null,null,null,null,"January",{"$f":"'Potable Water Calculator'!D608","v":0},{"$f":"SUM('Potable Water Calculator'!AF1373,'Potable Water Calculator'!BF1373)","v":0},{"$f":"SUM('Potable Water Calculator'!F626:G626)","v":0},{"$f":"P478-R478","v":0},{"$f":"'Potable Water Calculator'!E608","v":0},"(The Standard Practice Building has no water recycling facilities)",{"$f":"T478","v":0}]
[5,31,"May",null,null,null,0,null,null,null,null,null,null,null,"February",{"$f":"'Potable Water Calculator'!D609","v":0},{"$f":"SUM('Potable Water Calculator'!AF1374,'Potable Water Calculator'!BF1374)","v":0},{"$f":"SUM('Potable Water Calculator'!F627:G627)","v":0},0,{"$f":"'Potable Water Calculator'!E609","v":0},null,{"$f":"T479","v":0}]
[6,30,"June",null,null,null,0,null,null,null,null,null,null,null,"March",{"$f":"'Potable Water Calculator'!D610","v":0},{"$f":"SUM('Potable Water Calculator'!AF1375,'Potable Water Calculator'!BF1375)","v":0},{"$f":"SUM('Potable Water Calculator'!F628:G628)","v":0},0,{"$f":"'Potable Water Calculator'!E610","v":0},null,0]
[7,31,"July",null,null,null,0,null,null,null,null,null,null,null,"April",{"$f":"'Potable Water Calculator'!D611","v":0},{"$f":"SUM('Potable Water Calculator'!AF1376,'Potable Water Calculator'!BF1376)","v":0},{"$f":"SUM('Potable Water Calculator'!F629:G629)","v":0},0,{"$f":"'Potable Water Calculator'!E611","v":0},null,0]
[8,31,"August",null,null,null,0,null,null,null,null,null,null,null,"May",{"$f":"'Potable Water Calculator'!D612","v":0},{"$f":"SUM('Potable Water Calculator'!AF1377,'Potable Water Calculator'!BF1377)","v":0},{"$f":"SUM('Potable Water Calculator'!F630:G630)","v":0},0,{"$f":"'Potable Water Calculator'!E612","v":0},null,0]
[9,30,"September",null,null,null,0,null,null,null,null,null,null,null,"June",{"$f":"'Potable Water Calculator'!D613","v":0},{"$f":"SUM('Potable Water Calculator'!AF1378,'Potable Water Calculator'!BF1378)","v":0},{"$f":"SUM('Potable Water Calculator'!F631:G631)","v":0},0,{"$f":"'Potable Water Calculator'!E613","v":0},null,0]
[10,31,"October",null,null,null,0,null,null,null,null,null,null,null,"July",{"$f":"'Potable Water Calculator'!D614","v":0},{"$f":"SUM('Potable Water Calculator'!AF1379,'Potable Water Calculator'!BF1379)","v":0},{"$f":"SUM('Potable Water Calculator'!F632:G632)","v":0},0,{"$f":"'Potable Water Calculator'!E614","v":0},null,0]
[11,30,"November",null,null,null,0,null,null,null,null,null,null,null,"August",{"$f":"'Potable Water Calculator'!D615","v":0},{"$f":"SUM('Potable Water Calculator'!AF1380,'Potable Water Calculator'!BF1380)","v":0},{"$f":"SUM('Potable Water Calculator'!F633:G633)","v":0},0,{"$f":"'Potable Water Calculator'!E615","v":0},null,0]
[12,31,"December",null,null,null,0,null,null,null,null,null,null,null,"September",{"$f":"'Potable Water Calculator'!D616","v":0},{"$f":"SUM('Potable Water Calculator'!AF1381,'Potable Water Calculator'!BF1381)","v":0},{"$f":"SUM('Potable Water Calculator'!F634:G634)","v":0},0,{"$f":"'Potable Water Calculator'!E616","v":0},null,0]
[null,null,null,null,null,null,null,null,null,null,null,null,null,null,"October",{"$f":"'Potable Water Calculator'!D617","v":0},{"$f":"SUM('Potable Water Calculator'!AF1382,'Potable Water Calculator'!BF1382)","v":0},{"$f":"SUM('Potable Water Calculator'!F635:G635)","v":0},0,{"$f":"'Potable Water Calculator'!E617","v":0},null,0]
[null,"Black Water Collection",null,{"$f":"IF(D59=\"No\",\"THE PROJECT TEAM HAS INDICATED THAT NO BLACKWATER COLLECTION IS INCLUDED IN THE PROJECT, PLEASE PROCEED TO THE NEXT SECTION.\",\"\")","v":""},null,null,null,null,null,null,null,null,null,null,"November",{"$f":"'Potable Water Calculator'!D618","v":0},{"$f":"SUM('Potable Water Calculator'!AF1383,'Potable Water Calculator'!BF1383)","v":0},{"$f":"SUM('Potable Water Calculator'!F636:G636)","v":0},0,{"$f":"'Potable Water Calculator'!E618","v":0},null,0]
[1,31,null,null,null,null,null,null,null,null,null,null,null,null,"December",{"$f":"'Potable Water Calculator'!D619","v":0},{"$f":"SUM('Potable Water Calculator'!AF1384,'Potable Water Calculator'!BF1384)","v":0},{"$f":"SUM('Potable Water Calculator'!F637:G637)","v":0},0,{"$f":"'Potable Water Calculator'!E619","v":0},null,0]
[2,28,null,"% discharge water collected for re-use",null,null,null,null,null,null,null,null,null,null,"TOTAL (kL/year)",{"$f":"SUM(P478:P489)","v":0},{"$f":"SUM(Q478:Q489)","v":0},{"$f":"SUM(R478:R489)","v":0},0,{"$f":"SUM(T478:T489)","v":0},0,0]
[3,31,"Toilets",null,{"$f":"IF(D491+D459>1,\"Warning, double counting of greywater and blackwater has occurred!\",\"\")","v":""}]
[4,30,"Urinals",null,""]
[5,31,"Indoor taps",null,""]
[6,30,"Showers - occupants",null,""]
[7,31,"Showers - sport",null,""]
[8,31,"Washing machines",null,""]
[9,30,"Dishwashers",null,{"$f":"IF(D497+D466>1,\"Warning, double counting of greywater and blackwater has occurred!\",\"\")","v":""}]
[10,31,"Cooling tower bleed +other heat rejection",null,{"$f":"IF(D498+D468>1,\"Warning, double counting of greywater and blackwater has occurred!\",\"\")","v":""},null,null,null,null,null,null,null,null,null,"Percentage Reduction compared to standard practice","kL/year","Points"]
[10,null,"Washdown",null,null,null,null,null,null,null,null,null,null,null,0,{"$f":"$V$490*(1-O499)","v":0},0]
[11,30,"Fire system test water",null,{"$f":"IF(D500+D469>1,\"Warning, double counting of greywater and blackwater has occurred!\",\"\")","v":""},null,null,null,null,null,null,null,null,null,0.3,{"$f":"$V$490*(1-O500)","v":0},0]
[null,null,"Test Fire Water"]
[null,null,null,null,null,null,null,null,null,null,null,null,null,null,0.9,0,2]
[1,31,"January",null,null,null,{"$f":"SUM(D507:F507)","v":0}]
[5,31,"May",null,null,null,0]
[8,31,"August",null,null,null,0]
[11,30,"November",null,null,null,0]
[12,31,"December",null,null,null,0]
[]
[null,null,{"$f":"(31+28+31+30+31+30+31+31+30+31+30+31)/12","v":30.416666666666668},3600,1.2,{"$f":"(D530*D525*G536*((F536/7)*C525))/1000","v":{"$error":"#VALUE!"}},{"$f":"F525*E525","v":{"$error":"#VALUE!"}},{"$f":" 0.01204","v":1.204E-2}]
[null,null,"Internal Temperature (°C)",null,null,null,"Internal Temperature (°C)",22]
[null,null,"Latent Heat of Evaporation (J/g)",{"$f":"2501-(2.381)*D528","v":2501}]
[null,null,"Space Type Description","Occupancy of Space","Occupants present in space continually for periods greater than one hour","Occupied days per week","Hours/ Day at Peak Occupancy","Condensate (g/person/month)","Condensate (kg/person/month)","Generated Condensate (kL/month)"]
[null,null,{"$f":"IF($C$18<>\"\", $C$18, \"\")","v":""},"","",{"$f":"ExtractNumber(E18)","v":""},"",{"$f":"IF(OR(ISBLANK(D532),ISBLANK(D525),ISBLANK(G538),ISBLANK(F538),ISBLANK(C525),NOT(ISNUMBER(D532)),NOT(ISNUMBER(D525)),NOT(ISNUMBER(G538)),NOT(ISNUMBER(F538))),\"\",D532*D525*G538*(F538/7*C525))","v":""},{"$f":"IF(OR(ISBLANK(H538), H538=\"\", H538=0), \"\", H538/100)","v":""},{"$f":"IF(OR(ISBLANK(I538), ISBLANK(E538)), \"\", IF(ISNUMBER(I538) * ISNUMBER(E538), (I538 * E538)/1000, \"\"))","v":""}]
[null,null,{"$f":"IF($C$21<>\"\", $C$21, \"\")","v":""},"","",{"$f":"ExtractNumber(E21)","v":""},"",{"$f":"IF(OR(ISBLANK(D532),ISBLANK(D525),ISBLANK(G541),ISBLANK(F541),ISBLANK(C525),NOT(ISNUMBER(D532)),NOT(ISNUMBER(D525)),NOT(ISNUMBER(G541)),NOT(ISNUMBER(F541))),\"\",D532*D525*G541*(F541/7*C525))","v":""},"",""]
[null,null,{"$f":"IF($C$22<>\"\", $C$22, \"\")","v":""},"","",{"$f":"ExtractNumber(E22)","v":""},"",{"$f":"IF(OR(ISBLANK(D532),ISBLANK(D525),ISBLANK(G542),ISBLANK(F542),ISBLANK(C525),NOT(ISNUMBER(D532)),NOT(ISNUMBER(D525)),NOT(ISNUMBER(G542)),NOT(ISNUMBER(F542))),\"\",D532*D525*G542*(F542/7*C525))","v":""},"",""]
[null,null,{"$f":"IF($C$25<>\"\", $C$25, \"\")","v":""},"","",{"$f":"ExtractNumber(E25)","v":""},"",{"$f":"IF(OR(ISBLANK(D532),ISBLANK(D525),ISBLANK(G545),ISBLANK(F545),ISBLANK(C525),NOT(ISNUMBER(D532)),NOT(ISNUMBER(D525)),NOT(ISNUMBER(G545)),NOT(ISNUMBER(F545))),\"\",D532*D525*G545*(F545/7*C525))","v":""},"",""]
[null,null,"Month","Average External Temperature (°C)","Average External Humidity (%)","Average External Humidity (decimal)","Saturation Vapour Pressure (kPa)","Actual Vapour Pressure (kPa)","Moisture Content of Air (kg/kg)","Generated Condensate (kg/kg)","Generated Condensate (L/person/month)","Generated Condenate (kL/month)"]
[null,null,"March",null,null,0,0.61099999999999999,0,0,{"$f":"I552-H525","v":-1.204E-2},{"$f":"IF(J552 < 0, \"Nil\", G525 * J552)","v":"Nil"},""]
[null,null,"June",null,null,0,0.61099999999999999,0,0,{"$f":"I555-H525","v":-1.204E-2},{"$f":"IF(J555 < 0, \"Nil\", G525 * J555)","v":"Nil"},""]
[null,null,"October",null,null,0,{"$f":" 0.611 * 10^((7.5 * D559) / (237.7 + D559))","v":0.61099999999999999},0,0,{"$f":"I559-H525","v":-1.204E-2},{"$f":"IF(J559 < 0, \"Nil\", G525 * J559)","v":"Nil"},""]
[null,null,null,null,null,null,null,null,null,null,"Total (kL/year)",{"$f":"SUM(L550:L561)","v":0}]
[]
[]
[null,null,null,"Stormwater collected for re-use (kL/month)","Off-site reclaimed water supplied to site (kL/month)"]
[4,30,"April"]
[7,31,"July"]
[10,31,"October"]
[]
[null,null,"Summary of demand from each Potable water use"]
[null,null,"Annual water demand from each Potable water use (kL/year)"]
[null,null,"Urinals",{"$f":"O1369","v":0},{"$f":"O998","v":0}]
[null,null,"Showers - Sports",{"$f":"R1369","v":0},{"$f":"R998","v":0}]
[null,null,"Washdown",{"$f":"W1369","v":0},{"$f":"W998","v":0}]
[null,null,"Fire System Water",{"$f":"#REF!","v":{"$error":"#REF!"}},{"$f":"#REF!","v":{"$error":"#REF!"}}]
[null,null,"Process Cooling",{"$f":"AA1369","v":0},{"$f":"AA998","v":0}]
[null,null,null,"Monthly water demand from all Potable water uses (kL/month)"]
[null,null,"February",{"$f":"D627","v":0},{"$f":"SUM(AD664:AD691)","v":0}]
[null,null,"March",0,{"$f":"SUM(AD692:AD722)","v":0}]
[null,null,"June",0,{"$f":"SUM(AD784:AD813)","v":0}]
[null,null,"September",0,{"$f":"SUM(AD876:AD905)","v":0}]
[null,null,"TOTAL",{"$f":"SUM(D608:D619)","v":0},{"$f":"AD998","v":0}]
[]
[null,null,"February",{"$f":"SUM(HP1773:HP1800)","v":0},{"$f":"SUM(HQ1773:HQ1800)","v":0},{"$f":"SUM(HR1773:HR1800)","v":0},{"$f":"SUM(HS1773:HS1800)","v":0},{"$f":"SUM(HU1773:HU1800)","v":0},{"$f":"SUM(HT1773:HT1800)","v":0},{"$f":"SUM(HV1773:HV1800)","v":0},{"$f":"SUM(AD664:AD691)","v":0}]
[null,null,"May",{"$f":"SUM(HP1862:HP1892)","v":0},{"$f":"SUM(HQ1862:HQ1892)","v":0},{"$f":"SUM(HR1862:HR1892)","v":0},{"$f":"SUM(HS1862:HS1892)","v":0},{"$f":"SUM(HU1862:HU1892)","v":0},{"$f":"SUM(HT1862:HT1892)","v":0},{"$f":"SUM(HV1862:HV1892)","v":0},{"$f":"SUM(AD753:AD783)","v":0},null,null,"Absolute water uses - reference"]
[null,null,"August",{"$f":"SUM(HP1954:HP1984)","v":0},{"$f":"SUM(HQ1954:HQ1984)","v":0},{"$f":"SUM(HR1954:HR1984)","v":0},{"$f":"SUM(HS1954:HS1984)","v":0},{"$f":"SUM(HU1954:HU1984)","v":0},{"$f":"SUM(HT1954:HT1984)","v":0},{"$f":"SUM(HV1954:HV1984)","v":0},{"$f":"SUM(AD845:AD875)","v":0},null,"2014-01-01",{"$f":"IF($D$32=\"Yes\",$E$116/365,0)","v":0},{"$f":"IF($D$32=\"Yes\",$E$117/365,0)","v":0},{"$f":"IF($D$32=\"Yes\",$E$118/365,0)","v":0},{"$f":"IF($D$32=\"Yes\",$E$119/365,0)","v":0},{"$f":"IF($D$32=\"Yes\",$E$120/365,0)","v":0},{"$f":"IF($D$37=\"Yes\",$L$141/365,0)","v":0},{"$f":"IF($D$37=\"Yes\",$L$158/365,0)","v":0},{"$f":"IF($H$165=$W$167,(VLOOKUP(MONTH(M633),$N$172:$W$183,8)/VLOOKUP(MONTH(M633),$N$172:$S$183,6))+(VLOOKUP(MONTH(M633),$N$172:$W$183,9)/VLOOKUP(MONTH(M633),$N$172:$S$183,6)),0)","v":0},{"$f":"IF($H$165=$W$167,(VLOOKUP(MONTH(M633),$N$172:$W$183,10)/VLOOKUP(MONTH(M633),$N$172:$S$183,6)),0)","v":0},{"$f":"IF($D$46=\"Yes\",$J$271,0)","v":0},{"$f":"IF($D$50=\"Yes\",HLOOKUP(MONTH(M633),$T$294:$AE$295,2)*0.001,0)","v":0},{"$f":"IF($H$32=\"Yes\",'SWIMMING POOL'!$D$19*0.001,0)","v":0},{"$f":"IF(AND($H$37=\"Yes\", $H$38=\"Yes\"), $E$380, 0)","v":0},{"$f":"IF($H$41=\"Yes\",SUM($E$391:$E$392)*0.001,0)","v":0},{"$f":"IF(AND($H$46=\"Yes\", $H$47=\"Yes\"), $G$404/365, 0)","v":0},null,{"$f":"SUM($N633:$AC633)","v":0},{"$f":"SUM(N633:T633,V633,AB633,$X$326/365*0.001)","v":3.4246575342465752E-3}]
[null,null,"September",{"$f":"SUM(HP1985:HP2014)","v":0},{"$f":"SUM(HQ1985:HQ2014)","v":0},{"$f":"SUM(HR1985:HR2014)","v":0},{"$f":"SUM(HS1985:HS2014)","v":0},{"$f":"SUM(HU1985:HU2014)","v":0},{"$f":"SUM(HT1985:HT2014)","v":0},{"$f":"SUM(HV1985:HV2014)","v":0},{"$f":"SUM(AD876:AD905)","v":0},null,"2014-01-02",0,0,0,0,0,0,0,0,0,0,0,{"$f":"IF($H$32=\"Yes\",'SWIMMING POOL'!$D$19*0.001,0)","v":0},0,0,0,null,{"$f":"SUM($N634:$AC634)","v":0},{"$f":"SUM(N634:T634,V634,AB634,$X$326/365*0.001)","v":3.4246575342465752E-3}]
[null,null,"December",{"$f":"SUM(HP2076:HP2106)","v":0},{"$f":"SUM(HQ2076:HQ2106)","v":0},{"$f":"SUM(HR2076:HR2106)","v":0},{"$f":"SUM(HS2076:HS2106)","v":0},{"$f":"SUM(HU2076:HU2106)","v":0},{"$f":"SUM(HT2076:HT2106)","v":0},{"$f":"SUM(HV2076:HV2106)","v":0},{"$f":"SUM(AD967:AD997)","v":0},null,"2014-01-05",0,0,0,0,0,0,0,0,0,0,0,{"$f":"IF($H$32=\"Yes\",'SWIMMING POOL'!$D$19*0.001,0)","v":0},0,0,0,null,0,3.4246575342465752E-3]
[null,null,"Percentage reduction in Potable Water Consumption compared to the Standard Practice Building",null,{"$f":"(K638-J638)/K638","v":{"$error":"#DIV/0!"}},null,null,null,null,null,null,null,"2014-01-08",0,0,0,0,0,0,0,0,0,0,0,{"$f":"IF($H$32=\"Yes\",'SWIMMING POOL'!$D$19*0.001,0)","v":0},0,0,0,null,0,3.4246575342465752E-3]
[null,null,null,null,null,null,null,null,null,null,null,null,"2014-01-12",0,0,0,0,0,0,0,0,0,0,0,{"$f":"IF($H$32=\"Yes\",'SWIMMING POOL'!$D$19*0.001,0)","v":0},0,0,0,null,0,3.4246575342465752E-3]
[null,null,"Percentage reduction compared to standard practice benchmark","kL/year","Points awarded",null,null,null,null,null,null,null,"2014-01-15",0,0,0,0,0,0,0,0,0,0,0,{"$f":"IF($H$32=\"Yes\",'SWIMMING POOL'!$D$19*0.001,0)","v":0},0,0,0,null,0,3.4246575342465752E-3]
[null,null,0.35,{"$f":"$K$638*(100%-C651)","v":0},3,null,"Condensate Recovery",{"$f":"I638","v":0},0,null,null,null,"2014-01-19",0,0,0,0,0,0,0,0,0,0,0,{"$f":"IF($H$32=\"Yes\",'SWIMMING POOL'!$D$19*0.001,0)","v":0},0,0,0,null,0,3.4246575342465752E-3]
[null,null,0.6,0,6,null,"Rainwater",{"$f":"E638","v":0},0,null,null,null,"2014-01-22",0,0,0,0,0,0,0,0,0,0,0,{"$f":"IF($H$32=\"Yes\",'SWIMMING POOL'!$D$19*0.001,0)","v":0},0,0,0,null,0,3.4246575342465752E-3]
[null,null,null,null,null,null,null,null,null,null,null,null,"2014-01-24",0,0,0,0,0,0,0,0,0,0,0,{"$f":"IF($H$32=\"Yes\",'SWIMMING POOL'!$D$19*0.001,0)","v":0},0,0,0,null,0,3.4246575342465752E-3]
[null,null,null,null,null,null,null,null,null,null,null,null,"2014-01-25",0,0,0,0,0,0,0,0,0,0,0,{"$f":"IF($H$32=\"Yes\",'SWIMMING POOL'!$D$19*0.001,0)","v":0},0,0,0,null,0,3.4246575342465752E-3]
[null,null,null,null,null,null,null,null,null,null,null,null,"2014-01-28",0,0,0,0,0,0,0,0,0,0,0,{"$f":"IF($H$32=\"Yes\",'SWIMMING POOL'!$D$19*0.001,0)","v":0},0,0,0,null,0,3.4246575342465752E-3]
[null,null,null,null,null,null,null,"Annual Domestic Hot Water Usage (kL/year)",{"$f":"V90","v":0},{"$f":"V91","v":0},null,null,"2014-02-01",0,0,0,0,0,0,0,0,0,0,0,{"$f":"IF($H$32=\"Yes\",'SWIMMING POOL'!$D$19*0.001,0)","v":0},0,0,0,null,0,3.4246575342465752E-3]
[null,null,null,null,null,null,null,null,null,null,null,null,"2014-02-04",0,0,0,0,0,0,0,0,0,0,0,{"$f":"IF($H$32=\"Yes\",'SWIMMING POOL'!$D$19*0.001,0)","v":0},0,0,0,null,0,3.4246575342465752E-3]
[null,null,null,null,null,null,null,null,null,null,null,null,"2014-02-07",0,0,0,0,0,0,0,0,0,0,0,{"$f":"IF($H$32=\"Yes\",'SWIMMING POOL'!$D$19*0.001,0)","v":0},0,0,0,null,0,3.4246575342465752E-3]
[null,null,"Innovation Point Achieved",null,{"$f":"IF(E672>0.89,1,0)","v":{"$error":"#DIV/0!"}},null,null,null,null,null,null,null,"2014-02-11",0,0,0,0,0,0,0,0,0,0,0,{"$f":"IF($H$32=\"Yes\",'SWIMMING POOL'!$D$19*0.001,0)","v":0},0,0,0,null,0,3.4246575342465752E-3]
[null,null,null,null,null,null,null,null,null,null,null,null,"2014-02-14",0,0,0,0,0,0,0,0,0,0,0,{"$f":"IF($H$32=\"Yes\",'SWIMMING POOL'!$D$19*0.001,0)","v":0},0,0,0,null,0,3.4246575342465752E-3]
[null,null,null,null,null,null,null,null,null,null,null,null,"2014-02-17",0,0,0,0,0,0,0,0,0,0,0,{"$f":"IF($H$32=\"Yes\",'SWIMMING POOL'!$D$19*0.001,0)","v":0},0,0,0,null,0,3.4246575342465752E-3]
[null,null,null,null,null,null,null,"10 Year Average Rainfall data (2011-2020)",null,null,null,null,"2014-02-18",0,0,0,0,0,0,0,0,0,0,0,{"$f":"IF($H$32=\"Yes\",'SWIMMING POOL'!$D$19*0.001,0)","v":0},0,0,0,null,0,3.4246575342465752E-3]
[null,null,"2022-01-01",{"$f":"_xlfn.IFNA(IF(D$682=\"Custom\",(HLOOKUP('RAINFALL OUTPUT'!C$14,'RAINFALL OUTPUT'!O$35:X$400,_xlfn.CONCAT(C684)-44560,FALSE)),(HLOOKUP(D$682,H$682:L$1048,_xlfn.CONCAT(C684)-44559,FALSE))),\"\")","v":""},null,{"$f":"U1742","v":{"$error":"#VALUE!"}},null,0,0,0.4,5.6,0,"2014-02-21",0,0,0,0,0,0,0,0,0,0,0,{"$f":"IF($H$32=\"Yes\",'SWIMMING POOL'!$D$19*0.001,0)","v":0},0,0,0,null,0,3.4246575342465752E-3]
[null,null,"2022-01-05",{"$f":"_xlfn.IFNA(IF(D$682=\"Custom\",(HLOOKUP('RAINFALL OUTPUT'!C$14,'RAINFALL OUTPUT'!O$35:X$400,_xlfn.CONCAT(C688)-44560,FALSE)),(HLOOKUP(D$682,H$682:L$1048,_xlfn.CONCAT(C688)-44559,FALSE))),\"\")","v":""},null,{"$error":"#VALUE!"},null,0,1.4,0,0,0,"2014-02-25",0,0,0,0,0,0,0,0,0,0,0,{"$f":"IF($H$32=\"Yes\",'SWIMMING POOL'!$D$19*0.001,0)","v":0},0,0,0,null,0,3.4246575342465752E-3]
[null,null,"2022-01-08",{"$f":"_xlfn.IFNA(IF(D$682=\"Custom\",(HLOOKUP('RAINFALL OUTPUT'!C$14,'RAINFALL OUTPUT'!O$35:X$400,_xlfn.CONCAT(C691)-44560,FALSE)),(HLOOKUP(D$682,H$682:L$1048,_xlfn.CONCAT(C691)-44559,FALSE))),\"\")","v":""},null,{"$error":"#VALUE!"},null,0,4.2,4.4000000000000004,0,0,"2014-02-28",0,0,0,0,0,0,0,0,0,0,0,{"$f":"IF($H$32=\"Yes\",'SWIMMING POOL'!$D$19*0.001,0)","v":0},0,0,0,null,0,3.4246575342465752E-3]
[null,null,"2022-01-11",{"$f":"_xlfn.IFNA(IF(D$682=\"Custom\",(HLOOKUP('RAINFALL OUTPUT'!C$14,'RAINFALL OUTPUT'!O$35:X$400,_xlfn.CONCAT(C694)-44560,FALSE)),(HLOOKUP(D$682,H$682:L$1048,_xlfn.CONCAT(C694)-44559,FALSE))),\"\")","v":""},null,{"$error":"#VALUE!"},null,0,0,0.4,0,0,"2014-03-03",0,0,0,0,0,0,0,0,0,0,0,{"$f":"IF($H$32=\"Yes\",'SWIMMING POOL'!$D$19*0.001,0)","v":0},0,0,0,null,0,3.4246575342465752E-3]
[null,null,"2022-01-15",{"$f":"_xlfn.IFNA(IF(D$682=\"Custom\",(HLOOKUP('RAINFALL OUTPUT'!C$14,'RAINFALL OUTPUT'!O$35:X$400,_xlfn.CONCAT(C698)-44560,FALSE)),(HLOOKUP(D$682,H$682:L$1048,_xlfn.CONCAT(C698)-44559,FALSE))),\"\")","v":""},null,{"$error":"#VALUE!"},null,0,0,0,0,0,"2014-03-07",0,0,0,0,0,0,0,0,0,0,0,{"$f":"IF($H$32=\"Yes\",'SWIMMING POOL'!$D$19*0.001,0)","v":0},0,0,0,null,{"$f":"SUM($N698:$AC698)","v":0},3.4246575342465752E-3]
[null,null,"2022-01-18",{"$f":"_xlfn.IFNA(IF(D$682=\"Custom\",(HLOOKUP('RAINFALL OUTPUT'!C$14,'RAINFALL OUTPUT'!O$35:X$400,_xlfn.CONCAT(C701)-44560,FALSE)),(HLOOKUP(D$682,H$682:L$1048,_xlfn.CONCAT(C701)-44559,FALSE))),\"\")","v":""},null,{"$error":"#VALUE!"},null,0,0,0,4.8,0,"2014-03-10",0,0,0,0,0,0,0,0,0,0,0,{"$f":"IF($H$32=\"Yes\",'SWIMMING POOL'!$D$19*0.001,0)","v":0},0,0,0,null,0,3.4246575342465752E-3]
[null,null,"2022-01-21",{"$f":"_xlfn.IFNA(IF(D$682=\"Custom\",(HLOOKUP('RAINFALL OUTPUT'!C$14,'RAINFALL OUTPUT'!O$35:X$400,_xlfn.CONCAT(C704)-44560,FALSE)),(HLOOKUP(D$682,H$682:L$1048,_xlfn.CONCAT(C704)-44559,FALSE))),\"\")","v":""},null,{"$error":"#VALUE!"},null,0,0,0,0,0,"2014-03-13",0,0,0,0,0,0,0,0,0,0,0,{"$f":"IF($H$32=\"Yes\",'SWIMMING POOL'!$D$19*0.001,0)","v":0},0,0,0,null,0,3.4246575342465752E-3]
[null,null,"2022-01-22",{"$f":"_xlfn.IFNA(IF(D$682=\"Custom\",(HLOOKUP('RAINFALL OUTPUT'!C$14,'RAINFALL OUTPUT'!O$35:X$400,_xlfn.CONCAT(C705)-44560,FALSE)),(HLOOKUP(D$682,H$682:L$1048,_xlfn.CONCAT(C705)-44559,FALSE))),\"\")","v":""},null,{"$error":"#VALUE!"},null,0,10.199999999999999,0,0,0.2,"2014-03-14",0,0,0,0,0,0,0,0,0,0,0,{"$f":"IF($H$32=\"Yes\",'SWIMMING POOL'!$D$19*0.001,0)","v":0},0,0,0,null,0,3.4246575342465752E-3]
[null,null,"2022-01-25",{"$f":"_xlfn.IFNA(IF(D$682=\"Custom\",(HLOOKUP('RAINFALL OUTPUT'!C$14,'RAINFALL OUTPUT'!O$35:X$400,_xlfn.CONCAT(C708)-44560,FALSE)),(HLOOKUP(D$682,H$682:L$1048,_xlfn.CONCAT(C708)-44559,FALSE))),\"\")","v":""},null,{"$error":"#VALUE!"},null,0,0,0,0,0.6,"2014-03-17",0,0,0,0,0,0,0,0,0,0,0,{"$f":"IF($H$32=\"Yes\",'SWIMMING POOL'!$D$19*0.001,0)","v":0},0,0,0,null,0,3.4246575342465752E-3]
[null,null,"2022-01-29",{"$f":"_xlfn.IFNA(IF(D$682=\"Custom\",(HLOOKUP('RAINFALL OUTPUT'!C$14,'RAINFALL OUTPUT'!O$35:X$400,_xlfn.CONCAT(C712)-44560,FALSE)),(HLOOKUP(D$682,H$682:L$1048,_xlfn.CONCAT(C712)-44559,FALSE))),\"\")","v":""},null,{"$error":"#VALUE!"},null,0.6,2,7,0,0.8,"2014-03-21",0,0,0,0,0,0,0,0,0,0,0,{"$f":"IF($H$32=\"Yes\",'SWIMMING POOL'!$D$19*0.001,0)","v":0},0,0,0,null,0,3.4246575342465752E-3]
[null,null,"2022-02-01",{"$f":"_xlfn.IFNA(IF(D$682=\"Custom\",(HLOOKUP('RAINFALL OUTPUT'!C$14,'RAINFALL OUTPUT'!O$35:X$400,_xlfn.CONCAT(C715)-44560,FALSE)),(HLOOKUP(D$682,H$682:L$1048,_xlfn.CONCAT(C715)-44559,FALSE))),\"\")","v":""},null,{"$error":"#VALUE!"},null,0.8,0,0.2,0,0,"2014-03-24",0,0,0,0,0,0,0,0,0,0,0,{"$f":"IF($H$32=\"Yes\",'SWIMMING POOL'!$D$19*0.001,0)","v":0},0,0,0,null,0,3.4246575342465752E-3]
[null,null,"2022-02-04",{"$f":"_xlfn.IFNA(IF(D$682=\"Custom\",(HLOOKUP('RAINFALL OUTPUT'!C$14,'RAINFALL OUTPUT'!O$35:X$400,_xlfn.CONCAT(C718)-44560,FALSE)),(HLOOKUP(D$682,H$682:L$1048,_xlfn.CONCAT(C718)-44559,FALSE))),\"\")","v":""},null,{"$error":"#VALUE!"},null,0,0.6,2.6,0,0,"2014-03-27",0,0,0,0,0,0,0,0,0,0,0,{"$f":"IF($H$32=\"Yes\",'SWIMMING POOL'!$D$19*0.001,0)","v":0},0,0,0,null,0,3.4246575342465752E-3]
[null,null,"2022-02-08",{"$f":"_xlfn.IFNA(IF(D$682=\"Custom\",(HLOOKUP('RAINFALL OUTPUT'!C$14,'RAINFALL OUTPUT'!O$35:X$400,_xlfn.CONCAT(C722)-44560,FALSE)),(HLOOKUP(D$682,H$682:L$1048,_xlfn.CONCAT(C722)-44559,FALSE))),\"\")","v":""},null,{"$error":"#VALUE!"},null,0,17.600000000000001,0,0,9.6,"2014-03-31",0,0,0,0,0,0,0,0,0,0,0,{"$f":"IF($H$32=\"Yes\",'SWIMMING POOL'!$D$19*0.001,0)","v":0},0,0,0,null,0,3.4246575342465752E-3]
[null,null,"2022-02-11",{"$f":"_xlfn.IFNA(IF(D$682=\"Custom\",(HLOOKUP('RAINFALL OUTPUT'!C$14,'RAINFALL OUTPUT'!O$35:X$400,_xlfn.CONCAT(C725)-44560,FALSE)),(HLOOKUP(D$682,H$682:L$1048,_xlfn.CONCAT(C725)-44559,FALSE))),\"\")","v":""},null,{"$error":"#VALUE!"},null,10.4,0,0,0,0,"2014-04-03",0,0,0,0,0,0,0,0,0,0,0,{"$f":"IF($H$32=\"Yes\",'SWIMMING POOL'!$D$19*0.001,0)","v":0},0,0,0,null,0,3.4246575342465752E-3]
[null,null,"2022-02-12",{"$f":"_xlfn.IFNA(IF(D$682=\"Custom\",(HLOOKUP('RAINFALL OUTPUT'!C$14,'RAINFALL OUTPUT'!O$35:X$400,_xlfn.CONCAT(C726)-44560,FALSE)),(HLOOKUP(D$682,H$682:L$1048,_xlfn.CONCAT(C726)-44559,FALSE))),\"\")","v":""},null,{"$error":"#VALUE!"},null,0.2,0,0,0,0,"2014-04-04",0,0,0,0,0,0,0,0,0,0,0,{"$f":"IF($H$32=\"Yes\",'SWIMMING POOL'!$D$19*0.001,0)","v":0},0,0,0,null,0,3.4246575342465752E-3]
[null,null,"2022-02-15",{"$f":"_xlfn.IFNA(IF(D$682=\"Custom\",(HLOOKUP('RAINFALL OUTPUT'!C$14,'RAINFALL OUTPUT'!O$35:X$400,_xlfn.CONCAT(C729)-44560,FALSE)),(HLOOKUP(D$682,H$682:L$1048,_xlfn.CONCAT(C729)-44559,FALSE))),\"\")","v":""},null,{"$error":"#VALUE!"},null,0,0,0.2,2.2000000000000002,0,"2014-04-07",0,0,0,0,0,0,0,0,0,0,0,{"$f":"IF($H$32=\"Yes\",'SWIMMING POOL'!$D$19*0.001,0)","v":0},0,0,0,null,0,3.4246575342465752E-3]
[null,null,"2022-02-19",{"$f":"_xlfn.IFNA(IF(D$682=\"Custom\",(HLOOKUP('RAINFALL OUTPUT'!C$14,'RAINFALL OUTPUT'!O$35:X$400,_xlfn.CONCAT(C733)-44560,FALSE)),(HLOOKUP(D$682,H$682:L$1048,_xlfn.CONCAT(C733)-44559,FALSE))),\"\")","v":""},null,{"$error":"#VALUE!"},null,5.8,0,0.6,0,0,"2014-04-11",0,0,0,0,0,0,0,0,0,0,0,{"$f":"IF($H$32=\"Yes\",'SWIMMING POOL'!$D$19*0.001,0)","v":0},0,0,0,null,0,3.4246575342465752E-3]
[null,null,"2022-02-21",{"$f":"_xlfn.IFNA(IF(D$682=\"Custom\",(HLOOKUP('RAINFALL OUTPUT'!C$14,'RAINFALL OUTPUT'!O$35:X$400,_xlfn.CONCAT(C735)-44560,FALSE)),(HLOOKUP(D$682,H$682:L$1048,_xlfn.CONCAT(C735)-44559,FALSE))),\"\")","v":""},null,{"$error":"#VALUE!"},null,0,0,0.2,0,0,"2014-04-13",0,0,0,0,0,0,0,0,0,0,0,{"$f":"IF($H$32=\"Yes\",'SWIMMING POOL'!$D$19*0.001,0)","v":0},0,0,0,null,0,3.4246575342465752E-3]
[null,null,"2022-02-24",{"$f":"_xlfn.IFNA(IF(D$682=\"Custom\",(HLOOKUP('RAINFALL OUTPUT'!C$14,'RAINFALL OUTPUT'!O$35:X$400,_xlfn.CONCAT(C738)-44560,FALSE)),(HLOOKUP(D$682,H$682:L$1048,_xlfn.CONCAT(C738)-44559,FALSE))),\"\")","v":""},null,{"$error":"#VALUE!"},null,0,2.2000000000000002,0.6,1,0,"2014-04-16",0,0,0,0,0,0,0,0,0,0,0,{"$f":"IF($H$32=\"Yes\",'SWIMMING POOL'!$D$19*0.001,0)","v":0},0,0,0,null,0,3.4246575342465752E-3]
[null,null,"2022-02-27",{"$f":"_xlfn.IFNA(IF(D$682=\"Custom\",(HLOOKUP('RAINFALL OUTPUT'!C$14,'RAINFALL OUTPUT'!O$35:X$400,_xlfn.CONCAT(C741)-44560,FALSE)),(HLOOKUP(D$682,H$682:L$1048,_xlfn.CONCAT(C741)-44559,FALSE))),\"\")","v":""},null,{"$error":"#VALUE!"},null,0,0,0,0,0,"2014-04-19",0,0,0,0,0,0,0,0,0,0,0,{"$f":"IF($H$32=\"Yes\",'SWIMMING POOL'!$D$19*0.001,0)","v":0},0,0,0,null,0,3.4246575342465752E-3]
[null,null,"2022-03-03",{"$f":"_xlfn.IFNA(IF(D$682=\"Custom\",(HLOOKUP('RAINFALL OUTPUT'!C$14,'RAINFALL OUTPUT'!O$35:X$400,_xlfn.CONCAT(C745)-44560,FALSE)),(HLOOKUP(D$682,H$682:L$1048,_xlfn.CONCAT(C745)-44559,FALSE))),\"\")","v":""},null,{"$error":"#VALUE!"},null,0,0,0,0,7.2,"2014-04-23",0,0,0,0,0,0,0,0,0,0,0,{"$f":"IF($H$32=\"Yes\",'SWIMMING POOL'!$D$19*0.001,0)","v":0},0,0,0,null,0,3.4246575342465752E-3]
[null,null,"2022-03-06",{"$f":"_xlfn.IFNA(IF(D$682=\"Custom\",(HLOOKUP('RAINFALL OUTPUT'!C$14,'RAINFALL OUTPUT'!O$35:X$400,_xlfn.CONCAT(C748)-44560,FALSE)),(HLOOKUP(D$682,H$682:L$1048,_xlfn.CONCAT(C748)-44559,FALSE))),\"\")","v":""},null,{"$error":"#VALUE!"},null,0,12,1,0,16.8,"2014-04-26",0,0,0,0,0,0,0,0,0,0,0,{"$f":"IF($H$32=\"Yes\",'SWIMMING POOL'!$D$19*0.001,0)","v":0},0,0,0,null,0,3.4246575342465752E-3]
[null,null,"2022-03-07",{"$f":"_xlfn.IFNA(IF(D$682=\"Custom\",(HLOOKUP('RAINFALL OUTPUT'!C$14,'RAINFALL OUTPUT'!O$35:X$400,_xlfn.CONCAT(C749)-44560,FALSE)),(HLOOKUP(D$682,H$682:L$1048,_xlfn.CONCAT(C749)-44559,FALSE))),\"\")","v":""},null,{"$f":"U1807","v":{"$error":"#VALUE!"}},null,0,1,0.8,3.6,0.4,"2014-04-27",0,0,0,0,0,0,0,0,0,0,0,{"$f":"IF($H$32=\"Yes\",'SWIMMING POOL'!$D$19*0.001,0)","v":0},0,0,0,null,0,3.4246575342465752E-3]
[null,null,"2022-03-10",{"$f":"_xlfn.IFNA(IF(D$682=\"Custom\",(HLOOKUP('RAINFALL OUTPUT'!C$14,'RAINFALL OUTPUT'!O$35:X$400,_xlfn.CONCAT(C752)-44560,FALSE)),(HLOOKUP(D$682,H$682:L$1048,_xlfn.CONCAT(C752)-44559,FALSE))),\"\")","v":""},null,{"$error":"#VALUE!"},null,0,0,0,0,0,"2014-04-30",0,0,0,0,0,0,0,0,0,0,0,{"$f":"IF($H$32=\"Yes\",'SWIMMING POOL'!$D$19*0.001,0)","v":0},0,0,0,null,0,3.4246575342465752E-3]
[null,null,"2022-03-13",{"$f":"_xlfn.IFNA(IF(D$682=\"Custom\",(HLOOKUP('RAINFALL OUTPUT'!C$14,'RAINFALL OUTPUT'!O$35:X$400,_xlfn.CONCAT(C755)-44560,FALSE)),(HLOOKUP(D$682,H$682:L$1048,_xlfn.CONCAT(C755)-44559,FALSE))),\"\")","v":""},null,{"$error":"#VALUE!"},null,0,0.2,0,14.4,0,"2014-05-03",0,0,0,0,0,0,0,0,0,0,0,{"$f":"IF($H$32=\"Yes\",'SWIMMING POOL'!$D$19*0.001,0)","v":0},0,0,0,null,0,3.4246575342465752E-3]
[null,null,"2022-03-17",{"$f":"_xlfn.IFNA(IF(D$682=\"Custom\",(HLOOKUP('RAINFALL OUTPUT'!C$14,'RAINFALL OUTPUT'!O$35:X$400,_xlfn.CONCAT(C759)-44560,FALSE)),(HLOOKUP(D$682,H$682:L$1048,_xlfn.CONCAT(C759)-44559,FALSE))),\"\")","v":""},null,{"$error":"#VALUE!"},null,0,0,4.4000000000000004,0,1.4,"2014-05-07",0,0,0,0,0,0,0,0,0,0,0,{"$f":"IF($H$32=\"Yes\",'SWIMMING POOL'!$D$19*0.001,0)","v":0},0,0,0,null,0,3.4246575342465752E-3]
[null,null,"2022-03-20",{"$f":"_xlfn.IFNA(IF(D$682=\"Custom\",(HLOOKUP('RAINFALL OUTPUT'!C$14,'RAINFALL OUTPUT'!O$35:X$400,_xlfn.CONCAT(C762)-44560,FALSE)),(HLOOKUP(D$682,H$682:L$1048,_xlfn.CONCAT(C762)-44559,FALSE))),\"\")","v":""},null,{"$error":"#VALUE!"},null,0,14.8,0,0,0,"2014-05-10",0,0,0,0,0,0,0,0,0,0,0,{"$f":"IF($H$32=\"Yes\",'SWIMMING POOL'!$D$19*0.001,0)","v":0},0,0,0,null,{"$f":"SUM($N762:$AC762)","v":0},3.4246575342465752E-3]
[null,null,"2022-03-23",{"$f":"_xlfn.IFNA(IF(D$682=\"Custom\",(HLOOKUP('RAINFALL OUTPUT'!C$14,'RAINFALL OUTPUT'!O$35:X$400,_xlfn.CONCAT(C765)-44560,FALSE)),(HLOOKUP(D$682,H$682:L$1048,_xlfn.CONCAT(C765)-44559,FALSE))),\"\")","v":""},null,{"$error":"#VALUE!"},null,0.6,2.6,0.4,0,5.6,"2014-05-13",0,0,0,0,0,0,0,0,0,0,0,{"$f":"IF($H$32=\"Yes\",'SWIMMING POOL'!$D$19*0.001,0)","v":0},0,0,0,null,0,3.4246575342465752E-3]
[null,null,"2022-03-27",{"$f":"_xlfn.IFNA(IF(D$682=\"Custom\",(HLOOKUP('RAINFALL OUTPUT'!C$14,'RAINFALL OUTPUT'!O$35:X$400,_xlfn.CONCAT(C769)-44560,FALSE)),(HLOOKUP(D$682,H$682:L$1048,_xlfn.CONCAT(C769)-44559,FALSE))),\"\")","v":""},null,{"$error":"#VALUE!"},null,0,0.2,0.2,1,3.2,"2014-05-17",0,0,0,0,0,0,0,0,0,0,0,{"$f":"IF($H$32=\"Yes\",'SWIMMING POOL'!$D$19*0.001,0)","v":0},0,0,0,null,0,3.4246575342465752E-3]
[null,null,"2022-03-30",{"$f":"_xlfn.IFNA(IF(D$682=\"Custom\",(HLOOKUP('RAINFALL OUTPUT'!C$14,'RAINFALL OUTPUT'!O$35:X$400,_xlfn.CONCAT(C772)-44560,FALSE)),(HLOOKUP(D$682,H$682:L$1048,_xlfn.CONCAT(C772)-44559,FALSE))),\"\")","v":""},null,{"$error":"#VALUE!"},null,0,0,0,11,0,"2014-05-20",0,0,0,0,0,0,0,0,0,0,0,{"$f":"IF($H$32=\"Yes\",'SWIMMING POOL'!$D$19*0.001,0)","v":0},0,0,0,null,0,3.4246575342465752E-3]
[null,null,"2022-03-31",{"$f":"_xlfn.IFNA(IF(D$682=\"Custom\",(HLOOKUP('RAINFALL OUTPUT'!C$14,'RAINFALL OUTPUT'!O$35:X$400,_xlfn.CONCAT(C773)-44560,FALSE)),(HLOOKUP(D$682,H$682:L$1048,_xlfn.CONCAT(C773)-44559,FALSE))),\"\")","v":""},null,{"$error":"#VALUE!"},null,0,0,0,1.6,0,"2014-05-21",0,0,0,0,0,0,0,0,0,0,0,{"$f":"IF($H$32=\"Yes\",'SWIMMING POOL'!$D$19*0.001,0)","v":0},0,0,0,null,0,3.4246575342465752E-3]
[null,null,"2022-04-03",{"$f":"_xlfn.IFNA(IF(D$682=\"Custom\",(HLOOKUP('RAINFALL OUTPUT'!C$14,'RAINFALL OUTPUT'!O$35:X$400,_xlfn.CONCAT(C776)-44560,FALSE)),(HLOOKUP(D$682,H$682:L$1048,_xlfn.CONCAT(C776)-44559,FALSE))),\"\")","v":""},null,{"$error":"#VALUE!"},null,2.2000000000000002,0,0,0,0,"2014-05-24",0,0,0,0,0,0,0,0,0,0,0,{"$f":"IF($H$32=\"Yes\",'SWIMMING POOL'!$D$19*0.001,0)","v":0},0,0,0,null,{"$f":"SUM($N776:$AC776)","v":0},3.4246575342465752E-3]
[null,null,"2022-04-06",{"$f":"_xlfn.IFNA(IF(D$682=\"Custom\",(HLOOKUP('RAINFALL OUTPUT'!C$14,'RAINFALL OUTPUT'!O$35:X$400,_xlfn.CONCAT(C779)-44560,FALSE)),(HLOOKUP(D$682,H$682:L$1048,_xlfn.CONCAT(C779)-44559,FALSE))),\"\")","v":""},null,{"$error":"#VALUE!"},null,0,0.4,1.4,1,1.2,"2014-05-27",0,0,0,0,0,0,0,0,0,0,0,{"$f":"IF($H$32=\"Yes\",'SWIMMING POOL'!$D$19*0.001,0)","v":0},0,0,0,null,0,3.4246575342465752E-3]
[null,null,"2022-04-10",{"$f":"_xlfn.IFNA(IF(D$682=\"Custom\",(HLOOKUP('RAINFALL OUTPUT'!C$14,'RAINFALL OUTPUT'!O$35:X$400,_xlfn.CONCAT(C783)-44560,FALSE)),(HLOOKUP(D$682,H$682:L$1048,_xlfn.CONCAT(C783)-44559,FALSE))),\"\")","v":""},null,{"$error":"#VALUE!"},null,0,0,0,1.4,0,"2014-05-31",0,0,0,0,0,0,0,0,0,0,0,{"$f":"IF($H$32=\"Yes\",'SWIMMING POOL'!$D$19*0.001,0)","v":0},0,0,0,null,0,3.4246575342465752E-3]
[null,null,"2022-04-13",{"$f":"_xlfn.IFNA(IF(D$682=\"Custom\",(HLOOKUP('RAINFALL OUTPUT'!C$14,'RAINFALL OUTPUT'!O$35:X$400,_xlfn.CONCAT(C786)-44560,FALSE)),(HLOOKUP(D$682,H$682:L$1048,_xlfn.CONCAT(C786)-44559,FALSE))),\"\")","v":""},null,{"$error":"#VALUE!"},null,8.1999999999999993,0,0,6.2,0,"2014-06-03",0,0,0,0,0,0,0,0,0,0,0,{"$f":"IF($H$32=\"Yes\",'SWIMMING POOL'!$D$19*0.001,0)","v":0},0,0,0,null,0,3.4246575342465752E-3]
[null,null,"2022-04-17",{"$f":"_xlfn.IFNA(IF(D$682=\"Custom\",(HLOOKUP('RAINFALL OUTPUT'!C$14,'RAINFALL OUTPUT'!O$35:X$400,_xlfn.CONCAT(C790)-44560,FALSE)),(HLOOKUP(D$682,H$682:L$1048,_xlfn.CONCAT(C790)-44559,FALSE))),\"\")","v":""},null,{"$error":"#VALUE!"},null,2.4,3.6,0.6,0,14,"2014-06-07",0,0,0,0,0,0,0,0,0,0,0,{"$f":"IF($H$32=\"Yes\",'SWIMMING POOL'!$D$19*0.001,0)","v":0},0,0,0,null,0,3.4246575342465752E-3]
[null,null,"2022-04-20",{"$f":"_xlfn.IFNA(IF(D$682=\"Custom\",(HLOOKUP('RAINFALL OUTPUT'!C$14,'RAINFALL OUTPUT'!O$35:X$400,_xlfn.CONCAT(C793)-44560,FALSE)),(HLOOKUP(D$682,H$682:L$1048,_xlfn.CONCAT(C793)-44559,FALSE))),\"\")","v":""},null,{"$error":"#VALUE!"},null,0,0,2.6,0.2,0,"2014-06-10",0,0,0,0,0,0,0,0,0,0,0,{"$f":"IF($H$32=\"Yes\",'SWIMMING POOL'!$D$19*0.001,0)","v":0},0,0,0,null,0,3.4246575342465752E-3]
[null,null,"2022-04-23",{"$f":"_xlfn.IFNA(IF(D$682=\"Custom\",(HLOOKUP('RAINFALL OUTPUT'!C$14,'RAINFALL OUTPUT'!O$35:X$400,_xlfn.CONCAT(C796)-44560,FALSE)),(HLOOKUP(D$682,H$682:L$1048,_xlfn.CONCAT(C796)-44559,FALSE))),\"\")","v":""},null,{"$error":"#VALUE!"},null,0,0,0,0,0,"2014-06-13",0,0,0,0,0,0,0,0,0,0,0,{"$f":"IF($H$32=\"Yes\",'SWIMMING POOL'!$D$19*0.001,0)","v":0},0,0,0,null,0,3.4246575342465752E-3]
[null,null,"2022-04-24",{"$f":"_xlfn.IFNA(IF(D$682=\"Custom\",(HLOOKUP('RAINFALL OUTPUT'!C$14,'RAINFALL OUTPUT'!O$35:X$400,_xlfn.CONCAT(C797)-44560,FALSE)),(HLOOKUP(D$682,H$682:L$1048,_xlfn.CONCAT(C797)-44559,FALSE))),\"\")","v":""},null,{"$error":"#VALUE!"},null,1.2,0,0.4,0,0.4,"2014-06-14",0,0,0,0,0,0,0,0,0,0,0,{"$f":"IF($H$32=\"Yes\",'SWIMMING POOL'!$D$19*0.001,0)","v":0},0,0,0,null,0,3.4246575342465752E-3]
[null,null,"2022-04-27",{"$f":"_xlfn.IFNA(IF(D$682=\"Custom\",(HLOOKUP('RAINFALL OUTPUT'!C$14,'RAINFALL OUTPUT'!O$35:X$400,_xlfn.CONCAT(C800)-44560,FALSE)),(HLOOKUP(D$682,H$682:L$1048,_xlfn.CONCAT(C800)-44559,FALSE))),\"\")","v":""},null,{"$error":"#VALUE!"},null,0,1.4,0,3.6,15.6,"2014-06-17",0,0,0,0,0,0,0,0,0,0,0,{"$f":"IF($H$32=\"Yes\",'SWIMMING POOL'!$D$19*0.001,0)","v":0},0,0,0,null,0,3.4246575342465752E-3]
[null,null,"2022-04-30",{"$f":"_xlfn.IFNA(IF(D$682=\"Custom\",(HLOOKUP('RAINFALL OUTPUT'!C$14,'RAINFALL OUTPUT'!O$35:X$400,_xlfn.CONCAT(C803)-44560,FALSE)),(HLOOKUP(D$682,H$682:L$1048,_xlfn.CONCAT(C803)-44559,FALSE))),\"\")","v":""},null,{"$error":"#VALUE!"},null,0,0,0,4.2,0,"2014-06-20",0,0,0,0,0,0,0,0,0,0,0,{"$f":"IF($H$32=\"Yes\",'SWIMMING POOL'!$D$19*0.001,0)","v":0},0,0,0,null,0,3.4246575342465752E-3]
[null,null,"2022-05-04",{"$f":"_xlfn.IFNA(IF(D$682=\"Custom\",(HLOOKUP('RAINFALL OUTPUT'!C$14,'RAINFALL OUTPUT'!O$35:X$400,_xlfn.CONCAT(C807)-44560,FALSE)),(HLOOKUP(D$682,H$682:L$1048,_xlfn.CONCAT(C807)-44559,FALSE))),\"\")","v":""},null,{"$error":"#VALUE!"},null,0.2,2.4,5.2,0,1.6,"2014-06-24",0,0,0,0,0,0,0,0,0,0,0,{"$f":"IF($H$32=\"Yes\",'SWIMMING POOL'!$D$19*0.001,0)","v":0},0,0,0,null,0,3.4246575342465752E-3]
[null,null,"2022-05-07",{"$f":"_xlfn.IFNA(IF(D$682=\"Custom\",(HLOOKUP('RAINFALL OUTPUT'!C$14,'RAINFALL OUTPUT'!O$35:X$400,_xlfn.CONCAT(C810)-44560,FALSE)),(HLOOKUP(D$682,H$682:L$1048,_xlfn.CONCAT(C810)-44559,FALSE))),\"\")","v":""},null,{"$error":"#VALUE!"},null,0,2.4,4.4000000000000004,0,2.4,"2014-06-27",0,0,0,0,0,0,0,0,0,0,0,{"$f":"IF($H$32=\"Yes\",'SWIMMING POOL'!$D$19*0.001,0)","v":0},0,0,0,null,0,3.4246575342465752E-3]
[null,null,"2022-05-09",{"$f":"_xlfn.IFNA(IF(D$682=\"Custom\",(HLOOKUP('RAINFALL OUTPUT'!C$14,'RAINFALL OUTPUT'!O$35:X$400,_xlfn.CONCAT(C812)-44560,FALSE)),(HLOOKUP(D$682,H$682:L$1048,_xlfn.CONCAT(C812)-44559,FALSE))),\"\")","v":""},null,{"$error":"#VALUE!"},null,0,0,0.2,4.4000000000000004,0,"2014-06-29",0,0,0,0,0,0,0,0,0,0,0,{"$f":"IF($H$32=\"Yes\",'SWIMMING POOL'!$D$19*0.001,0)","v":0},0,0,0,null,0,3.4246575342465752E-3]
[null,null,"2022-05-13",{"$f":"_xlfn.IFNA(IF(D$682=\"Custom\",(HLOOKUP('RAINFALL OUTPUT'!C$14,'RAINFALL OUTPUT'!O$35:X$400,_xlfn.CONCAT(C816)-44560,FALSE)),(HLOOKUP(D$682,H$682:L$1048,_xlfn.CONCAT(C816)-44559,FALSE))),\"\")","v":""},null,{"$error":"#VALUE!"},null,0,0,0,22.2,0,"2014-07-03",0,0,0,0,0,0,0,0,0,0,0,{"$f":"IF($H$32=\"Yes\",'SWIMMING POOL'!$D$19*0.001,0)","v":0},0,0,0,null,0,3.4246575342465752E-3]
[null,null,"2022-05-16",{"$f":"_xlfn.IFNA(IF(D$682=\"Custom\",(HLOOKUP('RAINFALL OUTPUT'!C$14,'RAINFALL OUTPUT'!O$35:X$400,_xlfn.CONCAT(C819)-44560,FALSE)),(HLOOKUP(D$682,H$682:L$1048,_xlfn.CONCAT(C819)-44559,FALSE))),\"\")","v":""},null,{"$error":"#VALUE!"},null,0,0.4,8,6,2.8,"2014-07-06",0,0,0,0,0,0,0,0,0,0,0,{"$f":"IF($H$32=\"Yes\",'SWIMMING POOL'!$D$19*0.001,0)","v":0},0,0,0,null,0,3.4246575342465752E-3]
[null,null,"2022-05-17",{"$f":"_xlfn.IFNA(IF(D$682=\"Custom\",(HLOOKUP('RAINFALL OUTPUT'!C$14,'RAINFALL OUTPUT'!O$35:X$400,_xlfn.CONCAT(C820)-44560,FALSE)),(HLOOKUP(D$682,H$682:L$1048,_xlfn.CONCAT(C820)-44559,FALSE))),\"\")","v":""},null,{"$error":"#VALUE!"},null,4,0,5.4,0,0,"2014-07-07",0,0,0,0,0,0,0,0,0,0,0,{"$f":"IF($H$32=\"Yes\",'SWIMMING POOL'!$D$19*0.001,0)","v":0},0,0,0,null,0,3.4246575342465752E-3]
[null,null,"2022-05-20",{"$f":"_xlfn.IFNA(IF(D$682=\"Custom\",(HLOOKUP('RAINFALL OUTPUT'!C$14,'RAINFALL OUTPUT'!O$35:X$400,_xlfn.CONCAT(C823)-44560,FALSE)),(HLOOKUP(D$682,H$682:L$1048,_xlfn.CONCAT(C823)-44559,FALSE))),\"\")","v":""},null,{"$error":"#VALUE!"},null,1.8,0,0,0,0,"2014-07-10",0,0,0,0,0,0,0,0,0,0,0,{"$f":"IF($H$32=\"Yes\",'SWIMMING POOL'!$D$19*0.001,0)","v":0},0,0,0,null,0,3.4246575342465752E-3]
[null,null,"2022-05-24",{"$f":"_xlfn.IFNA(IF(D$682=\"Custom\",(HLOOKUP('RAINFALL OUTPUT'!C$14,'RAINFALL OUTPUT'!O$35:X$400,_xlfn.CONCAT(C827)-44560,FALSE)),(HLOOKUP(D$682,H$682:L$1048,_xlfn.CONCAT(C827)-44559,FALSE))),\"\")","v":""},null,{"$error":"#VALUE!"},null,17.399999999999999,0,0,24.8,0,"2014-07-14",0,0,0,0,0,0,0,0,0,0,0,{"$f":"IF($H$32=\"Yes\",'SWIMMING POOL'!$D$19*0.001,0)","v":0},0,0,0,null,0,{"$f":"SUM(N827:T827,V827,AB827,$X$326/365*0.001)","v":3.4246575342465752E-3}]
[null,null,"2022-05-27",{"$f":"_xlfn.IFNA(IF(D$682=\"Custom\",(HLOOKUP('RAINFALL OUTPUT'!C$14,'RAINFALL OUTPUT'!O$35:X$400,_xlfn.CONCAT(C830)-44560,FALSE)),(HLOOKUP(D$682,H$682:L$1048,_xlfn.CONCAT(C830)-44559,FALSE))),\"\")","v":""},null,{"$error":"#VALUE!"},null,4.4000000000000004,6,0,1.4,5.2,"2014-07-17",0,0,0,0,0,0,0,0,0,0,0,{"$f":"IF($H$32=\"Yes\",'SWIMMING POOL'!$D$19*0.001,0)","v":0},0,0,0,null,0,3.4246575342465752E-3]
[null,null,"2022-05-30",{"$f":"_xlfn.IFNA(IF(D$682=\"Custom\",(HLOOKUP('RAINFALL OUTPUT'!C$14,'RAINFALL OUTPUT'!O$35:X$400,_xlfn.CONCAT(C833)-44560,FALSE)),(HLOOKUP(D$682,H$682:L$1048,_xlfn.CONCAT(C833)-44559,FALSE))),\"\")","v":""},null,{"$error":"#VALUE!"},null,26,0,0,0,0,"2014-07-20",0,0,0,0,0,0,0,0,0,0,0,{"$f":"IF($H$32=\"Yes\",'SWIMMING POOL'!$D$19*0.001,0)","v":0},0,0,0,null,0,3.4246575342465752E-3]
[null,null,"2022-06-03",{"$f":"_xlfn.IFNA(IF(D$682=\"Custom\",(HLOOKUP('RAINFALL OUTPUT'!C$14,'RAINFALL OUTPUT'!O$35:X$400,_xlfn.CONCAT(C837)-44560,FALSE)),(HLOOKUP(D$682,H$682:L$1048,_xlfn.CONCAT(C837)-44559,FALSE))),\"\")","v":""},null,{"$error":"#VALUE!"},null,0,0,0,7.4,0,"2014-07-24",0,0,0,0,0,0,0,0,0,0,0,{"$f":"IF($H$32=\"Yes\",'SWIMMING POOL'!$D$19*0.001,0)","v":0},0,0,0,null,0,3.4246575342465752E-3]
[null,null,"2022-06-06",{"$f":"_xlfn.IFNA(IF(D$682=\"Custom\",(HLOOKUP('RAINFALL OUTPUT'!C$14,'RAINFALL OUTPUT'!O$35:X$400,_xlfn.CONCAT(C840)-44560,FALSE)),(HLOOKUP(D$682,H$682:L$1048,_xlfn.CONCAT(C840)-44559,FALSE))),\"\")","v":""},null,{"$error":"#VALUE!"},null,0,0.6,0,0,7.8,"2014-07-27",0,0,0,0,0,0,0,0,0,0,0,{"$f":"IF($H$32=\"Yes\",'SWIMMING POOL'!$D$19*0.001,0)","v":0},0,0,0,null,0,3.4246575342465752E-3]
[null,null,"2022-06-09",{"$f":"_xlfn.IFNA(IF(D$682=\"Custom\",(HLOOKUP('RAINFALL OUTPUT'!C$14,'RAINFALL OUTPUT'!O$35:X$400,_xlfn.CONCAT(C843)-44560,FALSE)),(HLOOKUP(D$682,H$682:L$1048,_xlfn.CONCAT(C843)-44559,FALSE))),\"\")","v":""},null,{"$error":"#VALUE!"},null,0.2,0,0,0,0,"2014-07-30",0,0,0,0,0,0,0,0,0,0,0,{"$f":"IF($H$32=\"Yes\",'SWIMMING POOL'!$D$19*0.001,0)","v":0},0,0,0,null,0,3.4246575342465752E-3]
[null,null,"2022-06-10",{"$f":"_xlfn.IFNA(IF(D$682=\"Custom\",(HLOOKUP('RAINFALL OUTPUT'!C$14,'RAINFALL OUTPUT'!O$35:X$400,_xlfn.CONCAT(C844)-44560,FALSE)),(HLOOKUP(D$682,H$682:L$1048,_xlfn.CONCAT(C844)-44559,FALSE))),\"\")","v":""},null,{"$error":"#VALUE!"},null,5,1,0.2,0,0,"2014-07-31",0,0,0,0,0,0,0,0,0,0,0,{"$f":"IF($H$32=\"Yes\",'SWIMMING POOL'!$D$19*0.001,0)","v":0},0,0,0,null,0,3.4246575342465752E-3]
[null,null,"2022-06-13",{"$f":"_xlfn.IFNA(IF(D$682=\"Custom\",(HLOOKUP('RAINFALL OUTPUT'!C$14,'RAINFALL OUTPUT'!O$35:X$400,_xlfn.CONCAT(C847)-44560,FALSE)),(HLOOKUP(D$682,H$682:L$1048,_xlfn.CONCAT(C847)-44559,FALSE))),\"\")","v":""},null,{"$error":"#VALUE!"},null,3.4,0.2,2,3.2,0,"2014-08-03",0,0,0,0,0,0,0,0,0,0,0,{"$f":"IF($H$32=\"Yes\",'SWIMMING POOL'!$D$19*0.001,0)","v":0},0,0,0,null,0,3.4246575342465752E-3]
[null,null,"2022-06-17",{"$f":"_xlfn.IFNA(IF(D$682=\"Custom\",(HLOOKUP('RAINFALL OUTPUT'!C$14,'RAINFALL OUTPUT'!O$35:X$400,_xlfn.CONCAT(C851)-44560,FALSE)),(HLOOKUP(D$682,H$682:L$1048,_xlfn.CONCAT(C851)-44559,FALSE))),\"\")","v":""},null,{"$error":"#VALUE!"},null,0.4,0,0,0,0,"2014-08-07",0,0,0,0,0,0,0,0,0,0,0,{"$f":"IF($H$32=\"Yes\",'SWIMMING POOL'!$D$19*0.001,0)","v":0},0,0,0,null,0,3.4246575342465752E-3]
[null,null,"2022-06-20",{"$f":"_xlfn.IFNA(IF(D$682=\"Custom\",(HLOOKUP('RAINFALL OUTPUT'!C$14,'RAINFALL OUTPUT'!O$35:X$400,_xlfn.CONCAT(C854)-44560,FALSE)),(HLOOKUP(D$682,H$682:L$1048,_xlfn.CONCAT(C854)-44559,FALSE))),\"\")","v":""},null,{"$error":"#VALUE!"},null,0.2,6.2,4.5999999999999996,2,14.6,"2014-08-10",0,0,0,0,0,0,0,0,0,0,0,{"$f":"IF($H$32=\"Yes\",'SWIMMING POOL'!$D$19*0.001,0)","v":0},0,0,0,null,0,3.4246575342465752E-3]
[null,null,"2022-06-23",{"$f":"_xlfn.IFNA(IF(D$682=\"Custom\",(HLOOKUP('RAINFALL OUTPUT'!C$14,'RAINFALL OUTPUT'!O$35:X$400,_xlfn.CONCAT(C857)-44560,FALSE)),(HLOOKUP(D$682,H$682:L$1048,_xlfn.CONCAT(C857)-44559,FALSE))),\"\")","v":""},null,{"$error":"#VALUE!"},null,23.6,0,1.2,0,0.2,"2014-08-13",0,0,0,0,0,0,0,0,0,0,0,{"$f":"IF($H$32=\"Yes\",'SWIMMING POOL'!$D$19*0.001,0)","v":0},0,0,0,null,0,3.4246575342465752E-3]
[null,null,"2022-06-27",{"$f":"_xlfn.IFNA(IF(D$682=\"Custom\",(HLOOKUP('RAINFALL OUTPUT'!C$14,'RAINFALL OUTPUT'!O$35:X$400,_xlfn.CONCAT(C861)-44560,FALSE)),(HLOOKUP(D$682,H$682:L$1048,_xlfn.CONCAT(C861)-44559,FALSE))),\"\")","v":""},null,{"$error":"#VALUE!"},null,7.4,1.6,0.4,2.6,0.2,"2014-08-17",0,0,0,0,0,0,0,0,0,0,0,{"$f":"IF($H$32=\"Yes\",'SWIMMING POOL'!$D$19*0.001,0)","v":0},0,0,0,null,0,3.4246575342465752E-3]
[null,null,"2022-06-30",{"$f":"_xlfn.IFNA(IF(D$682=\"Custom\",(HLOOKUP('RAINFALL OUTPUT'!C$14,'RAINFALL OUTPUT'!O$35:X$400,_xlfn.CONCAT(C864)-44560,FALSE)),(HLOOKUP(D$682,H$682:L$1048,_xlfn.CONCAT(C864)-44559,FALSE))),\"\")","v":""},null,{"$error":"#VALUE!"},null,46.4,0.2,0,0.2,4.4000000000000004,"2014-08-20",0,0,0,0,0,0,0,0,0,0,0,{"$f":"IF($H$32=\"Yes\",'SWIMMING POOL'!$D$19*0.001,0)","v":0},0,0,0,null,0,3.4246575342465752E-3]
[null,null,"2022-07-03",{"$f":"_xlfn.IFNA(IF(D$682=\"Custom\",(HLOOKUP('RAINFALL OUTPUT'!C$14,'RAINFALL OUTPUT'!O$35:X$400,_xlfn.CONCAT(C867)-44560,FALSE)),(HLOOKUP(D$682,H$682:L$1048,_xlfn.CONCAT(C867)-44559,FALSE))),\"\")","v":""},null,{"$error":"#VALUE!"},null,0,0,0,0,0,"2014-08-23",0,0,0,0,0,0,0,0,0,0,0,{"$f":"IF($H$32=\"Yes\",'SWIMMING POOL'!$D$19*0.001,0)","v":0},0,0,0,null,0,3.4246575342465752E-3]
[null,null,"2022-07-04",{"$f":"_xlfn.IFNA(IF(D$682=\"Custom\",(HLOOKUP('RAINFALL OUTPUT'!C$14,'RAINFALL OUTPUT'!O$35:X$400,_xlfn.CONCAT(C868)-44560,FALSE)),(HLOOKUP(D$682,H$682:L$1048,_xlfn.CONCAT(C868)-44559,FALSE))),\"\")","v":""},null,{"$error":"#VALUE!"},null,0,0,0,12,0,"2014-08-24",0,0,0,0,0,0,0,0,0,0,0,{"$f":"IF($H$32=\"Yes\",'SWIMMING POOL'!$D$19*0.001,0)","v":0},0,0,0,null,0,3.4246575342465752E-3]
[null,null,"2022-07-07",{"$f":"_xlfn.IFNA(IF(D$682=\"Custom\",(HLOOKUP('RAINFALL OUTPUT'!C$14,'RAINFALL OUTPUT'!O$35:X$400,_xlfn.CONCAT(C871)-44560,FALSE)),(HLOOKUP(D$682,H$682:L$1048,_xlfn.CONCAT(C871)-44559,FALSE))),\"\")","v":""},null,{"$error":"#VALUE!"},null,0,0,0,3.6,0,"2014-08-27",0,0,0,0,0,0,0,0,0,0,0,{"$f":"IF($H$32=\"Yes\",'SWIMMING POOL'!$D$19*0.001,0)","v":0},0,0,0,null,0,3.4246575342465752E-3]
[null,null,"2022-07-11",{"$f":"_xlfn.IFNA(IF(D$682=\"Custom\",(HLOOKUP('RAINFALL OUTPUT'!C$14,'RAINFALL OUTPUT'!O$35:X$400,_xlfn.CONCAT(C875)-44560,FALSE)),(HLOOKUP(D$682,H$682:L$1048,_xlfn.CONCAT(C875)-44559,FALSE))),\"\")","v":""},null,{"$error":"#VALUE!"},null,0,2.4,1,0,11,"2014-08-31",0,0,0,0,0,0,0,0,0,0,0,{"$f":"IF($H$32=\"Yes\",'SWIMMING POOL'!$D$19*0.001,0)","v":0},0,0,0,null,0,3.4246575342465752E-3]
[null,null,"2022-07-14",{"$f":"_xlfn.IFNA(IF(D$682=\"Custom\",(HLOOKUP('RAINFALL OUTPUT'!C$14,'RAINFALL OUTPUT'!O$35:X$400,_xlfn.CONCAT(C878)-44560,FALSE)),(HLOOKUP(D$682,H$682:L$1048,_xlfn.CONCAT(C878)-44559,FALSE))),\"\")","v":""},null,{"$error":"#VALUE!"},null,14.6,0,0,0.2,1.6,"2014-09-03",0,0,0,0,0,0,0,0,0,0,0,{"$f":"IF($H$32=\"Yes\",'SWIMMING POOL'!$D$19*0.001,0)","v":0},0,0,0,null,0,3.4246575342465752E-3]
[null,null,"2022-07-17",{"$f":"_xlfn.IFNA(IF(D$682=\"Custom\",(HLOOKUP('RAINFALL OUTPUT'!C$14,'RAINFALL OUTPUT'!O$35:X$400,_xlfn.CONCAT(C881)-44560,FALSE)),(HLOOKUP(D$682,H$682:L$1048,_xlfn.CONCAT(C881)-44559,FALSE))),\"\")","v":""},null,{"$error":"#VALUE!"},null,1,0,0,0,0,"2014-09-06",0,0,0,0,0,0,0,0,0,0,0,{"$f":"IF($H$32=\"Yes\",'SWIMMING POOL'!$D$19*0.001,0)","v":0},0,0,0,null,0,3.4246575342465752E-3]
[null,null,"2022-07-21",{"$f":"_xlfn.IFNA(IF(D$682=\"Custom\",(HLOOKUP('RAINFALL OUTPUT'!C$14,'RAINFALL OUTPUT'!O$35:X$400,_xlfn.CONCAT(C885)-44560,FALSE)),(HLOOKUP(D$682,H$682:L$1048,_xlfn.CONCAT(C885)-44559,FALSE))),\"\")","v":""},null,{"$error":"#VALUE!"},null,2.6,0,0.8,1.4,0,"2014-09-10",0,0,0,0,0,0,0,0,0,0,0,{"$f":"IF($H$32=\"Yes\",'SWIMMING POOL'!$D$19*0.001,0)","v":0},0,0,0,null,0,3.4246575342465752E-3]
[null,null,"2022-07-24",{"$f":"_xlfn.IFNA(IF(D$682=\"Custom\",(HLOOKUP('RAINFALL OUTPUT'!C$14,'RAINFALL OUTPUT'!O$35:X$400,_xlfn.CONCAT(C888)-44560,FALSE)),(HLOOKUP(D$682,H$682:L$1048,_xlfn.CONCAT(C888)-44559,FALSE))),\"\")","v":""},null,{"$error":"#VALUE!"},null,9.6,0.4,0.4,0,24.8,"2014-09-13",0,0,0,0,0,0,0,0,0,0,0,{"$f":"IF($H$32=\"Yes\",'SWIMMING POOL'!$D$19*0.001,0)","v":0},0,0,0,null,0,3.4246575342465752E-3]
[null,null,"2022-07-25",{"$f":"_xlfn.IFNA(IF(D$682=\"Custom\",(HLOOKUP('RAINFALL OUTPUT'!C$14,'RAINFALL OUTPUT'!O$35:X$400,_xlfn.CONCAT(C889)-44560,FALSE)),(HLOOKUP(D$682,H$682:L$1048,_xlfn.CONCAT(C889)-44559,FALSE))),\"\")","v":""},null,{"$error":"#VALUE!"},null,1.4,3.4,2.2000000000000002,0.2,5.2,"2014-09-14",{"$f":"IF($D$32=\"Yes\",$E$116/365,0)","v":0},{"$f":"IF($D$32=\"Yes\",$E$117/365,0)","v":0},{"$f":"IF($D$32=\"Yes\",$E$118/365,0)","v":0},{"$f":"IF($D$32=\"Yes\",$E$119/365,0)","v":0},{"$f":"IF($D$32=\"Yes\",$E$120/365,0)","v":0},{"$f":"IF($D$37=\"Yes\",$L$141/365,0)","v":0},{"$f":"IF($D$37=\"Yes\",$L$158/365,0)","v":0},{"$f":"IF($H$165=$W$167,(VLOOKUP(MONTH(M889),$N$172:$W$183,8)/VLOOKUP(MONTH(M889),$N$172:$S$183,6))+(VLOOKUP(MONTH(M889),$N$172:$W$183,9)/VLOOKUP(MONTH(M889),$N$172:$S$183,6)),0)","v":0},{"$f":"IF($H$165=$W$167,(VLOOKUP(MONTH(M889),$N$172:$W$183,10)/VLOOKUP(MONTH(M889),$N$172:$S$183,6)),0)","v":0},{"$f":"IF($D$46=\"Yes\",$J$271,0)","v":0},{"$f":"IF($D$50=\"Yes\",HLOOKUP(MONTH(M889),$T$294:$AE$295,2)*0.001,0)","v":0},{"$f":"IF($H$32=\"Yes\",'SWIMMING POOL'!$D$19*0.001,0)","v":0},0,{"$f":"IF($H$41=\"Yes\",SUM($E$391:$E$392)*0.001,0)","v":0},{"$f":"IF(AND($H$46=\"Yes\", $H$47=\"Yes\"), $G$404/365, 0)","v":0},null,0,3.4246575342465752E-3]
[null,null,"2022-07-27",{"$f":"_xlfn.IFNA(IF(D$682=\"Custom\",(HLOOKUP('RAINFALL OUTPUT'!C$14,'RAINFALL OUTPUT'!O$35:X$400,_xlfn.CONCAT(C891)-44560,FALSE)),(HLOOKUP(D$682,H$682:L$1048,_xlfn.CONCAT(C891)-44559,FALSE))),\"\")","v":""},null,{"$error":"#VALUE!"},null,1,0,0,3.4,0,"2014-09-16",0,0,0,0,0,0,0,0,0,0,0,{"$f":"IF($H$32=\"Yes\",'SWIMMING POOL'!$D$19*0.001,0)","v":0},0,0,0,null,0,{"$f":"SUM(N891:T891,V891,AB891,$X$326/365*0.001)","v":3.4246575342465752E-3}]
[null,null,"2022-07-30",{"$f":"_xlfn.IFNA(IF(D$682=\"Custom\",(HLOOKUP('RAINFALL OUTPUT'!C$14,'RAINFALL OUTPUT'!O$35:X$400,_xlfn.CONCAT(C894)-44560,FALSE)),(HLOOKUP(D$682,H$682:L$1048,_xlfn.CONCAT(C894)-44559,FALSE))),\"\")","v":""},null,{"$error":"#VALUE!"},null,0.4,0,4.5999999999999996,1.2,0,"2014-09-19",0,0,0,0,0,0,0,0,0,0,0,{"$f":"IF($H$32=\"Yes\",'SWIMMING POOL'!$D$19*0.001,0)","v":0},0,0,0,null,0,3.4246575342465752E-3]
[null,null,"2022-08-03",{"$f":"_xlfn.IFNA(IF(D$682=\"Custom\",(HLOOKUP('RAINFALL OUTPUT'!C$14,'RAINFALL OUTPUT'!O$35:X$400,_xlfn.CONCAT(C898)-44560,FALSE)),(HLOOKUP(D$682,H$682:L$1048,_xlfn.CONCAT(C898)-44559,FALSE))),\"\")","v":""},null,{"$error":"#VALUE!"},null,0,0,0,0.2,0,"2014-09-23",0,0,0,0,0,0,0,0,0,0,0,{"$f":"IF($H$32=\"Yes\",'SWIMMING POOL'!$D$19*0.001,0)","v":0},0,0,0,null,0,3.4246575342465752E-3]
[null,null,"2022-08-06",{"$f":"_xlfn.IFNA(IF(D$682=\"Custom\",(HLOOKUP('RAINFALL OUTPUT'!C$14,'RAINFALL OUTPUT'!O$35:X$400,_xlfn.CONCAT(C901)-44560,FALSE)),(HLOOKUP(D$682,H$682:L$1048,_xlfn.CONCAT(C901)-44559,FALSE))),\"\")","v":""},null,{"$error":"#VALUE!"},null,9,0,3.6,30.4,0,"2014-09-26",0,0,0,0,0,0,0,0,0,0,0,{"$f":"IF($H$32=\"Yes\",'SWIMMING POOL'!$D$19*0.001,0)","v":0},0,0,0,null,0,3.4246575342465752E-3]
[null,null,"2022-08-09",{"$f":"_xlfn.IFNA(IF(D$682=\"Custom\",(HLOOKUP('RAINFALL OUTPUT'!C$14,'RAINFALL OUTPUT'!O$35:X$400,_xlfn.CONCAT(C904)-44560,FALSE)),(HLOOKUP(D$682,H$682:L$1048,_xlfn.CONCAT(C904)-44559,FALSE))),\"\")","v":""},null,{"$error":"#VALUE!"},null,0,0,0.4,9,0,"2014-09-29",0,0,0,0,0,0,0,0,0,0,0,{"$f":"IF($H$32=\"Yes\",'SWIMMING POOL'!$D$19*0.001,0)","v":0},0,0,0,null,0,3.4246575342465752E-3]
[null,null,"2022-08-13",{"$f":"_xlfn.IFNA(IF(D$682=\"Custom\",(HLOOKUP('RAINFALL OUTPUT'!C$14,'RAINFALL OUTPUT'!O$35:X$400,_xlfn.CONCAT(C908)-44560,FALSE)),(HLOOKUP(D$682,H$682:L$1048,_xlfn.CONCAT(C908)-44559,FALSE))),\"\")","v":""},null,{"$error":"#VALUE!"},null,1.4,0,0.2,0,17.8,"2014-10-03",0,0,0,0,0,0,0,0,0,0,0,{"$f":"IF($H$32=\"Yes\",'SWIMMING POOL'!$D$19*0.001,0)","v":0},0,0,0,null,0,3.4246575342465752E-3]
[null,null,"2022-08-16",{"$f":"_xlfn.IFNA(IF(D$682=\"Custom\",(HLOOKUP('RAINFALL OUTPUT'!C$14,'RAINFALL OUTPUT'!O$35:X$400,_xlfn.CONCAT(C911)-44560,FALSE)),(HLOOKUP(D$682,H$682:L$1048,_xlfn.CONCAT(C911)-44559,FALSE))),\"\")","v":""},null,{"$error":"#VALUE!"},null,0,5.6,10.8,0,15.6,"2014-10-06",0,0,0,0,0,0,0,0,0,0,0,{"$f":"IF($H$32=\"Yes\",'SWIMMING POOL'!$D$19*0.001,0)","v":0},0,0,0,null,0,3.4246575342465752E-3]
[null,null,"2022-08-17",{"$f":"_xlfn.IFNA(IF(D$682=\"Custom\",(HLOOKUP('RAINFALL OUTPUT'!C$14,'RAINFALL OUTPUT'!O$35:X$400,_xlfn.CONCAT(C912)-44560,FALSE)),(HLOOKUP(D$682,H$682:L$1048,_xlfn.CONCAT(C912)-44559,FALSE))),\"\")","v":""},null,{"$error":"#VALUE!"},null,0,27.4,9.6,0,19.399999999999999,"2014-10-07",0,0,0,0,0,0,0,0,0,0,0,{"$f":"IF($H$32=\"Yes\",'SWIMMING POOL'!$D$19*0.001,0)","v":0},0,0,0,null,0,3.4246575342465752E-3]
[null,null,"2022-08-20",{"$f":"_xlfn.IFNA(IF(D$682=\"Custom\",(HLOOKUP('RAINFALL OUTPUT'!C$14,'RAINFALL OUTPUT'!O$35:X$400,_xlfn.CONCAT(C915)-44560,FALSE)),(HLOOKUP(D$682,H$682:L$1048,_xlfn.CONCAT(C915)-44559,FALSE))),\"\")","v":""},null,{"$error":"#VALUE!"},null,0,0,0,3.6,1.6,"2014-10-10",0,0,0,0,0,0,0,0,0,0,0,{"$f":"IF($H$32=\"Yes\",'SWIMMING POOL'!$D$19*0.001,0)","v":0},0,0,0,null,0,3.4246575342465752E-3]
[null,null,"2022-08-23",{"$f":"_xlfn.IFNA(IF(D$682=\"Custom\",(HLOOKUP('RAINFALL OUTPUT'!C$14,'RAINFALL OUTPUT'!O$35:X$400,_xlfn.CONCAT(C918)-44560,FALSE)),(HLOOKUP(D$682,H$682:L$1048,_xlfn.CONCAT(C918)-44559,FALSE))),\"\")","v":""},null,{"$error":"#VALUE!"},null,0,0,0,0,0,"2014-10-13",0,0,0,0,0,0,0,0,0,0,0,{"$f":"IF($H$32=\"Yes\",'SWIMMING POOL'!$D$19*0.001,0)","v":0},0,0,0,null,0,3.4246575342465752E-3]
[null,null,"2022-08-27",{"$f":"_xlfn.IFNA(IF(D$682=\"Custom\",(HLOOKUP('RAINFALL OUTPUT'!C$14,'RAINFALL OUTPUT'!O$35:X$400,_xlfn.CONCAT(C922)-44560,FALSE)),(HLOOKUP(D$682,H$682:L$1048,_xlfn.CONCAT(C922)-44559,FALSE))),\"\")","v":""},null,{"$error":"#VALUE!"},null,0.8,0,0,0,0,"2014-10-17",0,0,0,0,0,0,0,0,0,0,0,{"$f":"IF($H$32=\"Yes\",'SWIMMING POOL'!$D$19*0.001,0)","v":0},0,0,0,null,0,3.4246575342465752E-3]
[null,null,"2022-08-30",{"$f":"_xlfn.IFNA(IF(D$682=\"Custom\",(HLOOKUP('RAINFALL OUTPUT'!C$14,'RAINFALL OUTPUT'!O$35:X$400,_xlfn.CONCAT(C925)-44560,FALSE)),(HLOOKUP(D$682,H$682:L$1048,_xlfn.CONCAT(C925)-44559,FALSE))),\"\")","v":""},null,{"$error":"#VALUE!"},null,2,0,0,7.4,0,"2014-10-20",0,0,0,0,0,0,0,0,0,0,0,{"$f":"IF($H$32=\"Yes\",'SWIMMING POOL'!$D$19*0.001,0)","v":0},0,0,0,null,0,3.4246575342465752E-3]
[null,null,"2022-09-03",{"$f":"_xlfn.IFNA(IF(D$682=\"Custom\",(HLOOKUP('RAINFALL OUTPUT'!C$14,'RAINFALL OUTPUT'!O$35:X$400,_xlfn.CONCAT(C929)-44560,FALSE)),(HLOOKUP(D$682,H$682:L$1048,_xlfn.CONCAT(C929)-44559,FALSE))),\"\")","v":""},null,{"$error":"#VALUE!"},null,0.6,0,0.4,10.4,0,"2014-10-24",0,0,0,0,0,0,0,0,0,0,0,{"$f":"IF($H$32=\"Yes\",'SWIMMING POOL'!$D$19*0.001,0)","v":0},0,0,0,null,0,3.4246575342465752E-3]
[null,null,"2022-09-06",{"$f":"_xlfn.IFNA(IF(D$682=\"Custom\",(HLOOKUP('RAINFALL OUTPUT'!C$14,'RAINFALL OUTPUT'!O$35:X$400,_xlfn.CONCAT(C932)-44560,FALSE)),(HLOOKUP(D$682,H$682:L$1048,_xlfn.CONCAT(C932)-44559,FALSE))),\"\")","v":""},null,{"$error":"#VALUE!"},null,1.6,0,0,6,0,"2014-10-27",0,0,0,0,0,0,0,0,0,0,0,{"$f":"IF($H$32=\"Yes\",'SWIMMING POOL'!$D$19*0.001,0)","v":0},0,0,0,null,0,3.4246575342465752E-3]
[null,null,"2022-09-09",{"$f":"_xlfn.IFNA(IF(D$682=\"Custom\",(HLOOKUP('RAINFALL OUTPUT'!C$14,'RAINFALL OUTPUT'!O$35:X$400,_xlfn.CONCAT(C935)-44560,FALSE)),(HLOOKUP(D$682,H$682:L$1048,_xlfn.CONCAT(C935)-44559,FALSE))),\"\")","v":""},null,{"$error":"#VALUE!"},null,0.2,0,0.4,0,0,"2014-10-30",0,0,0,0,0,0,0,0,0,0,0,{"$f":"IF($H$32=\"Yes\",'SWIMMING POOL'!$D$19*0.001,0)","v":0},0,0,0,null,0,3.4246575342465752E-3]
[null,null,"2022-09-10",{"$f":"_xlfn.IFNA(IF(D$682=\"Custom\",(HLOOKUP('RAINFALL OUTPUT'!C$14,'RAINFALL OUTPUT'!O$35:X$400,_xlfn.CONCAT(C936)-44560,FALSE)),(HLOOKUP(D$682,H$682:L$1048,_xlfn.CONCAT(C936)-44559,FALSE))),\"\")","v":""},null,{"$error":"#VALUE!"},null,0,0,0,0,0,"2014-10-31",0,0,0,0,0,0,0,0,0,0,0,{"$f":"IF($H$32=\"Yes\",'SWIMMING POOL'!$D$19*0.001,0)","v":0},0,0,0,null,0,3.4246575342465752E-3]
[null,null,"2022-09-13",{"$f":"_xlfn.IFNA(IF(D$682=\"Custom\",(HLOOKUP('RAINFALL OUTPUT'!C$14,'RAINFALL OUTPUT'!O$35:X$400,_xlfn.CONCAT(C939)-44560,FALSE)),(HLOOKUP(D$682,H$682:L$1048,_xlfn.CONCAT(C939)-44559,FALSE))),\"\")","v":""},null,{"$error":"#VALUE!"},null,0,1.2,2,0,5.4,"2014-11-03",0,0,0,0,0,0,0,0,0,0,0,{"$f":"IF($H$32=\"Yes\",'SWIMMING POOL'!$D$19*0.001,0)","v":0},0,0,0,null,0,3.4246575342465752E-3]
[null,null,"2022-09-16",{"$f":"_xlfn.IFNA(IF(D$682=\"Custom\",(HLOOKUP('RAINFALL OUTPUT'!C$14,'RAINFALL OUTPUT'!O$35:X$400,_xlfn.CONCAT(C942)-44560,FALSE)),(HLOOKUP(D$682,H$682:L$1048,_xlfn.CONCAT(C942)-44559,FALSE))),\"\")","v":""},null,{"$error":"#VALUE!"},null,7.4,2,2.8,0,1,"2014-11-06",0,0,0,0,0,0,0,0,0,0,0,{"$f":"IF($H$32=\"Yes\",'SWIMMING POOL'!$D$19*0.001,0)","v":0},0,0,0,null,0,3.4246575342465752E-3]
[null,null,"2022-09-20",{"$f":"_xlfn.IFNA(IF(D$682=\"Custom\",(HLOOKUP('RAINFALL OUTPUT'!C$14,'RAINFALL OUTPUT'!O$35:X$400,_xlfn.CONCAT(C946)-44560,FALSE)),(HLOOKUP(D$682,H$682:L$1048,_xlfn.CONCAT(C946)-44559,FALSE))),\"\")","v":""},null,{"$error":"#VALUE!"},null,0,3.4,1.8,9.6,4.2,"2014-11-10",0,0,0,0,0,0,0,0,0,0,0,{"$f":"IF($H$32=\"Yes\",'SWIMMING POOL'!$D$19*0.001,0)","v":0},0,0,0,null,0,3.4246575342465752E-3]
[null,null,"2022-09-23",{"$f":"_xlfn.IFNA(IF(D$682=\"Custom\",(HLOOKUP('RAINFALL OUTPUT'!C$14,'RAINFALL OUTPUT'!O$35:X$400,_xlfn.CONCAT(C949)-44560,FALSE)),(HLOOKUP(D$682,H$682:L$1048,_xlfn.CONCAT(C949)-44559,FALSE))),\"\")","v":""},null,{"$error":"#VALUE!"},null,0.4,0,1.4,5.4,0,"2014-11-13",0,0,0,0,0,0,0,0,0,0,0,{"$f":"IF($H$32=\"Yes\",'SWIMMING POOL'!$D$19*0.001,0)","v":0},0,0,0,null,0,3.4246575342465752E-3]
[null,null,"2022-09-27",{"$f":"_xlfn.IFNA(IF(D$682=\"Custom\",(HLOOKUP('RAINFALL OUTPUT'!C$14,'RAINFALL OUTPUT'!O$35:X$400,_xlfn.CONCAT(C953)-44560,FALSE)),(HLOOKUP(D$682,H$682:L$1048,_xlfn.CONCAT(C953)-44559,FALSE))),\"\")","v":""},null,{"$error":"#VALUE!"},null,0.2,0,0,0,0,"2014-11-17",{"$f":"IF($D$32=\"Yes\",$E$116/365,0)","v":0},{"$f":"IF($D$32=\"Yes\",$E$117/365,0)","v":0},{"$f":"IF($D$32=\"Yes\",$E$118/365,0)","v":0},{"$f":"IF($D$32=\"Yes\",$E$119/365,0)","v":0},{"$f":"IF($D$32=\"Yes\",$E$120/365,0)","v":0},{"$f":"IF($D$37=\"Yes\",$L$141/365,0)","v":0},{"$f":"IF($D$37=\"Yes\",$L$158/365,0)","v":0},{"$f":"IF($H$165=$W$167,(VLOOKUP(MONTH(M953),$N$172:$W$183,8)/VLOOKUP(MONTH(M953),$N$172:$S$183,6))+(VLOOKUP(MONTH(M953),$N$172:$W$183,9)/VLOOKUP(MONTH(M953),$N$172:$S$183,6)),0)","v":0},{"$f":"IF($H$165=$W$167,(VLOOKUP(MONTH(M953),$N$172:$W$183,10)/VLOOKUP(MONTH(M953),$N$172:$S$183,6)),0)","v":0},{"$f":"IF($D$46=\"Yes\",$J$271,0)","v":0},{"$f":"IF($D$50=\"Yes\",HLOOKUP(MONTH(M953),$T$294:$AE$295,2)*0.001,0)","v":0},{"$f":"IF($H$32=\"Yes\",'SWIMMING POOL'!$D$19*0.001,0)","v":0},0,{"$f":"IF($H$41=\"Yes\",SUM($E$391:$E$392)*0.001,0)","v":0},{"$f":"IF(AND($H$46=\"Yes\", $H$47=\"Yes\"), $G$404/365, 0)","v":0},null,0,3.4246575342465752E-3]
[null,null,"2022-09-30",{"$f":"_xlfn.IFNA(IF(D$682=\"Custom\",(HLOOKUP('RAINFALL OUTPUT'!C$14,'RAINFALL OUTPUT'!O$35:X$400,_xlfn.CONCAT(C956)-44560,FALSE)),(HLOOKUP(D$682,H$682:L$1048,_xlfn.CONCAT(C956)-44559,FALSE))),\"\")","v":""},null,{"$error":"#VALUE!"},null,0.2,0,0,0,0,"2014-11-20",0,0,0,0,0,0,0,0,0,0,0,{"$f":"IF($H$32=\"Yes\",'SWIMMING POOL'!$D$19*0.001,0)","v":0},0,0,0,null,0,3.4246575342465752E-3]
[null,null,"2022-10-03",{"$f":"_xlfn.IFNA(IF(D$682=\"Custom\",(HLOOKUP('RAINFALL OUTPUT'!C$14,'RAINFALL OUTPUT'!O$35:X$400,_xlfn.CONCAT(C959)-44560,FALSE)),(HLOOKUP(D$682,H$682:L$1048,_xlfn.CONCAT(C959)-44559,FALSE))),\"\")","v":""},null,{"$error":"#VALUE!"},null,3.8,1,0,6.6,2.2000000000000002,"2014-11-23",0,0,0,0,0,0,0,0,0,0,0,{"$f":"IF($H$32=\"Yes\",'SWIMMING POOL'!$D$19*0.001,0)","v":0},0,0,0,null,0,3.4246575342465752E-3]
[null,null,"2022-10-04",{"$f":"_xlfn.IFNA(IF(D$682=\"Custom\",(HLOOKUP('RAINFALL OUTPUT'!C$14,'RAINFALL OUTPUT'!O$35:X$400,_xlfn.CONCAT(C960)-44560,FALSE)),(HLOOKUP(D$682,H$682:L$1048,_xlfn.CONCAT(C960)-44559,FALSE))),\"\")","v":""},null,{"$error":"#VALUE!"},null,3,19.8,0,0.2,32.799999999999997,"2014-11-24",0,0,0,0,0,0,0,0,0,0,0,{"$f":"IF($H$32=\"Yes\",'SWIMMING POOL'!$D$19*0.001,0)","v":0},0,0,0,null,0,3.4246575342465752E-3]
[null,null,"2022-10-07",{"$f":"_xlfn.IFNA(IF(D$682=\"Custom\",(HLOOKUP('RAINFALL OUTPUT'!C$14,'RAINFALL OUTPUT'!O$35:X$400,_xlfn.CONCAT(C963)-44560,FALSE)),(HLOOKUP(D$682,H$682:L$1048,_xlfn.CONCAT(C963)-44559,FALSE))),\"\")","v":""},null,{"$error":"#VALUE!"},null,6.8,0,0,0,0,"2014-11-27",0,0,0,0,0,0,0,0,0,0,0,{"$f":"IF($H$32=\"Yes\",'SWIMMING POOL'!$D$19*0.001,0)","v":0},0,0,0,null,0,3.4246575342465752E-3]
[null,null,"2022-10-10",{"$f":"_xlfn.IFNA(IF(D$682=\"Custom\",(HLOOKUP('RAINFALL OUTPUT'!C$14,'RAINFALL OUTPUT'!O$35:X$400,_xlfn.CONCAT(C966)-44560,FALSE)),(HLOOKUP(D$682,H$682:L$1048,_xlfn.CONCAT(C966)-44559,FALSE))),\"\")","v":""},null,{"$error":"#VALUE!"},null,1.4,0,0,0,0,"2014-11-30",0,0,0,0,0,0,0,0,0,0,0,{"$f":"IF($H$32=\"Yes\",'SWIMMING POOL'!$D$19*0.001,0)","v":0},0,0,0,null,0,3.4246575342465752E-3]
[null,null,"2022-10-13",{"$f":"_xlfn.IFNA(IF(D$682=\"Custom\",(HLOOKUP('RAINFALL OUTPUT'!C$14,'RAINFALL OUTPUT'!O$35:X$400,_xlfn.CONCAT(C969)-44560,FALSE)),(HLOOKUP(D$682,H$682:L$1048,_xlfn.CONCAT(C969)-44559,FALSE))),\"\")","v":""},null,{"$error":"#VALUE!"},null,0,0,1.8,0.4,5.2,"2014-12-03",0,0,0,0,0,0,0,0,0,0,0,{"$f":"IF($H$32=\"Yes\",'SWIMMING POOL'!$D$19*0.001,0)","v":0},0,0,0,null,0,3.4246575342465752E-3]
[null,null,"2022-10-16",{"$f":"_xlfn.IFNA(IF(D$682=\"Custom\",(HLOOKUP('RAINFALL OUTPUT'!C$14,'RAINFALL OUTPUT'!O$35:X$400,_xlfn.CONCAT(C972)-44560,FALSE)),(HLOOKUP(D$682,H$682:L$1048,_xlfn.CONCAT(C972)-44559,FALSE))),\"\")","v":""},null,{"$error":"#VALUE!"},null,3.4,0,0.2,0,4,"2014-12-06",0,0,0,0,0,0,0,0,0,0,0,{"$f":"IF($H$32=\"Yes\",'SWIMMING POOL'!$D$19*0.001,0)","v":0},0,0,0,null,0,3.4246575342465752E-3]
[null,null,"2022-10-20",{"$f":"_xlfn.IFNA(IF(D$682=\"Custom\",(HLOOKUP('RAINFALL OUTPUT'!C$14,'RAINFALL OUTPUT'!O$35:X$400,_xlfn.CONCAT(C976)-44560,FALSE)),(HLOOKUP(D$682,H$682:L$1048,_xlfn.CONCAT(C976)-44559,FALSE))),\"\")","v":""},null,{"$error":"#VALUE!"},null,0,31.2,0,0,2.4,"2014-12-10",0,0,0,0,0,0,0,0,0,0,0,{"$f":"IF($H$32=\"Yes\",'SWIMMING POOL'!$D$19*0.001,0)","v":0},0,0,0,null,0,3.4246575342465752E-3]
[null,null,"2022-10-23",{"$f":"_xlfn.IFNA(IF(D$682=\"Custom\",(HLOOKUP('RAINFALL OUTPUT'!C$14,'RAINFALL OUTPUT'!O$35:X$400,_xlfn.CONCAT(C979)-44560,FALSE)),(HLOOKUP(D$682,H$682:L$1048,_xlfn.CONCAT(C979)-44559,FALSE))),\"\")","v":""},null,{"$error":"#VALUE!"},null,0,0,0,0.6,0,"2014-12-13",0,0,0,0,0,0,0,0,0,0,0,{"$f":"IF($H$32=\"Yes\",'SWIMMING POOL'!$D$19*0.001,0)","v":0},0,0,0,null,0,3.4246575342465752E-3]
[null,null,"2022-10-26",{"$f":"_xlfn.IFNA(IF(D$682=\"Custom\",(HLOOKUP('RAINFALL OUTPUT'!C$14,'RAINFALL OUTPUT'!O$35:X$400,_xlfn.CONCAT(C982)-44560,FALSE)),(HLOOKUP(D$682,H$682:L$1048,_xlfn.CONCAT(C982)-44559,FALSE))),\"\")","v":""},null,{"$error":"#VALUE!"},null,10.199999999999999,0.2,11,0,0,"2014-12-16",0,0,0,0,0,0,0,0,0,0,0,{"$f":"IF($H$32=\"Yes\",'SWIMMING POOL'!$D$19*0.001,0)","v":0},0,0,0,null,0,3.4246575342465752E-3]
[null,null,"2022-10-27",{"$f":"_xlfn.IFNA(IF(D$682=\"Custom\",(HLOOKUP('RAINFALL OUTPUT'!C$14,'RAINFALL OUTPUT'!O$35:X$400,_xlfn.CONCAT(C983)-44560,FALSE)),(HLOOKUP(D$682,H$682:L$1048,_xlfn.CONCAT(C983)-44559,FALSE))),\"\")","v":""},null,{"$error":"#VALUE!"},null,0.8,2,0,0,11.8,"2014-12-17",0,0,0,0,0,0,0,0,0,0,0,{"$f":"IF($H$32=\"Yes\",'SWIMMING POOL'!$D$19*0.001,0)","v":0},0,0,0,null,0,3.4246575342465752E-3]
[null,null,"2022-10-30",{"$f":"_xlfn.IFNA(IF(D$682=\"Custom\",(HLOOKUP('RAINFALL OUTPUT'!C$14,'RAINFALL OUTPUT'!O$35:X$400,_xlfn.CONCAT(C986)-44560,FALSE)),(HLOOKUP(D$682,H$682:L$1048,_xlfn.CONCAT(C986)-44559,FALSE))),\"\")","v":""},null,{"$error":"#VALUE!"},null,0,0,0.6,2.6,0,"2014-12-20",0,0,0,0,0,0,0,0,0,0,0,{"$f":"IF($H$32=\"Yes\",'SWIMMING POOL'!$D$19*0.001,0)","v":0},0,0,0,null,0,3.4246575342465752E-3]
[null,null,"2022-11-03",{"$f":"_xlfn.IFNA(IF(D$682=\"Custom\",(HLOOKUP('RAINFALL OUTPUT'!C$14,'RAINFALL OUTPUT'!O$35:X$400,_xlfn.CONCAT(C990)-44560,FALSE)),(HLOOKUP(D$682,H$682:L$1048,_xlfn.CONCAT(C990)-44559,FALSE))),\"\")","v":""},null,{"$error":"#VALUE!"},null,0.2,0,3.6,0,0.2,"2014-12-24",0,0,0,0,0,0,0,0,0,0,0,{"$f":"IF($H$32=\"Yes\",'SWIMMING POOL'!$D$19*0.001,0)","v":0},0,0,0,null,0,3.4246575342465752E-3]
[null,null,"2022-11-06",{"$f":"_xlfn.IFNA(IF(D$682=\"Custom\",(HLOOKUP('RAINFALL OUTPUT'!C$14,'RAINFALL OUTPUT'!O$35:X$400,_xlfn.CONCAT(C993)-44560,FALSE)),(HLOOKUP(D$682,H$682:L$1048,_xlfn.CONCAT(C993)-44559,FALSE))),\"\")","v":""},null,{"$error":"#VALUE!"},null,1.6,0,0,0,0,"2014-12-27",0,0,0,0,0,0,0,0,0,0,0,{"$f":"IF($H$32=\"Yes\",'SWIMMING POOL'!$D$19*0.001,0)","v":0},0,0,0,null,0,3.4246575342465752E-3]
[null,null,"2022-11-09",{"$f":"_xlfn.IFNA(IF(D$682=\"Custom\",(HLOOKUP('RAINFALL OUTPUT'!C$14,'RAINFALL OUTPUT'!O$35:X$400,_xlfn.CONCAT(C996)-44560,FALSE)),(HLOOKUP(D$682,H$682:L$1048,_xlfn.CONCAT(C996)-44559,FALSE))),\"\")","v":""},null,{"$error":"#VALUE!"},null,0,0.2,0.2,0,0.8,"2014-12-30",0,0,0,0,0,0,0,0,0,0,0,{"$f":"IF($H$32=\"Yes\",'SWIMMING POOL'!$D$19*0.001,0)","v":0},0,0,0,null,0,3.4246575342465752E-3]
[null,null,"2022-11-13",{"$f":"_xlfn.IFNA(IF(D$682=\"Custom\",(HLOOKUP('RAINFALL OUTPUT'!C$14,'RAINFALL OUTPUT'!O$35:X$400,_xlfn.CONCAT(C1000)-44560,FALSE)),(HLOOKUP(D$682,H$682:L$1048,_xlfn.CONCAT(C1000)-44559,FALSE))),\"\")","v":""},null,{"$error":"#VALUE!"},null,0.4,1.2,0.4,0,3]
[null,null,"2022-11-16",{"$f":"_xlfn.IFNA(IF(D$682=\"Custom\",(HLOOKUP('RAINFALL OUTPUT'!C$14,'RAINFALL OUTPUT'!O$35:X$400,_xlfn.CONCAT(C1003)-44560,FALSE)),(HLOOKUP(D$682,H$682:L$1048,_xlfn.CONCAT(C1003)-44559,FALSE))),\"\")","v":""},null,{"$error":"#VALUE!"},null,9.1999999999999993,8,0,19.8,6.4,null,"Toilets","Urinals","Taps","Showers - occupants","Showers - sports","Washing machines","Dishwashers","Evap + Drift","Bleed + other","Washdown","Landscape irrigation","Pools","Test Fire Water","Process cooling","Dead Legs on Hot Water Runs",null,"WAT-1 total water demand","Discharge to sewer","Daily Rainwater demand","Daily Greywater demand ","Daily Blackwater demand","Daily storm/otherwater demand","Condensate Recovery Demand","Wat-1 Mains-only demand","Daily Rainwater demand","Daily Greywater demand ","Daily Blackwater demand","Daily storm/otherwater demand","Condensate Recovery Demand","Wat-1 Mains-only demand"]
[null,null,"2022-11-19",{"$f":"_xlfn.IFNA(IF(D$682=\"Custom\",(HLOOKUP('RAINFALL OUTPUT'!C$14,'RAINFALL OUTPUT'!O$35:X$400,_xlfn.CONCAT(C1006)-44560,FALSE)),(HLOOKUP(D$682,H$682:L$1048,_xlfn.CONCAT(C1006)-44559,FALSE))),\"\")","v":""},null,{"$error":"#VALUE!"},null,0,0,1.8,0,4,"2014-01-03",0,0,0,0,0,0,0,0,0,0,0,{"$f":"IF($H$32=\"Yes\",'SWIMMING POOL'!$B$19*0.001,0)","v":0},0,0,0,null,0,{"$f":"SUM(N1006:T1006,V1006, AB1006,$X$327/365*0.001)","v":6.8493150684931507E-4},0,0,0,0,0,0,0,0,0,0,0,0]
[null,null,"2022-11-20",{"$f":"_xlfn.IFNA(IF(D$682=\"Custom\",(HLOOKUP('RAINFALL OUTPUT'!C$14,'RAINFALL OUTPUT'!O$35:X$400,_xlfn.CONCAT(C1007)-44560,FALSE)),(HLOOKUP(D$682,H$682:L$1048,_xlfn.CONCAT(C1007)-44559,FALSE))),\"\")","v":""},null,{"$error":"#VALUE!"},null,0.2,0,5.4,0.4,0,"2014-01-04",0,0,0,0,0,0,0,0,0,0,0,{"$f":"IF($H$32=\"Yes\",'SWIMMING POOL'!$B$19*0.001,0)","v":0},0,0,0,null,0,{"$f":"SUM(N1007:T1007,V1007,AB1007,$X$327/365*0.001,)","v":6.8493150684931507E-4},0,0,0,0,0,0,0,0,0,0,0,0]
[null,null,"2022-11-23",{"$f":"_xlfn.IFNA(IF(D$682=\"Custom\",(HLOOKUP('RAINFALL OUTPUT'!C$14,'RAINFALL OUTPUT'!O$35:X$400,_xlfn.CONCAT(C1010)-44560,FALSE)),(HLOOKUP(D$682,H$682:L$1048,_xlfn.CONCAT(C1010)-44559,FALSE))),\"\")","v":""},null,{"$error":"#VALUE!"},null,0,0,0,0,0,"2014-01-07",0,0,0,0,0,0,0,0,0,0,0,{"$f":"IF($H$32=\"Yes\",'SWIMMING POOL'!$B$19*0.001,0)","v":0},0,0,0,null,0,{"$f":"SUM(N1010:T1010,V1010, AB1010,$X$327/365*0.001)","v":6.8493150684931507E-4},0,0,0,0,0,0,0,0,0,0,0,0]
[null,null,"2022-11-27",{"$f":"_xlfn.IFNA(IF(D$682=\"Custom\",(HLOOKUP('RAINFALL OUTPUT'!C$14,'RAINFALL OUTPUT'!O$35:X$400,_xlfn.CONCAT(C1014)-44560,FALSE)),(HLOOKUP(D$682,H$682:L$1048,_xlfn.CONCAT(C1014)-44559,FALSE))),\"\")","v":""},null,{"$error":"#VALUE!"},null,0.4,0,0,0,0,"2014-01-11",0,0,0,0,0,0,0,0,0,0,0,{"$f":"IF($H$32=\"Yes\",'SWIMMING POOL'!$B$19*0.001,0)","v":0},0,0,0,null,0,{"$f":"SUM(N1014:T1014,V1014, AB1014,$X$327/365*0.001)","v":6.8493150684931507E-4},0,0,0,0,0,0,0,0,0,0,0,0]
[null,null,"2022-11-30",{"$f":"_xlfn.IFNA(IF(D$682=\"Custom\",(HLOOKUP('RAINFALL OUTPUT'!C$14,'RAINFALL OUTPUT'!O$35:X$400,_xlfn.CONCAT(C1017)-44560,FALSE)),(HLOOKUP(D$682,H$682:L$1048,_xlfn.CONCAT(C1017)-44559,FALSE))),\"\")","v":""},null,{"$error":"#VALUE!"},null,0,0,0,0,0,"2014-01-14",0,0,0,0,0,0,0,0,0,0,0,{"$f":"IF($H$32=\"Yes\",'SWIMMING POOL'!$B$19*0.001,0)","v":0},0,0,0,null,0,{"$f":"SUM(N1017:T1017,V1017,AB1017,$X$327/365*0.001,)","v":6.8493150684931507E-4},0,0,0,0,0,0,0,0,0,0,0,0]
[null,null,"2022-12-03",{"$f":"_xlfn.IFNA(IF(D$682=\"Custom\",(HLOOKUP('RAINFALL OUTPUT'!C$14,'RAINFALL OUTPUT'!O$35:X$400,_xlfn.CONCAT(C1020)-44560,FALSE)),(HLOOKUP(D$682,H$682:L$1048,_xlfn.CONCAT(C1020)-44559,FALSE))),\"\")","v":""},null,{"$error":"#VALUE!"},null,0,0,0,0,0,"2014-01-17",0,0,0,0,0,0,0,0,0,0,0,{"$f":"IF($H$32=\"Yes\",'SWIMMING POOL'!$B$19*0.001,0)","v":0},0,0,0,null,0,{"$f":"SUM(N1020:T1020,V1020, AB1020,$X$327/365*0.001)","v":6.8493150684931507E-4},0,0,0,0,0,0,0,0,0,0,0,0]
[null,null,"2022-12-07",{"$f":"_xlfn.IFNA(IF(D$682=\"Custom\",(HLOOKUP('RAINFALL OUTPUT'!C$14,'RAINFALL OUTPUT'!O$35:X$400,_xlfn.CONCAT(C1024)-44560,FALSE)),(HLOOKUP(D$682,H$682:L$1048,_xlfn.CONCAT(C1024)-44559,FALSE))),\"\")","v":""},null,{"$error":"#VALUE!"},null,0,28,3.4,2.8,21.4,"2014-01-21",0,0,0,0,0,0,0,0,0,0,0,{"$f":"IF($H$32=\"Yes\",'SWIMMING POOL'!$B$19*0.001,0)","v":0},0,0,0,null,0,{"$f":"SUM(N1024:T1024,V1024, AB1024,$X$327/365*0.001)","v":6.8493150684931507E-4},0,0,0,0,0,0,0,0,0,0,0,0]
[null,null,"2022-12-10",{"$f":"_xlfn.IFNA(IF(D$682=\"Custom\",(HLOOKUP('RAINFALL OUTPUT'!C$14,'RAINFALL OUTPUT'!O$35:X$400,_xlfn.CONCAT(C1027)-44560,FALSE)),(HLOOKUP(D$682,H$682:L$1048,_xlfn.CONCAT(C1027)-44559,FALSE))),\"\")","v":""},null,{"$error":"#VALUE!"},null,0,0,0,0,0,"2014-01-24",0,0,0,0,0,0,0,0,0,0,0,{"$f":"IF($H$32=\"Yes\",'SWIMMING POOL'!$B$19*0.001,0)","v":0},0,0,0,null,0,{"$f":"SUM(N1027:T1027,V1027,AB1027,$X$327/365*0.001,)","v":6.8493150684931507E-4},0,0,0,0,0,0,0,0,0,0,0,0]
[null,null,"2022-12-13",{"$f":"_xlfn.IFNA(IF(D$682=\"Custom\",(HLOOKUP('RAINFALL OUTPUT'!C$14,'RAINFALL OUTPUT'!O$35:X$400,_xlfn.CONCAT(C1030)-44560,FALSE)),(HLOOKUP(D$682,H$682:L$1048,_xlfn.CONCAT(C1030)-44559,FALSE))),\"\")","v":""},null,{"$error":"#VALUE!"},null,0.6,0,0,20.6,0.6,"2014-01-27",0,0,0,0,0,0,0,0,0,0,0,{"$f":"IF($H$32=\"Yes\",'SWIMMING POOL'!$B$19*0.001,0)","v":0},0,0,0,null,0,{"$f":"SUM(N1030:T1030,V1030, AB1030,$X$327/365*0.001)","v":6.8493150684931507E-4},0,0,0,0,0,0,0,0,0,0,0,0]
[null,null,"2022-12-14",{"$f":"_xlfn.IFNA(IF(D$682=\"Custom\",(HLOOKUP('RAINFALL OUTPUT'!C$14,'RAINFALL OUTPUT'!O$35:X$400,_xlfn.CONCAT(C1031)-44560,FALSE)),(HLOOKUP(D$682,H$682:L$1048,_xlfn.CONCAT(C1031)-44559,FALSE))),\"\")","v":""},null,{"$error":"#VALUE!"},null,0,0,0,0,0,"2014-01-28",0,0,0,0,0,0,0,0,0,0,0,{"$f":"IF($H$32=\"Yes\",'SWIMMING POOL'!$B$19*0.001,0)","v":0},0,0,0,null,0,{"$f":"SUM(N1031:T1031,V1031,AB1031,$X$327/365*0.001,)","v":6.8493150684931507E-4},0,0,0,0,0,0,0,0,0,0,0,0]
[null,null,"2022-12-17",{"$f":"_xlfn.IFNA(IF(D$682=\"Custom\",(HLOOKUP('RAINFALL OUTPUT'!C$14,'RAINFALL OUTPUT'!O$35:X$400,_xlfn.CONCAT(C1034)-44560,FALSE)),(HLOOKUP(D$682,H$682:L$1048,_xlfn.CONCAT(C1034)-44559,FALSE))),\"\")","v":""},null,{"$error":"#VALUE!"},null,0,5.2,0.2,0.6,6.6,"2014-01-31",0,0,0,0,0,0,0,0,0,0,0,{"$f":"IF($H$32=\"Yes\",'SWIMMING POOL'!$B$19*0.001,0)","v":0},0,0,0,null,0,{"$f":"SUM(N1034:T1034,V1034, AB1034,$X$327/365*0.001)","v":6.8493150684931507E-4},0,0,0,0,0,0,0,0,0,0,0,0]
[null,null,"2022-12-21",{"$f":"_xlfn.IFNA(IF(D$682=\"Custom\",(HLOOKUP('RAINFALL OUTPUT'!C$14,'RAINFALL OUTPUT'!O$35:X$400,_xlfn.CONCAT(C1038)-44560,FALSE)),(HLOOKUP(D$682,H$682:L$1048,_xlfn.CONCAT(C1038)-44559,FALSE))),\"\")","v":""},null,{"$error":"#VALUE!"},null,0,0,0,0,0,"2014-02-04",0,0,0,0,0,0,0,0,0,0,0,{"$f":"IF($H$32=\"Yes\",'SWIMMING POOL'!$B$19*0.001,0)","v":0},0,0,0,null,0,{"$f":"SUM(N1038:T1038,V1038, AB1038,$X$327/365*0.001)","v":6.8493150684931507E-4},0,0,0,0,0,0,0,0,0,0,0,0]
[null,null,"2022-12-24",{"$f":"_xlfn.IFNA(IF(D$682=\"Custom\",(HLOOKUP('RAINFALL OUTPUT'!C$14,'RAINFALL OUTPUT'!O$35:X$400,_xlfn.CONCAT(C1041)-44560,FALSE)),(HLOOKUP(D$682,H$682:L$1048,_xlfn.CONCAT(C1041)-44559,FALSE))),\"\")","v":""},null,{"$error":"#VALUE!"},null,1.8,0,0,0.2,0,"2014-02-07",0,0,0,0,0,0,0,0,0,0,0,{"$f":"IF($H$32=\"Yes\",'SWIMMING POOL'!$B$19*0.001,0)","v":0},0,0,0,null,0,{"$f":"SUM(N1041:T1041,V1041,AB1041,$X$327/365*0.001,)","v":6.8493150684931507E-4},0,0,0,0,0,0,0,0,0,0,0,0]
[null,null,"2022-12-27",{"$f":"_xlfn.IFNA(IF(D$682=\"Custom\",(HLOOKUP('RAINFALL OUTPUT'!C$14,'RAINFALL OUTPUT'!O$35:X$400,_xlfn.CONCAT(C1044)-44560,FALSE)),(HLOOKUP(D$682,H$682:L$1048,_xlfn.CONCAT(C1044)-44559,FALSE))),\"\")","v":""},null,{"$error":"#VALUE!"},null,0,0,0,0,0,"2014-02-10",0,0,0,0,0,0,0,0,0,0,0,{"$f":"IF($H$32=\"Yes\",'SWIMMING POOL'!$B$19*0.001,0)","v":0},0,0,0,null,0,{"$f":"SUM(N1044:T1044,V1044, AB1044,$X$327/365*0.001)","v":6.8493150684931507E-4},0,0,0,0,0,0,0,0,0,0,0,0]
[null,null,"2022-12-30",{"$f":"_xlfn.IFNA(IF(D$682=\"Custom\",(HLOOKUP('RAINFALL OUTPUT'!C$14,'RAINFALL OUTPUT'!O$35:X$400,_xlfn.CONCAT(C1047)-44560,FALSE)),(HLOOKUP(D$682,H$682:L$1048,_xlfn.CONCAT(C1047)-44559,FALSE))),\"\")","v":""},null,{"$error":"#VALUE!"},null,0,1.2,4.4000000000000004,0,9.6,"2014-02-13",0,0,0,0,0,0,0,0,0,0,0,{"$f":"IF($H$32=\"Yes\",'SWIMMING POOL'!$B$19*0.001,0)","v":0},0,0,0,null,0,{"$f":"SUM(N1047:T1047,V1047,AB1047,$X$327/365*0.001,)","v":6.8493150684931507E-4},0,0,0,0,0,0,0,0,0,0,0,0]
[null,null,null,null,null,null,null,null,null,null,null,null,"2014-02-16",0,0,0,0,0,0,0,0,0,0,0,{"$f":"IF($H$32=\"Yes\",'SWIMMING POOL'!$B$19*0.001,0)","v":0},0,0,0,null,0,{"$f":"SUM(N1050:T1050,V1050, AB1050,$X$327/365*0.001)","v":6.8493150684931507E-4},0,0,0,0,0,0,0,0,0,0,0,0]
[null,null,null,null,null,null,null,null,null,null,null,null,"2014-02-17",0,0,0,0,0,0,0,0,0,0,0,{"$f":"IF($H$32=\"Yes\",'SWIMMING POOL'!$B$19*0.001,0)","v":0},0,0,0,null,0,{"$f":"SUM(N1051:T1051,V1051,AB1051,$X$327/365*0.001,)","v":6.8493150684931507E-4},0,0,0,0,0,0,0,0,0,0,0,0]
[null,null,null,null,null,null,null,null,null,null,null,null,"2014-02-20",0,0,0,0,0,0,0,0,0,0,0,{"$f":"IF($H$32=\"Yes\",'SWIMMING POOL'!$B$19*0.001,0)","v":0},0,0,0,null,0,{"$f":"SUM(N1054:T1054,V1054, AB1054,$X$327/365*0.001)","v":6.8493150684931507E-4},0,0,0,0,0,0,0,0,0,0,0,0]
[null,null,null,null,null,null,null,null,null,null,null,null,"2014-02-23",0,0,0,0,0,0,0,0,0,0,0,{"$f":"IF($H$32=\"Yes\",'SWIMMING POOL'!$B$19*0.001,0)","v":0},0,0,0,null,0,{"$f":"SUM(N1057:T1057,V1057,AB1057,$X$327/365*0.001,)","v":6.8493150684931507E-4},0,0,0,0,0,0,0,0,0,0,0,0]
[null,null,null,null,null,null,null,null,null,null,null,null,"2014-02-27",0,0,0,0,0,0,0,0,0,0,0,{"$f":"IF($H$32=\"Yes\",'SWIMMING POOL'!$B$19*0.001,0)","v":0},0,0,0,null,0,{"$f":"SUM(N1061:T1061,V1061,AB1061,$X$327/365*0.001,)","v":6.8493150684931507E-4},0,0,0,0,0,0,0,0,0,0,0,0]
[null,null,null,null,null,null,null,null,null,null,null,null,"2014-03-02",0,0,0,0,0,0,0,0,0,0,0,{"$f":"IF($H$32=\"Yes\",'SWIMMING POOL'!$B$19*0.001,0)","v":0},0,0,0,null,0,{"$f":"SUM(N1064:T1064,V1064, AB1064,$X$327/365*0.001)","v":6.8493150684931507E-4},0,0,0,0,0,0,0,0,0,0,0,0]
[null,null,null,null,null,null,null,null,null,null,null,null,"2014-03-05",0,0,0,0,0,0,0,0,0,0,0,{"$f":"IF($H$32=\"Yes\",'SWIMMING POOL'!$B$19*0.001,0)","v":0},0,0,0,null,0,{"$f":"SUM(N1067:T1067,V1067,AB1067,$X$327/365*0.001,)","v":6.8493150684931507E-4},0,0,0,0,0,0,0,0,0,0,0,0]
[null,null,null,null,null,null,null,null,null,null,null,null,"2014-03-09",0,0,0,0,0,0,0,0,0,0,0,{"$f":"IF($H$32=\"Yes\",'SWIMMING POOL'!$B$19*0.001,0)","v":0},0,0,0,null,0,{"$f":"SUM(N1071:T1071,V1071,AB1071,$X$327/365*0.001,)","v":6.8493150684931507E-4},0,0,0,0,0,0,0,0,0,0,0,0]
[null,null,null,null,null,null,null,null,null,null,null,null,"2014-03-12",0,0,0,0,0,0,0,0,0,0,0,{"$f":"IF($H$32=\"Yes\",'SWIMMING POOL'!$B$19*0.001,0)","v":0},0,0,0,null,0,{"$f":"SUM(N1074:T1074,V1074, AB1074,$X$327/365*0.001)","v":6.8493150684931507E-4},0,0,0,0,0,0,0,0,0,0,0,0]
[null,null,null,null,null,null,null,null,null,null,null,null,"2014-03-13",0,0,0,0,0,0,0,0,0,0,0,{"$f":"IF($H$32=\"Yes\",'SWIMMING POOL'!$B$19*0.001,0)","v":0},0,0,0,null,0,{"$f":"SUM(N1075:T1075,V1075,AB1075,$X$327/365*0.001,)","v":6.8493150684931507E-4},0,0,0,0,0,0,0,0,0,0,0,0]
[null,null,null,null,null,null,null,null,null,null,null,null,"2014-03-16",0,0,0,0,0,0,0,0,0,0,0,{"$f":"IF($H$32=\"Yes\",'SWIMMING POOL'!$B$19*0.001,0)","v":0},0,0,0,null,0,{"$f":"SUM(N1078:T1078,V1078, AB1078,$X$327/365*0.001)","v":6.8493150684931507E-4},0,0,0,0,0,0,0,0,0,0,0,0]
[null,null,null,null,null,null,null,null,null,null,null,null,"2014-03-19",0,0,0,0,0,0,0,0,0,0,0,{"$f":"IF($H$32=\"Yes\",'SWIMMING POOL'!$B$19*0.001,0)","v":0},0,0,0,null,0,{"$f":"SUM(N1081:T1081,V1081,AB1081,$X$327/365*0.001,)","v":6.8493150684931507E-4},0,0,0,0,0,0,0,0,0,0,0,0]
[null,null,null,null,null,null,null,null,null,null,null,null,"2014-03-23",0,0,0,0,0,0,0,0,0,0,0,{"$f":"IF($H$32=\"Yes\",'SWIMMING POOL'!$B$19*0.001,0)","v":0},0,0,0,null,0,{"$f":"SUM(N1085:T1085,V1085,AB1085,$X$327/365*0.001,)","v":6.8493150684931507E-4},0,0,0,0,0,0,0,0,0,0,0,0]
[null,null,null,null,null,null,null,null,null,null,null,null,"2014-03-26",0,0,0,0,0,0,0,0,0,0,0,{"$f":"IF($H$32=\"Yes\",'SWIMMING POOL'!$B$19*0.001,0)","v":0},0,0,0,null,0,{"$f":"SUM(N1088:T1088,V1088, AB1088,$X$327/365*0.001)","v":6.8493150684931507E-4},0,0,0,0,0,0,0,0,0,0,0,0]
[null,null,null,null,null,null,null,null,null,null,null,null,"2014-03-30",0,0,0,0,0,0,0,0,0,0,0,{"$f":"IF($H$32=\"Yes\",'SWIMMING POOL'!$B$19*0.001,0)","v":0},0,0,0,null,0,{"$f":"SUM(N1092:T1092,V1092, AB1092,$X$327/365*0.001)","v":6.8493150684931507E-4},0,0,0,0,0,0,0,0,0,0,0,0]
[null,null,null,null,null,null,null,null,null,null,null,null,"2014-04-02",0,0,0,0,0,0,0,0,0,0,0,{"$f":"IF($H$32=\"Yes\",'SWIMMING POOL'!$B$19*0.001,0)","v":0},0,0,0,null,0,{"$f":"SUM(N1095:T1095,V1095,AB1095,$X$327/365*0.001,)","v":6.8493150684931507E-4},0,0,0,0,0,0,0,0,0,0,0,0]
[null,null,null,null,null,null,null,null,null,null,null,null,"2014-04-05",0,0,0,0,0,0,0,0,0,0,0,{"$f":"IF($H$32=\"Yes\",'SWIMMING POOL'!$B$19*0.001,0)","v":0},0,0,0,null,0,{"$f":"SUM(N1098:T1098,V1098, AB1098,$X$327/365*0.001)","v":6.8493150684931507E-4},0,0,0,0,0,0,0,0,0,0,0,0]
[null,null,null,null,null,null,null,null,null,null,null,null,"2014-04-06",0,0,0,0,0,0,0,0,0,0,0,{"$f":"IF($H$32=\"Yes\",'SWIMMING POOL'!$B$19*0.001,0)","v":0},0,0,0,null,0,{"$f":"SUM(N1099:T1099,V1099,AB1099,$X$327/365*0.001,)","v":6.8493150684931507E-4},0,0,0,0,0,0,0,0,0,0,0,0]
[null,null,null,null,null,null,null,null,null,null,null,null,"2014-04-09",0,0,0,0,0,0,0,0,0,0,0,{"$f":"IF($H$32=\"Yes\",'SWIMMING POOL'!$B$19*0.001,0)","v":0},0,0,0,null,0,{"$f":"SUM(N1102:T1102,V1102, AB1102,$X$327/365*0.001)","v":6.8493150684931507E-4},0,0,0,0,0,0,0,0,0,0,0,0]
[null,null,null,null,null,null,null,null,null,null,null,null,"2014-04-12",0,0,0,0,0,0,0,0,0,0,0,{"$f":"IF($H$32=\"Yes\",'SWIMMING POOL'!$B$19*0.001,0)","v":0},0,0,0,null,0,{"$f":"SUM(N1105:T1105,V1105,AB1105,$X$327/365*0.001,)","v":6.8493150684931507E-4},0,0,0,0,0,0,0,0,0,0,0,0]
[null,null,null,null,null,null,null,null,null,null,null,null,"2014-04-16",0,0,0,0,0,0,0,0,0,0,0,{"$f":"IF($H$32=\"Yes\",'SWIMMING POOL'!$B$19*0.001,0)","v":0},0,0,0,null,0,{"$f":"SUM(N1109:T1109,V1109,AB1109,$X$327/365*0.001,)","v":6.8493150684931507E-4},0,0,0,0,0,0,0,0,0,0,0,0]
[null,null,null,null,null,null,null,null,null,null,null,null,"2014-04-19",0,0,0,0,0,0,0,0,0,0,0,{"$f":"IF($H$32=\"Yes\",'SWIMMING POOL'!$B$19*0.001,0)","v":0},0,0,0,null,0,{"$f":"SUM(N1112:T1112,V1112, AB1112,$X$327/365*0.001)","v":6.8493150684931507E-4},0,0,0,0,0,0,0,0,0,0,0,0]
[null,null,null,null,null,null,null,null,null,null,null,null,"2014-04-23",0,0,0,0,0,0,0,0,0,0,0,{"$f":"IF($H$32=\"Yes\",'SWIMMING POOL'!$B$19*0.001,0)","v":0},0,0,0,null,0,{"$f":"SUM(N1116:T1116,V1116, AB1116,$X$327/365*0.001)","v":6.8493150684931507E-4},0,0,0,0,0,0,0,0,0,0,0,0]
[null,null,null,null,null,null,null,null,null,null,null,null,"2014-04-26",0,0,0,0,0,0,0,0,0,0,0,{"$f":"IF($H$32=\"Yes\",'SWIMMING POOL'!$B$19*0.001,0)","v":0},0,0,0,null,0,{"$f":"SUM(N1119:T1119,V1119,AB1119,$X$327/365*0.001,)","v":6.8493150684931507E-4},0,0,0,0,0,0,0,0,0,0,0,0]
[null,null,null,null,null,null,null,null,null,null,null,null,"2014-04-29",0,0,0,0,0,0,0,0,0,0,0,{"$f":"IF($H$32=\"Yes\",'SWIMMING POOL'!$B$19*0.001,0)","v":0},0,0,0,null,0,{"$f":"SUM(N1122:T1122,V1122, AB1122,$X$327/365*0.001)","v":6.8493150684931507E-4},0,0,0,0,0,0,0,0,0,0,0,0]
[null,null,null,null,null,null,null,null,null,null,null,null,"2014-05-01",0,0,0,0,0,0,0,0,0,0,0,{"$f":"IF($H$32=\"Yes\",'SWIMMING POOL'!$B$19*0.001,0)","v":0},0,0,0,null,0,{"$f":"SUM(N1124:T1124,V1124, AB1124,$X$327/365*0.001)","v":6.8493150684931507E-4},0,0,0,0,0,0,0,0,0,0,0,0]
[null,null,null,null,null,null,null,null,null,null,null,null,"2014-05-02",0,0,0,0,0,0,0,0,0,0,0,{"$f":"IF($H$32=\"Yes\",'SWIMMING POOL'!$B$19*0.001,0)","v":0},0,0,0,null,0,{"$f":"SUM(N1125:T1125,V1125,AB1125,$X$327/365*0.001,)","v":6.8493150684931507E-4},0,0,0,0,0,0,0,0,0,0,0,0]
[null,null,null,null,null,null,null,null,null,null,null,null,"2014-05-05",0,0,0,0,0,0,0,0,0,0,0,{"$f":"IF($H$32=\"Yes\",'SWIMMING POOL'!$B$19*0.001,0)","v":0},0,0,0,null,0,{"$f":"SUM(N1128:T1128,V1128, AB1128,$X$327/365*0.001)","v":6.8493150684931507E-4},0,0,0,0,0,0,0,0,0,0,0,0]
[null,null,null,null,null,null,null,null,null,null,null,null,"2014-05-09",{"$f":"IF($D$32=\"Yes\",$D$116/365,0)","v":0},{"$f":"IF($D$32=\"Yes\",$D$117/365,0)","v":0},{"$f":"IF($D$32=\"Yes\",$D$118/365,0)","v":0},{"$f":"IF($D$32=\"Yes\",$D$119/365,0)","v":0},{"$f":"IF($D$32=\"Yes\",$D$120/365,0)","v":0},{"$f":"IF($D$37=\"Yes\",$K$141/365,0)","v":0},{"$f":"IF($D$37=\"Yes\",$K$158/365,0)","v":0},{"$f":"IF($D$42=\"Yes\",(VLOOKUP(MONTH(M1132),$N$172:$R$183,2)/VLOOKUP(MONTH(M1132),$N$172:$S$183,6))+(VLOOKUP(MONTH(M1132),$N$172:$R$183,3)/VLOOKUP(MONTH(M1132),$N$172:$S$183,6)),0)","v":0},{"$f":"IF($D$42=\"Yes\",VLOOKUP(MONTH(M1132),$N$172:$R$183,4)/VLOOKUP(MONTH(M1132),$N$172:$S$183,6),0)+IF($D$43=\"Yes\",VLOOKUP(MONTH(M1132),$A$225:$D$236,4)/VLOOKUP(MONTH(M1132),$A$225:$D$236,2),0)","v":0},0,{"$f":"IF($D$51=\"Yes\",HLOOKUP(MONTH(M1132),$T$276:$AE$278,3)*0.001,0)","v":0},{"$f":"IF($H$32=\"Yes\",'SWIMMING POOL'!$B$19*0.001,0)","v":0},0,{"$f":"IF($H$41=\"Yes\",SUM($E$391:$E$392)*0.001,0)","v":0},{"$f":"IF(AND($H$46=\"Yes\", $H$47=\"Yes\"), $F$404/365, 0)","v":0},null,0,{"$f":"SUM(N1132:T1132,V1132, AB1132,$X$327/365*0.001)","v":6.8493150684931507E-4},0,0,0,0,0,0,0,0,0,0,0,{"$f":"VLOOKUP(MONTH(Q1132),$A$429:$F$440,4)/VLOOKUP(MONTH(Q1132),$A$429:$F$440,2)*I$444+VLOOKUP(MONTH(Q1132),$A$429:$F$440,5)/VLOOKUP(MONTH(Q1132),$A$429:$F$440,2)*I$445+VLOOKUP(MONTH(Q1132),$A$429:$F$440,6)/VLOOKUP(MONTH(Q1132),$A$429:$F$440,2)*I$446","v":0}]
[null,null,null,null,null,null,null,null,null,null,null,null,"2014-05-12",0,0,0,0,0,0,0,0,0,0,0,{"$f":"IF($H$32=\"Yes\",'SWIMMING POOL'!$B$19*0.001,0)","v":0},0,0,0,null,0,{"$f":"SUM(N1135:T1135,V1135,AB1135,$X$327/365*0.001,)","v":6.8493150684931507E-4},0,0,0,0,0,0,0,0,0,0,0,0]
[null,null,null,null,null,null,null,null,null,null,null,null,"2014-05-16",0,0,0,0,0,0,0,0,0,0,0,{"$f":"IF($H$32=\"Yes\",'SWIMMING POOL'!$B$19*0.001,0)","v":0},0,0,0,null,0,{"$f":"SUM(N1139:T1139,V1139,AB1139,$X$327/365*0.001,)","v":6.8493150684931507E-4},0,0,0,0,0,0,0,0,0,0,0,0]
[null,null,null,null,null,null,null,null,null,null,null,null,"2014-05-19",0,0,0,0,0,0,0,0,0,0,0,{"$f":"IF($H$32=\"Yes\",'SWIMMING POOL'!$B$19*0.001,0)","v":0},0,0,0,null,0,{"$f":"SUM(N1142:T1142,V1142, AB1142,$X$327/365*0.001)","v":6.8493150684931507E-4},0,0,0,0,0,0,0,0,0,0,0,0]
[null,null,null,null,null,null,null,null,null,null,null,null,"2014-05-22",0,0,0,0,0,0,0,0,0,0,0,{"$f":"IF($H$32=\"Yes\",'SWIMMING POOL'!$B$19*0.001,0)","v":0},0,0,0,null,0,{"$f":"SUM(N1145:T1145,V1145,AB1145,$X$327/365*0.001,)","v":6.8493150684931507E-4},0,0,0,0,0,0,0,0,0,0,0,0]
[null,null,null,null,null,null,null,null,null,null,null,null,"2014-05-23",0,0,0,0,0,0,0,0,0,0,0,{"$f":"IF($H$32=\"Yes\",'SWIMMING POOL'!$B$19*0.001,0)","v":0},0,0,0,null,0,{"$f":"SUM(N1146:T1146,V1146, AB1146,$X$327/365*0.001)","v":6.8493150684931507E-4},0,0,0,0,0,0,0,0,0,0,0,0]
[null,null,null,null,null,null,null,null,null,null,null,null,"2014-05-26",0,0,0,0,0,0,0,0,0,0,0,{"$f":"IF($H$32=\"Yes\",'SWIMMING POOL'!$B$19*0.001,0)","v":0},0,0,0,null,0,{"$f":"SUM(N1149:T1149,V1149,AB1149,$X$327/365*0.001,)","v":6.8493150684931507E-4},0,0,0,0,0,0,0,0,0,0,0,0]
[null,null,null,null,null,null,null,null,null,null,null,null,"2014-05-30",0,0,0,0,0,0,0,0,0,0,0,{"$f":"IF($H$32=\"Yes\",'SWIMMING POOL'!$B$19*0.001,0)","v":0},0,0,0,null,0,{"$f":"SUM(N1153:T1153,V1153,AB1153,$X$327/365*0.001,)","v":6.8493150684931507E-4},0,0,0,0,0,0,0,0,0,0,0,0]
[null,null,null,null,null,null,null,null,null,null,null,null,"2014-06-02",0,0,0,0,0,0,0,0,0,0,0,{"$f":"IF($H$32=\"Yes\",'SWIMMING POOL'!$B$19*0.001,0)","v":0},0,0,0,null,0,{"$f":"SUM(N1156:T1156,V1156, AB1156,$X$327/365*0.001)","v":6.8493150684931507E-4},0,0,0,0,0,0,0,0,0,0,0,0]
[null,null,null,null,null,null,null,null,null,null,null,null,"2014-06-05",0,0,0,0,0,0,0,0,0,0,0,{"$f":"IF($H$32=\"Yes\",'SWIMMING POOL'!$B$19*0.001,0)","v":0},0,0,0,null,0,{"$f":"SUM(N1159:T1159,V1159,AB1159,$X$327/365*0.001,)","v":6.8493150684931507E-4},0,0,0,0,0,0,0,0,0,0,0,0]
[null,null,null,null,null,null,null,null,null,null,null,null,"2014-06-09",0,0,0,0,0,0,0,0,0,0,0,{"$f":"IF($H$32=\"Yes\",'SWIMMING POOL'!$B$19*0.001,0)","v":0},0,0,0,null,0,{"$f":"SUM(N1163:T1163,V1163,AB1163,$X$327/365*0.001,)","v":6.8493150684931507E-4},0,0,0,0,0,0,0,0,0,0,0,0]
[null,null,null,null,null,null,null,null,null,null,null,null,"2014-06-12",0,0,0,0,0,0,0,0,0,0,0,{"$f":"IF($H$32=\"Yes\",'SWIMMING POOL'!$B$19*0.001,0)","v":0},0,0,0,null,0,{"$f":"SUM(N1166:T1166,V1166, AB1166,$X$327/365*0.001)","v":6.8493150684931507E-4},0,0,0,0,0,0,0,0,0,0,0,0]
[null,null,null,null,null,null,null,null,null,null,null,null,"2014-06-15",0,0,0,0,0,0,0,0,0,0,0,{"$f":"IF($H$32=\"Yes\",'SWIMMING POOL'!$B$19*0.001,0)","v":0},0,0,0,null,0,{"$f":"SUM(N1169:T1169,V1169,AB1169,$X$327/365*0.001,)","v":6.8493150684931507E-4},0,0,0,0,0,0,0,0,0,0,0,0]
[null,null,null,null,null,null,null,null,null,null,null,null,"2014-06-16",0,0,0,0,0,0,0,0,0,0,0,{"$f":"IF($H$32=\"Yes\",'SWIMMING POOL'!$B$19*0.001,0)","v":0},0,0,0,null,0,{"$f":"SUM(N1170:T1170,V1170, AB1170,$X$327/365*0.001)","v":6.8493150684931507E-4},0,0,0,0,0,0,0,0,0,0,0,0]
[null,null,null,null,null,null,null,null,null,null,null,null,"2014-06-19",0,0,0,0,0,0,0,0,0,0,0,{"$f":"IF($H$32=\"Yes\",'SWIMMING POOL'!$B$19*0.001,0)","v":0},0,0,0,null,0,{"$f":"SUM(N1173:T1173,V1173,AB1173,$X$327/365*0.001,)","v":6.8493150684931507E-4},0,0,0,0,0,0,0,0,0,0,0,0]
[null,null,null,null,null,null,null,null,null,null,null,null,"2014-06-23",0,0,0,0,0,0,0,0,0,0,0,{"$f":"IF($H$32=\"Yes\",'SWIMMING POOL'!$B$19*0.001,0)","v":0},0,0,0,null,0,{"$f":"SUM(N1177:T1177,V1177,AB1177,$X$327/365*0.001,)","v":6.8493150684931507E-4},0,0,0,0,0,0,0,0,0,0,0,0]
[null,null,null,null,null,null,null,null,null,null,null,null,"2014-06-26",0,0,0,0,0,0,0,0,0,0,0,{"$f":"IF($H$32=\"Yes\",'SWIMMING POOL'!$B$19*0.001,0)","v":0},0,0,0,null,0,{"$f":"SUM(N1180:T1180,V1180, AB1180,$X$327/365*0.001)","v":6.8493150684931507E-4},0,0,0,0,0,0,0,0,0,0,0,0]
[null,null,null,null,null,null,null,null,null,null,null,null,"2014-06-29",0,0,0,0,0,0,0,0,0,0,0,{"$f":"IF($H$32=\"Yes\",'SWIMMING POOL'!$B$19*0.001,0)","v":0},0,0,0,null,0,{"$f":"SUM(N1183:T1183,V1183,AB1183,$X$327/365*0.001,)","v":6.8493150684931507E-4},0,0,0,0,0,0,0,0,0,0,0,0]
[null,null,null,null,null,null,null,null,null,null,null,null,"2014-07-03",0,0,0,0,0,0,0,0,0,0,0,{"$f":"IF($H$32=\"Yes\",'SWIMMING POOL'!$B$19*0.001,0)","v":0},0,0,0,null,0,{"$f":"SUM(N1187:T1187,V1187,AB1187,$X$327/365*0.001,)","v":6.8493150684931507E-4},0,0,0,0,0,0,0,0,0,0,0,0]
[null,null,null,null,null,null,null,null,null,null,null,null,"2014-07-06",0,0,0,0,0,0,0,0,0,0,0,{"$f":"IF($H$32=\"Yes\",'SWIMMING POOL'!$B$19*0.001,0)","v":0},0,0,0,null,0,{"$f":"SUM(N1190:T1190,V1190, AB1190,$X$327/365*0.001)","v":6.8493150684931507E-4},0,0,0,0,0,0,0,0,0,0,0,0]
[null,null,null,null,null,null,null,null,null,null,null,null,"2014-07-09",0,0,0,0,0,0,0,0,0,0,0,{"$f":"IF($H$32=\"Yes\",'SWIMMING POOL'!$B$19*0.001,0)","v":0},0,0,0,null,0,{"$f":"SUM(N1193:T1193,V1193,AB1193,$X$327/365*0.001,)","v":6.8493150684931507E-4},0,0,0,0,0,0,0,0,0,0,0,0]
[null,null,null,null,null,null,null,null,null,null,null,null,"2014-07-10",0,0,0,0,0,0,0,0,0,0,0,{"$f":"IF($H$32=\"Yes\",'SWIMMING POOL'!$B$19*0.001,0)","v":0},0,0,0,null,0,{"$f":"SUM(N1194:T1194,V1194, AB1194,$X$327/365*0.001)","v":6.8493150684931507E-4},0,0,0,0,0,0,0,0,0,0,0,0]
[null,null,null,null,null,null,null,null,null,null,null,null,"2014-07-13",0,0,0,0,0,0,0,0,0,{"$f":"IF($D$46=\"Yes\",$I$271,0)","v":0},0,{"$f":"IF($H$32=\"Yes\",'SWIMMING POOL'!$B$19*0.001,0)","v":0},0,0,0,null,{"$f":"SUM($N1197:$AC1197)","v":0},{"$f":"SUM(N1197:T1197,V1197,AB1197,$X$327/365*0.001,)","v":6.8493150684931507E-4},{"$f":"$N1197*D$412+$O1197*D$413+$P1197*D$414+$Q1197*D$415+$R1197*D$416+$S1197*D$417+$T1197*D$418+$U1197*D$419+$V1197*D$419+W1197*D$420+$X1197*D$421+Z1197*D$423+$Y1197*D$422+$AA1197*D$424","v":0},{"$f":"$N1197*E$412+$O1197*E$413+$P1197*E$414+$Q1197*E$415+$R1197*E$416+$S1197*E$417+$T1197*E$418+$U1197*E$419+$V1197*E$419+$W1197*E$420+$X1197*E$421+Z1197*E$423+$Y1197*E$422+$AA1197*E$424","v":0},{"$f":"$N1197*F$412+$O1197*F$413+$P1197*F$414+$Q1197*F$415+$R1197*F$416+$S1197*F$417+$T1197*F$418+$U1197*F$419+$V1197*F$419+$W1197*F$420+$X1197*F$421+Z1197*F$423+$Y1197*F$422+$AA1197*F$424","v":0},{"$f":"$N1197*G$412+$O1197*G$413+$P1197*G$414+$Q1197*G$415+$R1197*G$416+$S1197*G$417+$T1197*G$418+$U1197*G$419+$V1197*G$419+$W1197*G$420+$X1197*G$421+Z1197*G$423+$Y1197*G$422+$AA1197*G$424","v":0},{"$f":"$N1197*H$412+$O1197*H$413+$P1197*H$414+$Q1197*H$415+$R1197*H$416+$S1197*H$417+$T1197*H$418+$U1197*H$419+$V1197*H$419+$W1197*H$420+$X1197*H$421+Z1197*H$423+$Y1197*H$422+$AA1197*H$424","v":0},{"$f":"$N1197*I$412+$O1197*I$413+$P1197*I$414+$Q1197*I$415+$R1197*I$416+$S1197*I$417+$T1197*I$418+$U1197*I$419+$V1197*I$419+$W1197*I$420+$X1197*I$421+Z1197*I$423+$Y1197*I$422+$AA1197*I$424","v":0},{"$f":"VLOOKUP(MONTH(M1197),$A$429:$F$440,4)/VLOOKUP(MONTH(M1197),$A$429:$F$440,2)*D$444+VLOOKUP(MONTH(M1197),$A$429:$F$440,5)/VLOOKUP(MONTH(M1197),$A$429:$F$440,2)*D$445+VLOOKUP(MONTH(M1197),$A$429:$F$440,6)/VLOOKUP(MONTH(M1197),$A$429:$F$440,2)*D$446","v":0},{"$f":"VLOOKUP(MONTH(N1197),$A$429:$F$440,4)/VLOOKUP(MONTH(N1197),$A$429:$F$440,2)*E$444+VLOOKUP(MONTH(N1197),$A$429:$F$440,5)/VLOOKUP(MONTH(N1197),$A$429:$F$440,2)*E$445+VLOOKUP(MONTH(N1197),$A$429:$F$440,6)/VLOOKUP(MONTH(N1197),$A$429:$F$440,2)*E$446","v":0},{"$f":"VLOOKUP(MONTH(O1197),$A$429:$F$440,4)/VLOOKUP(MONTH(O1197),$A$429:$F$440,2)*F$444+VLOOKUP(MONTH(O1197),$A$429:$F$440,5)/VLOOKUP(MONTH(O1197),$A$429:$F$440,2)*F$445+VLOOKUP(MONTH(O1197),$A$429:$F$440,6)/VLOOKUP(MONTH(O1197),$A$429:$F$440,2)*F$446","v":0},{"$f":"VLOOKUP(MONTH(P1197),$A$429:$F$440,4)/VLOOKUP(MONTH(P1197),$A$429:$F$440,2)*G$444+VLOOKUP(MONTH(P1197),$A$429:$F$440,5)/VLOOKUP(MONTH(P1197),$A$429:$F$440,2)*G$445+VLOOKUP(MONTH(P1197),$A$429:$F$440,6)/VLOOKUP(MONTH(P1197),$A$429:$F$440,2)*G$446","v":0},{"$f":"VLOOKUP(MONTH(Q1197),$A$429:$F$440,4)/VLOOKUP(MONTH(Q1197),$A$429:$F$440,2)*H$444+VLOOKUP(MONTH(Q1197),$A$429:$F$440,5)/VLOOKUP(MONTH(Q1197),$A$429:$F$440,2)*H$445+VLOOKUP(MONTH(Q1197),$A$429:$F$440,6)/VLOOKUP(MONTH(Q1197),$A$429:$F$440,2)*H$446","v":0},0]
[null,null,null,null,null,null,null,null,null,null,null,null,"2014-07-17",0,0,0,0,0,0,0,0,0,0,0,{"$f":"IF($H$32=\"Yes\",'SWIMMING POOL'!$B$19*0.001,0)","v":0},0,0,0,null,0,{"$f":"SUM(N1201:T1201,V1201,AB1201,$X$327/365*0.001,)","v":6.8493150684931507E-4},0,0,0,0,0,0,0,0,0,0,0,0]
[null,null,null,null,null,null,null,null,null,null,null,null,"2014-07-19",0,0,0,0,0,0,0,0,0,0,0,{"$f":"IF($H$32=\"Yes\",'SWIMMING POOL'!$B$19*0.001,0)","v":0},0,0,0,null,0,{"$f":"SUM(N1203:T1203,V1203,AB1203,$X$327/365*0.001,)","v":6.8493150684931507E-4},0,0,0,0,0,0,0,0,0,0,0,0]
[null,null,null,null,null,null,null,null,null,null,null,null,"2014-07-22",0,0,0,0,0,0,0,0,0,0,0,{"$f":"IF($H$32=\"Yes\",'SWIMMING POOL'!$B$19*0.001,0)","v":0},0,0,0,null,0,{"$f":"SUM(N1206:T1206,V1206, AB1206,$X$327/365*0.001)","v":6.8493150684931507E-4},0,0,0,0,0,0,0,0,0,0,0,0]
[null,null,null,null,null,null,null,null,null,null,null,null,"2014-07-26",0,0,0,0,0,0,0,0,0,0,0,{"$f":"IF($H$32=\"Yes\",'SWIMMING POOL'!$B$19*0.001,0)","v":0},0,0,0,null,0,{"$f":"SUM(N1210:T1210,V1210, AB1210,$X$327/365*0.001)","v":6.8493150684931507E-4},0,0,0,0,0,0,0,0,0,0,0,0]
[null,null,null,null,null,null,null,null,null,null,null,null,"2014-07-29",0,0,0,0,0,0,0,0,0,0,0,{"$f":"IF($H$32=\"Yes\",'SWIMMING POOL'!$B$19*0.001,0)","v":0},0,0,0,null,0,{"$f":"SUM(N1213:T1213,V1213,AB1213,$X$327/365*0.001,)","v":6.8493150684931507E-4},0,0,0,0,0,0,0,0,0,0,0,0]
[null,null,null,null,null,null,null,null,null,null,null,null,"2014-07-30",0,0,0,0,0,0,0,0,0,0,0,{"$f":"IF($H$32=\"Yes\",'SWIMMING POOL'!$B$19*0.001,0)","v":0},0,0,0,null,0,{"$f":"SUM(N1214:T1214,V1214, AB1214,$X$327/365*0.001)","v":6.8493150684931507E-4},0,0,0,0,0,0,0,0,0,0,0,0]
[null,null,null,null,null,null,null,null,null,null,null,null,"2014-08-02",0,0,0,0,0,0,0,0,0,0,0,{"$f":"IF($H$32=\"Yes\",'SWIMMING POOL'!$B$19*0.001,0)","v":0},0,0,0,null,0,{"$f":"SUM(N1217:T1217,V1217,AB1217,$X$327/365*0.001,)","v":6.8493150684931507E-4},0,0,0,0,0,0,0,0,0,0,0,0]
[null,null,null,null,null,null,null,null,null,null,null,null,"2014-08-05",0,0,0,0,0,0,0,0,0,0,0,{"$f":"IF($H$32=\"Yes\",'SWIMMING POOL'!$B$19*0.001,0)","v":0},0,0,0,null,0,{"$f":"SUM(N1220:T1220,V1220, AB1220,$X$327/365*0.001)","v":6.8493150684931507E-4},0,0,0,0,0,0,0,0,0,0,0,0]
[null,null,null,null,null,null,null,null,null,null,null,null,"2014-08-09",0,0,0,0,0,0,0,0,0,0,0,{"$f":"IF($H$32=\"Yes\",'SWIMMING POOL'!$B$19*0.001,0)","v":0},0,0,0,null,0,{"$f":"SUM(N1224:T1224,V1224, AB1224,$X$327/365*0.001)","v":6.8493150684931507E-4},0,0,0,0,0,0,0,0,0,0,0,0]
[null,null,null,null,null,null,null,null,null,null,null,null,"2014-08-12",0,0,0,0,0,0,0,0,0,0,0,{"$f":"IF($H$32=\"Yes\",'SWIMMING POOL'!$B$19*0.001,0)","v":0},0,0,0,null,0,{"$f":"SUM(N1227:T1227,V1227,AB1227,$X$327/365*0.001,)","v":6.8493150684931507E-4},0,0,0,0,0,0,0,0,0,0,0,0]
[null,null,null,null,null,null,null,null,null,null,null,null,"2014-08-15",0,0,0,0,0,0,0,0,0,0,0,{"$f":"IF($H$32=\"Yes\",'SWIMMING POOL'!$B$19*0.001,0)","v":0},0,0,0,null,0,{"$f":"SUM(N1230:T1230,V1230, AB1230,$X$327/365*0.001)","v":6.8493150684931507E-4},0,0,0,0,0,0,0,0,0,0,0,0]
[null,null,null,null,null,null,null,null,null,null,null,null,"2014-08-19",0,0,0,0,0,0,0,0,0,0,0,{"$f":"IF($H$32=\"Yes\",'SWIMMING POOL'!$B$19*0.001,0)","v":0},0,0,0,null,0,{"$f":"SUM(N1234:T1234,V1234, AB1234,$X$327/365*0.001)","v":6.8493150684931507E-4},0,0,0,0,0,0,0,0,0,0,0,0]
[null,null,null,null,null,null,null,null,null,null,null,null,"2014-08-22",0,0,0,0,0,0,0,0,0,0,0,{"$f":"IF($H$32=\"Yes\",'SWIMMING POOL'!$B$19*0.001,0)","v":0},0,0,0,null,0,{"$f":"SUM(N1237:T1237,V1237,AB1237,$X$327/365*0.001,)","v":6.8493150684931507E-4},0,0,0,0,0,0,0,0,0,0,0,0]
[null,null,null,null,null,null,null,null,null,null,null,null,"2014-08-23",0,0,0,0,0,0,0,0,0,0,0,{"$f":"IF($H$32=\"Yes\",'SWIMMING POOL'!$B$19*0.001,0)","v":0},0,0,0,null,0,{"$f":"SUM(N1238:T1238,V1238, AB1238,$X$327/365*0.001)","v":6.8493150684931507E-4},0,0,0,0,0,0,0,0,0,0,0,0]
[null,null,null,null,null,null,null,null,null,null,null,null,"2014-08-26",0,0,0,0,0,0,0,0,0,0,0,{"$f":"IF($H$32=\"Yes\",'SWIMMING POOL'!$B$19*0.001,0)","v":0},0,0,0,null,0,{"$f":"SUM(N1241:T1241,V1241,AB1241,$X$327/365*0.001,)","v":6.8493150684931507E-4},0,0,0,0,0,0,0,0,0,0,0,0]
[null,null,null,null,null,null,null,null,null,null,null,null,"2014-08-29",0,0,0,0,0,0,0,0,0,0,0,{"$f":"IF($H$32=\"Yes\",'SWIMMING POOL'!$B$19*0.001,0)","v":0},0,0,0,null,0,{"$f":"SUM(N1244:T1244,V1244, AB1244,$X$327/365*0.001)","v":6.8493150684931507E-4},0,0,0,0,0,0,0,0,0,0,0,0]
[null,null,null,null,null,null,null,null,null,null,null,null,"2014-09-02",0,0,0,0,0,0,0,0,0,0,0,{"$f":"IF($H$32=\"Yes\",'SWIMMING POOL'!$B$19*0.001,0)","v":0},0,0,0,null,0,{"$f":"SUM(N1248:T1248,V1248, AB1248,$X$327/365*0.001)","v":6.8493150684931507E-4},0,0,0,0,0,0,0,0,0,0,0,0]
[null,null,null,null,null,null,null,null,null,null,null,null,"2014-09-05",0,0,0,0,0,0,0,0,0,0,0,{"$f":"IF($H$32=\"Yes\",'SWIMMING POOL'!$B$19*0.001,0)","v":0},0,0,0,null,0,{"$f":"SUM(N1251:T1251,V1251,AB1251,$X$327/365*0.001,)","v":6.8493150684931507E-4},0,0,0,0,0,0,0,0,0,0,0,0]
[null,null,null,null,null,null,null,null,null,null,null,null,"2014-09-09",0,0,0,0,0,0,0,0,0,0,0,{"$f":"IF($H$32=\"Yes\",'SWIMMING POOL'!$B$19*0.001,0)","v":0},0,0,0,null,0,{"$f":"SUM(N1255:T1255,V1255,AB1255,$X$327/365*0.001,)","v":6.8493150684931507E-4},0,0,0,0,0,0,0,0,0,0,0,0]
[null,null,null,null,null,null,null,null,null,null,null,null,"2014-09-12",0,0,0,0,0,0,0,0,0,0,0,{"$f":"IF($H$32=\"Yes\",'SWIMMING POOL'!$B$19*0.001,0)","v":0},0,0,0,null,0,{"$f":"SUM(N1258:T1258,V1258, AB1258,$X$327/365*0.001)","v":6.8493150684931507E-4},0,0,0,0,0,0,0,0,0,0,0,0]
[null,null,null,null,null,null,null,null,null,null,null,null,"2014-09-15",0,0,0,0,0,0,0,0,0,{"$f":"IF($D$46=\"Yes\",$I$271,0)","v":0},0,{"$f":"IF($H$32=\"Yes\",'SWIMMING POOL'!$B$19*0.001,0)","v":0},0,0,0,null,{"$f":"SUM($N1261:$AC1261)","v":0},{"$f":"SUM(N1261:T1261,V1261,AB1261,$X$327/365*0.001,)","v":6.8493150684931507E-4},{"$f":"$N1261*D$412+$O1261*D$413+$P1261*D$414+$Q1261*D$415+$R1261*D$416+$S1261*D$417+$T1261*D$418+$U1261*D$419+$V1261*D$419+W1261*D$420+$X1261*D$421+Z1261*D$423+$Y1261*D$422+$AA1261*D$424","v":0},{"$f":"$N1261*E$412+$O1261*E$413+$P1261*E$414+$Q1261*E$415+$R1261*E$416+$S1261*E$417+$T1261*E$418+$U1261*E$419+$V1261*E$419+$W1261*E$420+$X1261*E$421+Z1261*E$423+$Y1261*E$422+$AA1261*E$424","v":0},{"$f":"$N1261*F$412+$O1261*F$413+$P1261*F$414+$Q1261*F$415+$R1261*F$416+$S1261*F$417+$T1261*F$418+$U1261*F$419+$V1261*F$419+$W1261*F$420+$X1261*F$421+Z1261*F$423+$Y1261*F$422+$AA1261*F$424","v":0},{"$f":"$N1261*G$412+$O1261*G$413+$P1261*G$414+$Q1261*G$415+$R1261*G$416+$S1261*G$417+$T1261*G$418+$U1261*G$419+$V1261*G$419+$W1261*G$420+$X1261*G$421+Z1261*G$423+$Y1261*G$422+$AA1261*G$424","v":0},{"$f":"$N1261*H$412+$O1261*H$413+$P1261*H$414+$Q1261*H$415+$R1261*H$416+$S1261*H$417+$T1261*H$418+$U1261*H$419+$V1261*H$419+$W1261*H$420+$X1261*H$421+Z1261*H$423+$Y1261*H$422+$AA1261*H$424","v":0},{"$f":"$N1261*I$412+$O1261*I$413+$P1261*I$414+$Q1261*I$415+$R1261*I$416+$S1261*I$417+$T1261*I$418+$U1261*I$419+$V1261*I$419+$W1261*I$420+$X1261*I$421+Z1261*I$423+$Y1261*I$422+$AA1261*I$424","v":0},{"$f":"VLOOKUP(MONTH(M1261),$A$429:$F$440,4)/VLOOKUP(MONTH(M1261),$A$429:$F$440,2)*D$444+VLOOKUP(MONTH(M1261),$A$429:$F$440,5)/VLOOKUP(MONTH(M1261),$A$429:$F$440,2)*D$445+VLOOKUP(MONTH(M1261),$A$429:$F$440,6)/VLOOKUP(MONTH(M1261),$A$429:$F$440,2)*D$446","v":0},{"$f":"VLOOKUP(MONTH(N1261),$A$429:$F$440,4)/VLOOKUP(MONTH(N1261),$A$429:$F$440,2)*E$444+VLOOKUP(MONTH(N1261),$A$429:$F$440,5)/VLOOKUP(MONTH(N1261),$A$429:$F$440,2)*E$445+VLOOKUP(MONTH(N1261),$A$429:$F$440,6)/VLOOKUP(MONTH(N1261),$A$429:$F$440,2)*E$446","v":0},{"$f":"VLOOKUP(MONTH(O1261),$A$429:$F$440,4)/VLOOKUP(MONTH(O1261),$A$429:$F$440,2)*F$444+VLOOKUP(MONTH(O1261),$A$429:$F$440,5)/VLOOKUP(MONTH(O1261),$A$429:$F$440,2)*F$445+VLOOKUP(MONTH(O1261),$A$429:$F$440,6)/VLOOKUP(MONTH(O1261),$A$429:$F$440,2)*F$446","v":0},{"$f":"VLOOKUP(MONTH(P1261),$A$429:$F$440,4)/VLOOKUP(MONTH(P1261),$A$429:$F$440,2)*G$444+VLOOKUP(MONTH(P1261),$A$429:$F$440,5)/VLOOKUP(MONTH(P1261),$A$429:$F$440,2)*G$445+VLOOKUP(MONTH(P1261),$A$429:$F$440,6)/VLOOKUP(MONTH(P1261),$A$429:$F$440,2)*G$446","v":0},{"$f":"VLOOKUP(MONTH(Q1261),$A$429:$F$440,4)/VLOOKUP(MONTH(Q1261),$A$429:$F$440,2)*H$444+VLOOKUP(MONTH(Q1261),$A$429:$F$440,5)/VLOOKUP(MONTH(Q1261),$A$429:$F$440,2)*H$445+VLOOKUP(MONTH(Q1261),$A$429:$F$440,6)/VLOOKUP(MONTH(Q1261),$A$429:$F$440,2)*H$446","v":0},0]
[null,null,null,null,null,null,null,null,null,null,null,null,"2014-09-16",0,0,0,0,0,0,0,0,0,0,0,{"$f":"IF($H$32=\"Yes\",'SWIMMING POOL'!$B$19*0.001,0)","v":0},0,0,0,null,0,{"$f":"SUM(N1262:T1262,V1262, AB1262,$X$327/365*0.001)","v":6.8493150684931507E-4},0,0,0,0,0,0,0,0,0,0,0,0]
[null,null,null,null,null,null,null,null,null,null,null,null,"2014-09-19",0,0,0,0,0,0,0,0,0,0,0,{"$f":"IF($H$32=\"Yes\",'SWIMMING POOL'!$B$19*0.001,0)","v":0},0,0,0,null,0,{"$f":"SUM(N1265:T1265,V1265,AB1265,$X$327/365*0.001,)","v":6.8493150684931507E-4},0,0,0,0,0,0,0,0,0,0,0,0]
[null,null,null,null,null,null,null,null,null,null,null,null,"2014-09-22",0,0,0,0,0,0,0,0,0,0,0,{"$f":"IF($H$32=\"Yes\",'SWIMMING POOL'!$B$19*0.001,0)","v":0},0,0,0,null,0,{"$f":"SUM(N1268:T1268,V1268, AB1268,$X$327/365*0.001)","v":6.8493150684931507E-4},0,0,0,0,0,0,0,0,0,0,0,0]
[null,null,null,null,null,null,null,null,null,null,null,null,"2014-09-26",0,0,0,0,0,0,0,0,0,0,0,{"$f":"IF($H$32=\"Yes\",'SWIMMING POOL'!$B$19*0.001,0)","v":0},0,0,0,null,0,{"$f":"SUM(N1272:T1272,V1272, AB1272,$X$327/365*0.001)","v":6.8493150684931507E-4},0,0,0,0,0,0,0,0,0,0,0,0]
[null,null,null,null,null,null,null,null,null,null,null,null,"2014-09-29",0,0,0,0,0,0,0,0,0,0,0,{"$f":"IF($H$32=\"Yes\",'SWIMMING POOL'!$B$19*0.001,0)","v":0},0,0,0,null,0,{"$f":"SUM(N1275:T1275,V1275,AB1275,$X$327/365*0.001,)","v":6.8493150684931507E-4},0,0,0,0,0,0,0,0,0,0,0,0]
[null,null,null,null,null,null,null,null,null,null,null,null,"2014-10-03",0,0,0,0,0,0,0,0,0,0,0,{"$f":"IF($H$32=\"Yes\",'SWIMMING POOL'!$B$19*0.001,0)","v":0},0,0,0,null,0,{"$f":"SUM(N1279:T1279,V1279,AB1279,$X$327/365*0.001,)","v":6.8493150684931507E-4},0,0,0,0,0,0,0,0,0,0,0,0]
[null,null,null,null,null,null,null,null,null,null,null,null,"2014-10-04",0,0,0,0,0,0,0,0,0,0,0,{"$f":"IF($H$32=\"Yes\",'SWIMMING POOL'!$B$19*0.001,0)","v":0},0,0,0,null,0,{"$f":"SUM(N1280:T1280,V1280, AB1280,$X$327/365*0.001)","v":6.8493150684931507E-4},0,0,0,0,0,0,0,0,0,0,0,0]
[null,null,null,null,null,null,null,null,null,null,null,null,"2014-10-08",0,0,0,0,0,0,0,0,0,0,0,{"$f":"IF($H$32=\"Yes\",'SWIMMING POOL'!$B$19*0.001,0)","v":0},0,0,0,null,0,{"$f":"SUM(N1284:T1284,V1284, AB1284,$X$327/365*0.001)","v":6.8493150684931507E-4},0,0,0,0,0,0,0,0,0,0,0,0]
[null,null,null,null,null,null,null,null,null,null,null,null,"2014-10-09",0,0,0,0,0,0,0,0,0,0,0,{"$f":"IF($H$32=\"Yes\",'SWIMMING POOL'!$B$19*0.001,0)","v":0},0,0,0,null,0,{"$f":"SUM(N1285:T1285,V1285,AB1285,$X$327/365*0.001,)","v":6.8493150684931507E-4},0,0,0,0,0,0,0,0,0,0,0,0]
[null,null,null,null,null,null,null,null,null,null,null,null,"2014-10-12",0,0,0,0,0,0,0,0,0,0,0,{"$f":"IF($H$32=\"Yes\",'SWIMMING POOL'!$B$19*0.001,0)","v":0},0,0,0,null,0,{"$f":"SUM(N1288:T1288,V1288, AB1288,$X$327/365*0.001)","v":6.8493150684931507E-4},0,0,0,0,0,0,0,0,0,0,0,0]
[null,null,null,null,null,null,null,null,null,null,null,null,"2014-10-15",0,0,0,0,0,0,0,0,0,0,0,{"$f":"IF($H$32=\"Yes\",'SWIMMING POOL'!$B$19*0.001,0)","v":0},0,0,0,null,0,{"$f":"SUM(N1291:T1291,V1291,AB1291,$X$327/365*0.001,)","v":6.8493150684931507E-4},0,0,0,0,0,0,0,0,0,0,0,0]
[null,null,null,null,null,null,null,null,null,null,null,null,"2014-10-19",0,0,0,0,0,0,0,0,0,0,0,{"$f":"IF($H$32=\"Yes\",'SWIMMING POOL'!$B$19*0.001,0)","v":0},0,0,0,null,0,{"$f":"SUM(N1295:T1295,V1295,AB1295,$X$327/365*0.001,)","v":6.8493150684931507E-4},0,0,0,0,0,0,0,0,0,0,0,0]
[null,null,null,null,null,null,null,null,null,null,null,null,"2014-10-22",0,0,0,0,0,0,0,0,0,0,0,{"$f":"IF($H$32=\"Yes\",'SWIMMING POOL'!$B$19*0.001,0)","v":0},0,0,0,null,0,{"$f":"SUM(N1298:T1298,V1298, AB1298,$X$327/365*0.001)","v":6.8493150684931507E-4},0,0,0,0,0,0,0,0,0,0,0,0]
[null,null,null,null,null,null,null,null,null,null,null,null,"2014-10-26",0,0,0,0,0,0,0,0,0,0,0,{"$f":"IF($H$32=\"Yes\",'SWIMMING POOL'!$B$19*0.001,0)","v":0},0,0,0,null,0,{"$f":"SUM(N1302:T1302,V1302, AB1302,$X$327/365*0.001)","v":6.8493150684931507E-4},0,0,0,0,0,0,0,0,0,0,0,0]
[null,null,null,null,null,null,null,null,null,null,null,null,"2014-10-29",0,0,0,0,0,0,0,0,0,0,0,{"$f":"IF($H$32=\"Yes\",'SWIMMING POOL'!$B$19*0.001,0)","v":0},0,0,0,null,0,{"$f":"SUM(N1305:T1305,V1305,AB1305,$X$327/365*0.001,)","v":6.8493150684931507E-4},0,0,0,0,0,0,0,0,0,0,0,0]
[null,null,null,null,null,null,null,null,null,null,null,null,"2014-11-01",0,0,0,0,0,0,0,0,0,0,0,{"$f":"IF($H$32=\"Yes\",'SWIMMING POOL'!$B$19*0.001,0)","v":0},0,0,0,null,0,{"$f":"SUM(N1308:T1308,V1308, AB1308,$X$327/365*0.001)","v":6.8493150684931507E-4},0,0,0,0,0,0,0,0,0,0,0,0]
[null,null,null,null,null,null,null,null,null,null,null,null,"2014-11-02",0,0,0,0,0,0,0,0,0,0,0,{"$f":"IF($H$32=\"Yes\",'SWIMMING POOL'!$B$19*0.001,0)","v":0},0,0,0,null,0,{"$f":"SUM(N1309:T1309,V1309,AB1309,$X$327/365*0.001,)","v":6.8493150684931507E-4},0,0,0,0,0,0,0,0,0,0,0,0]
[null,null,null,null,null,null,null,null,null,null,null,null,"2014-11-05",0,0,0,0,0,0,0,0,0,0,0,{"$f":"IF($H$32=\"Yes\",'SWIMMING POOL'!$B$19*0.001,0)","v":0},0,0,0,null,0,{"$f":"SUM(N1312:T1312,V1312, AB1312,$X$327/365*0.001)","v":6.8493150684931507E-4},0,0,0,0,0,0,0,0,0,0,0,0]
[null,null,null,null,null,null,null,null,null,null,null,null,"2014-11-09",0,0,0,0,0,0,0,0,0,0,0,{"$f":"IF($H$32=\"Yes\",'SWIMMING POOL'!$B$19*0.001,0)","v":0},0,0,0,null,0,{"$f":"SUM(N1316:T1316,V1316, AB1316,$X$327/365*0.001)","v":6.8493150684931507E-4},0,0,0,0,0,0,0,0,0,0,0,0]
[null,null,null,null,null,null,null,null,null,null,null,null,"2014-11-12",0,0,0,0,0,0,0,0,0,0,0,{"$f":"IF($H$32=\"Yes\",'SWIMMING POOL'!$B$19*0.001,0)","v":0},0,0,0,null,0,{"$f":"SUM(N1319:T1319,V1319,AB1319,$X$327/365*0.001,)","v":6.8493150684931507E-4},0,0,0,0,0,0,0,0,0,0,0,0]
[null,null,null,null,null,null,null,null,null,null,null,null,"2014-11-15",0,0,0,0,0,0,0,0,0,0,0,{"$f":"IF($H$32=\"Yes\",'SWIMMING POOL'!$B$19*0.001,0)","v":0},0,0,0,null,0,{"$f":"SUM(N1322:T1322,V1322, AB1322,$X$327/365*0.001)","v":6.8493150684931507E-4},0,0,0,0,0,0,0,0,0,0,0,0]
[null,null,null,null,null,null,null,null,null,null,null,null,"2014-11-19",0,0,0,0,0,0,0,0,0,0,0,{"$f":"IF($H$32=\"Yes\",'SWIMMING POOL'!$B$19*0.001,0)","v":0},0,0,0,null,0,{"$f":"SUM(N1326:T1326,V1326, AB1326,$X$327/365*0.001)","v":6.8493150684931507E-4},0,0,0,0,0,0,0,0,0,0,0,0]
[null,null,null,null,null,null,null,null,null,null,null,null,"2014-11-22",0,0,0,0,0,0,0,0,0,0,0,{"$f":"IF($H$32=\"Yes\",'SWIMMING POOL'!$B$19*0.001,0)","v":0},0,0,0,null,0,{"$f":"SUM(N1329:T1329,V1329,AB1329,$X$327/365*0.001,)","v":6.8493150684931507E-4},0,0,0,0,0,0,0,0,0,0,0,0]
[null,null,null,null,null,null,null,null,null,null,null,null,"2014-11-25",0,0,0,0,0,0,0,0,0,0,0,{"$f":"IF($H$32=\"Yes\",'SWIMMING POOL'!$B$19*0.001,0)","v":0},0,0,0,null,0,{"$f":"SUM(N1332:T1332,V1332, AB1332,$X$327/365*0.001)","v":6.8493150684931507E-4},0,0,0,0,0,0,0,0,0,0,0,0]
[null,null,null,null,null,null,null,null,null,null,null,null,"2014-11-26",0,0,0,0,0,0,0,0,0,0,0,{"$f":"IF($H$32=\"Yes\",'SWIMMING POOL'!$B$19*0.001,0)","v":0},0,0,0,null,0,{"$f":"SUM(N1333:T1333,V1333,AB1333,$X$327/365*0.001,)","v":6.8493150684931507E-4},0,0,0,0,0,0,0,0,0,0,0,0]
[null,null,null,null,null,null,null,null,null,null,null,null,"2014-11-29",0,0,0,0,0,0,0,0,0,0,0,{"$f":"IF($H$32=\"Yes\",'SWIMMING POOL'!$B$19*0.001,0)","v":0},0,0,0,null,0,{"$f":"SUM(N1336:T1336,V1336, AB1336,$X$327/365*0.001)","v":6.8493150684931507E-4},0,0,0,0,0,0,0,0,0,0,0,0]
[null,null,null,null,null,null,null,null,null,null,null,null,"2014-12-03",0,0,0,0,0,0,0,0,0,0,0,{"$f":"IF($H$32=\"Yes\",'SWIMMING POOL'!$B$19*0.001,0)","v":0},0,0,0,null,0,{"$f":"SUM(N1340:T1340,V1340, AB1340,$X$327/365*0.001)","v":6.8493150684931507E-4},0,0,0,0,0,0,0,0,0,0,0,0]
[null,null,null,null,null,null,null,null,null,null,null,null,"2014-12-06",0,0,0,0,0,0,0,0,0,0,0,{"$f":"IF($H$32=\"Yes\",'SWIMMING POOL'!$B$19*0.001,0)","v":0},0,0,0,null,0,{"$f":"SUM(N1343:T1343,V1343,AB1343,$X$327/365*0.001,)","v":6.8493150684931507E-4},0,0,0,0,0,0,0,0,0,0,0,0]
[null,null,null,null,null,null,null,null,null,null,null,null,"2014-12-09",0,0,0,0,0,0,0,0,0,0,0,{"$f":"IF($H$32=\"Yes\",'SWIMMING POOL'!$B$19*0.001,0)","v":0},0,0,0,null,0,{"$f":"SUM(N1346:T1346,V1346, AB1346,$X$327/365*0.001)","v":6.8493150684931507E-4},0,0,0,0,0,0,0,0,0,0,0,0]
[null,null,null,null,null,null,null,null,null,null,null,null,"2014-12-13",0,0,0,0,0,0,0,0,0,0,0,{"$f":"IF($H$32=\"Yes\",'SWIMMING POOL'!$B$19*0.001,0)","v":0},0,0,0,null,0,{"$f":"SUM(N1350:T1350,V1350, AB1350,$X$327/365*0.001)","v":6.8493150684931507E-4},0,0,0,0,0,0,0,0,0,0,0,0]
[null,null,null,null,null,null,null,null,null,null,null,null,"2014-12-16",0,0,0,0,0,0,0,0,0,0,0,{"$f":"IF($H$32=\"Yes\",'SWIMMING POOL'!$B$19*0.001,0)","v":0},0,0,0,null,0,{"$f":"SUM(N1353:T1353,V1353,AB1353,$X$327/365*0.001,)","v":6.8493150684931507E-4},0,0,0,0,0,0,0,0,0,0,0,0]
[null,null,null,null,null,null,null,null,null,null,null,null,"2014-12-17",0,0,0,0,0,0,0,0,0,0,0,{"$f":"IF($H$32=\"Yes\",'SWIMMING POOL'!$B$19*0.001,0)","v":0},0,0,0,null,0,{"$f":"SUM(N1354:T1354,V1354, AB1354,$X$327/365*0.001)","v":6.8493150684931507E-4},0,0,0,0,0,0,0,0,0,0,0,0]
[null,null,null,null,null,null,null,null,null,null,null,null,"2014-12-20",0,0,0,0,0,0,0,0,0,0,0,{"$f":"IF($H$32=\"Yes\",'SWIMMING POOL'!$B$19*0.001,0)","v":0},0,0,0,null,0,{"$f":"SUM(N1357:T1357,V1357,AB1357,$X$327/365*0.001,)","v":6.8493150684931507E-4},0,0,0,0,0,0,0,0,0,0,0,0]
[null,null,null,null,null,null,null,null,null,null,null,null,"2014-12-22",0,0,0,0,0,0,0,0,0,0,0,{"$f":"IF($H$32=\"Yes\",'SWIMMING POOL'!$B$19*0.001,0)","v":0},0,0,0,null,0,{"$f":"SUM(N1359:T1359,V1359,AB1359,$X$327/365*0.001,)","v":6.8493150684931507E-4},0,0,0,0,0,0,0,0,0,0,0,0]
[null,null,null,null,null,null,null,null,null,null,null,null,"2014-12-26",0,0,0,0,0,0,0,0,0,0,0,{"$f":"IF($H$32=\"Yes\",'SWIMMING POOL'!$B$19*0.001,0)","v":0},0,0,0,null,0,{"$f":"SUM(N1363:T1363,V1363,AB1363,$X$327/365*0.001,)","v":6.8493150684931507E-4},0,0,0,0,0,0,0,0,0,0,0,0]
[null,null,null,null,null,null,null,null,null,null,null,null,"2014-12-29",0,0,0,0,0,0,0,0,0,0,0,{"$f":"IF($H$32=\"Yes\",'SWIMMING POOL'!$B$19*0.001,0)","v":0},0,0,0,null,0,{"$f":"SUM(N1366:T1366,V1366, AB1366,$X$327/365*0.001)","v":6.8493150684931507E-4},0,0,0,0,0,0,0,0,0,0,0,0]
[null,null,null,null,null,null,null,null,null,null,null,null,"Total",{"$f":"SUM(N1004:N1368)","v":0},{"$f":"SUM(O1004:O1368)","v":0},{"$f":"SUM(P1004:P1368)","v":0},{"$f":"SUM(Q1004:Q1368)","v":0},0,0,0,{"$f":"SUM(U1004:V1368)","v":0},null,{"$f":"SUM(W1004:W1368)","v":0},0,{"$f":"SUM(Y1004:Y1368)","v":0},{"$f":"SUM(Z1004:Z1368)","v":0},0,{"$f":"SUM(AB1004:AB1368)","v":0},null,0,0.24999999999999914,0,0,{"$f":"SUM(AH1004:AH1368)","v":0},0,0,0,{"$f":"VLOOKUP(MONTH(N1369),$A$429:$F$440,4)/VLOOKUP(MONTH(N1369),$A$429:$F$440,2)*E$444+VLOOKUP(MONTH(N1369),$A$429:$F$440,5)/VLOOKUP(MONTH(N1369),$A$429:$F$440,2)*E$445+VLOOKUP(MONTH(N1369),$A$429:$F$440,6)/VLOOKUP(MONTH(N1369),$A$429:$F$440,2)*E$446","v":0},{"$f":"VLOOKUP(MONTH(O1369),$A$429:$F$440,4)/VLOOKUP(MONTH(O1369),$A$429:$F$440,2)*F$444+VLOOKUP(MONTH(O1369),$A$429:$F$440,5)/VLOOKUP(MONTH(O1369),$A$429:$F$440,2)*F$445+VLOOKUP(MONTH(O1369),$A$429:$F$440,6)/VLOOKUP(MONTH(O1369),$A$429:$F$440,2)*F$446","v":0},0,0,0,0]
[null,null,null,null,null,null,null,null,null,null,null,null,"2014-01-01",{"$f":"N1004*$D$459","v":0},{"$f":"O1004*$D$460","v":0},{"$f":"P1004*$D$461","v":0},{"$f":"Q1004*$D$462","v":0},{"$f":"R1004*$D$463","v":0},{"$f":"S1004*$D$464","v":0},{"$f":"T1004*$D$465","v":0},null,{"$f":"V1004*$D$466","v":0},{"$f":"W1004*$D$467","v":0},{"$f":"Z1004*D$470","v":0},{"$f":"IF($H$32=\"Yes\",$X$327/365*0.001*$D$469,0)","v":0},{"$f":"IF($H$41=\"Yes\",$E$392*0.001*$D$471,0)","v":0},{"$f":"VLOOKUP(MONTH(M1373),$A$475:$G$486,7)/VLOOKUP(MONTH(M1373),$A$475:$G$486,2)","v":0},{"$f":"SUM(N1373:AA1373)","v":0},{"$f":"MAX(AB1373-AM1004,0)","v":0},{"$f":"MIN(AC1373,AG1004)","v":0},"Jan",{"$f":"AB1373:AB1403","v":0},null,"2014-01-01",{"$f":"N1004*$D$491","v":0},{"$f":"O1004*$D$492","v":0},{"$f":"P1004*$D$493","v":0},{"$f":"Q1004*$D$494","v":0},null,{"$f":"R1004*$D$495","v":0},{"$f":"S1004*$D$496","v":0},{"$f":"T1004*$D$497","v":0},null,{"$f":"V1004*$D$498","v":0},{"$f":"W1004*$D$499","v":0},{"$f":"W1004*D$502","v":0},{"$f":"$X$327/365*0.001*$D$501","v":0},{"$f":"$E$392*0.001*$D$503","v":0},{"$f":"VLOOKUP(MONTH(AH1373),$A$507:$G$518,7)/VLOOKUP(MONTH(AH1373),$A$507:$G$518,2)","v":0},null,null,null,null,{"$f":"SUM(AI1373:AW1373)","v":0},{"$f":"MAX(BB1373-AN1004,0)","v":0},{"$f":"MIN(BC1373,AH1004)","v":0},"Jan",{"$f":"BB1373:BB1403","v":0},null,"2014-01-01",{"$f":"VLOOKUP(MONTH(BH1373),$A$570:$E$581,4)/VLOOKUP(MONTH(BH1373),$A$570:$E$581,2)","v":0},{"$f":"VLOOKUP(MONTH(BH1373),$A$570:$E$581,5)/VLOOKUP(MONTH(BH1373),$A$570:$E$581,2)","v":0},{"$f":"SUM(BI1373:BJ1373)","v":0},{"$f":"MAX(BK1373-AO1004,0)","v":0},{"$f":"MIN(BL1373,AI1004)","v":0},null,"2014-01-01",{"$f":"$J$546/365","v":0},{"$f":"IF($L$550=\"\",0,$L$550/31)","v":0},null,null,null,null,null,null,null,null,null,null,null,null,{"$f":"SUM(BP1373:CC1373)","v":0},{"$f":"MAX(CD1373-AP1004,0)","v":0},{"$f":"MIN(CE1373,AJ1004)","v":0},"Jan",{"$f":"CD1373:CD1403","v":0}]
[null,null,null,null,null,null,null,null,null,null,null,null,"2014-01-04",0,0,0,0,0,0,0,null,0,0,0,0,0,0,0,0,0,"Apr",{"$f":"SUM(AB1463:AB1492)","v":0},null,"2014-01-04",0,0,0,0,null,0,0,0,null,0,0,0,0,0,0,null,null,null,null,0,0,0,"Apr",{"$f":"SUM(BB1463:BB1492)","v":0},null,"2014-01-04",0,0,0,0,0,null,"2014-01-04",0,0,null,null,null,null,null,null,null,null,null,null,null,null,0,0,0,"Apr",{"$f":"SUM(CD1463:CD1492)","v":0}]
[null,null,null,null,null,null,null,null,null,null,null,null,"2014-01-05",0,0,0,0,0,0,0,null,0,0,0,0,0,0,0,0,0,"May",{"$f":"SUM(AB1493:AB1523)","v":0},null,"2014-01-05",0,0,0,0,null,0,0,0,null,0,0,0,0,0,0,null,null,null,null,0,0,0,"May",{"$f":"SUM(BB1493:BB1523)","v":0},null,"2014-01-05",0,0,0,0,0,null,"2014-01-05",0,0,null,null,null,null,null,null,null,null,null,null,null,null,0,0,0,"May",{"$f":"SUM(CD1493:CD1523)","v":0}]
[null,null,null,null,null,null,null,null,null,null,null,null,"2014-01-08",0,0,0,0,0,0,0,null,0,0,0,0,0,0,0,0,0,"Aug",{"$f":"SUM(AB1585:AB1615)","v":0},null,"2014-01-08",0,0,0,0,null,0,0,0,null,0,0,0,0,0,0,null,null,null,null,0,0,0,"Aug",{"$f":"SUM(BB1585:BB1615)","v":0},null,"2014-01-08",0,0,0,0,0,null,"2014-01-08",0,0,null,null,null,null,null,null,null,null,null,null,null,null,0,0,0,"Aug",{"$f":"SUM(CD1585:CD1615)","v":0}]
[null,null,null,null,null,null,null,null,null,null,null,null,"2014-01-11",0,0,0,0,0,0,0,null,0,0,0,0,0,0,0,0,0,"Nov",{"$f":"SUM(AB1677:AB1706)","v":0},null,"2014-01-11",0,0,0,0,null,0,0,0,null,0,0,0,0,0,0,null,null,null,null,0,0,0,"Nov",{"$f":"SUM(BB1677:BB1706)","v":0},null,"2014-01-11",0,0,0,0,0,null,"2014-01-11",0,0,null,null,null,null,null,null,null,null,null,null,null,null,0,0,0,"Nov",{"$f":"SUM(CD1677:CD1706)","v":0}]
[null,null,null,null,null,null,null,null,null,null,null,null,"2014-01-15",0,0,0,0,0,0,0,null,0,0,0,0,0,0,0,0,0,null,null,null,"2014-01-15",0,0,0,0,null,0,0,0,null,0,0,0,0,0,0,null,null,null,null,0,0,0,null,null,null,"2014-01-15",0,0,0,0,0,null,"2014-01-15",0,0,null,null,null,null,null,null,null,null,null,null,null,null,0,0,0]
[null,null,null,null,null,null,null,null,null,null,null,null,"2014-01-18",0,0,0,0,0,0,0,null,0,0,0,0,0,0,0,0,0,null,null,null,"2014-01-18",0,0,0,0,null,0,0,0,null,0,0,0,0,0,0,null,null,null,null,0,0,0,null,null,null,"2014-01-18",0,0,0,0,0,null,"2014-01-18",0,0,null,null,null,null,null,null,null,null,null,null,null,null,0,0,0]
[null,null,null,null,null,null,null,null,null,null,null,null,"2014-01-21",0,0,0,0,0,0,0,null,0,0,0,0,0,0,0,0,0,null,null,null,"2014-01-21",0,0,0,0,null,0,0,0,null,0,0,0,0,0,0,null,null,null,null,0,0,0,null,null,null,"2014-01-21",0,0,0,0,0,null,"2014-01-21",0,0,null,null,null,null,null,null,null,null,null,null,null,null,0,0,0]
[null,null,null,null,null,null,null,null,null,null,null,null,"2014-01-25",0,0,0,0,0,0,0,null,0,0,0,0,0,0,0,0,0,null,null,null,"2014-01-25",0,0,0,0,null,0,0,0,null,0,0,0,0,0,0,null,null,null,null,0,0,0,null,null,null,"2014-01-25",0,0,0,0,0,null,"2014-01-25",0,0,null,null,null,null,null,null,null,null,null,null,null,null,0,0,0]
[null,null,null,null,null,null,null,null,null,null,null,null,"2014-01-28",0,0,0,0,0,0,0,null,0,0,0,0,0,0,0,0,0,null,null,null,"2014-01-28",0,0,0,0,null,0,0,0,null,0,0,0,0,0,0,null,null,null,null,0,0,0,null,null,null,"2014-01-28",0,0,0,0,0,null,"2014-01-28",0,0,null,null,null,null,null,null,null,null,null,null,null,null,0,0,0]
[null,null,null,null,null,null,null,null,null,null,null,null,"2014-01-29",0,0,0,0,0,0,0,null,0,0,0,0,0,0,0,0,0,null,null,null,"2014-01-29",0,0,0,0,null,0,0,0,null,0,0,0,0,0,0,null,null,null,null,0,0,0,null,null,null,"2014-01-29",0,0,0,0,0,null,"2014-01-29",0,0,null,null,null,null,null,null,null,null,null,null,null,null,0,0,0]
[null,null,null,null,null,null,null,null,null,null,null,null,"2014-02-01",0,0,0,0,0,0,0,null,0,0,0,0,0,0,0,0,0,null,null,null,"2014-02-01",0,0,0,0,null,0,0,0,null,0,0,0,0,0,0,null,null,null,null,0,0,0,null,null,null,"2014-02-01",0,0,0,0,0,null,"2014-02-01",0,{"$f":"IF($L$551=\"\",0,$L$551/28)","v":0},null,null,null,null,null,null,null,null,null,null,null,null,0,0,0]
[null,null,null,null,null,null,null,null,null,null,null,null,"2014-02-04",0,0,0,0,0,0,0,null,0,0,0,0,0,0,0,0,0,null,null,null,"2014-02-04",0,0,0,0,null,0,0,0,null,0,0,0,0,0,0,null,null,null,null,0,0,0,null,null,null,"2014-02-04",0,0,0,0,0,null,"2014-02-04",0,0,null,null,null,null,null,null,null,null,null,null,null,null,0,0,0]
[null,null,null,null,null,null,null,null,null,null,null,null,"2014-02-08",0,0,0,0,0,0,0,null,0,0,0,0,0,0,0,0,0,null,null,null,"2014-02-08",0,0,0,0,null,0,0,0,null,0,0,0,0,0,0,null,null,null,null,0,0,0,null,null,null,"2014-02-08",0,0,0,0,0,null,"2014-02-08",0,0,null,null,null,null,null,null,null,null,null,null,null,null,0,0,0]
[null,null,null,null,null,null,null,null,null,null,null,null,"2014-02-11",0,0,0,0,0,0,0,null,0,0,0,0,0,0,0,0,0,null,null,null,"2014-02-11",0,0,0,0,null,0,0,0,null,0,0,0,0,0,0,null,null,null,null,0,0,0,null,null,null,"2014-02-11",0,0,0,0,0,null,"2014-02-11",0,0,null,null,null,null,null,null,null,null,null,null,null,null,0,0,0]
[null,null,null,null,null,null,null,null,null,null,null,null,"2014-02-15",0,0,0,0,0,0,0,null,0,0,0,0,0,0,0,0,0,null,null,null,"2014-02-15",0,0,0,0,null,0,0,0,null,0,0,0,0,0,0,null,null,null,null,0,0,0,null,null,null,"2014-02-15",0,0,0,0,0,null,"2014-02-15",0,0,null,null,null,null,null,null,null,null,null,null,null,null,0,0,0]
[null,null,null,null,null,null,null,null,null,null,null,null,"2014-02-18",0,0,0,0,0,0,0,null,0,0,0,0,0,0,0,0,0,null,null,null,"2014-02-18",0,0,0,0,null,0,0,0,null,0,0,0,0,0,0,null,null,null,null,0,0,0,null,null,null,"2014-02-18",0,0,0,0,0,null,"2014-02-18",0,0,null,null,null,null,null,null,null,null,null,null,null,null,0,0,0]
[null,null,null,null,null,null,null,null,null,null,null,null,"2014-02-21",0,0,0,0,0,0,0,null,0,0,0,0,0,0,0,0,0,null,null,null,"2014-02-21",0,0,0,0,null,0,0,0,null,0,0,0,0,0,0,null,null,null,null,0,0,0,null,null,null,"2014-02-21",0,0,0,0,0,null,"2014-02-21",0,0,null,null,null,null,null,null,null,null,null,null,null,null,0,0,0]
[null,null,null,null,null,null,null,null,null,null,null,null,"2014-02-22",0,0,0,0,0,0,0,null,0,0,0,0,0,0,0,0,0,null,null,null,"2014-02-22",0,0,0,0,null,0,0,0,null,0,0,0,0,0,0,null,null,null,null,0,0,0,null,null,null,"2014-02-22",0,0,0,0,0,null,"2014-02-22",0,0,null,null,null,null,null,null,null,null,null,null,null,null,0,0,0]
[null,null,null,null,null,null,null,null,null,null,null,null,"2014-02-25",0,0,0,0,0,0,0,null,0,0,0,0,0,0,0,0,0,null,null,null,"2014-02-25",0,0,0,0,null,0,0,0,null,0,0,0,0,0,0,null,null,null,null,0,0,0,null,null,null,"2014-02-25",0,0,0,0,0,null,"2014-02-25",0,0,null,null,null,null,null,null,null,null,null,null,null,null,0,0,0]
[null,null,null,null,null,null,null,null,null,null,null,null,"2014-02-28",0,0,0,0,0,0,0,null,0,0,0,0,0,0,0,0,0,null,null,null,"2014-02-28",0,0,0,0,null,0,0,0,null,0,0,0,0,0,0,null,null,null,null,0,0,0,null,null,null,"2014-02-28",0,0,0,0,0,null,"2014-02-28",0,0,null,null,null,null,null,null,null,null,null,null,null,null,0,0,0]
[null,null,null,null,null,null,null,null,null,null,null,null,"2014-03-03",0,0,0,0,0,0,0,null,0,0,0,0,0,0,0,0,0,null,null,null,"2014-03-03",0,0,0,0,null,0,0,0,null,0,0,0,0,0,0,null,null,null,null,0,0,0,null,null,null,"2014-03-03",0,0,0,0,0,null,"2014-03-03",0,0,null,null,null,null,null,null,null,null,null,null,null,null,0,0,0]
[null,null,null,null,null,null,null,null,null,null,null,null,"2014-03-06",{"$f":"N1068*$D$459","v":0},{"$f":"O1068*$D$460","v":0},{"$f":"P1068*$D$461","v":0},{"$f":"Q1068*$D$462","v":0},{"$f":"R1068*$D$463","v":0},{"$f":"S1068*$D$464","v":0},{"$f":"T1068*$D$465","v":0},null,{"$f":"V1068*$D$466","v":0},{"$f":"W1068*$D$467","v":0},0,{"$f":"IF($H$32=\"Yes\",$X$327/365*0.001*$D$469,0)","v":0},{"$f":"IF($H$41=\"Yes\",$E$392*0.001*$D$471,0)","v":0},{"$f":"VLOOKUP(MONTH(M1437),$A$475:$G$486,7)/VLOOKUP(MONTH(M1437),$A$475:$G$486,2)","v":0},{"$f":"SUM(N1437:AA1437)","v":0},{"$f":"MAX(AB1437-AM1068,0)","v":0},{"$f":"MIN(AC1437,AG1068)","v":0},null,null,null,"2014-03-06",{"$f":"N1068*$D$491","v":0},{"$f":"O1068*$D$492","v":0},{"$f":"P1068*$D$493","v":0},{"$f":"Q1068*$D$494","v":0},null,{"$f":"R1068*$D$495","v":0},{"$f":"S1068*$D$496","v":0},{"$f":"T1068*$D$497","v":0},null,{"$f":"V1068*$D$498","v":0},{"$f":"W1068*$D$499","v":0},0,{"$f":"$X$327/365*0.001*$D$501","v":0},{"$f":"$E$392*0.001*$D$503","v":0},{"$f":"VLOOKUP(MONTH(AH1437),$A$507:$G$518,7)/VLOOKUP(MONTH(AH1437),$A$507:$G$518,2)","v":0},null,null,null,null,{"$f":"SUM(AI1437:AW1437)","v":0},{"$f":"MAX(BB1437-AN1068,0)","v":0},{"$f":"MIN(BC1437,AH1068)","v":0},null,null,null,"2014-03-06",{"$f":"VLOOKUP(MONTH(BH1437),$A$570:$E$581,4)/VLOOKUP(MONTH(BH1437),$A$570:$E$581,2)","v":0},{"$f":"VLOOKUP(MONTH(BH1437),$A$570:$E$581,5)/VLOOKUP(MONTH(BH1437),$A$570:$E$581,2)","v":0},0,{"$f":"MAX(BK1437-AO1068,0)","v":0},{"$f":"MIN(BL1437,AI1068)","v":0},null,"2014-03-06",0,0,null,null,null,null,null,null,null,null,null,null,null,null,0,0,0]
[null,null,null,null,null,null,null,null,null,null,null,null,"2014-03-10",0,0,0,0,0,0,0,null,0,0,0,0,0,0,0,0,0,null,null,null,"2014-03-10",0,0,0,0,null,0,0,0,null,0,0,0,0,0,0,null,null,null,null,0,0,0,null,null,null,"2014-03-10",0,0,0,0,0,null,"2014-03-10",0,0,null,null,null,null,null,null,null,null,null,null,null,null,0,0,0]
[null,null,null,null,null,null,null,null,null,null,null,null,"2014-03-13",0,0,0,0,0,0,0,null,0,0,0,0,0,0,0,0,0,null,null,null,"2014-03-13",0,0,0,0,null,0,0,0,null,0,0,0,0,0,0,null,null,null,null,0,0,0,null,null,null,"2014-03-13",0,0,0,0,0,null,"2014-03-13",0,0,null,null,null,null,null,null,null,null,null,null,null,null,0,0,0]
[null,null,null,null,null,null,null,null,null,null,null,null,"2014-03-16",0,0,0,0,0,0,0,null,0,0,0,0,0,0,0,0,0,null,null,null,"2014-03-16",0,0,0,0,null,0,0,0,null,0,0,0,0,0,0,null,null,null,null,0,0,0,null,null,null,"2014-03-16",0,0,0,0,0,null,"2014-03-16",0,0,null,null,null,null,null,null,null,null,null,null,null,null,0,0,0]
[null,null,null,null,null,null,null,null,null,null,null,null,"2014-03-17",0,0,0,0,0,0,0,null,0,0,0,0,0,0,0,0,0,null,null,null,"2014-03-17",0,0,0,0,null,0,0,0,null,0,0,0,0,0,0,null,null,null,null,0,0,0,null,null,null,"2014-03-17",0,0,0,0,0,null,"2014-03-17",0,0,null,null,null,null,null,null,null,null,null,null,null,null,0,0,0]
[null,null,null,null,null,null,null,null,null,null,null,null,"2014-03-20",0,0,0,0,0,0,0,null,0,0,0,0,0,0,0,0,0,null,null,null,"2014-03-20",0,0,0,0,null,0,0,0,null,0,0,0,0,0,0,null,null,null,null,0,0,0,null,null,null,"2014-03-20",0,0,0,0,0,null,"2014-03-20",0,0,null,null,null,null,null,null,null,null,null,null,null,null,0,0,0]
[null,null,null,null,null,null,null,null,null,null,null,null,"2014-03-23",0,0,0,0,0,0,0,null,0,0,0,0,0,0,0,0,0,null,null,null,"2014-03-23",0,0,0,0,null,0,0,0,null,0,0,0,0,0,0,null,null,null,null,0,0,0,null,null,null,"2014-03-23",0,0,0,0,0,null,"2014-03-23",0,0,null,null,null,null,null,null,null,null,null,null,null,null,0,0,0]
[null,null,null,null,null,null,null,null,null,null,null,null,"2014-03-27",0,0,0,0,0,0,0,null,0,0,0,0,0,0,0,0,0,null,null,null,"2014-03-27",0,0,0,0,null,0,0,0,null,0,0,0,0,0,0,null,null,null,null,0,0,0,null,null,null,"2014-03-27",0,0,0,0,0,null,"2014-03-27",0,0,null,null,null,null,null,null,null,null,null,null,null,null,0,0,0]
[null,null,null,null,null,null,null,null,null,null,null,null,"2014-03-30",0,0,0,0,0,0,0,null,0,0,0,0,0,0,0,0,0,null,null,null,"2014-03-30",0,0,0,0,null,0,0,0,null,0,0,0,0,0,0,null,null,null,null,0,0,0,null,null,null,"2014-03-30",0,0,0,0,0,null,"2014-03-30",0,0,null,null,null,null,null,null,null,null,null,null,null,null,0,0,0]
[null,null,null,null,null,null,null,null,null,null,null,null,"2014-04-03",0,0,0,0,0,0,0,null,0,0,0,0,0,0,0,0,0,null,null,null,"2014-04-03",0,0,0,0,null,0,0,0,null,0,0,0,0,0,0,null,null,null,null,0,0,0,null,null,null,"2014-04-03",0,0,0,0,0,null,"2014-04-03",0,0,null,null,null,null,null,null,null,null,null,null,null,null,0,0,0]
[null,null,null,null,null,null,null,null,null,null,null,null,"2014-04-06",0,0,0,0,0,0,0,null,0,0,0,0,0,0,0,0,0,null,null,null,"2014-04-06",0,0,0,0,null,0,0,0,null,0,0,0,0,0,0,null,null,null,null,0,0,0,null,null,null,"2014-04-06",0,0,0,0,0,null,"2014-04-06",0,0,null,null,null,null,null,null,null,null,null,null,null,null,0,0,0]
[null,null,null,null,null,null,null,null,null,null,null,null,"2014-04-09",0,0,0,0,0,0,0,null,0,0,0,0,0,0,0,0,0,null,null,null,"2014-04-09",0,0,0,0,null,0,0,0,null,0,0,0,0,0,0,null,null,null,null,0,0,0,null,null,null,"2014-04-09",0,0,0,0,0,null,"2014-04-09",0,0,null,null,null,null,null,null,null,null,null,null,null,null,0,0,0]
[null,null,null,null,null,null,null,null,null,null,null,null,"2014-04-10",0,0,0,0,0,0,0,null,0,0,0,0,0,0,0,0,0,null,null,null,"2014-04-10",0,0,0,0,null,0,0,0,null,0,0,0,0,0,0,null,null,null,null,0,0,0,null,null,null,"2014-04-10",0,0,0,0,0,null,"2014-04-10",0,0,null,null,null,null,null,null,null,null,null,null,null,null,0,0,0]
[null,null,null,null,null,null,null,null,null,null,null,null,"2014-04-13",0,0,0,0,0,0,0,null,0,0,0,0,0,0,0,0,0,null,null,null,"2014-04-13",0,0,0,0,null,0,0,0,null,0,0,0,0,0,0,null,null,null,null,0,0,0,null,null,null,"2014-04-13",0,0,0,0,0,null,"2014-04-13",0,0,null,null,null,null,null,null,null,null,null,null,null,null,0,0,0]
[null,null,null,null,null,null,null,null,null,null,null,null,"2014-04-17",0,0,0,0,0,0,0,null,0,0,0,0,0,0,0,0,0,null,null,null,"2014-04-17",0,0,0,0,null,0,0,0,null,0,0,0,0,0,0,null,null,null,null,0,0,0,null,null,null,"2014-04-17",0,0,0,0,0,null,"2014-04-17",0,0,null,null,null,null,null,null,null,null,null,null,null,null,0,0,0]
[null,null,null,null,null,null,null,null,null,null,null,null,"2014-04-20",0,0,0,0,0,0,0,null,0,0,0,0,0,0,0,0,0,null,null,null,"2014-04-20",0,0,0,0,null,0,0,0,null,0,0,0,0,0,0,null,null,null,null,0,0,0,null,null,null,"2014-04-20",0,0,0,0,0,null,"2014-04-20",0,0,null,null,null,null,null,null,null,null,null,null,null,null,0,0,0]
[null,null,null,null,null,null,null,null,null,null,null,null,"2014-04-23",0,0,0,0,0,0,0,null,0,0,0,0,0,0,0,0,0,null,null,null,"2014-04-23",0,0,0,0,null,0,0,0,null,0,0,0,0,0,0,null,null,null,null,0,0,0,null,null,null,"2014-04-23",0,0,0,0,0,null,"2014-04-23",0,0,null,null,null,null,null,null,null,null,null,null,null,null,0,0,0]
[null,null,null,null,null,null,null,null,null,null,null,null,"2014-04-27",0,0,0,0,0,0,0,null,0,0,0,0,0,0,0,0,0,null,null,null,"2014-04-27",0,0,0,0,null,0,0,0,null,0,0,0,0,0,0,null,null,null,null,0,0,0,null,null,null,"2014-04-27",0,0,0,0,0,null,"2014-04-27",0,0,null,null,null,null,null,null,null,null,null,null,null,null,0,0,0]
[null,null,null,null,null,null,null,null,null,null,null,null,"2014-04-30",0,0,0,0,0,0,0,null,0,0,0,0,0,0,0,0,0,null,null,null,"2014-04-30",0,0,0,0,null,0,0,0,null,0,0,0,0,0,0,null,null,null,null,0,0,0,null,null,null,"2014-04-30",0,0,0,0,0,null,"2014-04-30",0,0,null,null,null,null,null,null,null,null,null,null,null,null,0,0,0]
[null,null,null,null,null,null,null,null,null,null,null,null,"2014-05-03",0,0,0,0,0,0,0,null,0,0,0,0,0,0,0,0,0,null,null,null,"2014-05-03",0,0,0,0,null,0,0,0,null,0,0,0,0,0,0,null,null,null,null,0,0,0,null,null,null,"2014-05-03",0,0,0,0,0,null,"2014-05-03",0,0,null,null,null,null,null,null,null,null,null,null,null,null,0,0,0]
[null,null,null,null,null,null,null,null,null,null,null,null,"2014-05-04",0,0,0,0,0,0,0,null,0,0,0,0,0,0,0,0,0,null,null,null,"2014-05-04",0,0,0,0,null,0,0,0,null,0,0,0,0,0,0,null,null,null,null,0,0,0,null,null,null,"2014-05-04",0,0,0,0,0,null,"2014-05-04",0,0,null,null,null,null,null,null,null,null,null,null,null,null,0,0,0]
[null,null,null,null,null,null,null,null,null,null,null,null,"2014-05-07",0,0,0,0,0,0,0,null,0,0,0,0,0,0,0,0,0,null,null,null,"2014-05-07",0,0,0,0,null,0,0,0,null,0,0,0,0,0,0,null,null,null,null,0,0,0,null,null,null,"2014-05-07",0,0,0,0,0,null,"2014-05-07",0,0,null,null,null,null,null,null,null,null,null,null,null,null,0,0,0]
[null,null,null,null,null,null,null,null,null,null,null,null,"2014-05-11",0,0,0,0,0,0,0,null,0,0,0,0,0,0,0,0,0,null,null,null,"2014-05-11",0,0,0,0,null,0,0,0,null,0,0,0,0,0,0,null,null,null,null,0,0,0,null,null,null,"2014-05-11",0,0,0,0,0,null,"2014-05-11",0,0,null,null,null,null,null,null,null,null,null,null,null,null,0,0,0]
[null,null,null,null,null,null,null,null,null,null,null,null,"2014-05-14",0,0,0,0,0,0,0,null,0,0,0,0,0,0,0,0,0,null,null,null,"2014-05-14",0,0,0,0,null,0,0,0,null,0,0,0,0,0,0,null,null,null,null,0,0,0,null,null,null,"2014-05-14",0,0,0,0,0,null,"2014-05-14",0,0,null,null,null,null,null,null,null,null,null,null,null,null,0,0,0]
[null,null,null,null,null,null,null,null,null,null,null,null,"2014-05-17",0,0,0,0,0,0,0,null,0,0,0,0,0,0,0,0,0,null,null,null,"2014-05-17",0,0,0,0,null,0,0,0,null,0,0,0,0,0,0,null,null,null,null,0,0,0,null,null,null,"2014-05-17",0,0,0,0,0,null,"2014-05-17",0,0,null,null,null,null,null,null,null,null,null,null,null,null,0,0,0]
[null,null,null,null,null,null,null,null,null,null,null,null,"2014-05-21",0,0,0,0,0,0,0,null,0,0,0,0,0,0,0,0,0,null,null,null,"2014-05-21",0,0,0,0,null,0,0,0,null,0,0,0,0,0,0,null,null,null,null,0,0,0,null,null,null,"2014-05-21",0,0,0,0,0,null,"2014-05-21",0,0,null,null,null,null,null,null,null,null,null,null,null,null,0,0,0]
[null,null,null,null,null,null,null,null,null,null,null,null,"2014-05-23",0,0,0,0,0,0,0,null,0,0,0,0,0,0,0,0,0,null,null,null,"2014-05-23",0,0,0,0,null,0,0,0,null,0,0,0,0,0,0,null,null,null,null,0,0,0,null,null,null,"2014-05-23",0,0,0,0,0,null,"2014-05-23",0,0,null,null,null,null,null,null,null,null,null,null,null,null,0,0,0]
[null,null,null,null,null,null,null,null,null,null,null,null,"2014-05-24",0,0,0,0,0,0,0,null,0,0,0,0,0,0,0,0,0,null,null,null,"2014-05-24",0,0,0,0,null,0,0,0,null,0,0,0,0,0,0,null,null,null,null,0,0,0,null,null,null,"2014-05-24",0,0,0,0,0,null,"2014-05-24",0,0,null,null,null,null,null,null,null,null,null,null,null,null,0,0,0]
[null,null,null,null,null,null,null,null,null,null,null,null,"2014-05-27",0,0,0,0,0,0,0,null,0,0,0,0,0,0,0,0,0,null,null,null,"2014-05-27",0,0,0,0,null,0,0,0,null,0,0,0,0,0,0,null,null,null,null,0,0,0,null,null,null,"2014-05-27",0,0,0,0,0,null,"2014-05-27",0,0,null,null,null,null,null,null,null,null,null,null,null,null,0,0,0]
[null,null,null,null,null,null,null,null,null,null,null,null,"2014-05-30",0,0,0,0,0,0,0,null,0,0,0,0,0,0,0,0,0,null,null,null,"2014-05-30",0,0,0,0,null,0,0,0,null,0,0,0,0,0,0,null,null,null,null,0,0,0,null,null,null,"2014-05-30",0,0,0,0,0,null,"2014-05-30",0,0,null,null,null,null,null,null,null,null,null,null,null,null,0,0,0]
[null,null,null,null,null,null,null,null,null,null,null,null,"2014-06-03",0,0,0,0,0,0,0,null,0,0,0,0,0,0,0,0,0,null,null,null,"2014-06-03",0,0,0,0,null,0,0,0,null,0,0,0,0,0,0,null,null,null,null,0,0,0,null,null,null,"2014-06-03",0,0,0,0,0,null,"2014-06-03",0,0,null,null,null,null,null,null,null,null,null,null,null,null,0,0,0]
[null,null,null,null,null,null,null,null,null,null,null,null,"2014-06-06",0,0,0,0,0,0,0,null,0,0,0,0,0,0,0,0,0,null,null,null,"2014-06-06",0,0,0,0,null,0,0,0,null,0,0,0,0,0,0,null,null,null,null,0,0,0,null,null,null,"2014-06-06",0,0,0,0,0,null,"2014-06-06",0,0,null,null,null,null,null,null,null,null,null,null,null,null,0,0,0]
[null,null,null,null,null,null,null,null,null,null,null,null,"2014-06-09",0,0,0,0,0,0,0,null,0,0,0,0,0,0,0,0,0,null,null,null,"2014-06-09",0,0,0,0,null,0,0,0,null,0,0,0,0,0,0,null,null,null,null,0,0,0,null,null,null,"2014-06-09",0,0,0,0,0,null,"2014-06-09",0,0,null,null,null,null,null,null,null,null,null,null,null,null,0,0,0]
[null,null,null,null,null,null,null,null,null,null,null,null,"2014-06-13",0,0,0,0,0,0,0,null,0,0,0,0,0,0,0,0,0,null,null,null,"2014-06-13",0,0,0,0,null,0,0,0,null,0,0,0,0,0,0,null,null,null,null,0,0,0,null,null,null,"2014-06-13",0,0,0,0,0,null,"2014-06-13",0,0,null,null,null,null,null,null,null,null,null,null,null,null,0,0,0]
[null,null,null,null,null,null,null,null,null,null,null,null,"2014-06-16",0,0,0,0,0,0,0,null,0,0,0,0,0,0,0,0,0,null,null,null,"2014-06-16",0,0,0,0,null,0,0,0,null,0,0,0,0,0,0,null,null,null,null,0,0,0,null,null,null,"2014-06-16",0,0,0,0,0,null,"2014-06-16",0,0,null,null,null,null,null,null,null,null,null,null,null,null,0,0,0]
[null,null,null,null,null,null,null,null,null,null,null,null,"2014-06-17",0,0,0,0,0,0,0,null,0,0,0,0,0,0,0,0,0,null,null,null,"2014-06-17",0,0,0,0,null,0,0,0,null,0,0,0,0,0,0,null,null,null,null,0,0,0,null,null,null,"2014-06-17",0,0,0,0,0,null,"2014-06-17",0,0,null,null,null,null,null,null,null,null,null,null,null,null,0,0,0]
[null,null,null,null,null,null,null,null,null,null,null,null,"2014-06-20",0,0,0,0,0,0,0,null,0,0,0,0,0,0,0,0,0,null,null,null,"2014-06-20",0,0,0,0,null,0,0,0,null,0,0,0,0,0,0,null,null,null,null,0,0,0,null,null,null,"2014-06-20",0,0,0,0,0,null,"2014-06-20",0,0,null,null,null,null,null,null,null,null,null,null,null,null,0,0,0]
[null,null,null,null,null,null,null,null,null,null,null,null,"2014-06-23",0,0,0,0,0,0,0,null,0,0,0,0,0,0,0,0,0,null,null,null,"2014-06-23",0,0,0,0,null,0,0,0,null,0,0,0,0,0,0,null,null,null,null,0,0,0,null,null,null,"2014-06-23",0,0,0,0,0,null,"2014-06-23",0,0,null,null,null,null,null,null,null,null,null,null,null,null,0,0,0]
[null,null,null,null,null,null,null,null,null,null,null,null,"2014-06-27",0,0,0,0,0,0,0,null,0,0,0,0,0,0,0,0,0,null,null,null,"2014-06-27",0,0,0,0,null,0,0,0,null,0,0,0,0,0,0,null,null,null,null,0,0,0,null,null,null,"2014-06-27",0,0,0,0,0,null,"2014-06-27",0,0,null,null,null,null,null,null,null,null,null,null,null,null,0,0,0]
[null,null,null,null,null,null,null,null,null,null,null,null,"2014-06-30",0,0,0,0,0,0,0,null,0,0,0,0,0,0,0,0,0,null,null,null,"2014-06-30",0,0,0,0,null,0,0,0,null,0,0,0,0,0,0,null,null,null,null,0,0,0,null,null,null,"2014-06-30",0,0,0,0,0,null,"2014-06-30",0,0,null,null,null,null,null,null,null,null,null,null,null,null,0,0,0]
[null,null,null,null,null,null,null,null,null,null,null,null,"2014-07-03",0,0,0,0,0,0,0,null,0,0,0,0,0,0,0,0,0,null,null,null,"2014-07-03",0,0,0,0,null,0,0,0,null,0,0,0,0,0,0,null,null,null,null,0,0,0,null,null,null,"2014-07-03",0,0,0,0,0,null,"2014-07-03",0,0,null,null,null,null,null,null,null,null,null,null,null,null,0,0,0]
[null,null,null,null,null,null,null,null,null,null,null,null,"2014-07-07",0,0,0,0,0,0,0,null,0,0,0,0,0,0,0,0,0,null,null,null,"2014-07-07",0,0,0,0,null,0,0,0,null,0,0,0,0,0,0,null,null,null,null,0,0,0,null,null,null,"2014-07-07",0,0,0,0,0,null,"2014-07-07",0,0,null,null,null,null,null,null,null,null,null,null,null,null,0,0,0]
[null,null,null,null,null,null,null,null,null,null,null,null,"2014-07-10",0,0,0,0,0,0,0,null,0,0,0,0,0,0,0,0,0,null,null,null,"2014-07-10",0,0,0,0,null,0,0,0,null,0,0,0,0,0,0,null,null,null,null,0,0,0,null,null,null,"2014-07-10",0,0,0,0,0,null,"2014-07-10",0,0,null,null,null,null,null,null,null,null,null,null,null,null,0,0,0]
[null,null,null,null,null,null,null,null,null,null,null,null,"2014-07-11",0,0,0,0,0,0,0,null,0,0,0,0,0,0,0,0,0,null,null,null,"2014-07-11",0,0,0,0,null,0,0,0,null,0,0,0,0,0,0,null,null,null,null,0,0,0,null,null,null,"2014-07-11",0,0,0,0,0,null,"2014-07-11",0,0,null,null,null,null,null,null,null,null,null,null,null,null,0,0,0]
[null,null,null,null,null,null,null,null,null,null,null,null,"2014-07-14",0,0,0,0,0,0,0,null,0,0,0,0,0,0,0,0,0,null,null,null,"2014-07-14",0,0,0,0,null,0,0,0,null,0,0,0,0,0,0,null,null,null,null,0,0,0,null,null,null,"2014-07-14",0,0,0,0,0,null,"2014-07-14",0,0,null,null,null,null,null,null,null,null,null,null,null,null,0,0,0]
[null,null,null,null,null,null,null,null,null,null,null,null,"2014-07-17",0,0,0,0,0,0,0,null,0,0,0,0,0,0,0,0,0,null,null,null,"2014-07-17",0,0,0,0,null,0,0,0,null,0,0,0,0,0,0,null,null,null,null,0,0,0,null,null,null,"2014-07-17",0,0,0,0,0,null,"2014-07-17",0,0,null,null,null,null,null,null,null,null,null,null,null,null,0,0,0]
[null,null,null,null,null,null,null,null,null,null,null,null,"2014-07-21",0,0,0,0,0,0,0,null,0,0,0,0,0,0,0,0,0,null,null,null,"2014-07-21",0,0,0,0,null,0,0,0,null,0,0,0,0,0,0,null,null,null,null,0,0,0,null,null,null,"2014-07-21",0,0,0,0,0,null,"2014-07-21",0,0,null,null,null,null,null,null,null,null,null,null,null,null,0,0,0]
[null,null,null,null,null,null,null,null,null,null,null,null,"2014-07-24",0,0,0,0,0,0,0,null,0,0,0,0,0,0,0,0,0,null,null,null,"2014-07-24",0,0,0,0,null,0,0,0,null,0,0,0,0,0,0,null,null,null,null,0,0,0,null,null,null,"2014-07-24",0,0,0,0,0,null,"2014-07-24",0,0,null,null,null,null,null,null,null,null,null,null,null,null,0,0,0]
[null,null,null,null,null,null,null,null,null,null,null,null,"2014-07-28",0,0,0,0,0,0,0,null,0,0,0,0,0,0,0,0,0,null,null,null,"2014-07-28",0,0,0,0,null,0,0,0,null,0,0,0,0,0,0,null,null,null,null,0,0,0,null,null,null,"2014-07-28",0,0,0,0,0,null,"2014-07-28",0,0,null,null,null,null,null,null,null,null,null,null,null,null,0,0,0]
[null,null,null,null,null,null,null,null,null,null,null,null,"2014-07-31",0,0,0,0,0,0,0,null,0,0,0,0,0,0,0,0,0,null,null,null,"2014-07-31",0,0,0,0,null,0,0,0,null,0,0,0,0,0,0,null,null,null,null,0,0,0,null,null,null,"2014-07-31",0,0,0,0,0,null,"2014-07-31",0,0,null,null,null,null,null,null,null,null,null,null,null,null,0,0,0]
[null,null,null,null,null,null,null,null,null,null,null,null,"2014-08-03",0,0,0,0,0,0,0,null,0,0,0,0,0,0,0,0,0,null,null,null,"2014-08-03",0,0,0,0,null,0,0,0,null,0,0,0,0,0,0,null,null,null,null,0,0,0,null,null,null,"2014-08-03",0,0,0,0,0,null,"2014-08-03",0,0,null,null,null,null,null,null,null,null,null,null,null,null,0,0,0]
[null,null,null,null,null,null,null,null,null,null,null,null,"2014-08-04",0,0,0,0,0,0,0,null,0,0,0,0,0,0,0,0,0,null,null,null,"2014-08-04",0,0,0,0,null,0,0,0,null,0,0,0,0,0,0,null,null,null,null,0,0,0,null,null,null,"2014-08-04",0,0,0,0,0,null,"2014-08-04",0,0,null,null,null,null,null,null,null,null,null,null,null,null,0,0,0]
[null,null,null,null,null,null,null,null,null,null,null,null,"2014-08-08",0,0,0,0,0,0,0,null,0,0,0,0,0,0,0,0,0,null,null,null,"2014-08-08",0,0,0,0,null,0,0,0,null,0,0,0,0,0,0,null,null,null,null,0,0,0,null,null,null,"2014-08-08",0,0,0,0,0,null,"2014-08-08",0,0,null,null,null,null,null,null,null,null,null,null,null,null,0,0,0]
[null,null,null,null,null,null,null,null,null,null,null,null,"2014-08-09",0,0,0,0,0,0,0,null,0,0,0,0,0,0,0,0,0,null,null,null,"2014-08-09",0,0,0,0,null,0,0,0,null,0,0,0,0,0,0,null,null,null,null,0,0,0,null,null,null,"2014-08-09",0,0,0,0,0,null,"2014-08-09",0,0,null,null,null,null,null,null,null,null,null,null,null,null,0,0,0]
[null,null,null,null,null,null,null,null,null,null,null,null,"2014-08-13",0,0,0,0,0,0,0,null,0,0,0,0,0,0,0,0,0,null,null,null,"2014-08-13",0,0,0,0,null,0,0,0,null,0,0,0,0,0,0,null,null,null,null,0,0,0,null,null,null,"2014-08-13",0,0,0,0,0,null,"2014-08-13",0,0,null,null,null,null,null,null,null,null,null,null,null,null,0,0,0]
[null,null,null,null,null,null,null,null,null,null,null,null,"2014-08-16",0,0,0,0,0,0,0,null,0,0,0,0,0,0,0,0,0,null,null,null,"2014-08-16",0,0,0,0,null,0,0,0,null,0,0,0,0,0,0,null,null,null,null,0,0,0,null,null,null,"2014-08-16",0,0,0,0,0,null,"2014-08-16",0,0,null,null,null,null,null,null,null,null,null,null,null,null,0,0,0]
[null,null,null,null,null,null,null,null,null,null,null,null,"2014-08-20",0,0,0,0,0,0,0,null,0,0,0,0,0,0,0,0,0,null,null,null,"2014-08-20",0,0,0,0,null,0,0,0,null,0,0,0,0,0,0,null,null,null,null,0,0,0,null,null,null,"2014-08-20",0,0,0,0,0,null,"2014-08-20",0,0,null,null,null,null,null,null,null,null,null,null,null,null,0,0,0]
[null,null,null,null,null,null,null,null,null,null,null,null,"2014-08-23",0,0,0,0,0,0,0,null,0,0,0,0,0,0,0,0,0,null,null,null,"2014-08-23",0,0,0,0,null,0,0,0,null,0,0,0,0,0,0,null,null,null,null,0,0,0,null,null,null,"2014-08-23",0,0,0,0,0,null,"2014-08-23",0,0,null,null,null,null,null,null,null,null,null,null,null,null,0,0,0]
[null,null,null,null,null,null,null,null,null,null,null,null,"2014-08-26",0,0,0,0,0,0,0,null,0,0,0,0,0,0,0,0,0,null,null,null,"2014-08-26",0,0,0,0,null,0,0,0,null,0,0,0,0,0,0,null,null,null,null,0,0,0,null,null,null,"2014-08-26",0,0,0,0,0,null,"2014-08-26",0,0,null,null,null,null,null,null,null,null,null,null,null,null,0,0,0]
[null,null,null,null,null,null,null,null,null,null,null,null,"2014-08-27",0,0,0,0,0,0,0,null,0,0,0,0,0,0,0,0,0,null,null,null,"2014-08-27",0,0,0,0,null,0,0,0,null,0,0,0,0,0,0,null,null,null,null,0,0,0,null,null,null,"2014-08-27",0,0,0,0,0,null,"2014-08-27",0,0,null,null,null,null,null,null,null,null,null,null,null,null,0,0,0]
[null,null,null,null,null,null,null,null,null,null,null,null,"2014-08-30",0,0,0,0,0,0,0,null,0,0,0,0,0,0,0,0,0,null,null,null,"2014-08-30",0,0,0,0,null,0,0,0,null,0,0,0,0,0,0,null,null,null,null,0,0,0,null,null,null,"2014-08-30",0,0,0,0,0,null,"2014-08-30",0,0,null,null,null,null,null,null,null,null,null,null,null,null,0,0,0]
[null,null,null,null,null,null,null,null,null,null,null,null,"2014-09-03",0,0,0,0,0,0,0,null,0,0,0,0,0,0,0,0,0,null,null,null,"2014-09-03",0,0,0,0,null,0,0,0,null,0,0,0,0,0,0,null,null,null,null,0,0,0,null,null,null,"2014-09-03",0,0,0,0,0,null,"2014-09-03",0,0,null,null,null,null,null,null,null,null,null,null,null,null,0,0,0]
[null,null,null,null,null,null,null,null,null,null,null,null,"2014-09-06",0,0,0,0,0,0,0,null,0,0,0,0,0,0,0,0,0,null,null,null,"2014-09-06",0,0,0,0,null,0,0,0,null,0,0,0,0,0,0,null,null,null,null,0,0,0,null,null,null,"2014-09-06",0,0,0,0,0,null,"2014-09-06",0,0,null,null,null,null,null,null,null,null,null,null,null,null,0,0,0]
[null,null,null,null,null,null,null,null,null,null,null,null,"2014-09-09",0,0,0,0,0,0,0,null,0,0,0,0,0,0,0,0,0,null,null,null,"2014-09-09",0,0,0,0,null,0,0,0,null,0,0,0,0,0,0,null,null,null,null,0,0,0,null,null,null,"2014-09-09",0,0,0,0,0,null,"2014-09-09",0,0,null,null,null,null,null,null,null,null,null,null,null,null,0,0,0]
[null,null,null,null,null,null,null,null,null,null,null,null,"2014-09-13",0,0,0,0,0,0,0,null,0,0,0,0,0,0,0,0,0,null,null,null,"2014-09-13",0,0,0,0,null,0,0,0,null,0,0,0,0,0,0,null,null,null,null,0,0,0,null,null,null,"2014-09-13",0,0,0,0,0,null,"2014-09-13",0,0,null,null,null,null,null,null,null,null,null,null,null,null,0,0,0]
[null,null,null,null,null,null,null,null,null,null,null,null,"2014-09-16",0,0,0,0,0,0,0,null,0,0,0,0,0,0,0,0,0,null,null,null,"2014-09-16",0,0,0,0,null,0,0,0,null,0,0,0,0,0,0,null,null,null,null,0,0,0,null,null,null,"2014-09-16",0,0,0,0,0,null,"2014-09-16",0,0,null,null,null,null,null,null,null,null,null,null,null,null,0,0,0]
[null,null,null,null,null,null,null,null,null,null,null,null,"2014-09-19",0,0,0,0,0,0,0,null,0,0,0,0,0,0,0,0,0,null,null,null,"2014-09-19",0,0,0,0,null,0,0,0,null,0,0,0,0,0,0,null,null,null,null,0,0,0,null,null,null,"2014-09-19",0,0,0,0,0,null,"2014-09-19",0,0,null,null,null,null,null,null,null,null,null,null,null,null,0,0,0]
[null,null,null,null,null,null,null,null,null,null,null,null,"2014-09-20",0,0,0,0,0,0,0,null,0,0,0,0,0,0,0,0,0,null,null,null,"2014-09-20",0,0,0,0,null,0,0,0,null,0,0,0,0,0,0,null,null,null,null,0,0,0,null,null,null,"2014-09-20",0,0,0,0,0,null,"2014-09-20",0,0,null,null,null,null,null,null,null,null,null,null,null,null,0,0,0]
[null,null,null,null,null,null,null,null,null,null,null,null,"2014-09-23",0,0,0,0,0,0,0,null,0,0,0,0,0,0,0,0,0,null,null,null,"2014-09-23",0,0,0,0,null,0,0,0,null,0,0,0,0,0,0,null,null,null,null,0,0,0,null,null,null,"2014-09-23",0,0,0,0,0,null,"2014-09-23",0,0,null,null,null,null,null,null,null,null,null,null,null,null,0,0,0]
[null,null,null,null,null,null,null,null,null,null,null,null,"2014-09-27",0,0,0,0,0,0,0,null,0,0,0,0,0,0,0,0,0,null,null,null,"2014-09-27",0,0,0,0,null,0,0,0,null,0,0,0,0,0,0,null,null,null,null,0,0,0,null,null,null,"2014-09-27",0,0,0,0,0,null,"2014-09-27",0,0,null,null,null,null,null,null,null,null,null,null,null,null,0,0,0]
[null,null,null,null,null,null,null,null,null,null,null,null,"2014-09-30",0,0,0,0,0,0,0,null,0,0,0,0,0,0,0,0,0,null,null,null,"2014-09-30",0,0,0,0,null,0,0,0,null,0,0,0,0,0,0,null,null,null,null,0,0,0,null,null,null,"2014-09-30",0,0,0,0,0,null,"2014-09-30",0,0,null,null,null,null,null,null,null,null,null,null,null,null,0,0,0]
[null,null,null,null,null,null,null,null,null,null,null,null,"2014-10-03",0,0,0,0,0,0,0,null,0,0,0,0,0,0,0,0,0,null,null,null,"2014-10-03",0,0,0,0,null,0,0,0,null,0,0,0,0,0,0,null,null,null,null,0,0,0,null,null,null,"2014-10-03",0,0,0,0,0,null,"2014-10-03",0,0,null,null,null,null,null,null,null,null,null,null,null,null,0,0,0]
[null,null,null,null,null,null,null,null,null,null,null,null,"2014-10-07",0,0,0,0,0,0,0,null,0,0,0,0,0,0,0,0,0,null,null,null,"2014-10-07",0,0,0,0,null,0,0,0,null,0,0,0,0,0,0,null,null,null,null,0,0,0,null,null,null,"2014-10-07",0,0,0,0,0,null,"2014-10-07",0,0,null,null,null,null,null,null,null,null,null,null,null,null,0,0,0]
[null,null,null,null,null,null,null,null,null,null,null,null,"2014-10-10",0,0,0,0,0,0,0,null,0,0,0,0,0,0,0,0,0,null,null,null,"2014-10-10",0,0,0,0,null,0,0,0,null,0,0,0,0,0,0,null,null,null,null,0,0,0,null,null,null,"2014-10-10",0,0,0,0,0,null,"2014-10-10",0,0,null,null,null,null,null,null,null,null,null,null,null,null,0,0,0]
[null,null,null,null,null,null,null,null,null,null,null,null,"2014-10-13",0,0,0,0,0,0,0,null,0,0,0,0,0,0,0,0,0,null,null,null,"2014-10-13",0,0,0,0,null,0,0,0,null,0,0,0,0,0,0,null,null,null,null,0,0,0,null,null,null,"2014-10-13",0,0,0,0,0,null,"2014-10-13",0,0,null,null,null,null,null,null,null,null,null,null,null,null,0,0,0]
[null,null,null,null,null,null,null,null,null,null,null,null,"2014-10-14",0,0,0,0,0,0,0,null,0,0,0,0,0,0,0,0,0,null,null,null,"2014-10-14",0,0,0,0,null,0,0,0,null,0,0,0,0,0,0,null,null,null,null,0,0,0,null,null,null,"2014-10-14",0,0,0,0,0,null,"2014-10-14",0,0,null,null,null,null,null,null,null,null,null,null,null,null,0,0,0]
[null,null,null,null,null,null,null,null,null,null,null,null,"2014-10-17",0,0,0,0,0,0,0,null,0,0,0,0,0,0,0,0,0,null,null,null,"2014-10-17",0,0,0,0,null,0,0,0,null,0,0,0,0,0,0,null,null,null,null,0,0,0,null,null,null,"2014-10-17",0,0,0,0,0,null,"2014-10-17",0,0,null,null,null,null,null,null,null,null,null,null,null,null,0,0,0]
[null,null,null,null,null,null,null,null,null,null,null,null,"2014-10-21",0,0,0,0,0,0,0,null,0,0,0,0,0,0,0,0,0,null,null,null,"2014-10-21",0,0,0,0,null,0,0,0,null,0,0,0,0,0,0,null,null,null,null,0,0,0,null,null,null,"2014-10-21",0,0,0,0,0,null,"2014-10-21",0,0,null,null,null,null,null,null,null,null,null,null,null,null,0,0,0]
[null,null,null,null,null,null,null,null,null,null,null,null,"2014-10-24",0,0,0,0,0,0,0,null,0,0,0,0,0,0,0,0,0,null,null,null,"2014-10-24",0,0,0,0,null,0,0,0,null,0,0,0,0,0,0,null,null,null,null,0,0,0,null,null,null,"2014-10-24",0,0,0,0,0,null,"2014-10-24",0,0,null,null,null,null,null,null,null,null,null,null,null,null,0,0,0]
[null,null,null,null,null,null,null,null,null,null,null,null,"2014-10-26",0,0,0,0,0,0,0,null,0,0,0,0,0,0,0,0,0,null,null,null,"2014-10-26",0,0,0,0,null,0,0,0,null,0,0,0,0,0,0,null,null,null,null,0,0,0,null,null,null,"2014-10-26",0,0,0,0,0,null,"2014-10-26",0,0,null,null,null,null,null,null,null,null,null,null,null,null,0,0,0]
[null,null,null,null,null,null,null,null,null,null,null,null,"2014-10-30",0,0,0,0,0,0,0,null,0,0,0,0,0,0,0,0,0,null,null,null,"2014-10-30",0,0,0,0,null,0,0,0,null,0,0,0,0,0,0,null,null,null,null,0,0,0,null,null,null,"2014-10-30",0,0,0,0,0,null,"2014-10-30",0,0,null,null,null,null,null,null,null,null,null,null,null,null,0,0,0]
[null,null,null,null,null,null,null,null,null,null,null,null,"2014-11-02",0,0,0,0,0,0,0,null,0,0,0,0,0,0,0,0,0,null,null,null,"2014-11-02",0,0,0,0,null,0,0,0,null,0,0,0,0,0,0,null,null,null,null,0,0,0,null,null,null,"2014-11-02",0,0,0,0,0,null,"2014-11-02",0,{"$f":"IF($L$560=\"\",0,$L$560/30)","v":0},null,null,null,null,null,null,null,null,null,null,null,null,0,0,0]
[null,null,null,null,null,null,null,null,null,null,null,null,"2014-11-03",0,0,0,0,0,0,0,null,0,0,0,0,0,0,0,0,0,null,null,null,"2014-11-03",0,0,0,0,null,0,0,0,null,0,0,0,0,0,0,null,null,null,null,0,0,0,null,null,null,"2014-11-03",0,0,0,0,0,null,"2014-11-03",0,0,null,null,null,null,null,null,null,null,null,null,null,null,0,0,0]
[null,null,null,null,null,null,null,null,null,null,null,null,"2014-11-06",0,0,0,0,0,0,0,null,0,0,0,0,0,0,0,0,0,null,null,null,"2014-11-06",0,0,0,0,null,0,0,0,null,0,0,0,0,0,0,null,null,null,null,0,0,0,null,null,null,"2014-11-06",0,0,0,0,0,null,"2014-11-06",0,0,null,null,null,null,null,null,null,null,null,null,null,null,0,0,0]
[null,null,null,null,null,null,null,null,null,null,null,null,"2014-11-09",0,0,0,0,0,0,0,null,0,0,0,0,0,0,0,0,0,null,null,null,"2014-11-09",0,0,0,0,null,0,0,0,null,0,0,0,0,0,0,null,null,null,null,0,0,0,null,null,null,"2014-11-09",0,0,0,0,0,null,"2014-11-09",0,0,null,null,null,null,null,null,null,null,null,null,null,null,0,0,0]
[null,null,null,null,null,null,null,null,null,null,null,null,"2014-11-13",0,0,0,0,0,0,0,null,0,0,0,0,0,0,0,0,0,null,null,null,"2014-11-13",0,0,0,0,null,0,0,0,null,0,0,0,0,0,0,null,null,null,null,0,0,0,null,null,null,"2014-11-13",0,0,0,0,0,null,"2014-11-13",0,0,null,null,null,null,null,null,null,null,null,null,null,null,0,0,0]
[null,null,null,null,null,null,null,null,null,null,null,null,"2014-11-16",0,0,0,0,0,0,0,null,0,0,0,0,0,0,0,0,0,null,null,null,"2014-11-16",0,0,0,0,null,0,0,0,null,0,0,0,0,0,0,null,null,null,null,0,0,0,null,null,null,"2014-11-16",0,0,0,0,0,null,"2014-11-16",0,0,null,null,null,null,null,null,null,null,null,null,null,null,0,0,0]
[null,null,null,null,null,null,null,null,null,null,null,null,"2014-11-19",0,0,0,0,0,0,0,null,0,0,0,0,0,0,0,0,0,null,null,null,"2014-11-19",0,0,0,0,null,0,0,0,null,0,0,0,0,0,0,null,null,null,null,0,0,0,null,null,null,"2014-11-19",0,0,0,0,0,null,"2014-11-19",0,0,null,null,null,null,null,null,null,null,null,null,null,null,0,0,0]
[null,null,null,null,null,null,null,null,null,null,null,null,"2014-11-23",0,0,0,0,0,0,0,null,0,0,0,0,0,0,0,0,0,null,null,null,"2014-11-23",0,0,0,0,null,0,0,0,null,0,0,0,0,0,0,null,null,null,null,0,0,0,null,null,null,"2014-11-23",0,0,0,0,0,null,"2014-11-23",0,0,null,null,null,null,null,null,null,null,null,null,null,null,0,0,0]
[null,null,null,null,null,null,null,null,null,null,null,null,"2014-11-26",0,0,0,0,0,0,0,null,0,0,0,0,0,0,0,0,0,null,null,null,"2014-11-26",0,0,0,0,null,0,0,0,null,0,0,0,0,0,0,null,null,null,null,0,0,0,null,null,null,"2014-11-26",0,0,0,0,0,null,"2014-11-26",0,0,null,null,null,null,null,null,null,null,null,null,null,null,0,0,0]
[null,null,null,null,null,null,null,null,null,null,null,null,"2014-11-27",0,0,0,0,0,0,0,null,0,0,0,0,0,0,0,0,0,null,null,null,"2014-11-27",0,0,0,0,null,0,0,0,null,0,0,0,0,0,0,null,null,null,null,0,0,0,null,null,null,"2014-11-27",0,0,0,0,0,null,"2014-11-27",0,0,null,null,null,null,null,null,null,null,null,null,null,null,0,0,0]
[null,null,null,null,null,null,null,null,null,null,null,null,"2014-11-30",0,0,0,0,0,0,0,null,0,0,0,0,0,0,0,0,0,null,null,null,"2014-11-30",0,0,0,0,null,0,0,0,null,0,0,0,0,0,0,null,null,null,null,0,0,0,null,null,null,"2014-11-30",0,0,0,0,0,null,"2014-11-30",0,0,null,null,null,null,null,null,null,null,null,null,null,null,0,0,0]
[null,null,null,null,null,null,null,null,null,null,null,null,"2014-12-03",0,0,0,0,0,0,0,null,0,0,0,0,0,0,0,0,0,null,null,null,"2014-12-03",0,0,0,0,null,0,0,0,null,0,0,0,0,0,0,null,null,null,null,0,0,0,null,null,null,"2014-12-03",0,0,0,0,0,null,"2014-12-03",0,0,null,null,null,null,null,null,null,null,null,null,null,null,0,0,0]
[null,null,null,null,null,null,null,null,null,null,null,null,"2014-12-07",0,0,0,0,0,0,0,null,0,0,0,0,0,0,0,0,0,null,null,null,"2014-12-07",0,0,0,0,null,0,0,0,null,0,0,0,0,0,0,null,null,null,null,0,0,0,null,null,null,"2014-12-07",0,0,0,0,0,null,"2014-12-07",0,0,null,null,null,null,null,null,null,null,null,null,null,null,0,0,0]
[null,null,null,null,null,null,null,null,null,null,null,null,"2014-12-10",0,0,0,0,0,0,0,null,0,0,0,0,0,0,0,0,0,null,null,null,"2014-12-10",0,0,0,0,null,0,0,0,null,0,0,0,0,0,0,null,null,null,null,0,0,0,null,null,null,"2014-12-10",0,0,0,0,0,null,"2014-12-10",0,0,null,null,null,null,null,null,null,null,null,null,null,null,0,0,0]
[null,null,null,null,null,null,null,null,null,null,null,null,"2014-12-13",0,0,0,0,0,0,0,null,0,0,0,0,0,0,0,0,0,null,null,null,"2014-12-13",0,0,0,0,null,0,0,0,null,0,0,0,0,0,0,null,null,null,null,0,0,0,null,null,null,"2014-12-13",0,0,0,0,0,null,"2014-12-13",0,0,null,null,null,null,null,null,null,null,null,null,null,null,0,0,0]
[null,null,null,null,null,null,null,null,null,null,null,null,"2014-12-17",0,0,0,0,0,0,0,null,0,0,0,0,0,0,0,0,0,null,null,null,"2014-12-17",0,0,0,0,null,0,0,0,null,0,0,0,0,0,0,null,null,null,null,0,0,0,null,null,null,"2014-12-17",0,0,0,0,0,null,"2014-12-17",0,0,null,null,null,null,null,null,null,null,null,null,null,null,0,0,0]
[null,null,null,null,null,null,null,null,null,null,null,null,"2014-12-20",0,0,0,0,0,0,0,null,0,0,0,0,0,0,0,0,0,null,null,null,"2014-12-20",0,0,0,0,null,0,0,0,null,0,0,0,0,0,0,null,null,null,null,0,0,0,null,null,null,"2014-12-20",0,0,0,0,0,null,"2014-12-20",0,0,null,null,null,null,null,null,null,null,null,null,null,null,0,0,0]
[null,null,null,null,null,null,null,null,null,null,null,null,"2014-12-21",0,0,0,0,0,0,0,null,0,0,0,0,0,0,0,0,0,null,null,null,"2014-12-21",0,0,0,0,null,0,0,0,null,0,0,0,0,0,0,null,null,null,null,0,0,0,null,null,null,"2014-12-21",0,0,0,0,0,null,"2014-12-21",0,0,null,null,null,null,null,null,null,null,null,null,null,null,0,0,0]
[null,null,null,null,null,null,null,null,null,null,null,null,"2014-12-24",0,0,0,0,0,0,0,null,0,0,0,0,0,0,0,0,0,null,null,null,"2014-12-24",0,0,0,0,null,0,0,0,null,0,0,0,0,0,0,null,null,null,null,0,0,0,null,null,null,"2014-12-24",0,0,0,0,0,null,"2014-12-24",0,0,null,null,null,null,null,null,null,null,null,null,null,null,0,0,0]
[null,null,null,null,null,null,null,null,null,null,null,null,"2014-12-27",0,0,0,0,0,0,0,null,0,0,0,0,0,0,0,0,0,null,null,null,"2014-12-27",0,0,0,0,null,0,0,0,null,0,0,0,0,0,0,null,null,null,null,0,0,0,null,null,null,"2014-12-27",0,0,0,0,0,null,"2014-12-27",0,0,null,null,null,null,null,null,null,null,null,null,null,null,0,0,0]
[null,null,null,null,null,null,null,null,null,null,null,null,"2014-12-31",0,0,0,0,0,0,0,null,0,0,0,0,0,0,0,0,0,null,null,null,"2014-12-31",0,0,0,0,null,0,0,0,null,0,0,0,0,0,0,null,null,null,null,0,0,0,null,null,null,"2014-12-31",0,0,0,0,0,null,"2014-12-31",0,0,null,null,null,null,null,null,null,null,null,null,null,null,0,0,0]
[null,null,null,null,null,null,null,null,null,null,null,null,null,"Rainwater Tank Initialisation",null,null,null,null,null,null,"Non-potable water Available",null,null,null,null,"Non-potable water Required",null,null,null,null,"Non-potable water utilised",null,null,null,null,null,null,"Non-potable water Available",null,null,null,null,"Non-potable water Required",null,null,null,null,"Non-potable water utilised",null,null,null,null,null,null,"Non-potable water Available",null,null,null,null,"Non-potable water Required",null,null,null,null,"Non-potable water utilised",null,null,null,null,null,null,"Non-potable water Available",null,null,null,null,"Non-potable water Required",null,null,null,null,"Non-potable water utilised",null,null,null,null,null,"Non-potable water Available","Non-potable water Available",null,null,null,null,"Non-potable water Required",null,null,null,null,"Non-potable water Utilised",null,null,null,null,null,null,"Non-potable water Available",null,null,null,null,"Non-potable water Required",null,null,null,null,"Non-potable water utilised",null,null,null,null,null,null,"Non-potable water Available",null,null,null,null,"Non-potable water Required",null,null,null,null,"Non-potable water utilised",null,null,null,null,null,null,"Non-potable water Available",null,null,null,null,"Non-potable water Required",null,null,null,null,"Non-potable water utilised",null,null,null,null,null,null,"Non-potable water Available",null,null,null,null,"Non-potable water Required",null,null,null,null,"Non-potable water utilised",null,null,null,null,null,null,"Non-potable water Available",null,null,null,null,"Non-potable water Required",null,null,null,null,"Non-potable water utilised",null,null,null,null,null,null,"Non-potable water Available",null,null,null,null,"Non-potable water Required",null,null,null,null,"Non-potable water utilised",null,null,null,null,null,null,"Non-potable water Available",null,null,null,null,"Non-potable water Required",null,null,null,null,"Non-potable water utilised",null,null,null,null,null,{"$f":"SUM(HP1742:HP2106)","v":0},0,0,0,0,0,0]
[null,null,null,null,null,null,null,null,null,null,null,null,"2014-01-03",{"$error":"#VALUE!"},0,{"$error":"#VALUE!"},{"$error":"#VALUE!"},0,null,0,{"$error":"#VALUE!"},0,0,0,0,0,0,0,0,0,0,0,0,0,0,null,0,{"$error":"#VALUE!"},0,0,0,0,0,0,0,0,0,0,0,0,0,0,null,0,{"$error":"#VALUE!"},0,0,0,0,0,0,0,0,0,0,0,0,0,0,null,0,{"$error":"#VALUE!"},0,0,0,0,0,0,0,0,0,0,0,0,0,0,null,0,{"$error":"#VALUE!"},0,0,0,0,0,0,0,0,0,0,0,0,0,0,null,0,{"$error":"#VALUE!"},0,0,0,0,0,0,0,0,0,0,0,0,0,0,null,0,{"$error":"#VALUE!"},0,0,0,0,0,0,0,0,0,0,0,0,0,0,null,0,{"$error":"#VALUE!"},0,0,0,0,0,0,0,0,0,0,0,0,0,0,null,0,{"$error":"#VALUE!"},0,0,0,0,0,0,0,0,0,0,0,0,0,0,null,0,{"$error":"#VALUE!"},0,0,0,0,0,0,0,0,0,0,0,0,0,0,null,0,{"$error":"#VALUE!"},0,0,0,0,0,0,0,0,0,0,0,0,0,0,null,0,{"$error":"#VALUE!"},0,0,0,0,0,0,0,0,0,0,0,0,0,0,null,0,0,0,0,0,0,0]
[null,null,null,null,null,null,null,null,null,null,null,null,"2014-01-06",{"$error":"#VALUE!"},0,{"$error":"#VALUE!"},{"$error":"#VALUE!"},0,null,0,{"$error":"#VALUE!"},0,0,0,0,0,0,0,0,0,0,0,0,0,0,null,0,{"$error":"#VALUE!"},0,0,0,0,0,0,0,0,0,0,0,0,0,0,null,0,{"$error":"#VALUE!"},0,0,0,0,0,0,0,0,0,0,0,0,0,0,null,0,{"$error":"#VALUE!"},0,0,0,0,0,0,0,0,0,0,0,0,0,0,null,0,{"$error":"#VALUE!"},0,0,0,0,0,0,0,0,0,0,0,0,0,0,null,0,{"$error":"#VALUE!"},0,0,0,0,0,0,0,0,0,0,0,0,0,0,null,0,{"$error":"#VALUE!"},0,0,0,0,0,0,0,0,0,0,0,0,0,0,null,0,{"$error":"#VALUE!"},0,0,0,0,0,0,0,0,0,0,0,0,0,0,null,0,{"$error":"#VALUE!"},0,0,0,0,0,0,0,0,0,0,0,0,0,0,null,0,{"$error":"#VALUE!"},0,0,0,0,0,0,0,0,0,0,0,0,0,0,null,0,{"$error":"#VALUE!"},0,0,0,0,0,0,0,0,0,0,0,0,0,0,null,0,{"$error":"#VALUE!"},0,0,0,0,0,0,0,0,0,0,0,0,0,0,null,0,0,0,0,0,0,0]
[null,null,null,null,null,null,null,null,null,null,null,null,"2014-01-07",{"$error":"#VALUE!"},0,{"$error":"#VALUE!"},{"$error":"#VALUE!"},0,null,0,{"$error":"#VALUE!"},0,0,0,0,0,0,0,0,0,0,0,0,0,0,null,0,{"$error":"#VALUE!"},0,0,0,0,0,0,0,0,0,0,0,0,0,0,null,0,{"$error":"#VALUE!"},0,0,0,0,0,0,0,0,0,0,0,0,0,0,null,0,{"$error":"#VALUE!"},0,0,0,0,0,0,0,0,0,0,0,0,0,0,null,0,{"$error":"#VALUE!"},0,0,0,0,0,0,0,0,0,0,0,0,0,0,null,0,{"$error":"#VALUE!"},0,0,0,0,0,0,0,0,0,0,0,0,0,0,null,0,{"$error":"#VALUE!"},0,0,0,0,0,0,0,0,0,0,0,0,0,0,null,0,{"$error":"#VALUE!"},0,0,0,0,0,0,0,0,0,0,0,0,0,0,null,0,{"$error":"#VALUE!"},0,0,0,0,0,0,0,0,0,0,0,0,0,0,null,0,{"$error":"#VALUE!"},0,0,0,0,0,0,0,0,0,0,0,0,0,0,null,0,{"$error":"#VALUE!"},0,0,0,0,0,0,0,0,0,0,0,0,0,0,null,0,{"$error":"#VALUE!"},0,0,0,0,0,0,0,0,0,0,0,0,0,0,null,0,0,0,0,0,0,0]
[null,null,null,null,null,null,null,null,null,null,null,null,"2014-01-09",{"$error":"#VALUE!"},0,{"$error":"#VALUE!"},{"$error":"#VALUE!"},0,null,0,{"$error":"#VALUE!"},0,0,0,0,0,0,0,0,0,0,0,0,0,0,null,0,{"$error":"#VALUE!"},0,0,0,0,0,0,0,0,0,0,0,0,0,0,null,0,{"$error":"#VALUE!"},0,0,0,0,0,0,0,0,0,0,0,0,0,0,null,0,{"$error":"#VALUE!"},0,0,0,0,0,0,0,0,0,0,0,0,0,0,null,0,{"$error":"#VALUE!"},0,0,0,0,0,0,0,0,0,0,0,0,0,0,null,0,{"$error":"#VALUE!"},0,0,0,0,0,0,0,0,0,0,0,0,0,0,null,0,{"$error":"#VALUE!"},0,0,0,0,0,0,0,0,0,0,0,0,0,0,null,0,{"$error":"#VALUE!"},0,0,0,0,0,0,0,0,0,0,0,0,0,0,null,0,{"$error":"#VALUE!"},0,0,0,0,0,0,0,0,0,0,0,0,0,0,null,0,{"$error":"#VALUE!"},0,0,0,0,0,0,0,0,0,0,0,0,0,0,null,0,{"$error":"#VALUE!"},0,0,0,0,0,0,0,0,0,0,0,0,0,0,null,0,{"$error":"#VALUE!"},0,0,0,0,0,0,0,0,0,0,0,0,0,0,null,0,0,0,0,0,0,0]
[null,null,null,null,null,null,null,null,null,null,null,null,"2014-01-12",{"$error":"#VALUE!"},0,{"$error":"#VALUE!"},{"$error":"#VALUE!"},0,null,0,{"$error":"#VALUE!"},0,0,0,0,0,0,0,0,0,0,0,0,0,0,null,0,{"$error":"#VALUE!"},0,0,0,0,0,0,0,0,0,0,0,0,0,0,null,0,{"$error":"#VALUE!"},0,0,0,0,0,0,0,0,0,0,0,0,0,0,null,0,{"$error":"#VALUE!"},0,0,0,0,0,0,0,0,0,0,0,0,0,0,null,0,{"$error":"#VALUE!"},0,0,0,0,0,0,0,0,0,0,0,0,0,0,null,0,{"$error":"#VALUE!"},0,0,0,0,0,0,0,0,0,0,0,0,0,0,null,0,{"$error":"#VALUE!"},0,0,0,0,0,0,0,0,0,0,0,0,0,0,null,0,{"$error":"#VALUE!"},0,0,0,0,0,0,0,0,0,0,0,0,0,0,null,0,{"$error":"#VALUE!"},0,0,0,0,0,0,0,0,0,0,0,0,0,0,null,0,{"$error":"#VALUE!"},0,0,0,0,0,0,0,0,0,0,0,0,0,0,null,0,{"$error":"#VALUE!"},0,0,0,0,0,0,0,0,0,0,0,0,0,0,null,0,{"$error":"#VALUE!"},0,0,0,0,0,0,0,0,0,0,0,0,0,0,null,0,0,0,0,0,0,0]
[null,null,null,null,null,null,null,null,null,null,null,null,"2014-01-15",{"$error":"#VALUE!"},0,{"$error":"#VALUE!"},{"$error":"#VALUE!"},0,null,0,{"$error":"#VALUE!"},0,0,0,0,0,0,0,0,0,0,0,0,0,0,null,0,{"$error":"#VALUE!"},0,0,0,0,0,0,0,0,0,0,0,0,0,0,null,0,{"$error":"#VALUE!"},0,0,0,0,0,0,0,0,0,0,0,0,0,0,null,0,{"$error":"#VALUE!"},0,0,0,0,0,0,0,0,0,0,0,0,0,0,null,0,{"$error":"#VALUE!"},0,0,0,0,0,0,0,0,0,0,0,0,0,0,null,0,{"$error":"#VALUE!"},0,0,0,0,0,0,0,0,0,0,0,0,0,0,null,0,{"$error":"#VALUE!"},0,0,0,0,0,0,0,0,0,0,0,0,0,0,null,0,{"$error":"#VALUE!"},0,0,0,0,0,0,0,0,0,0,0,0,0,0,null,0,{"$error":"#VALUE!"},0,0,0,0,0,0,0,0,0,0,0,0,0,0,null,0,{"$error":"#VALUE!"},0,0,0,0,0,0,0,0,0,0,0,0,0,0,null,0,{"$error":"#VALUE!"},0,0,0,0,0,0,0,0,0,0,0,0,0,0,null,0,{"$error":"#VALUE!"},0,0,0,0,0,0,0,0,0,0,0,0,0,0,null,0,0,0,0,0,0,0]
[null,null,null,null,null,null,null,null,null,null,null,null,"2014-01-19",{"$error":"#VALUE!"},0,{"$error":"#VALUE!"},{"$error":"#VALUE!"},0,null,0,{"$error":"#VALUE!"},0,0,0,0,0,0,0,0,0,0,0,0,0,0,null,0,{"$error":"#VALUE!"},0,0,0,0,0,0,0,0,0,0,0,0,0,0,null,0,{"$error":"#VALUE!"},0,0,0,0,0,0,0,0,0,0,0,0,0,0,null,0,{"$error":"#VALUE!"},0,0,0,0,0,0,0,0,0,0,0,0,0,0,null,0,{"$error":"#VALUE!"},0,0,0,0,0,0,0,0,0,0,0,0,0,0,null,0,{"$error":"#VALUE!"},0,0,0,0,0,0,0,0,0,0,0,0,0,0,null,0,{"$error":"#VALUE!"},0,0,0,0,0,0,0,0,0,0,0,0,0,0,null,0,{"$error":"#VALUE!"},0,0,0,0,0,0,0,0,0,0,0,0,0,0,null,0,{"$error":"#VALUE!"},0,0,0,0,0,0,0,0,0,0,0,0,0,0,null,0,{"$error":"#VALUE!"},0,0,0,0,0,0,0,0,0,0,0,0,0,0,null,0,{"$error":"#VALUE!"},0,0,0,0,0,0,0,0,0,0,0,0,0,0,null,0,{"$error":"#VALUE!"},0,0,0,0,0,0,0,0,0,0,0,0,0,0,null,0,0,0,0,0,0,0]
[null,null,null,null,null,null,null,null,null,null,null,null,"2014-01-22",{"$error":"#VALUE!"},0,{"$error":"#VALUE!"},{"$error":"#VALUE!"},0,null,0,{"$error":"#VALUE!"},0,0,0,0,0,0,0,0,0,0,0,0,0,0,null,0,{"$error":"#VALUE!"},0,0,0,0,0,0,0,0,0,0,0,0,0,0,null,0,{"$error":"#VALUE!"},0,0,0,0,0,0,0,0,0,0,0,0,0,0,null,0,{"$error":"#VALUE!"},0,0,0,0,0,0,0,0,0,0,0,0,0,0,null,0,{"$error":"#VALUE!"},0,0,0,0,0,0,0,0,0,0,0,0,0,0,null,0,{"$error":"#VALUE!"},0,0,0,0,0,0,0,0,0,0,0,0,0,0,null,0,{"$error":"#VALUE!"},0,0,0,0,0,0,0,0,0,0,0,0,0,0,null,0,{"$error":"#VALUE!"},0,0,0,0,0,0,0,0,0,0,0,0,0,0,null,0,{"$error":"#VALUE!"},0,0,0,0,0,0,0,0,0,0,0,0,0,0,null,0,{"$error":"#VALUE!"},0,0,0,0,0,0,0,0,0,0,0,0,0,0,null,0,{"$error":"#VALUE!"},0,0,0,0,0,0,0,0,0,0,0,0,0,0,null,0,{"$error":"#VALUE!"},0,0,0,0,0,0,0,0,0,0,0,0,0,0,null,0,0,0,0,0,0,0]
[null,null,null,null,null,null,null,null,null,null,null,null,"2014-01-26",{"$error":"#VALUE!"},0,{"$error":"#VALUE!"},{"$error":"#VALUE!"},0,null,0,{"$error":"#VALUE!"},0,0,0,0,0,0,0,0,0,0,0,0,0,0,null,0,{"$error":"#VALUE!"},0,0,0,0,0,0,0,0,0,0,0,0,0,0,null,0,{"$error":"#VALUE!"},0,0,0,0,0,0,0,0,0,0,0,0,0,0,null,0,{"$error":"#VALUE!"},0,0,0,0,0,0,0,0,0,0,0,0,0,0,null,0,{"$error":"#VALUE!"},0,0,0,0,0,0,0,0,0,0,0,0,0,0,null,0,{"$error":"#VALUE!"},0,0,0,0,0,0,0,0,0,0,0,0,0,0,null,0,{"$error":"#VALUE!"},0,0,0,0,0,0,0,0,0,0,0,0,0,0,null,0,{"$error":"#VALUE!"},0,0,0,0,0,0,0,0,0,0,0,0,0,0,null,0,{"$error":"#VALUE!"},0,0,0,0,0,0,0,0,0,0,0,0,0,0,null,0,{"$error":"#VALUE!"},0,0,0,0,0,0,0,0,0,0,0,0,0,0,null,0,{"$error":"#VALUE!"},0,0,0,0,0,0,0,0,0,0,0,0,0,0,null,0,{"$error":"#VALUE!"},0,0,0,0,0,0,0,0,0,0,0,0,0,0,null,0,0,0,0,0,0,0]
[null,null,null,null,null,null,null,null,null,null,null,null,"2014-01-29",{"$error":"#VALUE!"},0,{"$error":"#VALUE!"},{"$error":"#VALUE!"},0,null,0,{"$error":"#VALUE!"},0,0,0,0,0,0,0,0,0,0,0,0,0,0,null,0,{"$error":"#VALUE!"},0,0,0,0,0,0,0,0,0,0,0,0,0,0,null,0,{"$error":"#VALUE!"},0,0,0,0,0,0,0,0,0,0,0,0,0,0,null,0,{"$error":"#VALUE!"},0,0,0,0,0,0,0,0,0,0,0,0,0,0,null,0,{"$error":"#VALUE!"},0,0,0,0,0,0,0,0,0,0,0,0,0,0,null,0,{"$error":"#VALUE!"},0,0,0,0,0,0,0,0,0,0,0,0,0,0,null,0,{"$error":"#VALUE!"},0,0,0,0,0,0,0,0,0,0,0,0,0,0,null,0,{"$error":"#VALUE!"},0,0,0,0,0,0,0,0,0,0,0,0,0,0,null,0,{"$error":"#VALUE!"},0,0,0,0,0,0,0,0,0,0,0,0,0,0,null,0,{"$error":"#VALUE!"},0,0,0,0,0,0,0,0,0,0,0,0,0,0,null,0,{"$error":"#VALUE!"},0,0,0,0,0,0,0,0,0,0,0,0,0,0,null,0,{"$error":"#VALUE!"},0,0,0,0,0,0,0,0,0,0,0,0,0,0,null,0,0,0,0,0,0,0]
[null,null,null,null,null,null,null,null,null,null,null,null,"2014-02-01",{"$error":"#VALUE!"},0,{"$error":"#VALUE!"},{"$error":"#VALUE!"},0,null,0,{"$error":"#VALUE!"},0,0,0,0,0,0,0,0,0,0,0,0,0,0,null,0,{"$error":"#VALUE!"},0,0,0,0,0,0,0,0,0,0,0,0,0,0,null,0,{"$error":"#VALUE!"},0,0,0,0,0,0,0,0,0,0,0,0,0,0,null,0,{"$error":"#VALUE!"},0,0,0,0,0,0,0,0,0,0,0,0,0,0,null,0,{"$error":"#VALUE!"},0,0,0,0,0,0,0,0,0,0,0,0,0,0,null,0,{"$error":"#VALUE!"},0,0,0,0,0,0,0,0,0,0,0,0,0,0,null,0,{"$error":"#VALUE!"},0,0,0,0,0,0,0,0,0,0,0,0,0,0,null,0,{"$error":"#VALUE!"},0,0,0,0,0,0,0,0,0,0,0,0,0,0,null,0,{"$error":"#VALUE!"},0,0,0,0,0,0,0,0,0,0,0,0,0,0,null,0,{"$error":"#VALUE!"},0,0,0,0,0,0,0,0,0,0,0,0,0,0,null,0,{"$error":"#VALUE!"},0,0,0,0,0,0,0,0,0,0,0,0,0,0,null,0,{"$error":"#VALUE!"},0,0,0,0,0,0,0,0,0,0,0,0,0,0,null,0,0,0,0,0,0,0]
[null,null,null,null,null,null,null,null,null,null,null,null,"2014-02-02",{"$error":"#VALUE!"},0,{"$error":"#VALUE!"},{"$error":"#VALUE!"},0,null,0,{"$error":"#VALUE!"},0,0,0,0,0,0,0,0,0,0,0,0,0,0,null,0,{"$error":"#VALUE!"},0,0,0,0,0,0,0,0,0,0,0,0,0,0,null,0,{"$error":"#VALUE!"},0,0,0,0,0,0,0,0,0,0,0,0,0,0,null,0,{"$error":"#VALUE!"},0,0,0,0,0,0,0,0,0,0,0,0,0,0,null,0,{"$error":"#VALUE!"},0,0,0,0,0,0,0,0,0,0,0,0,0,0,null,0,{"$error":"#VALUE!"},0,0,0,0,0,0,0,0,0,0,0,0,0,0,null,0,{"$error":"#VALUE!"},0,0,0,0,0,0,0,0,0,0,0,0,0,0,null,0,{"$error":"#VALUE!"},0,0,0,0,0,0,0,0,0,0,0,0,0,0,null,0,{"$error":"#VALUE!"},0,0,0,0,0,0,0,0,0,0,0,0,0,0,null,0,{"$error":"#VALUE!"},0,0,0,0,0,0,0,0,0,0,0,0,0,0,null,0,{"$error":"#VALUE!"},0,0,0,0,0,0,0,0,0,0,0,0,0,0,null,0,{"$error":"#VALUE!"},0,0,0,0,0,0,0,0,0,0,0,0,0,0,null,0,0,0,0,0,0,0]
[null,null,null,null,null,null,null,null,null,null,null,null,"2014-02-05",{"$error":"#VALUE!"},0,{"$error":"#VALUE!"},{"$error":"#VALUE!"},0,null,0,{"$error":"#VALUE!"},0,0,0,0,0,0,0,0,0,0,0,0,0,0,null,0,{"$error":"#VALUE!"},0,0,0,0,0,0,0,0,0,0,0,0,0,0,null,0,{"$error":"#VALUE!"},0,0,0,0,0,0,0,0,0,0,0,0,0,0,null,0,{"$error":"#VALUE!"},0,0,0,0,0,0,0,0,0,0,0,0,0,0,null,0,{"$error":"#VALUE!"},0,0,0,0,0,0,0,0,0,0,0,0,0,0,null,0,{"$error":"#VALUE!"},0,0,0,0,0,0,0,0,0,0,0,0,0,0,null,0,{"$error":"#VALUE!"},0,0,0,0,0,0,0,0,0,0,0,0,0,0,null,0,{"$error":"#VALUE!"},0,0,0,0,0,0,0,0,0,0,0,0,0,0,null,0,{"$error":"#VALUE!"},0,0,0,0,0,0,0,0,0,0,0,0,0,0,null,0,{"$error":"#VALUE!"},0,0,0,0,0,0,0,0,0,0,0,0,0,0,null,0,{"$error":"#VALUE!"},0,0,0,0,0,0,0,0,0,0,0,0,0,0,null,0,{"$error":"#VALUE!"},0,0,0,0,0,0,0,0,0,0,0,0,0,0,null,0,0,0,0,0,0,0]
[null,null,null,null,null,null,null,null,null,null,null,null,"2014-02-09",{"$error":"#VALUE!"},0,{"$error":"#VALUE!"},{"$error":"#VALUE!"},0,null,0,{"$error":"#VALUE!"},0,0,0,0,0,0,0,0,0,0,0,0,0,0,null,0,{"$error":"#VALUE!"},0,0,0,0,0,0,0,0,0,0,0,0,0,0,null,0,{"$error":"#VALUE!"},0,0,0,0,0,0,0,0,0,0,0,0,0,0,null,0,{"$error":"#VALUE!"},0,0,0,0,0,0,0,0,0,0,0,0,0,0,null,0,{"$error":"#VALUE!"},0,0,0,0,0,0,0,0,0,0,0,0,0,0,null,0,{"$error":"#VALUE!"},0,0,0,0,0,0,0,0,0,0,0,0,0,0,null,0,{"$error":"#VALUE!"},0,0,0,0,0,0,0,0,0,0,0,0,0,0,null,0,{"$error":"#VALUE!"},0,0,0,0,0,0,0,0,0,0,0,0,0,0,null,0,{"$error":"#VALUE!"},0,0,0,0,0,0,0,0,0,0,0,0,0,0,null,0,{"$error":"#VALUE!"},0,0,0,0,0,0,0,0,0,0,0,0,0,0,null,0,{"$error":"#VALUE!"},0,0,0,0,0,0,0,0,0,0,0,0,0,0,null,0,{"$error":"#VALUE!"},0,0,0,0,0,0,0,0,0,0,0,0,0,0,null,0,0,0,0,0,0,0]
[null,null,null,null,null,null,null,null,null,null,null,null,"2014-02-12",{"$error":"#VALUE!"},0,{"$error":"#VALUE!"},{"$error":"#VALUE!"},0,null,0,{"$error":"#VALUE!"},0,0,0,0,0,0,0,0,0,0,0,0,0,0,null,0,{"$error":"#VALUE!"},0,0,0,0,0,0,0,0,0,0,0,0,0,0,null,0,{"$error":"#VALUE!"},0,0,0,0,0,0,0,0,0,0,0,0,0,0,null,0,{"$error":"#VALUE!"},0,0,0,0,0,0,0,0,0,0,0,0,0,0,null,0,{"$error":"#VALUE!"},0,0,0,0,0,0,0,0,0,0,0,0,0,0,null,0,{"$error":"#VALUE!"},0,0,0,0,0,0,0,0,0,0,0,0,0,0,null,0,{"$error":"#VALUE!"},0,0,0,0,0,0,0,0,0,0,0,0,0,0,null,0,{"$error":"#VALUE!"},0,0,0,0,0,0,0,0,0,0,0,0,0,0,null,0,{"$error":"#VALUE!"},0,0,0,0,0,0,0,0,0,0,0,0,0,0,null,0,{"$error":"#VALUE!"},0,0,0,0,0,0,0,0,0,0,0,0,0,0,null,0,{"$error":"#VALUE!"},0,0,0,0,0,0,0,0,0,0,0,0,0,0,null,0,{"$error":"#VALUE!"},0,0,0,0,0,0,0,0,0,0,0,0,0,0,null,0,0,0,0,0,0,0]
[null,null,null,null,null,null,null,null,null,null,null,null,"2014-02-15",{"$error":"#VALUE!"},0,{"$error":"#VALUE!"},{"$error":"#VALUE!"},0,null,0,{"$error":"#VALUE!"},0,0,0,0,0,0,0,0,0,0,0,0,0,0,null,0,{"$error":"#VALUE!"},0,0,0,0,0,0,0,0,0,0,0,0,0,0,null,0,{"$error":"#VALUE!"},0,0,0,0,0,0,0,0,0,0,0,0,0,0,null,0,{"$error":"#VALUE!"},0,0,0,0,0,0,0,0,0,0,0,0,0,0,null,0,{"$error":"#VALUE!"},0,0,0,0,0,0,0,0,0,0,0,0,0,0,null,0,{"$error":"#VALUE!"},0,0,0,0,0,0,0,0,0,0,0,0,0,0,null,0,{"$error":"#VALUE!"},0,0,0,0,0,0,0,0,0,0,0,0,0,0,null,0,{"$error":"#VALUE!"},0,0,0,0,0,0,0,0,0,0,0,0,0,0,null,0,{"$error":"#VALUE!"},0,0,0,0,0,0,0,0,0,0,0,0,0,0,null,0,{"$error":"#VALUE!"},0,0,0,0,0,0,0,0,0,0,0,0,0,0,null,0,{"$error":"#VALUE!"},0,0,0,0,0,0,0,0,0,0,0,0,0,0,null,0,{"$error":"#VALUE!"},0,0,0,0,0,0,0,0,0,0,0,0,0,0,null,0,0,0,0,0,0,0]
[null,null,null,null,null,null,null,null,null,null,null,null,"2014-02-19",{"$error":"#VALUE!"},0,{"$error":"#VALUE!"},{"$error":"#VALUE!"},0,null,0,{"$error":"#VALUE!"},0,0,0,0,0,0,0,0,0,0,0,0,0,0,null,0,{"$error":"#VALUE!"},0,0,0,0,0,0,0,0,0,0,0,0,0,0,null,0,{"$error":"#VALUE!"},0,0,0,0,0,0,0,0,0,0,0,0,0,0,null,0,{"$error":"#VALUE!"},0,0,0,0,0,0,0,0,0,0,0,0,0,0,null,0,{"$error":"#VALUE!"},0,0,0,0,0,0,0,0,0,0,0,0,0,0,null,0,{"$error":"#VALUE!"},0,0,0,0,0,0,0,0,0,0,0,0,0,0,null,0,{"$error":"#VALUE!"},0,0,0,0,0,0,0,0,0,0,0,0,0,0,null,0,{"$error":"#VALUE!"},0,0,0,0,0,0,0,0,0,0,0,0,0,0,null,0,{"$error":"#VALUE!"},0,0,0,0,0,0,0,0,0,0,0,0,0,0,null,0,{"$error":"#VALUE!"},0,0,0,0,0,0,0,0,0,0,0,0,0,0,null,0,{"$error":"#VALUE!"},0,0,0,0,0,0,0,0,0,0,0,0,0,0,null,0,{"$error":"#VALUE!"},0,0,0,0,0,0,0,0,0,0,0,0,0,0,null,0,0,0,0,0,0,0]
[null,null,null,null,null,null,null,null,null,null,null,null,"2014-02-22",{"$error":"#VALUE!"},0,{"$error":"#VALUE!"},{"$error":"#VALUE!"},0,null,0,{"$error":"#VALUE!"},0,0,0,0,0,0,0,0,0,0,0,0,0,0,null,0,{"$error":"#VALUE!"},0,0,0,0,0,0,0,0,0,0,0,0,0,0,null,0,{"$error":"#VALUE!"},0,0,0,0,0,0,0,0,0,0,0,0,0,0,null,0,{"$error":"#VALUE!"},0,0,0,0,0,0,0,0,0,0,0,0,0,0,null,0,{"$error":"#VALUE!"},0,0,0,0,0,0,0,0,0,0,0,0,0,0,null,0,{"$error":"#VALUE!"},0,0,0,0,0,0,0,0,0,0,0,0,0,0,null,0,{"$error":"#VALUE!"},0,0,0,0,0,0,0,0,0,0,0,0,0,0,null,0,{"$error":"#VALUE!"},0,0,0,0,0,0,0,0,0,0,0,0,0,0,null,0,{"$error":"#VALUE!"},0,0,0,0,0,0,0,0,0,0,0,0,0,0,null,0,{"$error":"#VALUE!"},0,0,0,0,0,0,0,0,0,0,0,0,0,0,null,0,{"$error":"#VALUE!"},0,0,0,0,0,0,0,0,0,0,0,0,0,0,null,0,{"$error":"#VALUE!"},0,0,0,0,0,0,0,0,0,0,0,0,0,0,null,0,0,0,0,0,0,0]
[null,null,null,null,null,null,null,null,null,null,null,null,"2014-02-25",{"$error":"#VALUE!"},0,{"$error":"#VALUE!"},{"$error":"#VALUE!"},0,null,0,{"$error":"#VALUE!"},0,0,0,0,0,0,0,0,0,0,0,0,0,0,null,0,{"$error":"#VALUE!"},0,0,0,0,0,0,0,0,0,0,0,0,0,0,null,0,{"$error":"#VALUE!"},0,0,0,0,0,0,0,0,0,0,0,0,0,0,null,0,{"$error":"#VALUE!"},0,0,0,0,0,0,0,0,0,0,0,0,0,0,null,0,{"$error":"#VALUE!"},0,0,0,0,0,0,0,0,0,0,0,0,0,0,null,0,{"$error":"#VALUE!"},0,0,0,0,0,0,0,0,0,0,0,0,0,0,null,0,{"$error":"#VALUE!"},0,0,0,0,0,0,0,0,0,0,0,0,0,0,null,0,{"$error":"#VALUE!"},0,0,0,0,0,0,0,0,0,0,0,0,0,0,null,0,{"$error":"#VALUE!"},0,0,0,0,0,0,0,0,0,0,0,0,0,0,null,0,{"$error":"#VALUE!"},0,0,0,0,0,0,0,0,0,0,0,0,0,0,null,0,{"$error":"#VALUE!"},0,0,0,0,0,0,0,0,0,0,0,0,0,0,null,0,{"$error":"#VALUE!"},0,0,0,0,0,0,0,0,0,0,0,0,0,0,null,0,0,0,0,0,0,0]
[null,null,null,null,null,null,null,null,null,null,null,null,"2014-02-26",{"$error":"#VALUE!"},0,{"$error":"#VALUE!"},{"$error":"#VALUE!"},0,null,0,{"$error":"#VALUE!"},0,0,0,0,0,0,0,0,0,0,0,0,0,0,null,0,{"$error":"#VALUE!"},0,0,0,0,0,0,0,0,0,0,0,0,0,0,null,0,{"$error":"#VALUE!"},0,0,0,0,0,0,0,0,0,0,0,0,0,0,null,0,{"$error":"#VALUE!"},0,0,0,0,0,0,0,0,0,0,0,0,0,0,null,0,{"$error":"#VALUE!"},0,0,0,0,0,0,0,0,0,0,0,0,0,0,null,0,{"$error":"#VALUE!"},0,0,0,0,0,0,0,0,0,0,0,0,0,0,null,0,{"$error":"#VALUE!"},0,0,0,0,0,0,0,0,0,0,0,0,0,0,null,0,{"$error":"#VALUE!"},0,0,0,0,0,0,0,0,0,0,0,0,0,0,null,0,{"$error":"#VALUE!"},0,0,0,0,0,0,0,0,0,0,0,0,0,0,null,0,{"$error":"#VALUE!"},0,0,0,0,0,0,0,0,0,0,0,0,0,0,null,0,{"$error":"#VALUE!"},0,0,0,0,0,0,0,0,0,0,0,0,0,0,null,0,{"$error":"#VALUE!"},0,0,0,0,0,0,0,0,0,0,0,0,0,0,null,0,0,0,0,0,0,0]
[null,null,null,null,null,null,null,null,null,null,null,null,"2014-03-01",{"$error":"#VALUE!"},0,{"$error":"#VALUE!"},{"$error":"#VALUE!"},0,null,0,{"$error":"#VALUE!"},0,0,0,0,0,0,0,0,0,0,0,0,0,0,null,0,{"$error":"#VALUE!"},0,0,0,0,0,0,0,0,0,0,0,0,0,0,null,0,{"$error":"#VALUE!"},0,0,0,0,0,0,0,0,0,0,0,0,0,0,null,0,{"$error":"#VALUE!"},0,0,0,0,0,0,0,0,0,0,0,0,0,0,null,0,{"$error":"#VALUE!"},0,0,0,0,0,0,0,0,0,0,0,0,0,0,null,0,{"$error":"#VALUE!"},0,0,0,0,0,0,0,0,0,0,0,0,0,0,null,0,{"$error":"#VALUE!"},0,0,0,0,0,0,0,0,0,0,0,0,0,0,null,0,{"$error":"#VALUE!"},0,0,0,0,0,0,0,0,0,0,0,0,0,0,null,0,{"$error":"#VALUE!"},0,0,0,0,0,0,0,0,0,0,0,0,0,0,null,0,{"$error":"#VALUE!"},0,0,0,0,0,0,0,0,0,0,0,0,0,0,null,0,{"$error":"#VALUE!"},0,0,0,0,0,0,0,0,0,0,0,0,0,0,null,0,{"$error":"#VALUE!"},0,0,0,0,0,0,0,0,0,0,0,0,0,0,null,0,0,0,0,0,0,0]
[null,null,null,null,null,null,null,null,null,null,null,null,"2014-03-05",{"$error":"#VALUE!"},0,{"$error":"#VALUE!"},{"$error":"#VALUE!"},0,null,0,{"$error":"#VALUE!"},0,0,0,0,0,0,0,0,0,0,0,0,0,0,null,0,{"$error":"#VALUE!"},0,0,0,0,0,0,0,0,0,0,0,0,0,0,null,0,{"$error":"#VALUE!"},0,0,0,0,0,0,0,0,0,0,0,0,0,0,null,0,{"$error":"#VALUE!"},0,0,0,0,0,0,0,0,0,0,0,0,0,0,null,0,{"$error":"#VALUE!"},0,0,0,0,0,0,0,0,0,0,0,0,0,0,null,0,{"$error":"#VALUE!"},0,0,0,0,0,0,0,0,0,0,0,0,0,0,null,0,{"$error":"#VALUE!"},0,0,0,0,0,0,0,0,0,0,0,0,0,0,null,0,{"$error":"#VALUE!"},0,0,0,0,0,0,0,0,0,0,0,0,0,0,null,0,{"$error":"#VALUE!"},0,0,0,0,0,0,0,0,0,0,0,0,0,0,null,0,{"$error":"#VALUE!"},0,0,0,0,0,0,0,0,0,0,0,0,0,0,null,0,{"$error":"#VALUE!"},0,0,0,0,0,0,0,0,0,0,0,0,0,0,null,0,{"$error":"#VALUE!"},0,0,0,0,0,0,0,0,0,0,0,0,0,0,null,0,0,0,0,0,0,0]
[null,null,null,null,null,null,null,null,null,null,null,null,"2014-03-08",{"$error":"#VALUE!"},0,{"$error":"#VALUE!"},{"$error":"#VALUE!"},0,null,0,{"$error":"#VALUE!"},0,0,0,0,0,0,0,0,0,0,0,0,0,0,null,0,{"$error":"#VALUE!"},0,0,0,0,0,0,0,0,0,0,0,0,0,0,null,0,{"$error":"#VALUE!"},0,0,0,0,0,0,0,0,0,0,0,0,0,0,null,0,{"$error":"#VALUE!"},0,0,0,0,0,0,0,0,0,0,0,0,0,0,null,0,{"$error":"#VALUE!"},0,0,0,0,0,0,0,0,0,0,0,0,0,0,null,0,{"$error":"#VALUE!"},0,0,0,0,0,0,0,0,0,0,0,0,0,0,null,0,{"$error":"#VALUE!"},0,0,0,0,0,0,0,0,0,0,0,0,0,0,null,0,{"$error":"#VALUE!"},0,0,0,0,0,0,0,0,0,0,0,0,0,0,null,0,{"$error":"#VALUE!"},0,0,0,0,0,0,0,0,0,0,0,0,0,0,null,0,{"$error":"#VALUE!"},0,0,0,0,0,0,0,0,0,0,0,0,0,0,null,0,{"$error":"#VALUE!"},0,0,0,0,0,0,0,0,0,0,0,0,0,0,null,0,{"$error":"#VALUE!"},0,0,0,0,0,0,0,0,0,0,0,0,0,0,null,0,0,0,0,0,0,0]
[null,null,null,null,null,null,null,null,null,null,null,null,"2014-03-11",{"$error":"#VALUE!"},0,{"$error":"#VALUE!"},{"$error":"#VALUE!"},0,null,0,{"$error":"#VALUE!"},0,0,0,0,0,0,0,0,0,0,0,0,0,0,null,0,{"$error":"#VALUE!"},0,0,0,0,0,0,0,0,0,0,0,0,0,0,null,0,{"$error":"#VALUE!"},0,0,0,0,0,0,0,0,0,0,0,0,0,0,null,0,{"$error":"#VALUE!"},0,0,0,0,0,0,0,0,0,0,0,0,0,0,null,0,{"$error":"#VALUE!"},0,0,0,0,0,0,0,0,0,0,0,0,0,0,null,0,{"$error":"#VALUE!"},0,0,0,0,0,0,0,0,0,0,0,0,0,0,null,0,{"$error":"#VALUE!"},0,0,0,0,0,0,0,0,0,0,0,0,0,0,null,0,{"$error":"#VALUE!"},0,0,0,0,0,0,0,0,0,0,0,0,0,0,null,0,{"$error":"#VALUE!"},0,0,0,0,0,0,0,0,0,0,0,0,0,0,null,0,{"$error":"#VALUE!"},0,0,0,0,0,0,0,0,0,0,0,0,0,0,null,0,{"$error":"#VALUE!"},0,0,0,0,0,0,0,0,0,0,0,0,0,0,null,0,{"$error":"#VALUE!"},0,0,0,0,0,0,0,0,0,0,0,0,0,0,null,0,0,0,0,0,0,0]
[null,null,null,null,null,null,null,null,null,null,null,null,"2014-03-15",{"$error":"#VALUE!"},0,{"$error":"#VALUE!"},{"$error":"#VALUE!"},0,null,0,{"$error":"#VALUE!"},0,0,0,0,0,0,0,0,0,0,0,0,0,0,null,0,{"$error":"#VALUE!"},0,0,0,0,0,0,0,0,0,0,0,0,0,0,null,0,{"$error":"#VALUE!"},0,0,0,0,0,0,0,0,0,0,0,0,0,0,null,0,{"$error":"#VALUE!"},0,0,0,0,0,0,0,0,0,0,0,0,0,0,null,0,{"$error":"#VALUE!"},0,0,0,0,0,0,0,0,0,0,0,0,0,0,null,0,{"$error":"#VALUE!"},0,0,0,0,0,0,0,0,0,0,0,0,0,0,null,0,{"$error":"#VALUE!"},0,0,0,0,0,0,0,0,0,0,0,0,0,0,null,0,{"$error":"#VALUE!"},0,0,0,0,0,0,0,0,0,0,0,0,0,0,null,0,{"$error":"#VALUE!"},0,0,0,0,0,0,0,0,0,0,0,0,0,0,null,0,{"$error":"#VALUE!"},0,0,0,0,0,0,0,0,0,0,0,0,0,0,null,0,{"$error":"#VALUE!"},0,0,0,0,0,0,0,0,0,0,0,0,0,0,null,0,{"$error":"#VALUE!"},0,0,0,0,0,0,0,0,0,0,0,0,0,0,null,0,0,0,0,0,0,0]
[null,null,null,null,null,null,null,null,null,null,null,null,"2014-03-18",{"$error":"#VALUE!"},0,{"$error":"#VALUE!"},{"$error":"#VALUE!"},0,null,0,{"$error":"#VALUE!"},0,0,0,0,0,0,0,0,0,0,0,0,0,0,null,0,{"$error":"#VALUE!"},0,0,0,0,0,0,0,0,0,0,0,0,0,0,null,0,{"$error":"#VALUE!"},0,0,0,0,0,0,0,0,0,0,0,0,0,0,null,0,{"$error":"#VALUE!"},0,0,0,0,0,0,0,0,0,0,0,0,0,0,null,0,{"$error":"#VALUE!"},0,0,0,0,0,0,0,0,0,0,0,0,0,0,null,0,{"$error":"#VALUE!"},0,0,0,0,0,0,0,0,0,0,0,0,0,0,null,0,{"$error":"#VALUE!"},0,0,0,0,0,0,0,0,0,0,0,0,0,0,null,0,{"$error":"#VALUE!"},0,0,0,0,0,0,0,0,0,0,0,0,0,0,null,0,{"$error":"#VALUE!"},0,0,0,0,0,0,0,0,0,0,0,0,0,0,null,0,{"$error":"#VALUE!"},0,0,0,0,0,0,0,0,0,0,0,0,0,0,null,0,{"$error":"#VALUE!"},0,0,0,0,0,0,0,0,0,0,0,0,0,0,null,0,{"$error":"#VALUE!"},0,0,0,0,0,0,0,0,0,0,0,0,0,0,null,0,0,0,0,0,0,0]
[null,null,null,null,null,null,null,null,null,null,null,null,"2014-03-21",{"$error":"#VALUE!"},0,{"$error":"#VALUE!"},{"$error":"#VALUE!"},0,null,0,{"$error":"#VALUE!"},0,0,0,0,0,0,0,0,0,0,0,0,0,0,null,0,{"$error":"#VALUE!"},0,0,0,0,0,0,0,0,0,0,0,0,0,0,null,0,{"$error":"#VALUE!"},0,0,0,0,0,0,0,0,0,0,0,0,0,0,null,0,{"$error":"#VALUE!"},0,0,0,0,0,0,0,0,0,0,0,0,0,0,null,0,{"$error":"#VALUE!"},0,0,0,0,0,0,0,0,0,0,0,0,0,0,null,0,{"$error":"#VALUE!"},0,0,0,0,0,0,0,0,0,0,0,0,0,0,null,0,{"$error":"#VALUE!"},0,0,0,0,0,0,0,0,0,0,0,0,0,0,null,0,{"$error":"#VALUE!"},0,0,0,0,0,0,0,0,0,0,0,0,0,0,null,0,{"$error":"#VALUE!"},0,0,0,0,0,0,0,0,0,0,0,0,0,0,null,0,{"$error":"#VALUE!"},0,0,0,0,0,0,0,0,0,0,0,0,0,0,null,0,{"$error":"#VALUE!"},0,0,0,0,0,0,0,0,0,0,0,0,0,0,null,0,{"$error":"#VALUE!"},0,0,0,0,0,0,0,0,0,0,0,0,0,0,null,0,0,0,0,0,0,0]
[null,null,null,null,null,null,null,null,null,null,null,null,"2014-03-22",{"$error":"#VALUE!"},0,{"$error":"#VALUE!"},{"$error":"#VALUE!"},0,null,0,{"$error":"#VALUE!"},0,0,0,0,0,0,0,0,0,0,0,0,0,0,null,0,{"$error":"#VALUE!"},0,0,0,0,0,0,0,0,0,0,0,0,0,0,null,0,{"$error":"#VALUE!"},0,0,0,0,0,0,0,0,0,0,0,0,0,0,null,0,{"$error":"#VALUE!"},0,0,0,0,0,0,0,0,0,0,0,0,0,0,null,0,{"$error":"#VALUE!"},0,0,0,0,0,0,0,0,0,0,0,0,0,0,null,0,{"$error":"#VALUE!"},0,0,0,0,0,0,0,0,0,0,0,0,0,0,null,0,{"$error":"#VALUE!"},0,0,0,0,0,0,0,0,0,0,0,0,0,0,null,0,{"$error":"#VALUE!"},0,0,0,0,0,0,0,0,0,0,0,0,0,0,null,0,{"$error":"#VALUE!"},0,0,0,0,0,0,0,0,0,0,0,0,0,0,null,0,{"$error":"#VALUE!"},0,0,0,0,0,0,0,0,0,0,0,0,0,0,null,0,{"$error":"#VALUE!"},0,0,0,0,0,0,0,0,0,0,0,0,0,0,null,0,{"$error":"#VALUE!"},0,0,0,0,0,0,0,0,0,0,0,0,0,0,null,0,0,0,0,0,0,0]
[null,null,null,null,null,null,null,null,null,null,null,null,"2014-03-25",{"$error":"#VALUE!"},0,{"$error":"#VALUE!"},{"$error":"#VALUE!"},0,null,0,{"$error":"#VALUE!"},0,0,0,0,0,0,0,0,0,0,0,0,0,0,null,0,{"$error":"#VALUE!"},0,0,0,0,0,0,0,0,0,0,0,0,0,0,null,0,{"$error":"#VALUE!"},0,0,0,0,0,0,0,0,0,0,0,0,0,0,null,0,{"$error":"#VALUE!"},0,0,0,0,0,0,0,0,0,0,0,0,0,0,null,0,{"$error":"#VALUE!"},0,0,0,0,0,0,0,0,0,0,0,0,0,0,null,0,{"$error":"#VALUE!"},0,0,0,0,0,0,0,0,0,0,0,0,0,0,null,0,{"$error":"#VALUE!"},0,0,0,0,0,0,0,0,0,0,0,0,0,0,null,0,{"$error":"#VALUE!"},0,0,0,0,0,0,0,0,0,0,0,0,0,0,null,0,{"$error":"#VALUE!"},0,0,0,0,0,0,0,0,0,0,0,0,0,0,null,0,{"$error":"#VALUE!"},0,0,0,0,0,0,0,0,0,0,0,0,0,0,null,0,{"$error":"#VALUE!"},0,0,0,0,0,0,0,0,0,0,0,0,0,0,null,0,{"$error":"#VALUE!"},0,0,0,0,0,0,0,0,0,0,0,0,0,0,null,0,0,0,0,0,0,0]
[null,null,null,null,null,null,null,null,null,null,null,null,"2014-03-28",{"$error":"#VALUE!"},0,{"$error":"#VALUE!"},{"$error":"#VALUE!"},0,null,0,{"$error":"#VALUE!"},0,0,0,0,0,0,0,0,0,0,0,0,0,0,null,0,{"$error":"#VALUE!"},0,0,0,0,0,0,0,0,0,0,0,0,0,0,null,0,{"$error":"#VALUE!"},0,0,0,0,0,0,0,0,0,0,0,0,0,0,null,0,{"$error":"#VALUE!"},0,0,0,0,0,0,0,0,0,0,0,0,0,0,null,0,{"$error":"#VALUE!"},0,0,0,0,0,0,0,0,0,0,0,0,0,0,null,0,{"$error":"#VALUE!"},0,0,0,0,0,0,0,0,0,0,0,0,0,0,null,0,{"$error":"#VALUE!"},0,0,0,0,0,0,0,0,0,0,0,0,0,0,null,0,{"$error":"#VALUE!"},0,0,0,0,0,0,0,0,0,0,0,0,0,0,null,0,{"$error":"#VALUE!"},0,0,0,0,0,0,0,0,0,0,0,0,0,0,null,0,{"$error":"#VALUE!"},0,0,0,0,0,0,0,0,0,0,0,0,0,0,null,0,{"$error":"#VALUE!"},0,0,0,0,0,0,0,0,0,0,0,0,0,0,null,0,{"$error":"#VALUE!"},0,0,0,0,0,0,0,0,0,0,0,0,0,0,null,0,0,0,0,0,0,0]
[null,null,null,null,null,null,null,null,null,null,null,null,"2014-03-31",{"$error":"#VALUE!"},0,{"$error":"#VALUE!"},{"$error":"#VALUE!"},0,null,0,{"$error":"#VALUE!"},0,0,0,0,0,0,0,0,0,0,0,0,0,0,null,0,{"$error":"#VALUE!"},0,0,0,0,0,0,0,0,0,0,0,0,0,0,null,0,{"$error":"#VALUE!"},0,0,0,0,0,0,0,0,0,0,0,0,0,0,null,0,{"$error":"#VALUE!"},0,0,0,0,0,0,0,0,0,0,0,0,0,0,null,0,{"$error":"#VALUE!"},0,0,0,0,0,0,0,0,0,0,0,0,0,0,null,0,{"$error":"#VALUE!"},0,0,0,0,0,0,0,0,0,0,0,0,0,0,null,0,{"$error":"#VALUE!"},0,0,0,0,0,0,0,0,0,0,0,0,0,0,null,0,{"$error":"#VALUE!"},0,0,0,0,0,0,0,0,0,0,0,0,0,0,null,0,{"$error":"#VALUE!"},0,0,0,0,0,0,0,0,0,0,0,0,0,0,null,0,{"$error":"#VALUE!"},0,0,0,0,0,0,0,0,0,0,0,0,0,0,null,0,{"$error":"#VALUE!"},0,0,0,0,0,0,0,0,0,0,0,0,0,0,null,0,{"$error":"#VALUE!"},0,0,0,0,0,0,0,0,0,0,0,0,0,0,null,0,0,0,0,0,0,0]
[null,null,null,null,null,null,null,null,null,null,null,null,"2014-04-03",{"$error":"#VALUE!"},0,{"$error":"#VALUE!"},{"$error":"#VALUE!"},0,null,0,{"$error":"#VALUE!"},0,0,0,0,0,0,0,0,0,0,0,0,0,0,null,0,{"$error":"#VALUE!"},0,0,0,0,0,0,0,0,0,0,0,0,0,0,null,0,{"$error":"#VALUE!"},0,0,0,0,0,0,0,0,0,0,0,0,0,0,null,0,{"$error":"#VALUE!"},0,0,0,0,0,0,0,0,0,0,0,0,0,0,null,0,{"$error":"#VALUE!"},0,0,0,0,0,0,0,0,0,0,0,0,0,0,null,0,{"$error":"#VALUE!"},0,0,0,0,0,0,0,0,0,0,0,0,0,0,null,0,{"$error":"#VALUE!"},0,0,0,0,0,0,0,0,0,0,0,0,0,0,null,0,{"$error":"#VALUE!"},0,0,0,0,0,0,0,0,0,0,0,0,0,0,null,0,{"$error":"#VALUE!"},0,0,0,0,0,0,0,0,0,0,0,0,0,0,null,0,{"$error":"#VALUE!"},0,0,0,0,0,0,0,0,0,0,0,0,0,0,null,0,{"$error":"#VALUE!"},0,0,0,0,0,0,0,0,0,0,0,0,0,0,null,0,{"$error":"#VALUE!"},0,0,0,0,0,0,0,0,0,0,0,0,0,0,null,0,0,0,0,0,0,0]
[null,null,null,null,null,null,null,null,null,null,null,null,"2014-04-07",{"$error":"#VALUE!"},0,{"$error":"#VALUE!"},{"$error":"#VALUE!"},0,null,0,{"$error":"#VALUE!"},0,0,0,0,0,0,0,0,0,0,0,0,0,0,null,0,{"$error":"#VALUE!"},0,0,0,0,0,0,0,0,0,0,0,0,0,0,null,0,{"$error":"#VALUE!"},0,0,0,0,0,0,0,0,0,0,0,0,0,0,null,0,{"$error":"#VALUE!"},0,0,0,0,0,0,0,0,0,0,0,0,0,0,null,0,{"$error":"#VALUE!"},0,0,0,0,0,0,0,0,0,0,0,0,0,0,null,0,{"$error":"#VALUE!"},0,0,0,0,0,0,0,0,0,0,0,0,0,0,null,0,{"$error":"#VALUE!"},0,0,0,0,0,0,0,0,0,0,0,0,0,0,null,0,{"$error":"#VALUE!"},0,0,0,0,0,0,0,0,0,0,0,0,0,0,null,0,{"$error":"#VALUE!"},0,0,0,0,0,0,0,0,0,0,0,0,0,0,null,0,{"$error":"#VALUE!"},0,0,0,0,0,0,0,0,0,0,0,0,0,0,null,0,{"$error":"#VALUE!"},0,0,0,0,0,0,0,0,0,0,0,0,0,0,null,0,{"$error":"#VALUE!"},0,0,0,0,0,0,0,0,0,0,0,0,0,0,null,0,0,0,0,0,0,0]
[null,null,null,null,null,null,null,null,null,null,null,null,"2014-04-10",{"$error":"#VALUE!"},0,{"$error":"#VALUE!"},{"$error":"#VALUE!"},0,null,0,{"$error":"#VALUE!"},0,0,0,0,0,0,0,0,0,0,0,0,0,0,null,0,{"$error":"#VALUE!"},0,0,0,0,0,0,0,0,0,0,0,0,0,0,null,0,{"$error":"#VALUE!"},0,0,0,0,0,0,0,0,0,0,0,0,0,0,null,0,{"$error":"#VALUE!"},0,0,0,0,0,0,0,0,0,0,0,0,0,0,null,0,{"$error":"#VALUE!"},0,0,0,0,0,0,0,0,0,0,0,0,0,0,null,0,{"$error":"#VALUE!"},0,0,0,0,0,0,0,0,0,0,0,0,0,0,null,0,{"$error":"#VALUE!"},0,0,0,0,0,0,0,0,0,0,0,0,0,0,null,0,{"$error":"#VALUE!"},0,0,0,0,0,0,0,0,0,0,0,0,0,0,null,0,{"$error":"#VALUE!"},0,0,0,0,0,0,0,0,0,0,0,0,0,0,null,0,{"$error":"#VALUE!"},0,0,0,0,0,0,0,0,0,0,0,0,0,0,null,0,{"$error":"#VALUE!"},0,0,0,0,0,0,0,0,0,0,0,0,0,0,null,0,{"$error":"#VALUE!"},0,0,0,0,0,0,0,0,0,0,0,0,0,0,null,0,0,0,0,0,0,0]
[null,null,null,null,null,null,null,null,null,null,null,null,"2014-04-11",{"$error":"#VALUE!"},0,{"$error":"#VALUE!"},{"$error":"#VALUE!"},0,null,0,{"$error":"#VALUE!"},0,0,0,0,0,0,0,0,0,0,0,0,0,0,null,0,{"$error":"#VALUE!"},0,0,0,0,0,0,0,0,0,0,0,0,0,0,null,0,{"$error":"#VALUE!"},0,0,0,0,0,0,0,0,0,0,0,0,0,0,null,0,{"$error":"#VALUE!"},0,0,0,0,0,0,0,0,0,0,0,0,0,0,null,0,{"$error":"#VALUE!"},0,0,0,0,0,0,0,0,0,0,0,0,0,0,null,0,{"$error":"#VALUE!"},0,0,0,0,0,0,0,0,0,0,0,0,0,0,null,0,{"$error":"#VALUE!"},0,0,0,0,0,0,0,0,0,0,0,0,0,0,null,0,{"$error":"#VALUE!"},0,0,0,0,0,0,0,0,0,0,0,0,0,0,null,0,{"$error":"#VALUE!"},0,0,0,0,0,0,0,0,0,0,0,0,0,0,null,0,{"$error":"#VALUE!"},0,0,0,0,0,0,0,0,0,0,0,0,0,0,null,0,{"$error":"#VALUE!"},0,0,0,0,0,0,0,0,0,0,0,0,0,0,null,0,{"$error":"#VALUE!"},0,0,0,0,0,0,0,0,0,0,0,0,0,0,null,0,0,0,0,0,0,0]
[null,null,null,null,null,null,null,null,null,null,null,null,"2014-04-14",{"$error":"#VALUE!"},0,{"$error":"#VALUE!"},{"$error":"#VALUE!"},0,null,0,{"$error":"#VALUE!"},0,0,0,0,0,0,0,0,0,0,0,0,0,0,null,0,{"$error":"#VALUE!"},0,0,0,0,0,0,0,0,0,0,0,0,0,0,null,0,{"$error":"#VALUE!"},0,0,0,0,0,0,0,0,0,0,0,0,0,0,null,0,{"$error":"#VALUE!"},0,0,0,0,0,0,0,0,0,0,0,0,0,0,null,0,{"$error":"#VALUE!"},0,0,0,0,0,0,0,0,0,0,0,0,0,0,null,0,{"$error":"#VALUE!"},0,0,0,0,0,0,0,0,0,0,0,0,0,0,null,0,{"$error":"#VALUE!"},0,0,0,0,0,0,0,0,0,0,0,0,0,0,null,0,{"$error":"#VALUE!"},0,0,0,0,0,0,0,0,0,0,0,0,0,0,null,0,{"$error":"#VALUE!"},0,0,0,0,0,0,0,0,0,0,0,0,0,0,null,0,{"$error":"#VALUE!"},0,0,0,0,0,0,0,0,0,0,0,0,0,0,null,0,{"$error":"#VALUE!"},0,0,0,0,0,0,0,0,0,0,0,0,0,0,null,0,{"$error":"#VALUE!"},0,0,0,0,0,0,0,0,0,0,0,0,0,0,null,0,0,0,0,0,0,0]
[null,null,null,null,null,null,null,null,null,null,null,null,"2014-04-17",{"$error":"#VALUE!"},0,{"$error":"#VALUE!"},{"$error":"#VALUE!"},0,null,0,{"$error":"#VALUE!"},0,0,0,0,0,0,0,0,0,0,0,0,0,0,null,0,{"$error":"#VALUE!"},0,0,0,0,0,0,0,0,0,0,0,0,0,0,null,0,{"$error":"#VALUE!"},0,0,0,0,0,0,0,0,0,0,0,0,0,0,null,0,{"$error":"#VALUE!"},0,0,0,0,0,0,0,0,0,0,0,0,0,0,null,0,{"$error":"#VALUE!"},0,0,0,0,0,0,0,0,0,0,0,0,0,0,null,0,{"$error":"#VALUE!"},0,0,0,0,0,0,0,0,0,0,0,0,0,0,null,0,{"$error":"#VALUE!"},0,0,0,0,0,0,0,0,0,0,0,0,0,0,null,0,{"$error":"#VALUE!"},0,0,0,0,0,0,0,0,0,0,0,0,0,0,null,0,{"$error":"#VALUE!"},0,0,0,0,0,0,0,0,0,0,0,0,0,0,null,0,{"$error":"#VALUE!"},0,0,0,0,0,0,0,0,0,0,0,0,0,0,null,0,{"$error":"#VALUE!"},0,0,0,0,0,0,0,0,0,0,0,0,0,0,null,0,{"$error":"#VALUE!"},0,0,0,0,0,0,0,0,0,0,0,0,0,0,null,0,0,0,0,0,0,0]
[null,null,null,null,null,null,null,null,null,null,null,null,"2014-04-21",{"$error":"#VALUE!"},0,{"$error":"#VALUE!"},{"$error":"#VALUE!"},0,null,0,{"$error":"#VALUE!"},0,0,0,0,0,0,0,0,0,0,0,0,0,0,null,0,{"$error":"#VALUE!"},0,0,0,0,0,0,0,0,0,0,0,0,0,0,null,0,{"$error":"#VALUE!"},0,0,0,0,0,0,0,0,0,0,0,0,0,0,null,0,{"$error":"#VALUE!"},0,0,0,0,0,0,0,0,0,0,0,0,0,0,null,0,{"$error":"#VALUE!"},0,0,0,0,0,0,0,0,0,0,0,0,0,0,null,0,{"$error":"#VALUE!"},0,0,0,0,0,0,0,0,0,0,0,0,0,0,null,0,{"$error":"#VALUE!"},0,0,0,0,0,0,0,0,0,0,0,0,0,0,null,0,{"$error":"#VALUE!"},0,0,0,0,0,0,0,0,0,0,0,0,0,0,null,0,{"$error":"#VALUE!"},0,0,0,0,0,0,0,0,0,0,0,0,0,0,null,0,{"$error":"#VALUE!"},0,0,0,0,0,0,0,0,0,0,0,0,0,0,null,0,{"$error":"#VALUE!"},0,0,0,0,0,0,0,0,0,0,0,0,0,0,null,0,{"$error":"#VALUE!"},0,0,0,0,0,0,0,0,0,0,0,0,0,0,null,0,0,0,0,0,0,0]
[null,null,null,null,null,null,null,null,null,null,null,null,"2014-04-24",{"$error":"#VALUE!"},0,{"$error":"#VALUE!"},{"$error":"#VALUE!"},0,null,0,{"$error":"#VALUE!"},0,0,0,0,0,0,0,0,0,0,0,0,0,0,null,0,{"$error":"#VALUE!"},0,0,0,0,0,0,0,0,0,0,0,0,0,0,null,0,{"$error":"#VALUE!"},0,0,0,0,0,0,0,0,0,0,0,0,0,0,null,0,{"$error":"#VALUE!"},0,0,0,0,0,0,0,0,0,0,0,0,0,0,null,0,{"$error":"#VALUE!"},0,0,0,0,0,0,0,0,0,0,0,0,0,0,null,0,{"$error":"#VALUE!"},0,0,0,0,0,0,0,0,0,0,0,0,0,0,null,0,{"$error":"#VALUE!"},0,0,0,0,0,0,0,0,0,0,0,0,0,0,null,0,{"$error":"#VALUE!"},0,0,0,0,0,0,0,0,0,0,0,0,0,0,null,0,{"$error":"#VALUE!"},0,0,0,0,0,0,0,0,0,0,0,0,0,0,null,0,{"$error":"#VALUE!"},0,0,0,0,0,0,0,0,0,0,0,0,0,0,null,0,{"$error":"#VALUE!"},0,0,0,0,0,0,0,0,0,0,0,0,0,0,null,0,{"$error":"#VALUE!"},0,0,0,0,0,0,0,0,0,0,0,0,0,0,null,0,0,0,0,0,0,0]
[null,null,null,null,null,null,null,null,null,null,null,null,"2014-04-27",{"$error":"#VALUE!"},0,{"$error":"#VALUE!"},{"$error":"#VALUE!"},0,null,0,{"$error":"#VALUE!"},0,0,0,0,0,0,0,0,0,0,0,0,0,0,null,0,{"$error":"#VALUE!"},0,0,0,0,0,0,0,0,0,0,0,0,0,0,null,0,{"$error":"#VALUE!"},0,0,0,0,0,0,0,0,0,0,0,0,0,0,null,0,{"$error":"#VALUE!"},0,0,0,0,0,0,0,0,0,0,0,0,0,0,null,0,{"$error":"#VALUE!"},0,0,0,0,0,0,0,0,0,0,0,0,0,0,null,0,{"$error":"#VALUE!"},0,0,0,0,0,0,0,0,0,0,0,0,0,0,null,0,{"$error":"#VALUE!"},0,0,0,0,0,0,0,0,0,0,0,0,0,0,null,0,{"$error":"#VALUE!"},0,0,0,0,0,0,0,0,0,0,0,0,0,0,null,0,{"$error":"#VALUE!"},0,0,0,0,0,0,0,0,0,0,0,0,0,0,null,0,{"$error":"#VALUE!"},0,0,0,0,0,0,0,0,0,0,0,0,0,0,null,0,{"$error":"#VALUE!"},0,0,0,0,0,0,0,0,0,0,0,0,0,0,null,0,{"$error":"#VALUE!"},0,0,0,0,0,0,0,0,0,0,0,0,0,0,null,0,0,0,0,0,0,0]
[null,null,null,null,null,null,null,null,null,null,null,null,"2014-05-01",{"$error":"#VALUE!"},0,{"$error":"#VALUE!"},{"$error":"#VALUE!"},0,null,0,{"$error":"#VALUE!"},0,0,0,0,0,0,0,0,0,0,0,0,0,0,null,0,{"$error":"#VALUE!"},0,0,0,0,0,0,0,0,0,0,0,0,0,0,null,0,{"$error":"#VALUE!"},0,0,0,0,0,0,0,0,0,0,0,0,0,0,null,0,{"$error":"#VALUE!"},0,0,0,0,0,0,0,0,0,0,0,0,0,0,null,0,{"$error":"#VALUE!"},0,0,0,0,0,0,0,0,0,0,0,0,0,0,null,0,{"$error":"#VALUE!"},0,0,0,0,0,0,0,0,0,0,0,0,0,0,null,0,{"$error":"#VALUE!"},0,0,0,0,0,0,0,0,0,0,0,0,0,0,null,0,{"$error":"#VALUE!"},0,0,0,0,0,0,0,0,0,0,0,0,0,0,null,0,{"$error":"#VALUE!"},0,0,0,0,0,0,0,0,0,0,0,0,0,0,null,0,{"$error":"#VALUE!"},0,0,0,0,0,0,0,0,0,0,0,0,0,0,null,0,{"$error":"#VALUE!"},0,0,0,0,0,0,0,0,0,0,0,0,0,0,null,0,{"$error":"#VALUE!"},0,0,0,0,0,0,0,0,0,0,0,0,0,0,null,0,0,0,0,0,0,0]
[null,null,null,null,null,null,null,null,null,null,null,null,"2014-05-04",{"$error":"#VALUE!"},0,{"$error":"#VALUE!"},{"$error":"#VALUE!"},0,null,0,{"$error":"#VALUE!"},0,0,0,0,0,0,0,0,0,0,0,0,0,0,null,0,{"$error":"#VALUE!"},0,0,0,0,0,0,0,0,0,0,0,0,0,0,null,0,{"$error":"#VALUE!"},0,0,0,0,0,0,0,0,0,0,0,0,0,0,null,0,{"$error":"#VALUE!"},0,0,0,0,0,0,0,0,0,0,0,0,0,0,null,0,{"$error":"#VALUE!"},0,0,0,0,0,0,0,0,0,0,0,0,0,0,null,0,{"$error":"#VALUE!"},0,0,0,0,0,0,0,0,0,0,0,0,0,0,null,0,{"$error":"#VALUE!"},0,0,0,0,0,0,0,0,0,0,0,0,0,0,null,0,{"$error":"#VALUE!"},0,0,0,0,0,0,0,0,0,0,0,0,0,0,null,0,{"$error":"#VALUE!"},0,0,0,0,0,0,0,0,0,0,0,0,0,0,null,0,{"$error":"#VALUE!"},0,0,0,0,0,0,0,0,0,0,0,0,0,0,null,0,{"$error":"#VALUE!"},0,0,0,0,0,0,0,0,0,0,0,0,0,0,null,0,{"$error":"#VALUE!"},0,0,0,0,0,0,0,0,0,0,0,0,0,0,null,0,0,0,0,0,0,0]
[null,null,null,null,null,null,null,null,null,null,null,null,"2014-05-05",{"$error":"#VALUE!"},0,{"$error":"#VALUE!"},{"$error":"#VALUE!"},0,null,0,{"$error":"#VALUE!"},0,0,0,0,0,0,0,0,0,0,0,0,0,0,null,0,{"$error":"#VALUE!"},0,0,0,0,0,0,0,0,0,0,0,0,0,0,null,0,{"$error":"#VALUE!"},0,0,0,0,0,0,0,0,0,0,0,0,0,0,null,0,{"$error":"#VALUE!"},0,0,0,0,0,0,0,0,0,0,0,0,0,0,null,0,{"$error":"#VALUE!"},0,0,0,0,0,0,0,0,0,0,0,0,0,0,null,0,{"$error":"#VALUE!"},0,0,0,0,0,0,0,0,0,0,0,0,0,0,null,0,{"$error":"#VALUE!"},0,0,0,0,0,0,0,0,0,0,0,0,0,0,null,0,{"$error":"#VALUE!"},0,0,0,0,0,0,0,0,0,0,0,0,0,0,null,0,{"$error":"#VALUE!"},0,0,0,0,0,0,0,0,0,0,0,0,0,0,null,0,{"$error":"#VALUE!"},0,0,0,0,0,0,0,0,0,0,0,0,0,0,null,0,{"$error":"#VALUE!"},0,0,0,0,0,0,0,0,0,0,0,0,0,0,null,0,{"$error":"#VALUE!"},0,0,0,0,0,0,0,0,0,0,0,0,0,0,null,0,0,0,0,0,0,0]
[null,null,null,null,null,null,null,null,null,null,null,null,"2014-05-08",{"$error":"#VALUE!"},0,{"$error":"#VALUE!"},{"$error":"#VALUE!"},0,null,0,{"$error":"#VALUE!"},0,0,0,0,0,0,0,0,0,0,0,0,0,0,null,0,{"$error":"#VALUE!"},0,0,0,0,0,0,0,0,0,0,0,0,0,0,null,0,{"$error":"#VALUE!"},0,0,0,0,0,0,0,0,0,0,0,0,0,0,null,0,{"$error":"#VALUE!"},0,0,0,0,0,0,0,0,0,0,0,0,0,0,null,0,{"$error":"#VALUE!"},0,0,0,0,0,0,0,0,0,0,0,0,0,0,null,0,{"$error":"#VALUE!"},0,0,0,0,0,0,0,0,0,0,0,0,0,0,null,0,{"$error":"#VALUE!"},0,0,0,0,0,0,0,0,0,0,0,0,0,0,null,0,{"$error":"#VALUE!"},0,0,0,0,0,0,0,0,0,0,0,0,0,0,null,0,{"$error":"#VALUE!"},0,0,0,0,0,0,0,0,0,0,0,0,0,0,null,0,{"$error":"#VALUE!"},0,0,0,0,0,0,0,0,0,0,0,0,0,0,null,0,{"$error":"#VALUE!"},0,0,0,0,0,0,0,0,0,0,0,0,0,0,null,0,{"$error":"#VALUE!"},0,0,0,0,0,0,0,0,0,0,0,0,0,0,null,0,0,0,0,0,0,0]
[null,null,null,null,null,null,null,null,null,null,null,null,"2014-05-11",{"$error":"#VALUE!"},0,{"$error":"#VALUE!"},{"$error":"#VALUE!"},0,null,0,{"$error":"#VALUE!"},0,0,0,0,0,0,0,0,0,0,0,0,0,0,null,0,{"$error":"#VALUE!"},0,0,0,0,0,0,0,0,0,0,0,0,0,0,null,0,{"$error":"#VALUE!"},0,0,0,0,0,0,0,0,0,0,0,0,0,0,null,0,{"$error":"#VALUE!"},0,0,0,0,0,0,0,0,0,0,0,0,0,0,null,0,{"$error":"#VALUE!"},0,0,0,0,0,0,0,0,0,0,0,0,0,0,null,0,{"$error":"#VALUE!"},0,0,0,0,0,0,0,0,0,0,0,0,0,0,null,0,{"$error":"#VALUE!"},0,0,0,0,0,0,0,0,0,0,0,0,0,0,null,0,{"$error":"#VALUE!"},0,0,0,0,0,0,0,0,0,0,0,0,0,0,null,0,{"$error":"#VALUE!"},0,0,0,0,0,0,0,0,0,0,0,0,0,0,null,0,{"$error":"#VALUE!"},0,0,0,0,0,0,0,0,0,0,0,0,0,0,null,0,{"$error":"#VALUE!"},0,0,0,0,0,0,0,0,0,0,0,0,0,0,null,0,{"$error":"#VALUE!"},0,0,0,0,0,0,0,0,0,0,0,0,0,0,null,0,0,0,0,0,0,0]
[null,null,null,null,null,null,null,null,null,null,null,null,"2014-05-15",{"$error":"#VALUE!"},0,{"$error":"#VALUE!"},{"$error":"#VALUE!"},0,null,0,{"$error":"#VALUE!"},0,0,0,0,0,0,0,0,0,0,0,0,0,0,null,0,{"$error":"#VALUE!"},0,0,0,0,0,0,0,0,0,0,0,0,0,0,null,0,{"$error":"#VALUE!"},0,0,0,0,0,0,0,0,0,0,0,0,0,0,null,0,{"$error":"#VALUE!"},0,0,0,0,0,0,0,0,0,0,0,0,0,0,null,0,{"$error":"#VALUE!"},0,0,0,0,0,0,0,0,0,0,0,0,0,0,null,0,{"$error":"#VALUE!"},0,0,0,0,0,0,0,0,0,0,0,0,0,0,null,0,{"$error":"#VALUE!"},0,0,0,0,0,0,0,0,0,0,0,0,0,0,null,0,{"$error":"#VALUE!"},0,0,0,0,0,0,0,0,0,0,0,0,0,0,null,0,{"$error":"#VALUE!"},0,0,0,0,0,0,0,0,0,0,0,0,0,0,null,0,{"$error":"#VALUE!"},0,0,0,0,0,0,0,0,0,0,0,0,0,0,null,0,{"$error":"#VALUE!"},0,0,0,0,0,0,0,0,0,0,0,0,0,0,null,0,{"$error":"#VALUE!"},0,0,0,0,0,0,0,0,0,0,0,0,0,0,null,0,0,0,0,0,0,0]
[null,null,null,null,null,null,null,null,null,null,null,null,"2014-05-18",{"$error":"#VALUE!"},0,{"$error":"#VALUE!"},{"$error":"#VALUE!"},0,null,0,{"$error":"#VALUE!"},0,0,0,0,0,0,0,0,0,0,0,0,0,0,null,0,{"$error":"#VALUE!"},0,0,0,0,0,0,0,0,0,0,0,0,0,0,null,0,{"$error":"#VALUE!"},0,0,0,0,0,0,0,0,0,0,0,0,0,0,null,0,{"$error":"#VALUE!"},0,0,0,0,0,0,0,0,0,0,0,0,0,0,null,0,{"$error":"#VALUE!"},0,0,0,0,0,0,0,0,0,0,0,0,0,0,null,0,{"$error":"#VALUE!"},0,0,0,0,0,0,0,0,0,0,0,0,0,0,null,0,{"$error":"#VALUE!"},0,0,0,0,0,0,0,0,0,0,0,0,0,0,null,0,{"$error":"#VALUE!"},0,0,0,0,0,0,0,0,0,0,0,0,0,0,null,0,{"$error":"#VALUE!"},0,0,0,0,0,0,0,0,0,0,0,0,0,0,null,0,{"$error":"#VALUE!"},0,0,0,0,0,0,0,0,0,0,0,0,0,0,null,0,{"$error":"#VALUE!"},0,0,0,0,0,0,0,0,0,0,0,0,0,0,null,0,{"$error":"#VALUE!"},0,0,0,0,0,0,0,0,0,0,0,0,0,0,null,0,0,0,0,0,0,0]
[null,null,null,null,null,null,null,null,null,null,null,null,"2014-05-21",{"$error":"#VALUE!"},0,{"$error":"#VALUE!"},{"$error":"#VALUE!"},0,null,0,{"$error":"#VALUE!"},0,0,0,0,0,0,0,0,0,0,0,0,0,0,null,0,{"$error":"#VALUE!"},0,0,0,0,0,0,0,0,0,0,0,0,0,0,null,0,{"$error":"#VALUE!"},0,0,0,0,0,0,0,0,0,0,0,0,0,0,null,0,{"$error":"#VALUE!"},0,0,0,0,0,0,0,0,0,0,0,0,0,0,null,0,{"$error":"#VALUE!"},0,0,0,0,0,0,0,0,0,0,0,0,0,0,null,0,{"$error":"#VALUE!"},0,0,0,0,0,0,0,0,0,0,0,0,0,0,null,0,{"$error":"#VALUE!"},0,0,0,0,0,0,0,0,0,0,0,0,0,0,null,0,{"$error":"#VALUE!"},0,0,0,0,0,0,0,0,0,0,0,0,0,0,null,0,{"$error":"#VALUE!"},0,0,0,0,0,0,0,0,0,0,0,0,0,0,null,0,{"$error":"#VALUE!"},0,0,0,0,0,0,0,0,0,0,0,0,0,0,null,0,{"$error":"#VALUE!"},0,0,0,0,0,0,0,0,0,0,0,0,0,0,null,0,{"$error":"#VALUE!"},0,0,0,0,0,0,0,0,0,0,0,0,0,0,null,0,0,0,0,0,0,0]
[null,null,null,null,null,null,null,null,null,null,null,null,"2014-05-25",{"$error":"#VALUE!"},0,{"$error":"#VALUE!"},{"$error":"#VALUE!"},0,null,0,{"$error":"#VALUE!"},0,0,0,0,0,0,0,0,0,0,0,0,0,0,null,0,{"$error":"#VALUE!"},0,0,0,0,0,0,0,0,0,0,0,0,0,0,null,0,{"$error":"#VALUE!"},0,0,0,0,0,0,0,0,0,0,0,0,0,0,null,0,{"$error":"#VALUE!"},0,0,0,0,0,0,0,0,0,0,0,0,0,0,null,0,{"$error":"#VALUE!"},0,0,0,0,0,0,0,0,0,0,0,0,0,0,null,0,{"$error":"#VALUE!"},0,0,0,0,0,0,0,0,0,0,0,0,0,0,null,0,{"$error":"#VALUE!"},0,0,0,0,0,0,0,0,0,0,0,0,0,0,null,0,{"$error":"#VALUE!"},0,0,0,0,0,0,0,0,0,0,0,0,0,0,null,0,{"$error":"#VALUE!"},0,0,0,0,0,0,0,0,0,0,0,0,0,0,null,0,{"$error":"#VALUE!"},0,0,0,0,0,0,0,0,0,0,0,0,0,0,null,0,{"$error":"#VALUE!"},0,0,0,0,0,0,0,0,0,0,0,0,0,0,null,0,{"$error":"#VALUE!"},0,0,0,0,0,0,0,0,0,0,0,0,0,0,null,0,0,0,0,0,0,0]
[null,null,null,null,null,null,null,null,null,null,null,null,"2014-05-28",{"$error":"#VALUE!"},0,{"$error":"#VALUE!"},{"$error":"#VALUE!"},0,null,0,{"$error":"#VALUE!"},0,0,0,0,0,0,0,0,0,0,0,0,0,0,null,0,{"$error":"#VALUE!"},0,0,0,0,0,0,0,0,0,0,0,0,0,0,null,0,{"$error":"#VALUE!"},0,0,0,0,0,0,0,0,0,0,0,0,0,0,null,0,{"$error":"#VALUE!"},0,0,0,0,0,0,0,0,0,0,0,0,0,0,null,0,{"$error":"#VALUE!"},0,0,0,0,0,0,0,0,0,0,0,0,0,0,null,0,{"$error":"#VALUE!"},0,0,0,0,0,0,0,0,0,0,0,0,0,0,null,0,{"$error":"#VALUE!"},0,0,0,0,0,0,0,0,0,0,0,0,0,0,null,0,{"$error":"#VALUE!"},0,0,0,0,0,0,0,0,0,0,0,0,0,0,null,0,{"$error":"#VALUE!"},0,0,0,0,0,0,0,0,0,0,0,0,0,0,null,0,{"$error":"#VALUE!"},0,0,0,0,0,0,0,0,0,0,0,0,0,0,null,0,{"$error":"#VALUE!"},0,0,0,0,0,0,0,0,0,0,0,0,0,0,null,0,{"$error":"#VALUE!"},0,0,0,0,0,0,0,0,0,0,0,0,0,0,null,0,0,0,0,0,0,0]
[null,null,null,null,null,null,null,null,null,null,null,null,"2014-05-29",{"$error":"#VALUE!"},0,{"$error":"#VALUE!"},{"$error":"#VALUE!"},0,null,0,{"$error":"#VALUE!"},0,0,0,0,0,0,0,0,0,0,0,0,0,0,null,0,{"$error":"#VALUE!"},0,0,0,0,0,0,0,0,0,0,0,0,0,0,null,0,{"$error":"#VALUE!"},0,0,0,0,0,0,0,0,0,0,0,0,0,0,null,0,{"$error":"#VALUE!"},0,0,0,0,0,0,0,0,0,0,0,0,0,0,null,0,{"$error":"#VALUE!"},0,0,0,0,0,0,0,0,0,0,0,0,0,0,null,0,{"$error":"#VALUE!"},0,0,0,0,0,0,0,0,0,0,0,0,0,0,null,0,{"$error":"#VALUE!"},0,0,0,0,0,0,0,0,0,0,0,0,0,0,null,0,{"$error":"#VALUE!"},0,0,0,0,0,0,0,0,0,0,0,0,0,0,null,0,{"$error":"#VALUE!"},0,0,0,0,0,0,0,0,0,0,0,0,0,0,null,0,{"$error":"#VALUE!"},0,0,0,0,0,0,0,0,0,0,0,0,0,0,null,0,{"$error":"#VALUE!"},0,0,0,0,0,0,0,0,0,0,0,0,0,0,null,0,{"$error":"#VALUE!"},0,0,0,0,0,0,0,0,0,0,0,0,0,0,null,0,0,0,0,0,0,0]
[null,null,null,null,null,null,null,null,null,null,null,null,"2014-06-01",{"$error":"#VALUE!"},0,{"$error":"#VALUE!"},{"$error":"#VALUE!"},0,null,0,{"$error":"#VALUE!"},0,0,0,0,0,0,0,0,0,0,0,0,0,0,null,0,{"$error":"#VALUE!"},0,0,0,0,0,0,0,0,0,0,0,0,0,0,null,0,{"$error":"#VALUE!"},0,0,0,0,0,0,0,0,0,0,0,0,0,0,null,0,{"$error":"#VALUE!"},0,0,0,0,0,0,0,0,0,0,0,0,0,0,null,0,{"$error":"#VALUE!"},0,0,0,0,0,0,0,0,0,0,0,0,0,0,null,0,{"$error":"#VALUE!"},0,0,0,0,0,0,0,0,0,0,0,0,0,0,null,0,{"$error":"#VALUE!"},0,0,0,0,0,0,0,0,0,0,0,0,0,0,null,0,{"$error":"#VALUE!"},0,0,0,0,0,0,0,0,0,0,0,0,0,0,null,0,{"$error":"#VALUE!"},0,0,0,0,0,0,0,0,0,0,0,0,0,0,null,0,{"$error":"#VALUE!"},0,0,0,0,0,0,0,0,0,0,0,0,0,0,null,0,{"$error":"#VALUE!"},0,0,0,0,0,0,0,0,0,0,0,0,0,0,null,0,{"$error":"#VALUE!"},0,0,0,0,0,0,0,0,0,0,0,0,0,0,null,0,0,0,0,0,0,0]
[null,null,null,null,null,null,null,null,null,null,null,null,"2014-06-04",{"$error":"#VALUE!"},0,{"$error":"#VALUE!"},{"$error":"#VALUE!"},0,null,0,{"$error":"#VALUE!"},0,0,0,0,0,0,0,0,0,0,0,0,0,0,null,0,{"$error":"#VALUE!"},0,0,0,0,0,0,0,0,0,0,0,0,0,0,null,0,{"$error":"#VALUE!"},0,0,0,0,0,0,0,0,0,0,0,0,0,0,null,0,{"$error":"#VALUE!"},0,0,0,0,0,0,0,0,0,0,0,0,0,0,null,0,{"$error":"#VALUE!"},0,0,0,0,0,0,0,0,0,0,0,0,0,0,null,0,{"$error":"#VALUE!"},0,0,0,0,0,0,0,0,0,0,0,0,0,0,null,0,{"$error":"#VALUE!"},0,0,0,0,0,0,0,0,0,0,0,0,0,0,null,0,{"$error":"#VALUE!"},0,0,0,0,0,0,0,0,0,0,0,0,0,0,null,0,{"$error":"#VALUE!"},0,0,0,0,0,0,0,0,0,0,0,0,0,0,null,0,{"$error":"#VALUE!"},0,0,0,0,0,0,0,0,0,0,0,0,0,0,null,0,{"$error":"#VALUE!"},0,0,0,0,0,0,0,0,0,0,0,0,0,0,null,0,{"$error":"#VALUE!"},0,0,0,0,0,0,0,0,0,0,0,0,0,0,null,0,0,0,0,0,0,0]
[null,null,null,null,null,null,null,null,null,null,null,null,"2014-06-08",{"$error":"#VALUE!"},0,{"$error":"#VALUE!"},{"$error":"#VALUE!"},0,null,0,{"$error":"#VALUE!"},0,0,0,0,0,0,0,0,0,0,0,0,0,0,null,0,{"$error":"#VALUE!"},0,0,0,0,0,0,0,0,0,0,0,0,0,0,null,0,{"$error":"#VALUE!"},0,0,0,0,0,0,0,0,0,0,0,0,0,0,null,0,{"$error":"#VALUE!"},0,0,0,0,0,0,0,0,0,0,0,0,0,0,null,0,{"$error":"#VALUE!"},0,0,0,0,0,0,0,0,0,0,0,0,0,0,null,0,{"$error":"#VALUE!"},0,0,0,0,0,0,0,0,0,0,0,0,0,0,null,0,{"$error":"#VALUE!"},0,0,0,0,0,0,0,0,0,0,0,0,0,0,null,0,{"$error":"#VALUE!"},0,0,0,0,0,0,0,0,0,0,0,0,0,0,null,0,{"$error":"#VALUE!"},0,0,0,0,0,0,0,0,0,0,0,0,0,0,null,0,{"$error":"#VALUE!"},0,0,0,0,0,0,0,0,0,0,0,0,0,0,null,0,{"$error":"#VALUE!"},0,0,0,0,0,0,0,0,0,0,0,0,0,0,null,0,{"$error":"#VALUE!"},0,0,0,0,0,0,0,0,0,0,0,0,0,0,null,0,0,0,0,0,0,0]
[null,null,null,null,null,null,null,null,null,null,null,null,"2014-06-10",{"$error":"#VALUE!"},0,{"$error":"#VALUE!"},{"$error":"#VALUE!"},0,null,0,{"$error":"#VALUE!"},0,0,0,0,0,0,0,0,0,0,0,0,0,0,null,0,{"$error":"#VALUE!"},0,0,0,0,0,0,0,0,0,0,0,0,0,0,null,0,{"$error":"#VALUE!"},0,0,0,0,0,0,0,0,0,0,0,0,0,0,null,0,{"$error":"#VALUE!"},0,0,0,0,0,0,0,0,0,0,0,0,0,0,null,0,{"$error":"#VALUE!"},0,0,0,0,0,0,0,0,0,0,0,0,0,0,null,0,{"$error":"#VALUE!"},0,0,0,0,0,0,0,0,0,0,0,0,0,0,null,0,{"$error":"#VALUE!"},0,0,0,0,0,0,0,0,0,0,0,0,0,0,null,0,{"$error":"#VALUE!"},0,0,0,0,0,0,0,0,0,0,0,0,0,0,null,0,{"$error":"#VALUE!"},0,0,0,0,0,0,0,0,0,0,0,0,0,0,null,0,{"$error":"#VALUE!"},0,0,0,0,0,0,0,0,0,0,0,0,0,0,null,0,{"$error":"#VALUE!"},0,0,0,0,0,0,0,0,0,0,0,0,0,0,null,0,{"$error":"#VALUE!"},0,0,0,0,0,0,0,0,0,0,0,0,0,0,null,0,0,0,0,0,0,0]
[null,null,null,null,null,null,null,null,null,null,null,null,"2014-06-14",{"$error":"#VALUE!"},0,{"$error":"#VALUE!"},{"$error":"#VALUE!"},0,null,0,{"$error":"#VALUE!"},0,0,0,0,0,0,0,0,0,0,0,0,0,0,null,0,{"$error":"#VALUE!"},0,0,0,0,0,0,0,0,0,0,0,0,0,0,null,0,{"$error":"#VALUE!"},0,0,0,0,0,0,0,0,0,0,0,0,0,0,null,0,{"$error":"#VALUE!"},0,0,0,0,0,0,0,0,0,0,0,0,0,0,null,0,{"$error":"#VALUE!"},0,0,0,0,0,0,0,0,0,0,0,0,0,0,null,0,{"$error":"#VALUE!"},0,0,0,0,0,0,0,0,0,0,0,0,0,0,null,0,{"$error":"#VALUE!"},0,0,0,0,0,0,0,0,0,0,0,0,0,0,null,0,{"$error":"#VALUE!"},0,0,0,0,0,0,0,0,0,0,0,0,0,0,null,0,{"$error":"#VALUE!"},0,0,0,0,0,0,0,0,0,0,0,0,0,0,null,0,{"$error":"#VALUE!"},0,0,0,0,0,0,0,0,0,0,0,0,0,0,null,0,{"$error":"#VALUE!"},0,0,0,0,0,0,0,0,0,0,0,0,0,0,null,0,{"$error":"#VALUE!"},0,0,0,0,0,0,0,0,0,0,0,0,0,0,null,0,0,0,0,0,0,0]
[null,null,null,null,null,null,null,null,null,null,null,null,"2014-06-17",{"$error":"#VALUE!"},0,{"$error":"#VALUE!"},{"$error":"#VALUE!"},0,null,0,{"$error":"#VALUE!"},0,0,0,0,0,0,0,0,0,0,0,0,0,0,null,0,{"$error":"#VALUE!"},0,0,0,0,0,0,0,0,0,0,0,0,0,0,null,0,{"$error":"#VALUE!"},0,0,0,0,0,0,0,0,0,0,0,0,0,0,null,0,{"$error":"#VALUE!"},0,0,0,0,0,0,0,0,0,0,0,0,0,0,null,0,{"$error":"#VALUE!"},0,0,0,0,0,0,0,0,0,0,0,0,0,0,null,0,{"$error":"#VALUE!"},0,0,0,0,0,0,0,0,0,0,0,0,0,0,null,0,{"$error":"#VALUE!"},0,0,0,0,0,0,0,0,0,0,0,0,0,0,null,0,{"$error":"#VALUE!"},0,0,0,0,0,0,0,0,0,0,0,0,0,0,null,0,{"$error":"#VALUE!"},0,0,0,0,0,0,0,0,0,0,0,0,0,0,null,0,{"$error":"#VALUE!"},0,0,0,0,0,0,0,0,0,0,0,0,0,0,null,0,{"$error":"#VALUE!"},0,0,0,0,0,0,0,0,0,0,0,0,0,0,null,0,{"$error":"#VALUE!"},0,0,0,0,0,0,0,0,0,0,0,0,0,0,null,0,0,0,0,0,0,0]
[null,null,null,null,null,null,null,null,null,null,null,null,"2014-06-20",{"$error":"#VALUE!"},0,{"$error":"#VALUE!"},{"$error":"#VALUE!"},0,null,0,{"$error":"#VALUE!"},0,0,0,0,0,0,0,0,0,0,0,0,0,0,null,0,{"$error":"#VALUE!"},0,0,0,0,0,0,0,0,0,0,0,0,0,0,null,0,{"$error":"#VALUE!"},0,0,0,0,0,0,0,0,0,0,0,0,0,0,null,0,{"$error":"#VALUE!"},0,0,0,0,0,0,0,0,0,0,0,0,0,0,null,0,{"$error":"#VALUE!"},0,0,0,0,0,0,0,0,0,0,0,0,0,0,null,0,{"$error":"#VALUE!"},0,0,0,0,0,0,0,0,0,0,0,0,0,0,null,0,{"$error":"#VALUE!"},0,0,0,0,0,0,0,0,0,0,0,0,0,0,null,0,{"$error":"#VALUE!"},0,0,0,0,0,0,0,0,0,0,0,0,0,0,null,0,{"$error":"#VALUE!"},0,0,0,0,0,0,0,0,0,0,0,0,0,0,null,0,{"$error":"#VALUE!"},0,0,0,0,0,0,0,0,0,0,0,0,0,0,null,0,{"$error":"#VALUE!"},0,0,0,0,0,0,0,0,0,0,0,0,0,0,null,0,{"$error":"#VALUE!"},0,0,0,0,0,0,0,0,0,0,0,0,0,0,null,0,0,0,0,0,0,0]
[null,null,null,null,null,null,null,null,null,null,null,null,"2014-06-21",{"$error":"#VALUE!"},0,{"$error":"#VALUE!"},{"$error":"#VALUE!"},0,null,0,{"$error":"#VALUE!"},0,0,0,0,0,0,0,0,0,0,0,0,0,0,null,0,{"$error":"#VALUE!"},0,0,0,0,0,0,0,0,0,0,0,0,0,0,null,0,{"$error":"#VALUE!"},0,0,0,0,0,0,0,0,0,0,0,0,0,0,null,0,{"$error":"#VALUE!"},0,0,0,0,0,0,0,0,0,0,0,0,0,0,null,0,{"$error":"#VALUE!"},0,0,0,0,0,0,0,0,0,0,0,0,0,0,null,0,{"$error":"#VALUE!"},0,0,0,0,0,0,0,0,0,0,0,0,0,0,null,0,{"$error":"#VALUE!"},0,0,0,0,0,0,0,0,0,0,0,0,0,0,null,0,{"$error":"#VALUE!"},0,0,0,0,0,0,0,0,0,0,0,0,0,0,null,0,{"$error":"#VALUE!"},0,0,0,0,0,0,0,0,0,0,0,0,0,0,null,0,{"$error":"#VALUE!"},0,0,0,0,0,0,0,0,0,0,0,0,0,0,null,0,{"$error":"#VALUE!"},0,0,0,0,0,0,0,0,0,0,0,0,0,0,null,0,{"$error":"#VALUE!"},0,0,0,0,0,0,0,0,0,0,0,0,0,0,null,0,0,0,0,0,0,0]
[null,null,null,null,null,null,null,null,null,null,null,null,"2014-06-24",{"$error":"#VALUE!"},0,{"$error":"#VALUE!"},{"$error":"#VALUE!"},0,null,0,{"$error":"#VALUE!"},0,0,0,0,0,0,0,0,0,0,0,0,0,0,null,0,{"$error":"#VALUE!"},0,0,0,0,0,0,0,0,0,0,0,0,0,0,null,0,{"$error":"#VALUE!"},0,0,0,0,0,0,0,0,0,0,0,0,0,0,null,0,{"$error":"#VALUE!"},0,0,0,0,0,0,0,0,0,0,0,0,0,0,null,0,{"$error":"#VALUE!"},0,0,0,0,0,0,0,0,0,0,0,0,0,0,null,0,{"$error":"#VALUE!"},0,0,0,0,0,0,0,0,0,0,0,0,0,0,null,0,{"$error":"#VALUE!"},0,0,0,0,0,0,0,0,0,0,0,0,0,0,null,0,{"$error":"#VALUE!"},0,0,0,0,0,0,0,0,0,0,0,0,0,0,null,0,{"$error":"#VALUE!"},0,0,0,0,0,0,0,0,0,0,0,0,0,0,null,0,{"$error":"#VALUE!"},0,0,0,0,0,0,0,0,0,0,0,0,0,0,null,0,{"$error":"#VALUE!"},0,0,0,0,0,0,0,0,0,0,0,0,0,0,null,0,{"$error":"#VALUE!"},0,0,0,0,0,0,0,0,0,0,0,0,0,0,null,0,0,0,0,0,0,0]
[null,null,null,null,null,null,null,null,null,null,null,null,"2014-06-27",{"$error":"#VALUE!"},0,{"$error":"#VALUE!"},{"$error":"#VALUE!"},0,null,0,{"$error":"#VALUE!"},0,0,0,0,0,0,0,0,0,0,0,0,0,0,null,0,{"$error":"#VALUE!"},0,0,0,0,0,0,0,0,0,0,0,0,0,0,null,0,{"$error":"#VALUE!"},0,0,0,0,0,0,0,0,0,0,0,0,0,0,null,0,{"$error":"#VALUE!"},0,0,0,0,0,0,0,0,0,0,0,0,0,0,null,0,{"$error":"#VALUE!"},0,0,0,0,0,0,0,0,0,0,0,0,0,0,null,0,{"$error":"#VALUE!"},0,0,0,0,0,0,0,0,0,0,0,0,0,0,null,0,{"$error":"#VALUE!"},0,0,0,0,0,0,0,0,0,0,0,0,0,0,null,0,{"$error":"#VALUE!"},0,0,0,0,0,0,0,0,0,0,0,0,0,0,null,0,{"$error":"#VALUE!"},0,0,0,0,0,0,0,0,0,0,0,0,0,0,null,0,{"$error":"#VALUE!"},0,0,0,0,0,0,0,0,0,0,0,0,0,0,null,0,{"$error":"#VALUE!"},0,0,0,0,0,0,0,0,0,0,0,0,0,0,null,0,{"$error":"#VALUE!"},0,0,0,0,0,0,0,0,0,0,0,0,0,0,null,0,0,0,0,0,0,0]
[null,null,null,null,null,null,null,null,null,null,null,null,"2014-07-01",{"$error":"#VALUE!"},0,{"$error":"#VALUE!"},{"$error":"#VALUE!"},0,null,0,{"$error":"#VALUE!"},0,0,0,0,0,0,0,0,0,0,0,0,0,0,null,0,{"$error":"#VALUE!"},0,0,0,0,0,0,0,0,0,0,0,0,0,0,null,0,{"$error":"#VALUE!"},0,0,0,0,0,0,0,0,0,0,0,0,0,0,null,0,{"$error":"#VALUE!"},0,0,0,0,0,0,0,0,0,0,0,0,0,0,null,0,{"$error":"#VALUE!"},0,0,0,0,0,0,0,0,0,0,0,0,0,0,null,0,{"$error":"#VALUE!"},0,0,0,0,0,0,0,0,0,0,0,0,0,0,null,0,{"$error":"#VALUE!"},0,0,0,0,0,0,0,0,0,0,0,0,0,0,null,0,{"$error":"#VALUE!"},0,0,0,0,0,0,0,0,0,0,0,0,0,0,null,0,{"$error":"#VALUE!"},0,0,0,0,0,0,0,0,0,0,0,0,0,0,null,0,{"$error":"#VALUE!"},0,0,0,0,0,0,0,0,0,0,0,0,0,0,null,0,{"$error":"#VALUE!"},0,0,0,0,0,0,0,0,0,0,0,0,0,0,null,0,{"$error":"#VALUE!"},0,0,0,0,0,0,0,0,0,0,0,0,0,0,null,0,0,0,0,0,0,0]
[null,null,null,null,null,null,null,null,null,null,null,null,"2014-07-04",{"$error":"#VALUE!"},0,{"$error":"#VALUE!"},{"$error":"#VALUE!"},0,null,0,{"$error":"#VALUE!"},0,0,0,0,0,0,0,0,0,0,0,0,0,0,null,0,{"$error":"#VALUE!"},0,0,0,0,0,0,0,0,0,0,0,0,0,0,null,0,{"$error":"#VALUE!"},0,0,0,0,0,0,0,0,0,0,0,0,0,0,null,0,{"$error":"#VALUE!"},0,0,0,0,0,0,0,0,0,0,0,0,0,0,null,0,{"$error":"#VALUE!"},0,0,0,0,0,0,0,0,0,0,0,0,0,0,null,0,{"$error":"#VALUE!"},0,0,0,0,0,0,0,0,0,0,0,0,0,0,null,0,{"$error":"#VALUE!"},0,0,0,0,0,0,0,0,0,0,0,0,0,0,null,0,{"$error":"#VALUE!"},0,0,0,0,0,0,0,0,0,0,0,0,0,0,null,0,{"$error":"#VALUE!"},0,0,0,0,0,0,0,0,0,0,0,0,0,0,null,0,{"$error":"#VALUE!"},0,0,0,0,0,0,0,0,0,0,0,0,0,0,null,0,{"$error":"#VALUE!"},0,0,0,0,0,0,0,0,0,0,0,0,0,0,null,0,{"$error":"#VALUE!"},0,0,0,0,0,0,0,0,0,0,0,0,0,0,null,0,0,0,0,0,0,0]
[null,null,null,null,null,null,null,null,null,null,null,null,"2014-07-08",{"$error":"#VALUE!"},0,{"$error":"#VALUE!"},{"$error":"#VALUE!"},0,null,0,{"$error":"#VALUE!"},0,0,0,0,0,0,0,0,0,0,0,0,0,0,null,0,{"$error":"#VALUE!"},0,0,0,0,0,0,0,0,0,0,0,0,0,0,null,0,{"$error":"#VALUE!"},0,0,0,0,0,0,0,0,0,0,0,0,0,0,null,0,{"$error":"#VALUE!"},0,0,0,0,0,0,0,0,0,0,0,0,0,0,null,0,{"$error":"#VALUE!"},0,0,0,0,0,0,0,0,0,0,0,0,0,0,null,0,{"$error":"#VALUE!"},0,0,0,0,0,0,0,0,0,0,0,0,0,0,null,0,{"$error":"#VALUE!"},0,0,0,0,0,0,0,0,0,0,0,0,0,0,null,0,{"$error":"#VALUE!"},0,0,0,0,0,0,0,0,0,0,0,0,0,0,null,0,{"$error":"#VALUE!"},0,0,0,0,0,0,0,0,0,0,0,0,0,0,null,0,{"$error":"#VALUE!"},0,0,0,0,0,0,0,0,0,0,0,0,0,0,null,0,{"$error":"#VALUE!"},0,0,0,0,0,0,0,0,0,0,0,0,0,0,null,0,{"$error":"#VALUE!"},0,0,0,0,0,0,0,0,0,0,0,0,0,0,null,0,0,0,0,0,0,0]
[null,null,null,null,null,null,null,null,null,null,null,null,"2014-07-11",{"$error":"#VALUE!"},0,{"$error":"#VALUE!"},{"$error":"#VALUE!"},0,null,0,{"$error":"#VALUE!"},0,0,0,0,0,0,0,0,0,0,0,0,0,0,null,0,{"$error":"#VALUE!"},0,0,0,0,0,0,0,0,0,0,0,0,0,0,null,0,{"$error":"#VALUE!"},0,0,0,0,0,0,0,0,0,0,0,0,0,0,null,0,{"$error":"#VALUE!"},0,0,0,0,0,0,0,0,0,0,0,0,0,0,null,0,{"$error":"#VALUE!"},0,0,0,0,0,0,0,0,0,0,0,0,0,0,null,0,{"$error":"#VALUE!"},0,0,0,0,0,0,0,0,0,0,0,0,0,0,null,0,{"$error":"#VALUE!"},0,0,0,0,0,0,0,0,0,0,0,0,0,0,null,0,{"$error":"#VALUE!"},0,0,0,0,0,0,0,0,0,0,0,0,0,0,null,0,{"$error":"#VALUE!"},0,0,0,0,0,0,0,0,0,0,0,0,0,0,null,0,{"$error":"#VALUE!"},0,0,0,0,0,0,0,0,0,0,0,0,0,0,null,0,{"$error":"#VALUE!"},0,0,0,0,0,0,0,0,0,0,0,0,0,0,null,0,{"$error":"#VALUE!"},0,0,0,0,0,0,0,0,0,0,0,0,0,0,null,0,0,0,0,0,0,0]
[null,null,null,null,null,null,null,null,null,null,null,null,"2014-07-14",{"$error":"#VALUE!"},0,{"$error":"#VALUE!"},{"$error":"#VALUE!"},0,null,0,{"$error":"#VALUE!"},0,0,0,0,0,0,0,0,0,0,0,0,0,0,null,0,{"$error":"#VALUE!"},0,0,0,0,0,0,0,0,0,0,0,0,0,0,null,0,{"$error":"#VALUE!"},0,0,0,0,0,0,0,0,0,0,0,0,0,0,null,0,{"$error":"#VALUE!"},0,0,0,0,0,0,0,0,0,0,0,0,0,0,null,0,{"$error":"#VALUE!"},0,0,0,0,0,0,0,0,0,0,0,0,0,0,null,0,{"$error":"#VALUE!"},0,0,0,0,0,0,0,0,0,0,0,0,0,0,null,0,{"$error":"#VALUE!"},0,0,0,0,0,0,0,0,0,0,0,0,0,0,null,0,{"$error":"#VALUE!"},0,0,0,0,0,0,0,0,0,0,0,0,0,0,null,0,{"$error":"#VALUE!"},0,0,0,0,0,0,0,0,0,0,0,0,0,0,null,0,{"$error":"#VALUE!"},0,0,0,0,0,0,0,0,0,0,0,0,0,0,null,0,{"$error":"#VALUE!"},0,0,0,0,0,0,0,0,0,0,0,0,0,0,null,0,{"$error":"#VALUE!"},0,0,0,0,0,0,0,0,0,0,0,0,0,0,null,0,0,0,0,0,0,0]
[null,null,null,null,null,null,null,null,null,null,null,null,"2014-07-15",{"$error":"#VALUE!"},0,{"$error":"#VALUE!"},{"$error":"#VALUE!"},0,null,0,{"$error":"#VALUE!"},0,0,0,0,0,0,0,0,0,0,0,0,0,0,null,0,{"$error":"#VALUE!"},0,0,0,0,0,0,0,0,0,0,0,0,0,0,null,0,{"$error":"#VALUE!"},0,0,0,0,0,0,0,0,0,0,0,0,0,0,null,0,{"$error":"#VALUE!"},0,0,0,0,0,0,0,0,0,0,0,0,0,0,null,0,{"$error":"#VALUE!"},0,0,0,0,0,0,0,0,0,0,0,0,0,0,null,0,{"$error":"#VALUE!"},0,0,0,0,0,0,0,0,0,0,0,0,0,0,null,0,{"$error":"#VALUE!"},0,0,0,0,0,0,0,0,0,0,0,0,0,0,null,0,{"$error":"#VALUE!"},0,0,0,0,0,0,0,0,0,0,0,0,0,0,null,0,{"$error":"#VALUE!"},0,0,0,0,0,0,0,0,0,0,0,0,0,0,null,0,{"$error":"#VALUE!"},0,0,0,0,0,0,0,0,0,0,0,0,0,0,null,0,{"$error":"#VALUE!"},0,0,0,0,0,0,0,0,0,0,0,0,0,0,null,0,{"$error":"#VALUE!"},0,0,0,0,0,0,0,0,0,0,0,0,0,0,null,0,0,0,0,0,0,0]
[null,null,null,null,null,null,null,null,null,null,null,null,"2014-07-18",{"$error":"#VALUE!"},0,{"$error":"#VALUE!"},{"$error":"#VALUE!"},0,null,0,{"$error":"#VALUE!"},0,0,0,0,0,0,0,0,0,0,0,0,0,0,null,0,{"$error":"#VALUE!"},0,0,0,0,0,0,0,0,0,0,0,0,0,0,null,0,{"$error":"#VALUE!"},0,0,0,0,0,0,0,0,0,0,0,0,0,0,null,0,{"$error":"#VALUE!"},0,0,0,0,0,0,0,0,0,0,0,0,0,0,null,0,{"$error":"#VALUE!"},0,0,0,0,0,0,0,0,0,0,0,0,0,0,null,0,{"$error":"#VALUE!"},0,0,0,0,0,0,0,0,0,0,0,0,0,0,null,0,{"$error":"#VALUE!"},0,0,0,0,0,0,0,0,0,0,0,0,0,0,null,0,{"$error":"#VALUE!"},0,0,0,0,0,0,0,0,0,0,0,0,0,0,null,0,{"$error":"#VALUE!"},0,0,0,0,0,0,0,0,0,0,0,0,0,0,null,0,{"$error":"#VALUE!"},0,0,0,0,0,0,0,0,0,0,0,0,0,0,null,0,{"$error":"#VALUE!"},0,0,0,0,0,0,0,0,0,0,0,0,0,0,null,0,{"$error":"#VALUE!"},0,0,0,0,0,0,0,0,0,0,0,0,0,0,null,0,0,0,0,0,0,0]
[null,null,null,null,null,null,null,null,null,null,null,null,"2014-07-22",{"$error":"#VALUE!"},0,{"$error":"#VALUE!"},{"$error":"#VALUE!"},0,null,0,{"$error":"#VALUE!"},0,0,0,0,0,0,0,0,0,0,0,0,0,0,null,0,{"$error":"#VALUE!"},0,0,0,0,0,0,0,0,0,0,0,0,0,0,null,0,{"$error":"#VALUE!"},0,0,0,0,0,0,0,0,0,0,0,0,0,0,null,0,{"$error":"#VALUE!"},0,0,0,0,0,0,0,0,0,0,0,0,0,0,null,0,{"$error":"#VALUE!"},0,0,0,0,0,0,0,0,0,0,0,0,0,0,null,0,{"$error":"#VALUE!"},0,0,0,0,0,0,0,0,0,0,0,0,0,0,null,0,{"$error":"#VALUE!"},0,0,0,0,0,0,0,0,0,0,0,0,0,0,null,0,{"$error":"#VALUE!"},0,0,0,0,0,0,0,0,0,0,0,0,0,0,null,0,{"$error":"#VALUE!"},0,0,0,0,0,0,0,0,0,0,0,0,0,0,null,0,{"$error":"#VALUE!"},0,0,0,0,0,0,0,0,0,0,0,0,0,0,null,0,{"$error":"#VALUE!"},0,0,0,0,0,0,0,0,0,0,0,0,0,0,null,0,{"$error":"#VALUE!"},0,0,0,0,0,0,0,0,0,0,0,0,0,0,null,0,0,0,0,0,0,0]
[null,null,null,null,null,null,null,null,null,null,null,null,"2014-07-25",{"$error":"#VALUE!"},0,{"$error":"#VALUE!"},{"$error":"#VALUE!"},0,null,0,{"$error":"#VALUE!"},0,0,0,0,0,0,0,0,0,0,0,0,0,0,null,0,{"$error":"#VALUE!"},0,0,0,0,0,0,0,0,0,0,0,0,0,0,null,0,{"$error":"#VALUE!"},0,0,0,0,0,0,0,0,0,0,0,0,0,0,null,0,{"$error":"#VALUE!"},0,0,0,0,0,0,0,0,0,0,0,0,0,0,null,0,{"$error":"#VALUE!"},0,0,0,0,0,0,0,0,0,0,0,0,0,0,null,0,{"$error":"#VALUE!"},0,0,0,0,0,0,0,0,0,0,0,0,0,0,null,0,{"$error":"#VALUE!"},0,0,0,0,0,0,0,0,0,0,0,0,0,0,null,0,{"$error":"#VALUE!"},0,0,0,0,0,0,0,0,0,0,0,0,0,0,null,0,{"$error":"#VALUE!"},0,0,0,0,0,0,0,0,0,0,0,0,0,0,null,0,{"$error":"#VALUE!"},0,0,0,0,0,0,0,0,0,0,0,0,0,0,null,0,{"$error":"#VALUE!"},0,0,0,0,0,0,0,0,0,0,0,0,0,0,null,0,{"$error":"#VALUE!"},0,0,0,0,0,0,0,0,0,0,0,0,0,0,null,0,0,0,0,0,0,0]
[null,null,null,null,null,null,null,null,null,null,null,null,"2014-07-28",{"$error":"#VALUE!"},0,{"$error":"#VALUE!"},{"$error":"#VALUE!"},0,null,0,{"$error":"#VALUE!"},0,0,0,0,0,0,0,0,0,0,0,0,0,0,null,0,{"$error":"#VALUE!"},0,0,0,0,0,0,0,0,0,0,0,0,0,0,null,0,{"$error":"#VALUE!"},0,0,0,0,0,0,0,0,0,0,0,0,0,0,null,0,{"$error":"#VALUE!"},0,0,0,0,0,0,0,0,0,0,0,0,0,0,null,0,{"$error":"#VALUE!"},0,0,0,0,0,0,0,0,0,0,0,0,0,0,null,0,{"$error":"#VALUE!"},0,0,0,0,0,0,0,0,0,0,0,0,0,0,null,0,{"$error":"#VALUE!"},0,0,0,0,0,0,0,0,0,0,0,0,0,0,null,0,{"$error":"#VALUE!"},0,0,0,0,0,0,0,0,0,0,0,0,0,0,null,0,{"$error":"#VALUE!"},0,0,0,0,0,0,0,0,0,0,0,0,0,0,null,0,{"$error":"#VALUE!"},0,0,0,0,0,0,0,0,0,0,0,0,0,0,null,0,{"$error":"#VALUE!"},0,0,0,0,0,0,0,0,0,0,0,0,0,0,null,0,{"$error":"#VALUE!"},0,0,0,0,0,0,0,0,0,0,0,0,0,0,null,0,0,0,0,0,0,0]
[null,null,null,null,null,null,null,null,null,null,null,null,"2014-08-01",{"$error":"#VALUE!"},0,{"$error":"#VALUE!"},{"$error":"#VALUE!"},0,null,0,{"$error":"#VALUE!"},0,0,0,0,0,0,0,0,0,0,0,0,0,0,null,0,{"$error":"#VALUE!"},0,0,0,0,0,0,0,0,0,0,0,0,0,0,null,0,{"$error":"#VALUE!"},0,0,0,0,0,0,0,0,0,0,0,0,0,0,null,0,{"$error":"#VALUE!"},0,0,0,0,0,0,0,0,0,0,0,0,0,0,null,0,{"$error":"#VALUE!"},0,0,0,0,0,0,0,0,0,0,0,0,0,0,null,0,{"$error":"#VALUE!"},0,0,0,0,0,0,0,0,0,0,0,0,0,0,null,0,{"$error":"#VALUE!"},0,0,0,0,0,0,0,0,0,0,0,0,0,0,null,0,{"$error":"#VALUE!"},0,0,0,0,0,0,0,0,0,0,0,0,0,0,null,0,{"$error":"#VALUE!"},0,0,0,0,0,0,0,0,0,0,0,0,0,0,null,0,{"$error":"#VALUE!"},0,0,0,0,0,0,0,0,0,0,0,0,0,0,null,0,{"$error":"#VALUE!"},0,0,0,0,0,0,0,0,0,0,0,0,0,0,null,0,{"$error":"#VALUE!"},0,0,0,0,0,0,0,0,0,0,0,0,0,0,null,0,0,0,0,0,0,0]
[null,null,null,null,null,null,null,null,null,null,null,null,"2014-08-04",{"$error":"#VALUE!"},0,{"$error":"#VALUE!"},{"$error":"#VALUE!"},0,null,0,{"$error":"#VALUE!"},0,0,0,0,0,0,0,0,0,0,0,0,0,0,null,0,{"$error":"#VALUE!"},0,0,0,0,0,0,0,0,0,0,0,0,0,0,null,0,{"$error":"#VALUE!"},0,0,0,0,0,0,0,0,0,0,0,0,0,0,null,0,{"$error":"#VALUE!"},0,0,0,0,0,0,0,0,0,0,0,0,0,0,null,0,{"$error":"#VALUE!"},0,0,0,0,0,0,0,0,0,0,0,0,0,0,null,0,{"$error":"#VALUE!"},0,0,0,0,0,0,0,0,0,0,0,0,0,0,null,0,{"$error":"#VALUE!"},0,0,0,0,0,0,0,0,0,0,0,0,0,0,null,0,{"$error":"#VALUE!"},0,0,0,0,0,0,0,0,0,0,0,0,0,0,null,0,{"$error":"#VALUE!"},0,0,0,0,0,0,0,0,0,0,0,0,0,0,null,0,{"$error":"#VALUE!"},0,0,0,0,0,0,0,0,0,0,0,0,0,0,null,0,{"$error":"#VALUE!"},0,0,0,0,0,0,0,0,0,0,0,0,0,0,null,0,{"$error":"#VALUE!"},0,0,0,0,0,0,0,0,0,0,0,0,0,0,null,0,0,0,0,0,0,0]
[null,null,null,null,null,null,null,null,null,null,null,null,"2014-08-07",{"$error":"#VALUE!"},0,{"$error":"#VALUE!"},{"$error":"#VALUE!"},0,null,0,{"$error":"#VALUE!"},0,0,0,0,0,0,0,0,0,0,0,0,0,0,null,0,{"$error":"#VALUE!"},0,0,0,0,0,0,0,0,0,0,0,0,0,0,null,0,{"$error":"#VALUE!"},0,0,0,0,0,0,0,0,0,0,0,0,0,0,null,0,{"$error":"#VALUE!"},0,0,0,0,0,0,0,0,0,0,0,0,0,0,null,0,{"$error":"#VALUE!"},0,0,0,0,0,0,0,0,0,0,0,0,0,0,null,0,{"$error":"#VALUE!"},0,0,0,0,0,0,0,0,0,0,0,0,0,0,null,0,{"$error":"#VALUE!"},0,0,0,0,0,0,0,0,0,0,0,0,0,0,null,0,{"$error":"#VALUE!"},0,0,0,0,0,0,0,0,0,0,0,0,0,0,null,0,{"$error":"#VALUE!"},0,0,0,0,0,0,0,0,0,0,0,0,0,0,null,0,{"$error":"#VALUE!"},0,0,0,0,0,0,0,0,0,0,0,0,0,0,null,0,{"$error":"#VALUE!"},0,0,0,0,0,0,0,0,0,0,0,0,0,0,null,0,{"$error":"#VALUE!"},0,0,0,0,0,0,0,0,0,0,0,0,0,0,null,0,0,0,0,0,0,0]
[null,null,null,null,null,null,null,null,null,null,null,null,"2014-08-08",{"$error":"#VALUE!"},0,{"$error":"#VALUE!"},{"$error":"#VALUE!"},0,null,0,{"$error":"#VALUE!"},0,0,0,0,0,0,0,0,0,0,0,0,0,0,null,0,{"$error":"#VALUE!"},0,0,0,0,0,0,0,0,0,0,0,0,0,0,null,0,{"$error":"#VALUE!"},0,0,0,0,0,0,0,0,0,0,0,0,0,0,null,0,{"$error":"#VALUE!"},0,0,0,0,0,0,0,0,0,0,0,0,0,0,null,0,{"$error":"#VALUE!"},0,0,0,0,0,0,0,0,0,0,0,0,0,0,null,0,{"$error":"#VALUE!"},0,0,0,0,0,0,0,0,0,0,0,0,0,0,null,0,{"$error":"#VALUE!"},0,0,0,0,0,0,0,0,0,0,0,0,0,0,null,0,{"$error":"#VALUE!"},0,0,0,0,0,0,0,0,0,0,0,0,0,0,null,0,{"$error":"#VALUE!"},0,0,0,0,0,0,0,0,0,0,0,0,0,0,null,0,{"$error":"#VALUE!"},0,0,0,0,0,0,0,0,0,0,0,0,0,0,null,0,{"$error":"#VALUE!"},0,0,0,0,0,0,0,0,0,0,0,0,0,0,null,0,{"$error":"#VALUE!"},0,0,0,0,0,0,0,0,0,0,0,0,0,0,null,0,0,0,0,0,0,0]
[null,null,null,null,null,null,null,null,null,null,null,null,"2014-08-11",{"$error":"#VALUE!"},0,{"$error":"#VALUE!"},{"$error":"#VALUE!"},0,null,0,{"$error":"#VALUE!"},0,0,0,0,0,0,0,0,0,0,0,0,0,0,null,0,{"$error":"#VALUE!"},0,0,0,0,0,0,0,0,0,0,0,0,0,0,null,0,{"$error":"#VALUE!"},0,0,0,0,0,0,0,0,0,0,0,0,0,0,null,0,{"$error":"#VALUE!"},0,0,0,0,0,0,0,0,0,0,0,0,0,0,null,0,{"$error":"#VALUE!"},0,0,0,0,0,0,0,0,0,0,0,0,0,0,null,0,{"$error":"#VALUE!"},0,0,0,0,0,0,0,0,0,0,0,0,0,0,null,0,{"$error":"#VALUE!"},0,0,0,0,0,0,0,0,0,0,0,0,0,0,null,0,{"$error":"#VALUE!"},0,0,0,0,0,0,0,0,0,0,0,0,0,0,null,0,{"$error":"#VALUE!"},0,0,0,0,0,0,0,0,0,0,0,0,0,0,null,0,{"$error":"#VALUE!"},0,0,0,0,0,0,0,0,0,0,0,0,0,0,null,0,{"$error":"#VALUE!"},0,0,0,0,0,0,0,0,0,0,0,0,0,0,null,0,{"$error":"#VALUE!"},0,0,0,0,0,0,0,0,0,0,0,0,0,0,null,0,0,0,0,0,0,0]
[null,null,null,null,null,null,null,null,null,null,null,null,"2014-08-15",{"$error":"#VALUE!"},0,{"$error":"#VALUE!"},{"$error":"#VALUE!"},0,null,0,{"$error":"#VALUE!"},0,0,0,0,0,0,0,0,0,0,0,0,0,0,null,0,{"$error":"#VALUE!"},0,0,0,0,0,0,0,0,0,0,0,0,0,0,null,0,{"$error":"#VALUE!"},0,0,0,0,0,0,0,0,0,0,0,0,0,0,null,0,{"$error":"#VALUE!"},0,0,0,0,0,0,0,0,0,0,0,0,0,0,null,0,{"$error":"#VALUE!"},0,0,0,0,0,0,0,0,0,0,0,0,0,0,null,0,{"$error":"#VALUE!"},0,0,0,0,0,0,0,0,0,0,0,0,0,0,null,0,{"$error":"#VALUE!"},0,0,0,0,0,0,0,0,0,0,0,0,0,0,null,0,{"$error":"#VALUE!"},0,0,0,0,0,0,0,0,0,0,0,0,0,0,null,0,{"$error":"#VALUE!"},0,0,0,0,0,0,0,0,0,0,0,0,0,0,null,0,{"$error":"#VALUE!"},0,0,0,0,0,0,0,0,0,0,0,0,0,0,null,0,{"$error":"#VALUE!"},0,0,0,0,0,0,0,0,0,0,0,0,0,0,null,0,{"$error":"#VALUE!"},0,0,0,0,0,0,0,0,0,0,0,0,0,0,null,0,0,0,0,0,0,0]
[null,null,null,null,null,null,null,null,null,null,null,null,"2014-08-18",{"$error":"#VALUE!"},0,{"$error":"#VALUE!"},{"$error":"#VALUE!"},0,null,0,{"$error":"#VALUE!"},0,0,0,0,0,0,0,0,0,0,0,0,0,0,null,0,{"$error":"#VALUE!"},0,0,0,0,0,0,0,0,0,0,0,0,0,0,null,0,{"$error":"#VALUE!"},0,0,0,0,0,0,0,0,0,0,0,0,0,0,null,0,{"$error":"#VALUE!"},0,0,0,0,0,0,0,0,0,0,0,0,0,0,null,0,{"$error":"#VALUE!"},0,0,0,0,0,0,0,0,0,0,0,0,0,0,null,0,{"$error":"#VALUE!"},0,0,0,0,0,0,0,0,0,0,0,0,0,0,null,0,{"$error":"#VALUE!"},0,0,0,0,0,0,0,0,0,0,0,0,0,0,null,0,{"$error":"#VALUE!"},0,0,0,0,0,0,0,0,0,0,0,0,0,0,null,0,{"$error":"#VALUE!"},0,0,0,0,0,0,0,0,0,0,0,0,0,0,null,0,{"$error":"#VALUE!"},0,0,0,0,0,0,0,0,0,0,0,0,0,0,null,0,{"$error":"#VALUE!"},0,0,0,0,0,0,0,0,0,0,0,0,0,0,null,0,{"$error":"#VALUE!"},0,0,0,0,0,0,0,0,0,0,0,0,0,0,null,0,0,0,0,0,0,0]
[null,null,null,null,null,null,null,null,null,null,null,null,"2014-08-21",{"$error":"#VALUE!"},0,{"$error":"#VALUE!"},{"$error":"#VALUE!"},0,null,0,{"$error":"#VALUE!"},0,0,0,0,0,0,0,0,0,0,0,0,0,0,null,0,{"$error":"#VALUE!"},0,0,0,0,0,0,0,0,0,0,0,0,0,0,null,0,{"$error":"#VALUE!"},0,0,0,0,0,0,0,0,0,0,0,0,0,0,null,0,{"$error":"#VALUE!"},0,0,0,0,0,0,0,0,0,0,0,0,0,0,null,0,{"$error":"#VALUE!"},0,0,0,0,0,0,0,0,0,0,0,0,0,0,null,0,{"$error":"#VALUE!"},0,0,0,0,0,0,0,0,0,0,0,0,0,0,null,0,{"$error":"#VALUE!"},0,0,0,0,0,0,0,0,0,0,0,0,0,0,null,0,{"$error":"#VALUE!"},0,0,0,0,0,0,0,0,0,0,0,0,0,0,null,0,{"$error":"#VALUE!"},0,0,0,0,0,0,0,0,0,0,0,0,0,0,null,0,{"$error":"#VALUE!"},0,0,0,0,0,0,0,0,0,0,0,0,0,0,null,0,{"$error":"#VALUE!"},0,0,0,0,0,0,0,0,0,0,0,0,0,0,null,0,{"$error":"#VALUE!"},0,0,0,0,0,0,0,0,0,0,0,0,0,0,null,0,0,0,0,0,0,0]
[null,null,null,null,null,null,null,null,null,null,null,null,"2014-08-25",{"$error":"#VALUE!"},0,{"$error":"#VALUE!"},{"$error":"#VALUE!"},0,null,0,{"$error":"#VALUE!"},0,0,0,0,0,0,0,0,0,0,0,0,0,0,null,0,{"$error":"#VALUE!"},0,0,0,0,0,0,0,0,0,0,0,0,0,0,null,0,{"$error":"#VALUE!"},0,0,0,0,0,0,0,0,0,0,0,0,0,0,null,0,{"$error":"#VALUE!"},0,0,0,0,0,0,0,0,0,0,0,0,0,0,null,0,{"$error":"#VALUE!"},0,0,0,0,0,0,0,0,0,0,0,0,0,0,null,0,{"$error":"#VALUE!"},0,0,0,0,0,0,0,0,0,0,0,0,0,0,null,0,{"$error":"#VALUE!"},0,0,0,0,0,0,0,0,0,0,0,0,0,0,null,0,{"$error":"#VALUE!"},0,0,0,0,0,0,0,0,0,0,0,0,0,0,null,0,{"$error":"#VALUE!"},0,0,0,0,0,0,0,0,0,0,0,0,0,0,null,0,{"$error":"#VALUE!"},0,0,0,0,0,0,0,0,0,0,0,0,0,0,null,0,{"$error":"#VALUE!"},0,0,0,0,0,0,0,0,0,0,0,0,0,0,null,0,{"$error":"#VALUE!"},0,0,0,0,0,0,0,0,0,0,0,0,0,0,null,0,0,0,0,0,0,0]
[null,null,null,null,null,null,null,null,null,null,null,null,"2014-08-28",{"$error":"#VALUE!"},0,{"$error":"#VALUE!"},{"$error":"#VALUE!"},0,null,0,{"$error":"#VALUE!"},0,0,0,0,0,0,0,0,0,0,0,0,0,0,null,0,{"$error":"#VALUE!"},0,0,0,0,0,0,0,0,0,0,0,0,0,0,null,0,{"$error":"#VALUE!"},0,0,0,0,0,0,0,0,0,0,0,0,0,0,null,0,{"$error":"#VALUE!"},0,0,0,0,0,0,0,0,0,0,0,0,0,0,null,0,{"$error":"#VALUE!"},0,0,0,0,0,0,0,0,0,0,0,0,0,0,null,0,{"$error":"#VALUE!"},0,0,0,0,0,0,0,0,0,0,0,0,0,0,null,0,{"$error":"#VALUE!"},0,0,0,0,0,0,0,0,0,0,0,0,0,0,null,0,{"$error":"#VALUE!"},0,0,0,0,0,0,0,0,0,0,0,0,0,0,null,0,{"$error":"#VALUE!"},0,0,0,0,0,0,0,0,0,0,0,0,0,0,null,0,{"$error":"#VALUE!"},0,0,0,0,0,0,0,0,0,0,0,0,0,0,null,0,{"$error":"#VALUE!"},0,0,0,0,0,0,0,0,0,0,0,0,0,0,null,0,{"$error":"#VALUE!"},0,0,0,0,0,0,0,0,0,0,0,0,0,0,null,0,0,0,0,0,0,0]
[null,null,null,null,null,null,null,null,null,null,null,null,"2014-08-29",{"$error":"#VALUE!"},0,{"$error":"#VALUE!"},{"$error":"#VALUE!"},0,null,0,{"$error":"#VALUE!"},0,0,0,0,0,0,0,0,0,0,0,0,0,0,null,0,{"$error":"#VALUE!"},0,0,0,0,0,0,0,0,0,0,0,0,0,0,null,0,{"$error":"#VALUE!"},0,0,0,0,0,0,0,0,0,0,0,0,0,0,null,0,{"$error":"#VALUE!"},0,0,0,0,0,0,0,0,0,0,0,0,0,0,null,0,{"$error":"#VALUE!"},0,0,0,0,0,0,0,0,0,0,0,0,0,0,null,0,{"$error":"#VALUE!"},0,0,0,0,0,0,0,0,0,0,0,0,0,0,null,0,{"$error":"#VALUE!"},0,0,0,0,0,0,0,0,0,0,0,0,0,0,null,0,{"$error":"#VALUE!"},0,0,0,0,0,0,0,0,0,0,0,0,0,0,null,0,{"$error":"#VALUE!"},0,0,0,0,0,0,0,0,0,0,0,0,0,0,null,0,{"$error":"#VALUE!"},0,0,0,0,0,0,0,0,0,0,0,0,0,0,null,0,{"$error":"#VALUE!"},0,0,0,0,0,0,0,0,0,0,0,0,0,0,null,0,{"$error":"#VALUE!"},0,0,0,0,0,0,0,0,0,0,0,0,0,0,null,0,0,0,0,0,0,0]
[null,null,null,null,null,null,null,null,null,null,null,null,"2014-08-30",{"$error":"#VALUE!"},0,{"$error":"#VALUE!"},{"$error":"#VALUE!"},0,null,0,{"$error":"#VALUE!"},0,0,0,0,0,0,0,0,0,0,0,0,0,0,null,0,{"$error":"#VALUE!"},0,0,0,0,0,0,0,0,0,0,0,0,0,0,null,0,{"$error":"#VALUE!"},0,0,0,0,0,0,0,0,0,0,0,0,0,0,null,0,{"$error":"#VALUE!"},0,0,0,0,0,0,0,0,0,0,0,0,0,0,null,0,{"$error":"#VALUE!"},0,0,0,0,0,0,0,0,0,0,0,0,0,0,null,0,{"$error":"#VALUE!"},0,0,0,0,0,0,0,0,0,0,0,0,0,0,null,0,{"$error":"#VALUE!"},0,0,0,0,0,0,0,0,0,0,0,0,0,0,null,0,{"$error":"#VALUE!"},0,0,0,0,0,0,0,0,0,0,0,0,0,0,null,0,{"$error":"#VALUE!"},0,0,0,0,0,0,0,0,0,0,0,0,0,0,null,0,{"$error":"#VALUE!"},0,0,0,0,0,0,0,0,0,0,0,0,0,0,null,0,{"$error":"#VALUE!"},0,0,0,0,0,0,0,0,0,0,0,0,0,0,null,0,{"$error":"#VALUE!"},0,0,0,0,0,0,0,0,0,0,0,0,0,0,null,0,0,0,0,0,0,0]
[null,null,null,null,null,null,null,null,null,null,null,null,"2014-08-31",{"$error":"#VALUE!"},0,{"$error":"#VALUE!"},{"$error":"#VALUE!"},0,null,0,{"$error":"#VALUE!"},0,0,0,0,0,0,0,0,0,0,0,0,0,0,null,0,{"$error":"#VALUE!"},0,0,0,0,0,0,0,0,0,0,0,0,0,0,null,0,{"$error":"#VALUE!"},0,0,0,0,0,0,0,0,0,0,0,0,0,0,null,0,{"$error":"#VALUE!"},0,0,0,0,0,0,0,0,0,0,0,0,0,0,null,0,{"$error":"#VALUE!"},0,0,0,0,0,0,0,0,0,0,0,0,0,0,null,0,{"$error":"#VALUE!"},0,0,0,0,0,0,0,0,0,0,0,0,0,0,null,0,{"$error":"#VALUE!"},0,0,0,0,0,0,0,0,0,0,0,0,0,0,null,0,{"$error":"#VALUE!"},0,0,0,0,0,0,0,0,0,0,0,0,0,0,null,0,{"$error":"#VALUE!"},0,0,0,0,0,0,0,0,0,0,0,0,0,0,null,0,{"$error":"#VALUE!"},0,0,0,0,0,0,0,0,0,0,0,0,0,0,null,0,{"$error":"#VALUE!"},0,0,0,0,0,0,0,0,0,0,0,0,0,0,null,0,{"$error":"#VALUE!"},0,0,0,0,0,0,0,0,0,0,0,0,0,0,null,0,0,0,0,0,0,0]
[null,null,null,null,null,null,null,null,null,null,null,null,"2014-09-01",{"$error":"#VALUE!"},0,{"$error":"#VALUE!"},{"$error":"#VALUE!"},0,null,0,{"$error":"#VALUE!"},0,0,0,0,0,0,0,0,0,0,0,0,0,0,null,0,{"$error":"#VALUE!"},0,0,0,0,0,0,0,0,0,0,0,0,0,0,null,0,{"$error":"#VALUE!"},0,0,0,0,0,0,0,0,0,0,0,0,0,0,null,0,{"$error":"#VALUE!"},0,0,0,0,0,0,0,0,0,0,0,0,0,0,null,0,{"$error":"#VALUE!"},0,0,0,0,0,0,0,0,0,0,0,0,0,0,null,0,{"$error":"#VALUE!"},0,0,0,0,0,0,0,0,0,0,0,0,0,0,null,0,{"$error":"#VALUE!"},0,0,0,0,0,0,0,0,0,0,0,0,0,0,null,0,{"$error":"#VALUE!"},0,0,0,0,0,0,0,0,0,0,0,0,0,0,null,0,{"$error":"#VALUE!"},0,0,0,0,0,0,0,0,0,0,0,0,0,0,null,0,{"$error":"#VALUE!"},0,0,0,0,0,0,0,0,0,0,0,0,0,0,null,0,{"$error":"#VALUE!"},0,0,0,0,0,0,0,0,0,0,0,0,0,0,null,0,{"$error":"#VALUE!"},0,0,0,0,0,0,0,0,0,0,0,0,0,0,null,0,0,0,0,0,0,0]
[null,null,null,null,null,null,null,null,null,null,null,null,"2014-09-02",{"$error":"#VALUE!"},0,{"$error":"#VALUE!"},{"$error":"#VALUE!"},0,null,0,{"$error":"#VALUE!"},0,0,0,0,0,0,0,0,0,0,0,0,0,0,null,0,{"$error":"#VALUE!"},0,0,0,0,0,0,0,0,0,0,0,0,0,0,null,0,{"$error":"#VALUE!"},0,0,0,0,0,0,0,0,0,0,0,0,0,0,null,0,{"$error":"#VALUE!"},0,0,0,0,0,0,0,0,0,0,0,0,0,0,null,0,{"$error":"#VALUE!"},0,0,0,0,0,0,0,0,0,0,0,0,0,0,null,0,{"$error":"#VALUE!"},0,0,0,0,0,0,0,0,0,0,0,0,0,0,null,0,{"$error":"#VALUE!"},0,0,0,0,0,0,0,0,0,0,0,0,0,0,null,0,{"$error":"#VALUE!"},0,0,0,0,0,0,0,0,0,0,0,0,0,0,null,0,{"$error":"#VALUE!"},0,0,0,0,0,0,0,0,0,0,0,0,0,0,null,0,{"$error":"#VALUE!"},0,0,0,0,0,0,0,0,0,0,0,0,0,0,null,0,{"$error":"#VALUE!"},0,0,0,0,0,0,0,0,0,0,0,0,0,0,null,0,{"$error":"#VALUE!"},0,0,0,0,0,0,0,0,0,0,0,0,0,0,null,0,0,0,0,0,0,0]
[null,null,null,null,null,null,null,null,null,null,null,null,"2014-09-03",{"$error":"#VALUE!"},0,{"$error":"#VALUE!"},{"$error":"#VALUE!"},0,null,0,{"$error":"#VALUE!"},0,0,0,0,0,0,0,0,0,0,0,0,0,0,null,0,{"$error":"#VALUE!"},0,0,0,0,0,0,0,0,0,0,0,0,0,0,null,0,{"$error":"#VALUE!"},0,0,0,0,0,0,0,0,0,0,0,0,0,0,null,0,{"$error":"#VALUE!"},0,0,0,0,0,0,0,0,0,0,0,0,0,0,null,0,{"$error":"#VALUE!"},0,0,0,0,0,0,0,0,0,0,0,0,0,0,null,0,{"$error":"#VALUE!"},0,0,0,0,0,0,0,0,0,0,0,0,0,0,null,0,{"$error":"#VALUE!"},0,0,0,0,0,0,0,0,0,0,0,0,0,0,null,0,{"$error":"#VALUE!"},0,0,0,0,0,0,0,0,0,0,0,0,0,0,null,0,{"$error":"#VALUE!"},0,0,0,0,0,0,0,0,0,0,0,0,0,0,null,0,{"$error":"#VALUE!"},0,0,0,0,0,0,0,0,0,0,0,0,0,0,null,0,{"$error":"#VALUE!"},0,0,0,0,0,0,0,0,0,0,0,0,0,0,null,0,{"$error":"#VALUE!"},0,0,0,0,0,0,0,0,0,0,0,0,0,0,null,0,0,0,0,0,0,0]
[null,null,null,null,null,null,null,null,null,null,null,null,"2014-09-04",{"$error":"#VALUE!"},0,{"$error":"#VALUE!"},{"$error":"#VALUE!"},0,null,0,{"$error":"#VALUE!"},0,0,0,0,0,0,0,0,0,0,0,0,0,0,null,0,{"$error":"#VALUE!"},0,0,0,0,0,0,0,0,0,0,0,0,0,0,null,0,{"$error":"#VALUE!"},0,0,0,0,0,0,0,0,0,0,0,0,0,0,null,0,{"$error":"#VALUE!"},0,0,0,0,0,0,0,0,0,0,0,0,0,0,null,0,{"$error":"#VALUE!"},0,0,0,0,0,0,0,0,0,0,0,0,0,0,null,0,{"$error":"#VALUE!"},0,0,0,0,0,0,0,0,0,0,0,0,0,0,null,0,{"$error":"#VALUE!"},0,0,0,0,0,0,0,0,0,0,0,0,0,0,null,0,{"$error":"#VALUE!"},0,0,0,0,0,0,0,0,0,0,0,0,0,0,null,0,{"$error":"#VALUE!"},0,0,0,0,0,0,0,0,0,0,0,0,0,0,null,0,{"$error":"#VALUE!"},0,0,0,0,0,0,0,0,0,0,0,0,0,0,null,0,{"$error":"#VALUE!"},0,0,0,0,0,0,0,0,0,0,0,0,0,0,null,0,{"$error":"#VALUE!"},0,0,0,0,0,0,0,0,0,0,0,0,0,0,null,0,0,0,0,0,0,0]
[null,null,null,null,null,null,null,null,null,null,null,null,"2014-09-05",{"$error":"#VALUE!"},0,{"$error":"#VALUE!"},{"$error":"#VALUE!"},0,null,0,{"$error":"#VALUE!"},0,0,0,0,0,0,0,0,0,0,0,0,0,0,null,0,{"$error":"#VALUE!"},0,0,0,0,0,0,0,0,0,0,0,0,0,0,null,0,{"$error":"#VALUE!"},0,0,0,0,0,0,0,0,0,0,0,0,0,0,null,0,{"$error":"#VALUE!"},0,0,0,0,0,0,0,0,0,0,0,0,0,0,null,0,{"$error":"#VALUE!"},0,0,0,0,0,0,0,0,0,0,0,0,0,0,null,0,{"$error":"#VALUE!"},0,0,0,0,0,0,0,0,0,0,0,0,0,0,null,0,{"$error":"#VALUE!"},0,0,0,0,0,0,0,0,0,0,0,0,0,0,null,0,{"$error":"#VALUE!"},0,0,0,0,0,0,0,0,0,0,0,0,0,0,null,0,{"$error":"#VALUE!"},0,0,0,0,0,0,0,0,0,0,0,0,0,0,null,0,{"$error":"#VALUE!"},0,0,0,0,0,0,0,0,0,0,0,0,0,0,null,0,{"$error":"#VALUE!"},0,0,0,0,0,0,0,0,0,0,0,0,0,0,null,0,{"$error":"#VALUE!"},0,0,0,0,0,0,0,0,0,0,0,0,0,0,null,0,0,0,0,0,0,0]
[null,null,null,null,null,null,null,null,null,null,null,null,"2014-09-06",{"$error":"#VALUE!"},0,{"$error":"#VALUE!"},{"$error":"#VALUE!"},0,null,0,{"$error":"#VALUE!"},0,0,0,0,0,0,0,0,0,0,0,0,0,0,null,0,{"$error":"#VALUE!"},0,0,0,0,0,0,0,0,0,0,0,0,0,0,null,0,{"$error":"#VALUE!"},0,0,0,0,0,0,0,0,0,0,0,0,0,0,null,0,{"$error":"#VALUE!"},0,0,0,0,0,0,0,0,0,0,0,0,0,0,null,0,{"$error":"#VALUE!"},0,0,0,0,0,0,0,0,0,0,0,0,0,0,null,0,{"$error":"#VALUE!"},0,0,0,0,0,0,0,0,0,0,0,0,0,0,null,0,{"$error":"#VALUE!"},0,0,0,0,0,0,0,0,0,0,0,0,0,0,null,0,{"$error":"#VALUE!"},0,0,0,0,0,0,0,0,0,0,0,0,0,0,null,0,{"$error":"#VALUE!"},0,0,0,0,0,0,0,0,0,0,0,0,0,0,null,0,{"$error":"#VALUE!"},0,0,0,0,0,0,0,0,0,0,0,0,0,0,null,0,{"$error":"#VALUE!"},0,0,0,0,0,0,0,0,0,0,0,0,0,0,null,0,{"$error":"#VALUE!"},0,0,0,0,0,0,0,0,0,0,0,0,0,0,null,0,0,0,0,0,0,0]
[null,null,null,null,null,null,null,null,null,null,null,null,"2014-09-07",{"$error":"#VALUE!"},0,{"$error":"#VALUE!"},{"$error":"#VALUE!"},0,null,0,{"$error":"#VALUE!"},0,0,0,0,0,0,0,0,0,0,0,0,0,0,null,0,{"$error":"#VALUE!"},0,0,0,0,0,0,0,0,0,0,0,0,0,0,null,0,{"$error":"#VALUE!"},0,0,0,0,0,0,0,0,0,0,0,0,0,0,null,0,{"$error":"#VALUE!"},0,0,0,0,0,0,0,0,0,0,0,0,0,0,null,0,{"$error":"#VALUE!"},0,0,0,0,0,0,0,0,0,0,0,0,0,0,null,0,{"$error":"#VALUE!"},0,0,0,0,0,0,0,0,0,0,0,0,0,0,null,0,{"$error":"#VALUE!"},0,0,0,0,0,0,0,0,0,0,0,0,0,0,null,0,{"$error":"#VALUE!"},0,0,0,0,0,0,0,0,0,0,0,0,0,0,null,0,{"$error":"#VALUE!"},0,0,0,0,0,0,0,0,0,0,0,0,0,0,null,0,{"$error":"#VALUE!"},0,0,0,0,0,0,0,0,0,0,0,0,0,0,null,0,{"$error":"#VALUE!"},0,0,0,0,0,0,0,0,0,0,0,0,0,0,null,0,{"$error":"#VALUE!"},0,0,0,0,0,0,0,0,0,0,0,0,0,0,null,0,0,0,0,0,0,0]
[null,null,null,null,null,null,null,null,null,null,null,null,"2014-09-08",{"$error":"#VALUE!"},0,{"$error":"#VALUE!"},{"$error":"#VALUE!"},0,null,0,{"$error":"#VALUE!"},0,0,0,0,0,0,0,0,0,0,0,0,0,0,null,0,{"$error":"#VALUE!"},0,0,0,0,0,0,0,0,0,0,0,0,0,0,null,0,{"$error":"#VALUE!"},0,0,0,0,0,0,0,0,0,0,0,0,0,0,null,0,{"$error":"#VALUE!"},0,0,0,0,0,0,0,0,0,0,0,0,0,0,null,0,{"$error":"#VALUE!"},0,0,0,0,0,0,0,0,0,0,0,0,0,0,null,0,{"$error":"#VALUE!"},0,0,0,0,0,0,0,0,0,0,0,0,0,0,null,0,{"$error":"#VALUE!"},0,0,0,0,0,0,0,0,0,0,0,0,0,0,null,0,{"$error":"#VALUE!"},0,0,0,0,0,0,0,0,0,0,0,0,0,0,null,0,{"$error":"#VALUE!"},0,0,0,0,0,0,0,0,0,0,0,0,0,0,null,0,{"$error":"#VALUE!"},0,0,0,0,0,0,0,0,0,0,0,0,0,0,null,0,{"$error":"#VALUE!"},0,0,0,0,0,0,0,0,0,0,0,0,0,0,null,0,{"$error":"#VALUE!"},0,0,0,0,0,0,0,0,0,0,0,0,0,0,null,0,0,0,0,0,0,0]
[null,null,null,null,null,null,null,null,null,null,null,null,"2014-09-09",{"$error":"#VALUE!"},0,{"$error":"#VALUE!"},{"$error":"#VALUE!"},0,null,0,{"$error":"#VALUE!"},0,0,0,0,0,0,0,0,0,0,0,0,0,0,null,0,{"$error":"#VALUE!"},0,0,0,0,0,0,0,0,0,0,0,0,0,0,null,0,{"$error":"#VALUE!"},0,0,0,0,0,0,0,0,0,0,0,0,0,0,null,0,{"$error":"#VALUE!"},0,0,0,0,0,0,0,0,0,0,0,0,0,0,null,0,{"$error":"#VALUE!"},0,0,0,0,0,0,0,0,0,0,0,0,0,0,null,0,{"$error":"#VALUE!"},0,0,0,0,0,0,0,0,0,0,0,0,0,0,null,0,{"$error":"#VALUE!"},0,0,0,0,0,0,0,0,0,0,0,0,0,0,null,0,{"$error":"#VALUE!"},0,0,0,0,0,0,0,0,0,0,0,0,0,0,null,0,{"$error":"#VALUE!"},0,0,0,0,0,0,0,0,0,0,0,0,0,0,null,0,{"$error":"#VALUE!"},0,0,0,0,0,0,0,0,0,0,0,0,0,0,null,0,{"$error":"#VALUE!"},0,0,0,0,0,0,0,0,0,0,0,0,0,0,null,0,{"$error":"#VALUE!"},0,0,0,0,0,0,0,0,0,0,0,0,0,0,null,0,0,0,0,0,0,0]
[null,null,null,null,null,null,null,null,null,null,null,null,"2014-09-10",{"$error":"#VALUE!"},0,{"$error":"#VALUE!"},{"$error":"#VALUE!"},0,null,0,{"$error":"#VALUE!"},0,0,0,0,0,0,0,0,0,0,0,0,0,0,null,0,{"$error":"#VALUE!"},0,0,0,0,0,0,0,0,0,0,0,0,0,0,null,0,{"$error":"#VALUE!"},0,0,0,0,0,0,0,0,0,0,0,0,0,0,null,0,{"$error":"#VALUE!"},0,0,0,0,0,0,0,0,0,0,0,0,0,0,null,0,{"$error":"#VALUE!"},0,0,0,0,0,0,0,0,0,0,0,0,0,0,null,0,{"$error":"#VALUE!"},0,0,0,0,0,0,0,0,0,0,0,0,0,0,null,0,{"$error":"#VALUE!"},0,0,0,0,0,0,0,0,0,0,0,0,0,0,null,0,{"$error":"#VALUE!"},0,0,0,0,0,0,0,0,0,0,0,0,0,0,null,0,{"$error":"#VALUE!"},0,0,0,0,0,0,0,0,0,0,0,0,0,0,null,0,{"$error":"#VALUE!"},0,0,0,0,0,0,0,0,0,0,0,0,0,0,null,0,{"$error":"#VALUE!"},0,0,0,0,0,0,0,0,0,0,0,0,0,0,null,0,{"$error":"#VALUE!"},0,0,0,0,0,0,0,0,0,0,0,0,0,0,null,0,0,0,0,0,0,0]
[null,null,null,null,null,null,null,null,null,null,null,null,"2014-09-11",{"$error":"#VALUE!"},0,{"$error":"#VALUE!"},{"$error":"#VALUE!"},0,null,0,{"$error":"#VALUE!"},0,0,0,0,0,0,0,0,0,0,0,0,0,0,null,0,{"$error":"#VALUE!"},0,0,0,0,0,0,0,0,0,0,0,0,0,0,null,0,{"$error":"#VALUE!"},0,0,0,0,0,0,0,0,0,0,0,0,0,0,null,0,{"$error":"#VALUE!"},0,0,0,0,0,0,0,0,0,0,0,0,0,0,null,0,{"$error":"#VALUE!"},0,0,0,0,0,0,0,0,0,0,0,0,0,0,null,0,{"$error":"#VALUE!"},0,0,0,0,0,0,0,0,0,0,0,0,0,0,null,0,{"$error":"#VALUE!"},0,0,0,0,0,0,0,0,0,0,0,0,0,0,null,0,{"$error":"#VALUE!"},0,0,0,0,0,0,0,0,0,0,0,0,0,0,null,0,{"$error":"#VALUE!"},0,0,0,0,0,0,0,0,0,0,0,0,0,0,null,0,{"$error":"#VALUE!"},0,0,0,0,0,0,0,0,0,0,0,0,0,0,null,0,{"$error":"#VALUE!"},0,0,0,0,0,0,0,0,0,0,0,0,0,0,null,0,{"$error":"#VALUE!"},0,0,0,0,0,0,0,0,0,0,0,0,0,0,null,0,0,0,0,0,0,0]
[null,null,null,null,null,null,null,null,null,null,null,null,"2014-09-12",{"$error":"#VALUE!"},0,{"$error":"#VALUE!"},{"$error":"#VALUE!"},0,null,0,{"$error":"#VALUE!"},0,0,0,0,0,0,0,0,0,0,0,0,0,0,null,0,{"$error":"#VALUE!"},0,0,0,0,0,0,0,0,0,0,0,0,0,0,null,0,{"$error":"#VALUE!"},0,0,0,0,0,0,0,0,0,0,0,0,0,0,null,0,{"$error":"#VALUE!"},0,0,0,0,0,0,0,0,0,0,0,0,0,0,null,0,{"$error":"#VALUE!"},0,0,0,0,0,0,0,0,0,0,0,0,0,0,null,0,{"$error":"#VALUE!"},0,0,0,0,0,0,0,0,0,0,0,0,0,0,null,0,{"$error":"#VALUE!"},0,0,0,0,0,0,0,0,0,0,0,0,0,0,null,0,{"$error":"#VALUE!"},0,0,0,0,0,0,0,0,0,0,0,0,0,0,null,0,{"$error":"#VALUE!"},0,0,0,0,0,0,0,0,0,0,0,0,0,0,null,0,{"$error":"#VALUE!"},0,0,0,0,0,0,0,0,0,0,0,0,0,0,null,0,{"$error":"#VALUE!"},0,0,0,0,0,0,0,0,0,0,0,0,0,0,null,0,{"$error":"#VALUE!"},0,0,0,0,0,0,0,0,0,0,0,0,0,0,null,0,0,0,0,0,0,0]
[null,null,null,null,null,null,null,null,null,null,null,null,"2014-09-13",{"$error":"#VALUE!"},0,{"$error":"#VALUE!"},{"$error":"#VALUE!"},0,null,0,{"$error":"#VALUE!"},0,0,0,0,0,0,0,0,0,0,0,0,0,0,null,0,{"$error":"#VALUE!"},0,0,0,0,0,0,0,0,0,0,0,0,0,0,null,0,{"$error":"#VALUE!"},0,0,0,0,0,0,0,0,0,0,0,0,0,0,null,0,{"$error":"#VALUE!"},0,0,0,0,0,0,0,0,0,0,0,0,0,0,null,0,{"$error":"#VALUE!"},0,0,0,0,0,0,0,0,0,0,0,0,0,0,null,0,{"$error":"#VALUE!"},0,0,0,0,0,0,0,0,0,0,0,0,0,0,null,0,{"$error":"#VALUE!"},0,0,0,0,0,0,0,0,0,0,0,0,0,0,null,0,{"$error":"#VALUE!"},0,0,0,0,0,0,0,0,0,0,0,0,0,0,null,0,{"$error":"#VALUE!"},0,0,0,0,0,0,0,0,0,0,0,0,0,0,null,0,{"$error":"#VALUE!"},0,0,0,0,0,0,0,0,0,0,0,0,0,0,null,0,{"$error":"#VALUE!"},0,0,0,0,0,0,0,0,0,0,0,0,0,0,null,0,{"$error":"#VALUE!"},0,0,0,0,0,0,0,0,0,0,0,0,0,0,null,0,0,0,0,0,0,0]
[null,null,null,null,null,null,null,null,null,null,null,null,"2014-09-14",{"$f":"IF(OR($D$56=\"No\",$D$57=\"No\"),0,IF(D940*$E$451*$E$450*0.001-($R$435*$E$450*0.001)<0,0,D940*$E$451*$E$450*0.001-($R$435*$E$450*0.001)))","v":{"$error":"#VALUE!"}},{"$f":"AF1260+AL1260","v":0},{"$f":"N1998-O1998","v":{"$error":"#VALUE!"}},{"$error":"#VALUE!"},{"$f":"AL1260","v":0},null,{"$f":"N1260*(1-$I$412)","v":0},{"$error":"#VALUE!"},0,0,0,{"$f":"BL1629","v":0},{"$f":"$T1998*D$412","v":0},{"$f":"$T1998*E$412","v":0},{"$f":"$T1998*F$412","v":0},0,{"$f":"$T1998*G$412","v":0},{"$f":"IF(AA1998=0,0,IF(AA1998>=V1998,V1998,AA1998))","v":0},{"$f":"IF(AE1998=T1998,0,IF(AB1998=0,0,IF((AB1998-AE1998)>W1998,W1998,AB1998-AE1998)))","v":0},{"$f":"IF(AE1998+AF1998=T1998,0,IF(Z1998=0,0,IF((Z1998-AE1998-AF1998)>U1998,U1998,Z1998-AE1998-AF1998)))","v":0},0,0,null,{"$f":"O1260*(1-$I$413)","v":0},{"$f":"MAX(0,U1998-AG1998)","v":{"$error":"#VALUE!"}},{"$f":"MAX(0,V1998-AE1998)","v":0},{"$f":"MAX(0,W1998-AF1998)","v":0},{"$f":"MAX(0,Y1998-AI1998)","v":0},{"$f":"$AK1998*D$413","v":0},0,0,0,0,{"$f":"IF(AQ1998=0,0,IF(AQ1998>=AM1998,AM1998,AQ1998))","v":0},{"$f":"IF(AU1998=AK1998,0,IF(AR1998=0,0,IF((AR1998-AU1998)>AN1998,AN1998,AR1998-AU1998)))","v":0},{"$f":"IF(AU1998+AV1998=AK1998,0,IF(AP1998=0,0,IF((AP1998-AU1998-AV1998)>AL1998,AL1998,AP1998-AU1998-AV1998)))","v":0},{"$f":"IF(AU1998+AV1998+AW1998=AK1998,0,IF(AS1998=0,0,IF((AS1998-AU1998-AV1998-AW1998)>AO1998,AO1998,AS1998-AU1998-AV1998-AW1998)))","v":0},0,0,null,0,{"$f":"MAX(0,AL1998-AW1998)","v":{"$error":"#VALUE!"}},{"$f":"MAX(0,AM1998-AU1998)","v":0},{"$f":"MAX(0,AN1998-AV1998)","v":0},0,{"$f":"MAX(0,AO1998-AX1998)","v":0},{"$f":"$AZ1998*D$414","v":0},{"$f":"$AZ1998*E$414","v":0},{"$f":"$AZ1998*F$414","v":0},0,{"$f":"$AZ1998*G$414","v":0},{"$f":"IF(BI1998=0,0,IF(BI1998>=BD1998,BD1998,BI1998))","v":0},{"$f":"IF(BM1998=AZ1998,0,IF(BJ1998=0,0,IF((BJ1998-BM1998)>BE1998,BE1998,BJ1998-BM1998)))","v":0},{"$f":"IF(BM1998+BN1998=AZ1998,0,IF(BH1998=0,0,IF((BH1998-BM1998-BN1998)>BC1998,BC1998,BH1998-BM1998-BN1998)))","v":0},0,0,null,{"$f":"Q1260*(1-$I$415)","v":0},{"$f":"MAX(0,BC1998-BO1998)","v":{"$error":"#VALUE!"}},{"$f":"MAX(0,BD1998-BM1998)","v":0},{"$f":"MAX(0,BE1998-BN1998)","v":0},0,{"$f":"MAX(0,BG1998-BQ1998)","v":0},{"$f":"$BS1998*D$415","v":0},{"$f":"$BS1998*E$415","v":0},{"$f":"$BS1998*F$415","v":0},0,{"$f":"$BS1998*G$415","v":0},{"$f":"IF(BZ1998=0,0,IF(BZ1998>=BU1998,BU1998,BZ1998))","v":0},{"$f":"IF(CD1998=BS1998,0,IF(CA1998=0,0,IF((CA1998-CD1998)>BV1998,BV1998,CA1998-CD1998)))","v":0},{"$f":"IF(CD1998+CE1998=BS1998,0,IF(BY1998=0,0,IF((BY1998-CD1998-CE1998)>BT1998,BT1998,BY1998-CD1998-CE1998)))","v":0},0,0,null,{"$f":"R1260*(1-$I$416)","v":0},{"$f":"MAX(0,BT1998-CF1998)","v":{"$error":"#VALUE!"}},{"$f":"MAX(0,BU1998-CD1998)","v":0},{"$f":"MAX(0,BV1998-CE1998)","v":0},0,{"$f":"MAX(0,BX1998-CH1998)","v":0},{"$f":"$CJ1998*D$416","v":0},{"$f":"$CJ1998*E$416","v":0},{"$f":"$CJ1998*F$416","v":0},0,{"$f":"$CJ1998*G$416","v":0},{"$f":"IF(CQ1998=0,0,IF(CQ1998>=CL1998,CL1998,CQ1998))","v":0},{"$f":"IF(CU1998=CJ1998,0,IF(CR1998=0,0,IF((CR1998-CU1998)>CM1998,CM1998,CR1998-CU1998)))","v":0},{"$f":"IF(CU1998+CV1998=CJ1998,0,IF(CP1998=0,0,IF((CP1998-CU1998-CV1998)>CK1998,CK1998,CP1998-CU1998-CV1998)))","v":0},0,0,null,{"$f":"S1260*(1-$I$417)","v":0},{"$f":"MAX(0,CK1998-CW1998)","v":{"$error":"#VALUE!"}},{"$f":"MAX(0,CL1998-CU1998)","v":0},{"$f":"MAX(0,CM1998-CV1998)","v":0},0,{"$f":"MAX(0,CO1998-CY1998)","v":0},{"$f":"$DA1998*D$417","v":0},{"$f":"$DA1998*E$417","v":0},{"$f":"$DA1998*F$417","v":0},0,{"$f":"$DA1998*G$417","v":0},{"$f":"IF(DH1998=0,0,IF(DH1998>=DC1998,DC1998,DH1998))","v":0},{"$f":"IF(DL1998=DA1998,0,IF(DI1998=0,0,IF((DI1998-DL1998)>DD1998,DD1998,DI1998-DL1998)))","v":0},{"$f":"IF(DL1998+DM1998=DA1998,0,IF(DG1998=0,0,IF((DG1998-DL1998-DM1998)>DB1998,DB1998,DG1998-DL1998-DM1998)))","v":0},0,0,null,{"$f":"T1260*(1-$I$418)","v":0},{"$f":"MAX(0,DB1998-DN1998)","v":{"$error":"#VALUE!"}},{"$f":"MAX(0,DC1998-DL1998)","v":0},{"$f":"MAX(0,DD1998-DM1998)","v":0},0,{"$f":"MAX(0,DF1998-DP1998)","v":0},{"$f":"$DR1998*D$418","v":0},{"$f":"$DR1998*E$418","v":0},{"$f":"$DR1998*F$418","v":0},0,{"$f":"$DR1998*G$418","v":0},{"$f":"IF(DY1998=0,0,IF(DY1998>=DT1998,DT1998,DY1998))","v":0},{"$f":"IF(EC1998=DR1998,0,IF(DZ1998=0,0,IF((DZ1998-EC1998)>DU1998,DU1998,DZ1998-EC1998)))","v":0},{"$f":"IF(EC1998+ED1998=DR1998,0,IF(DX1998=0,0,IF((DX1998-EC1998-ED1998)>DS1998,DS1998,DX1998-EC1998-ED1998)))","v":0},0,0,null,{"$f":"(U1260+V1260)*(1-$I$419)","v":0},{"$f":"MAX(0,DS1998-EE1998)","v":{"$error":"#VALUE!"}},{"$f":"MAX(0,DT1998-EC1998)","v":0},{"$f":"MAX(0,DU1998-ED1998)","v":0},0,{"$f":"MAX(0,DW1998-EG1998)","v":0},{"$f":"$EI1998*D$419","v":0},{"$f":"$EI1998*E$419","v":0},{"$f":"$EI1998*F$419","v":0},0,{"$f":"$EI1998*G$419","v":0},{"$f":"IF(EP1998=0,0,IF(EP1998>=EK1998,EK1998,EP1998))","v":0},{"$f":"IF(ET1998=EI1998,0,IF(EQ1998=0,0,IF((EQ1998-ET1998)>EL1998,EL1998,EQ1998-ET1998)))","v":0},{"$f":"IF(ET1998+EU1998=EI1998,0,IF(EO1998=0,0,IF((EO1998-ET1998-EU1998)>EJ1998,EJ1998,EO1998-ET1998-EU1998)))","v":0},0,0,null,{"$f":"W1260*(1-$I$420)","v":0},{"$f":"MAX(0,EJ1998-EV1998)","v":{"$error":"#VALUE!"}},{"$f":"MAX(0,EK1998-ET1998)","v":0},{"$f":"MAX(0,EL1998-EU1998)","v":0},0,{"$f":"MAX(0,EN1998-EX1998)","v":0},{"$f":"$EZ1998*D$420","v":0},{"$f":"$EZ1998*E$420","v":0},{"$f":"$EZ1998*F$420","v":0},0,{"$f":"$EZ1998*G$420","v":0},{"$f":"IF(FG1998=0,0,IF(FG1998>=FB1998,FB1998,FG1998))","v":0},{"$f":"IF(FK1998=EZ1998,0,IF(FH1998=0,0,IF((FH1998-FK1998)>FC1998,FC1998,FH1998-FK1998)))","v":0},{"$f":"IF(FK1998+FL1998=EZ1998,0,IF(FF1998=0,0,IF((FF1998-FK1998-FL1998)>FA1998,FA1998,FF1998-FK1998-FL1998)))","v":0},0,0,null,{"$f":"Z1260*(1-$I$423)","v":0},{"$f":"MAX(0,GI1998-GU1998)","v":{"$error":"#VALUE!"}},{"$f":"MAX(0,GJ1998-GS1998)","v":0},{"$f":"MAX(0,GK1998-GT1998)","v":0},0,{"$f":"MAX(0,GM1998-GW1998)","v":0},{"$f":"$FQ1998*$D$423","v":0},{"$f":"$FQ1998*$E$423","v":0},{"$f":"$FQ1998*$F$423","v":0},0,{"$f":"$FQ1998*$G$423","v":0},{"$f":"IF(FX1998=0,0,IF(FX1998>=FS1998,FS1998,FX1998))","v":0},{"$f":"IF(GB1998=FQ1998,0,IF(FY1998=0,0,IF((FY1998-GB1998)>FT1998,FT1998,FY1998-GB1998)))","v":0},{"$f":"IF(GB1998+GC1998=FQ1998,0,IF(FW1998=0,0,IF((FW1998-GB1998-GC1998)>FR1998,FR1998,FW1998-GB1998-GC1998)))","v":0},0,0,null,{"$f":"X1260*(1-$I$421)","v":0},{"$f":"MAX(0,FA1998-FM1998)","v":{"$error":"#VALUE!"}},{"$f":"MAX(0,FB1998-FK1998)","v":0},{"$f":"MAX(0,FC1998-FL1998)","v":0},0,{"$f":"MAX(0,FE1998-FO1998)","v":0},{"$f":"$GH1998*D$421","v":0},{"$f":"$GH1998*E$421","v":0},{"$f":"$GH1998*F$421","v":0},0,{"$f":"$GH1998*G$421","v":0},{"$f":"IF(GO1998=0,0,IF(GO1998>=GJ1998,GJ1998,GO1998))","v":0},{"$f":"IF(GS1998=GH1998,0,IF(GP1998=0,0,IF((GP1998-GS1998)>GK1998,GK1998,GP1998-GS1998)))","v":0},{"$f":"IF(GS1998+GT1998=GH1998,0,IF(GN1998=0,0,IF((GN1998-GS1998-GT1998)>GI1998,GI1998,GN1998-GS1998-GT1998)))","v":0},0,0,null,{"$f":"Y1260*(1-$I$422)","v":0},{"$f":"MAX(0,FR1998-GD1998)","v":{"$error":"#VALUE!"}},{"$f":"MAX(0,FS1998-GB1998)","v":0},{"$f":"MAX(0,FT1998-GC1998)","v":0},0,{"$f":"MAX(0,FV1998-GF1998)","v":0},{"$f":"$GY1998*D$422","v":0},{"$f":"$GY1998*E$422","v":0},{"$f":"$GY1998*F$422","v":0},0,{"$f":"$GY1998*G$422","v":0},{"$f":"IF(HF1998=0,0,IF(HF1998>=HA1998,HA1998,HF1998))","v":0},{"$f":"IF(HJ1998=GY1998,0,IF(HG1998=0,0,IF((HG1998-HJ1998)>HB1998,HB1998,HG1998-HJ1998)))","v":0},{"$f":"IF(HJ1998+HK1998=GY1998,0,IF(HE1998=0,0,IF((HE1998-HJ1998-HK1998)>GZ1998,GZ1998,HE1998-HJ1998-HK1998)))","v":0},0,0,null,{"$f":"AD1260","v":0},0,0,0,0,0,{"$f":"HP1998-SUM(HQ1998:HU1998)","v":0}]
[null,null,null,null,null,null,null,null,null,null,null,null,"2014-09-15",{"$error":"#VALUE!"},0,{"$error":"#VALUE!"},{"$f":"MAX(0,MIN($E$452,(Q1998+P1999)))","v":{"$error":"#VALUE!"}},0,null,0,{"$f":"MAX(0,MIN($E$452,(U1998+N1998-HQ1998-R1999)))","v":{"$error":"#VALUE!"}},{"$f":"AC1630","v":0},{"$f":"BC1630","v":0},{"$f":"CE1630","v":0},0,0,0,0,{"$f":"$T1999*H$412","v":0},0,0,0,0,{"$f":"IF(AC1999=0,0,IF(AC1999>=X1999,X1999,AC1999))","v":0},{"$f":"IF(AE1999+AF1999+AG1999+AH1999=T1999,0,IF(AD1999=0,0,IF((AD1999-AE1999-AF1999-AG1999-AH1999)>Y1999,Y1999,AD1999-AE1999-AF1999-AG1999-AH1999)))","v":0},null,0,{"$error":"#VALUE!"},0,0,0,0,{"$f":"$AK1999*G$413","v":0},{"$f":"$AK1999*E$413","v":0},{"$f":"$AK1999*F$413","v":0},{"$f":"$AK1999*H$413","v":0},0,0,0,0,{"$f":"IF(AT1999=0,0,IF(AT1999>=AO1999,AO1999,AT1999))","v":0},{"$f":"IF(AV1999+AW1999+AX1999+AY1999=AK1999,0,IF(AT1999=0,0,IF((AT1999-AV1999-AW1999-AX1999-AY1999)>AP1999,AP1999,AT1999-AV1999-AW1999-AX1999-AY1999)))","v":0},null,{"$f":"P1261*(1-$I$414)","v":0},{"$error":"#VALUE!"},0,0,{"$f":"MAX(0, AO1999-AY1999)","v":0},0,0,0,0,{"$f":"$BB1999*H$414","v":0},0,0,0,0,{"$f":"IF(BK1999=0,0,IF(BK1999>=BF1999,BF1999,BK1999))","v":0},{"$f":"IF(BM1999+BN1999+BO1999+BP1999=AZ1999,0,IF(BL1999=0,0,IF((BL1999-BM1999-BN1999-BO1999-BP1999)>BG1999,BG1999,BL1999-BM1999-BN1999-BO1999-BP1999)))","v":0},null,0,{"$error":"#VALUE!"},0,0,{"$f":"MAX(0, BF1999-BP1999)","v":0},0,0,0,0,{"$f":"$BS1999*H$415","v":0},0,0,0,0,{"$f":"IF(CB1999=0,0,IF(CB1999>=BW1999,BW1999,CB1999))","v":0},{"$f":"IF(CD1999+CE1999+CF1999+CG1999=BQ1999,0,IF(CC1999=0,0,IF((CC1999-CD1999-CE1999-CF1999-CG1999)>BX1999,BX1999,CC1999-CD1999-CE1999-CF1999-CG1999)))","v":0},null,0,{"$error":"#VALUE!"},0,0,{"$f":"MAX(0, BW1999-CG1999)","v":0},0,0,0,0,{"$f":"$CJ1999*H$416","v":0},0,0,0,0,{"$f":"IF(CS1999=0,0,IF(CS1999>=CN1999,CN1999,CS1999))","v":0},{"$f":"IF(CU1999+CV1999+CW1999+CX1999=CJ1999,0,IF(CT1999=0,0,IF((CT1999-CU1999-CV1999-CW1999-CX1999)>CO1999,CO1999,CT1999-CU1999-CV1999-CW1999-CX1999)))","v":0},null,0,{"$error":"#VALUE!"},0,0,{"$f":"MAX(0, CN1999-CX1999)","v":0},0,0,0,0,{"$f":"$DA1999*H$417","v":0},0,0,0,0,{"$f":"IF(DJ1999=0,0,IF(DJ1999>DE1999,DE1999,DJ1999))","v":0},{"$f":"IF(DL1999+DM1999+DN1999+DO1999=DA1999,0,IF(DK1999=0,0,IF((DK1999-DL1999-DM1999-DN1999-DO1999)>DF1999,DF1999,DK1999-DL1999-DM1999-DN1999-DO1999)))","v":0},null,0,{"$error":"#VALUE!"},0,0,{"$f":"MAX(0, DE1999-DO1999)","v":0},0,0,0,0,{"$f":"$DR1999*H$418","v":0},0,0,0,0,{"$f":"IF(EA1999=0,0,IF(EA1999>DV1999,DV1999,EA1999))","v":0},{"$f":"IF(EC1999+ED1999+EE1999=DR1999,0,IF(EB1999=0,0,IF((EB1999-EC1999-ED1999-EE1999)>DW1999,DW1999,EB1999-EC1999-ED1999-EE1999)))","v":0},null,0,{"$error":"#VALUE!"},0,0,{"$f":"MAX(0, DV1999-EF1999)","v":0},0,0,0,0,{"$f":"$EI1999*H$419","v":0},0,0,0,0,{"$f":"IF(ER1999=0,0,IF(ER1999>EM1999,EM1999,ER1999))","v":0},{"$f":"IF(ET1999+EU1999+EV1999+EW1999=EI1999,0,IF(ES1999=0,0,IF((ES1999-ET1999-EU1999-EV1999-EW1999)>EN1999,EN1999,ES1999-ET1999-EU1999-EV1999-EW1999)))","v":0},null,0,{"$error":"#VALUE!"},0,0,{"$f":"MAX(0, EM1999-EW1999)","v":0},0,0,0,0,{"$f":"$EZ1999*H$420","v":0},0,0,0,0,{"$f":"IF(FI1999=0,0,IF(FI1999>FD1999,FD1999,FI1999))","v":0},{"$f":"IF(FK1999+FL1999+FM1999+FN1999=EZ1999,0,IF(FJ1999=0,0,IF((FJ1999-FK1999-FL1999-FM1999-FN1999)>FE1999,FE1999,FJ1999-FK1999-FL1999-FM1999-FN1999)))","v":0},null,0,{"$error":"#VALUE!"},0,0,{"$f":"MAX(0, FD1999-FN1999)","v":0},0,0,0,0,{"$f":"$FQ1999*H$422","v":0},0,0,0,0,{"$f":"IF(FZ1999=0,0,IF(FZ1999>FU1999,FU1999,FZ1999))","v":0},{"$f":"IF(GB1999+GC1999+GD1999+GE1999=FQ1999,0,IF(GA1999=0,0,IF((GA1999-GB1999-GC1999-GD1999-GE1999)>FV1999,FV1999,GA1999-GB1999-GC1999-GD1999-GE1999)))","v":0},null,0,{"$error":"#VALUE!"},0,0,{"$f":"MAX(0, FU1999-GE1999)","v":0},0,0,0,0,{"$f":"$GH1999*H$423","v":0},0,0,0,0,{"$f":"IF(GQ1999=0,0,IF(GQ1999>GL1999,GL1999,GQ1999))","v":0},{"$f":"IF(GS1999+GT1999+GU1999+GV1999=GH1999,0,IF(GR1999=0,0,IF((GR1999-GS1999-GT1999-GU1999-GV1999)>GM1999,GM1999,GR1999-GS1999-GT1999-GU1999-GV1999)))","v":0},null,0,{"$error":"#VALUE!"},0,0,{"$f":"MAX(0, GL1999-GV1999)","v":0},0,0,0,0,{"$f":"$GY1999*H$424","v":0},0,0,0,0,{"$f":"IF(HH1999=0,0,IF(HH1999>HC1999,HC1999,HH1999))","v":0},{"$f":"IF(HJ1999+HK1999+HL1999+HM1999=GY1999,0,IF(HI1999=0,0,IF((HI1999-HJ1999-HK1999-HL1999-HM1999)>HD1999,HD1999,HI1999-HJ1999-HK1999-HL1999-HM1999)))","v":0},null,0,{"$f":"SUM(AG1999,AX1999,BO1999,CF1999,CW1999,DN1999,EE1999,EV1999,FM1999,GU1999,GD1999,HL1999,IC1999)","v":0},{"$f":"SUM(AE1999,AV1999,BM1999,CD1999,CU1999,DL1999,EC1999,ET1999,FK1999,GS1999,GB1999,HJ1999,IA1999)","v":0},{"$f":"SUM(AF1999,AW1999,BN1999,CE1999,CV1999,DM1999,ED1999,EU1999,FL1999,GT1999,GC1999,HK1999,IB1999)","v":0},{"$f":"SUM(AH1999,AY1999,BP1999,CG1999,CX1999,DO1999,EF1999,EW1999,FN1999,GE1999,GV1999,HM1999)","v":0},{"$f":"SUM(AI1999,AZ1999,BQ1999,CH1999,CY1999,DP1999,EG1999,EX1999,FO1999,GW1999,GF1999,HN1999,ID1999)","v":0},0]
[null,null,null,null,null,null,null,null,null,null,null,null,"2014-09-16",{"$error":"#VALUE!"},0,{"$error":"#VALUE!"},{"$error":"#VALUE!"},0,null,0,{"$error":"#VALUE!"},0,0,0,0,0,0,0,0,0,0,0,0,0,0,null,0,{"$error":"#VALUE!"},0,0,0,0,0,0,0,0,0,0,0,0,0,0,null,0,{"$error":"#VALUE!"},0,0,0,0,0,0,0,0,0,0,0,0,0,0,null,0,{"$error":"#VALUE!"},0,0,0,0,0,0,0,0,0,0,0,0,0,0,null,0,{"$error":"#VALUE!"},0,0,0,0,0,0,0,0,0,0,0,0,0,0,null,0,{"$error":"#VALUE!"},0,0,0,0,0,0,0,0,0,0,0,0,0,0,null,0,{"$error":"#VALUE!"},0,0,0,0,0,0,0,0,0,0,0,0,0,0,null,0,{"$error":"#VALUE!"},0,0,0,0,0,0,0,0,0,0,0,0,0,0,null,0,{"$error":"#VALUE!"},0,0,0,0,0,0,0,0,0,0,0,0,0,0,null,0,{"$error":"#VALUE!"},0,0,0,0,0,0,0,0,0,0,0,0,0,0,null,0,{"$error":"#VALUE!"},0,0,0,0,0,0,0,0,0,0,0,0,0,0,null,0,{"$error":"#VALUE!"},0,0,0,0,0,0,0,0,0,0,0,0,0,0,null,0,0,0,0,0,0,0]
[null,null,null,null,null,null,null,null,null,null,null,null,"2014-09-17",{"$error":"#VALUE!"},0,{"$error":"#VALUE!"},{"$error":"#VALUE!"},0,null,0,{"$error":"#VALUE!"},0,0,0,0,0,0,0,0,0,0,0,0,0,0,null,0,{"$error":"#VALUE!"},0,0,0,0,0,0,0,0,0,0,0,0,0,0,null,0,{"$error":"#VALUE!"},0,0,0,0,0,0,0,0,0,0,0,0,0,0,null,0,{"$error":"#VALUE!"},0,0,0,0,0,0,0,0,0,0,0,0,0,0,null,0,{"$error":"#VALUE!"},0,0,0,0,0,0,0,0,0,0,0,0,0,0,null,0,{"$error":"#VALUE!"},0,0,0,0,0,0,0,0,0,0,0,0,0,0,null,0,{"$error":"#VALUE!"},0,0,0,0,0,0,0,0,0,0,0,0,0,0,null,0,{"$error":"#VALUE!"},0,0,0,0,0,0,0,0,0,0,0,0,0,0,null,0,{"$error":"#VALUE!"},0,0,0,0,0,0,0,0,0,0,0,0,0,0,null,0,{"$error":"#VALUE!"},0,0,0,0,0,0,0,0,0,0,0,0,0,0,null,0,{"$error":"#VALUE!"},0,0,0,0,0,0,0,0,0,0,0,0,0,0,null,0,{"$error":"#VALUE!"},0,0,0,0,0,0,0,0,0,0,0,0,0,0,null,0,0,0,0,0,0,0]
[null,null,null,null,null,null,null,null,null,null,null,null,"2014-09-18",{"$error":"#VALUE!"},0,{"$error":"#VALUE!"},{"$error":"#VALUE!"},0,null,0,{"$error":"#VALUE!"},0,0,0,0,0,0,0,0,0,0,0,0,0,0,null,0,{"$error":"#VALUE!"},0,0,0,0,0,0,0,0,0,0,0,0,0,0,null,0,{"$error":"#VALUE!"},0,0,0,0,0,0,0,0,0,0,0,0,0,0,null,0,{"$error":"#VALUE!"},0,0,0,0,0,0,0,0,0,0,0,0,0,0,null,0,{"$error":"#VALUE!"},0,0,0,0,0,0,0,0,0,0,0,0,0,0,null,0,{"$error":"#VALUE!"},0,0,0,0,0,0,0,0,0,0,0,0,0,0,null,0,{"$error":"#VALUE!"},0,0,0,0,0,0,0,0,0,0,0,0,0,0,null,0,{"$error":"#VALUE!"},0,0,0,0,0,0,0,0,0,0,0,0,0,0,null,0,{"$error":"#VALUE!"},0,0,0,0,0,0,0,0,0,0,0,0,0,0,null,0,{"$error":"#VALUE!"},0,0,0,0,0,0,0,0,0,0,0,0,0,0,null,0,{"$error":"#VALUE!"},0,0,0,0,0,0,0,0,0,0,0,0,0,0,null,0,{"$error":"#VALUE!"},0,0,0,0,0,0,0,0,0,0,0,0,0,0,null,0,0,0,0,0,0,0]
[null,null,null,null,null,null,null,null,null,null,null,null,"2014-09-19",{"$error":"#VALUE!"},0,{"$error":"#VALUE!"},{"$error":"#VALUE!"},0,null,0,{"$error":"#VALUE!"},0,0,0,0,0,0,0,0,0,0,0,0,0,0,null,0,{"$error":"#VALUE!"},0,0,0,0,0,0,0,0,0,0,0,0,0,0,null,0,{"$error":"#VALUE!"},0,0,0,0,0,0,0,0,0,0,0,0,0,0,null,0,{"$error":"#VALUE!"},0,0,0,0,0,0,0,0,0,0,0,0,0,0,null,0,{"$error":"#VALUE!"},0,0,0,0,0,0,0,0,0,0,0,0,0,0,null,0,{"$error":"#VALUE!"},0,0,0,0,0,0,0,0,0,0,0,0,0,0,null,0,{"$error":"#VALUE!"},0,0,0,0,0,0,0,0,0,0,0,0,0,0,null,0,{"$error":"#VALUE!"},0,0,0,0,0,0,0,0,0,0,0,0,0,0,null,0,{"$error":"#VALUE!"},0,0,0,0,0,0,0,0,0,0,0,0,0,0,null,0,{"$error":"#VALUE!"},0,0,0,0,0,0,0,0,0,0,0,0,0,0,null,0,{"$error":"#VALUE!"},0,0,0,0,0,0,0,0,0,0,0,0,0,0,null,0,{"$error":"#VALUE!"},0,0,0,0,0,0,0,0,0,0,0,0,0,0,null,0,0,0,0,0,0,0]
[null,null,null,null,null,null,null,null,null,null,null,null,"2014-09-20",{"$error":"#VALUE!"},0,{"$error":"#VALUE!"},{"$error":"#VALUE!"},0,null,0,{"$error":"#VALUE!"},0,0,0,0,0,0,0,0,0,0,0,0,0,0,null,0,{"$error":"#VALUE!"},0,0,0,0,0,0,0,0,0,0,0,0,0,0,null,0,{"$error":"#VALUE!"},0,0,0,0,0,0,0,0,0,0,0,0,0,0,null,0,{"$error":"#VALUE!"},0,0,0,0,0,0,0,0,0,0,0,0,0,0,null,0,{"$error":"#VALUE!"},0,0,0,0,0,0,0,0,0,0,0,0,0,0,null,0,{"$error":"#VALUE!"},0,0,0,0,0,0,0,0,0,0,0,0,0,0,null,0,{"$error":"#VALUE!"},0,0,0,0,0,0,0,0,0,0,0,0,0,0,null,0,{"$error":"#VALUE!"},0,0,0,0,0,0,0,0,0,0,0,0,0,0,null,0,{"$error":"#VALUE!"},0,0,0,0,0,0,0,0,0,0,0,0,0,0,null,0,{"$error":"#VALUE!"},0,0,0,0,0,0,0,0,0,0,0,0,0,0,null,0,{"$error":"#VALUE!"},0,0,0,0,0,0,0,0,0,0,0,0,0,0,null,0,{"$error":"#VALUE!"},0,0,0,0,0,0,0,0,0,0,0,0,0,0,null,0,0,0,0,0,0,0]
[null,null,null,null,null,null,null,null,null,null,null,null,"2014-09-21",{"$error":"#VALUE!"},0,{"$error":"#VALUE!"},{"$error":"#VALUE!"},0,null,0,{"$error":"#VALUE!"},0,0,0,0,0,0,0,0,0,0,0,0,0,0,null,0,{"$error":"#VALUE!"},0,0,0,0,0,0,0,0,0,0,0,0,0,0,null,0,{"$error":"#VALUE!"},0,0,0,0,0,0,0,0,0,0,0,0,0,0,null,0,{"$error":"#VALUE!"},0,0,0,0,0,0,0,0,0,0,0,0,0,0,null,0,{"$error":"#VALUE!"},0,0,0,0,0,0,0,0,0,0,0,0,0,0,null,0,{"$error":"#VALUE!"},0,0,0,0,0,0,0,0,0,0,0,0,0,0,null,0,{"$error":"#VALUE!"},0,0,0,0,0,0,0,0,0,0,0,0,0,0,null,0,{"$error":"#VALUE!"},0,0,0,0,0,0,0,0,0,0,0,0,0,0,null,0,{"$error":"#VALUE!"},0,0,0,0,0,0,0,0,0,0,0,0,0,0,null,0,{"$error":"#VALUE!"},0,0,0,0,0,0,0,0,0,0,0,0,0,0,null,0,{"$error":"#VALUE!"},0,0,0,0,0,0,0,0,0,0,0,0,0,0,null,0,{"$error":"#VALUE!"},0,0,0,0,0,0,0,0,0,0,0,0,0,0,null,0,0,0,0,0,0,0]
[null,null,null,null,null,null,null,null,null,null,null,null,"2014-09-22",{"$error":"#VALUE!"},0,{"$error":"#VALUE!"},{"$error":"#VALUE!"},0,null,0,{"$error":"#VALUE!"},0,0,0,0,0,0,0,0,0,0,0,0,0,0,null,0,{"$error":"#VALUE!"},0,0,0,0,0,0,0,0,0,0,0,0,0,0,null,0,{"$error":"#VALUE!"},0,0,0,0,0,0,0,0,0,0,0,0,0,0,null,0,{"$error":"#VALUE!"},0,0,0,0,0,0,0,0,0,0,0,0,0,0,null,0,{"$error":"#VALUE!"},0,0,0,0,0,0,0,0,0,0,0,0,0,0,null,0,{"$error":"#VALUE!"},0,0,0,0,0,0,0,0,0,0,0,0,0,0,null,0,{"$error":"#VALUE!"},0,0,0,0,0,0,0,0,0,0,0,0,0,0,null,0,{"$error":"#VALUE!"},0,0,0,0,0,0,0,0,0,0,0,0,0,0,null,0,{"$error":"#VALUE!"},0,0,0,0,0,0,0,0,0,0,0,0,0,0,null,0,{"$error":"#VALUE!"},0,0,0,0,0,0,0,0,0,0,0,0,0,0,null,0,{"$error":"#VALUE!"},0,0,0,0,0,0,0,0,0,0,0,0,0,0,null,0,{"$error":"#VALUE!"},0,0,0,0,0,0,0,0,0,0,0,0,0,0,null,0,0,0,0,0,0,0]
[null,null,null,null,null,null,null,null,null,null,null,null,"2014-09-23",{"$error":"#VALUE!"},0,{"$error":"#VALUE!"},{"$error":"#VALUE!"},0,null,0,{"$error":"#VALUE!"},0,0,0,0,0,0,0,0,0,0,0,0,0,0,null,0,{"$error":"#VALUE!"},0,0,0,0,0,0,0,0,0,0,0,0,0,0,null,0,{"$error":"#VALUE!"},0,0,0,0,0,0,0,0,0,0,0,0,0,0,null,0,{"$error":"#VALUE!"},0,0,0,0,0,0,0,0,0,0,0,0,0,0,null,0,{"$error":"#VALUE!"},0,0,0,0,0,0,0,0,0,0,0,0,0,0,null,0,{"$error":"#VALUE!"},0,0,0,0,0,0,0,0,0,0,0,0,0,0,null,0,{"$error":"#VALUE!"},0,0,0,0,0,0,0,0,0,0,0,0,0,0,null,0,{"$error":"#VALUE!"},0,0,0,0,0,0,0,0,0,0,0,0,0,0,null,0,{"$error":"#VALUE!"},0,0,0,0,0,0,0,0,0,0,0,0,0,0,null,0,{"$error":"#VALUE!"},0,0,0,0,0,0,0,0,0,0,0,0,0,0,null,0,{"$error":"#VALUE!"},0,0,0,0,0,0,0,0,0,0,0,0,0,0,null,0,{"$error":"#VALUE!"},0,0,0,0,0,0,0,0,0,0,0,0,0,0,null,0,0,0,0,0,0,0]
[null,null,null,null,null,null,null,null,null,null,null,null,"2014-09-24",{"$error":"#VALUE!"},0,{"$error":"#VALUE!"},{"$error":"#VALUE!"},0,null,0,{"$error":"#VALUE!"},0,0,0,0,0,0,0,0,0,0,0,0,0,0,null,0,{"$error":"#VALUE!"},0,0,0,0,0,0,0,0,0,0,0,0,0,0,null,0,{"$error":"#VALUE!"},0,0,0,0,0,0,0,0,0,0,0,0,0,0,null,0,{"$error":"#VALUE!"},0,0,0,0,0,0,0,0,0,0,0,0,0,0,null,0,{"$error":"#VALUE!"},0,0,0,0,0,0,0,0,0,0,0,0,0,0,null,0,{"$error":"#VALUE!"},0,0,0,0,0,0,0,0,0,0,0,0,0,0,null,0,{"$error":"#VALUE!"},0,0,0,0,0,0,0,0,0,0,0,0,0,0,null,0,{"$error":"#VALUE!"},0,0,0,0,0,0,0,0,0,0,0,0,0,0,null,0,{"$error":"#VALUE!"},0,0,0,0,0,0,0,0,0,0,0,0,0,0,null,0,{"$error":"#VALUE!"},0,0,0,0,0,0,0,0,0,0,0,0,0,0,null,0,{"$error":"#VALUE!"},0,0,0,0,0,0,0,0,0,0,0,0,0,0,null,0,{"$error":"#VALUE!"},0,0,0,0,0,0,0,0,0,0,0,0,0,0,null,0,0,0,0,0,0,0]
[null,null,null,null,null,null,null,null,null,null,null,null,"2014-09-25",{"$error":"#VALUE!"},0,{"$error":"#VALUE!"},{"$error":"#VALUE!"},0,null,0,{"$error":"#VALUE!"},0,0,0,0,0,0,0,0,0,0,0,0,0,0,null,0,{"$error":"#VALUE!"},0,0,0,0,0,0,0,0,0,0,0,0,0,0,null,0,{"$error":"#VALUE!"},0,0,0,0,0,0,0,0,0,0,0,0,0,0,null,0,{"$error":"#VALUE!"},0,0,0,0,0,0,0,0,0,0,0,0,0,0,null,0,{"$error":"#VALUE!"},0,0,0,0,0,0,0,0,0,0,0,0,0,0,null,0,{"$error":"#VALUE!"},0,0,0,0,0,0,0,0,0,0,0,0,0,0,null,0,{"$error":"#VALUE!"},0,0,0,0,0,0,0,0,0,0,0,0,0,0,null,0,{"$error":"#VALUE!"},0,0,0,0,0,0,0,0,0,0,0,0,0,0,null,0,{"$error":"#VALUE!"},0,0,0,0,0,0,0,0,0,0,0,0,0,0,null,0,{"$error":"#VALUE!"},0,0,0,0,0,0,0,0,0,0,0,0,0,0,null,0,{"$error":"#VALUE!"},0,0,0,0,0,0,0,0,0,0,0,0,0,0,null,0,{"$error":"#VALUE!"},0,0,0,0,0,0,0,0,0,0,0,0,0,0,null,0,0,0,0,0,0,0]
[null,null,null,null,null,null,null,null,null,null,null,null,"2014-09-26",{"$error":"#VALUE!"},0,{"$error":"#VALUE!"},{"$error":"#VALUE!"},0,null,0,{"$error":"#VALUE!"},0,0,0,0,0,0,0,0,0,0,0,0,0,0,null,0,{"$error":"#VALUE!"},0,0,0,0,0,0,0,0,0,0,0,0,0,0,null,0,{"$error":"#VALUE!"},0,0,0,0,0,0,0,0,0,0,0,0,0,0,null,0,{"$error":"#VALUE!"},0,0,0,0,0,0,0,0,0,0,0,0,0,0,null,0,{"$error":"#VALUE!"},0,0,0,0,0,0,0,0,0,0,0,0,0,0,null,0,{"$error":"#VALUE!"},0,0,0,0,0,0,0,0,0,0,0,0,0,0,null,0,{"$error":"#VALUE!"},0,0,0,0,0,0,0,0,0,0,0,0,0,0,null,0,{"$error":"#VALUE!"},0,0,0,0,0,0,0,0,0,0,0,0,0,0,null,0,{"$error":"#VALUE!"},0,0,0,0,0,0,0,0,0,0,0,0,0,0,null,0,{"$error":"#VALUE!"},0,0,0,0,0,0,0,0,0,0,0,0,0,0,null,0,{"$error":"#VALUE!"},0,0,0,0,0,0,0,0,0,0,0,0,0,0,null,0,{"$error":"#VALUE!"},0,0,0,0,0,0,0,0,0,0,0,0,0,0,null,0,0,0,0,0,0,0]
[null,null,null,null,null,null,null,null,null,null,null,null,"2014-09-27",{"$error":"#VALUE!"},0,{"$error":"#VALUE!"},{"$error":"#VALUE!"},0,null,0,{"$error":"#VALUE!"},0,0,0,0,0,0,0,0,0,0,0,0,0,0,null,0,{"$error":"#VALUE!"},0,0,0,0,0,0,0,0,0,0,0,0,0,0,null,0,{"$error":"#VALUE!"},0,0,0,0,0,0,0,0,0,0,0,0,0,0,null,0,{"$error":"#VALUE!"},0,0,0,0,0,0,0,0,0,0,0,0,0,0,null,0,{"$error":"#VALUE!"},0,0,0,0,0,0,0,0,0,0,0,0,0,0,null,0,{"$error":"#VALUE!"},0,0,0,0,0,0,0,0,0,0,0,0,0,0,null,0,{"$error":"#VALUE!"},0,0,0,0,0,0,0,0,0,0,0,0,0,0,null,0,{"$error":"#VALUE!"},0,0,0,0,0,0,0,0,0,0,0,0,0,0,null,0,{"$error":"#VALUE!"},0,0,0,0,0,0,0,0,0,0,0,0,0,0,null,0,{"$error":"#VALUE!"},0,0,0,0,0,0,0,0,0,0,0,0,0,0,null,0,{"$error":"#VALUE!"},0,0,0,0,0,0,0,0,0,0,0,0,0,0,null,0,{"$error":"#VALUE!"},0,0,0,0,0,0,0,0,0,0,0,0,0,0,null,0,0,0,0,0,0,0]
[null,null,null,null,null,null,null,null,null,null,null,null,"2014-09-28",{"$error":"#VALUE!"},0,{"$error":"#VALUE!"},{"$error":"#VALUE!"},0,null,0,{"$error":"#VALUE!"},0,0,0,0,0,0,0,0,0,0,0,0,0,0,null,0,{"$error":"#VALUE!"},0,0,0,0,0,0,0,0,0,0,0,0,0,0,null,0,{"$error":"#VALUE!"},0,0,0,0,0,0,0,0,0,0,0,0,0,0,null,0,{"$error":"#VALUE!"},0,0,0,0,0,0,0,0,0,0,0,0,0,0,null,0,{"$error":"#VALUE!"},0,0,0,0,0,0,0,0,0,0,0,0,0,0,null,0,{"$error":"#VALUE!"},0,0,0,0,0,0,0,0,0,0,0,0,0,0,null,0,{"$error":"#VALUE!"},0,0,0,0,0,0,0,0,0,0,0,0,0,0,null,0,{"$error":"#VALUE!"},0,0,0,0,0,0,0,0,0,0,0,0,0,0,null,0,{"$error":"#VALUE!"},0,0,0,0,0,0,0,0,0,0,0,0,0,0,null,0,{"$error":"#VALUE!"},0,0,0,0,0,0,0,0,0,0,0,0,0,0,null,0,{"$error":"#VALUE!"},0,0,0,0,0,0,0,0,0,0,0,0,0,0,null,0,{"$error":"#VALUE!"},0,0,0,0,0,0,0,0,0,0,0,0,0,0,null,0,0,0,0,0,0,0]
[null,null,null,null,null,null,null,null,null,null,null,null,"2014-09-29",{"$error":"#VALUE!"},0,{"$error":"#VALUE!"},{"$error":"#VALUE!"},0,null,0,{"$error":"#VALUE!"},0,0,0,0,0,0,0,0,0,0,0,0,0,0,null,0,{"$error":"#VALUE!"},0,0,0,0,0,0,0,0,0,0,0,0,0,0,null,0,{"$error":"#VALUE!"},0,0,0,0,0,0,0,0,0,0,0,0,0,0,null,0,{"$error":"#VALUE!"},0,0,0,0,0,0,0,0,0,0,0,0,0,0,null,0,{"$error":"#VALUE!"},0,0,0,0,0,0,0,0,0,0,0,0,0,0,null,0,{"$error":"#VALUE!"},0,0,0,0,0,0,0,0,0,0,0,0,0,0,null,0,{"$error":"#VALUE!"},0,0,0,0,0,0,0,0,0,0,0,0,0,0,null,0,{"$error":"#VALUE!"},0,0,0,0,0,0,0,0,0,0,0,0,0,0,null,0,{"$error":"#VALUE!"},0,0,0,0,0,0,0,0,0,0,0,0,0,0,null,0,{"$error":"#VALUE!"},0,0,0,0,0,0,0,0,0,0,0,0,0,0,null,0,{"$error":"#VALUE!"},0,0,0,0,0,0,0,0,0,0,0,0,0,0,null,0,{"$error":"#VALUE!"},0,0,0,0,0,0,0,0,0,0,0,0,0,0,null,0,0,0,0,0,0,0]
[null,null,null,null,null,null,null,null,null,null,null,null,"2014-09-30",{"$error":"#VALUE!"},0,{"$error":"#VALUE!"},{"$error":"#VALUE!"},0,null,0,{"$error":"#VALUE!"},0,0,0,0,0,0,0,0,0,0,0,0,0,0,null,0,{"$error":"#VALUE!"},0,0,0,0,0,0,0,0,0,0,0,0,0,0,null,0,{"$error":"#VALUE!"},0,0,0,0,0,0,0,0,0,0,0,0,0,0,null,0,{"$error":"#VALUE!"},0,0,0,0,0,0,0,0,0,0,0,0,0,0,null,0,{"$error":"#VALUE!"},0,0,0,0,0,0,0,0,0,0,0,0,0,0,null,0,{"$error":"#VALUE!"},0,0,0,0,0,0,0,0,0,0,0,0,0,0,null,0,{"$error":"#VALUE!"},0,0,0,0,0,0,0,0,0,0,0,0,0,0,null,0,{"$error":"#VALUE!"},0,0,0,0,0,0,0,0,0,0,0,0,0,0,null,0,{"$error":"#VALUE!"},0,0,0,0,0,0,0,0,0,0,0,0,0,0,null,0,{"$error":"#VALUE!"},0,0,0,0,0,0,0,0,0,0,0,0,0,0,null,0,{"$error":"#VALUE!"},0,0,0,0,0,0,0,0,0,0,0,0,0,0,null,0,{"$error":"#VALUE!"},0,0,0,0,0,0,0,0,0,0,0,0,0,0,null,0,0,0,0,0,0,0]
[null,null,null,null,null,null,null,null,null,null,null,null,"2014-10-01",{"$error":"#VALUE!"},0,{"$error":"#VALUE!"},{"$error":"#VALUE!"},0,null,0,{"$error":"#VALUE!"},0,0,0,0,0,0,0,0,0,0,0,0,0,0,null,0,{"$error":"#VALUE!"},0,0,0,0,0,0,0,0,0,0,0,0,0,0,null,0,{"$error":"#VALUE!"},0,0,0,0,0,0,0,0,0,0,0,0,0,0,null,0,{"$error":"#VALUE!"},0,0,0,0,0,0,0,0,0,0,0,0,0,0,null,0,{"$error":"#VALUE!"},0,0,0,0,0,0,0,0,0,0,0,0,0,0,null,0,{"$error":"#VALUE!"},0,0,0,0,0,0,0,0,0,0,0,0,0,0,null,0,{"$error":"#VALUE!"},0,0,0,0,0,0,0,0,0,0,0,0,0,0,null,0,{"$error":"#VALUE!"},0,0,0,0,0,0,0,0,0,0,0,0,0,0,null,0,{"$error":"#VALUE!"},0,0,0,0,0,0,0,0,0,0,0,0,0,0,null,0,{"$error":"#VALUE!"},0,0,0,0,0,0,0,0,0,0,0,0,0,0,null,0,{"$error":"#VALUE!"},0,0,0,0,0,0,0,0,0,0,0,0,0,0,null,0,{"$error":"#VALUE!"},0,0,0,0,0,0,0,0,0,0,0,0,0,0,null,0,0,0,0,0,0,0]
[null,null,null,null,null,null,null,null,null,null,null,null,"2014-10-02",{"$error":"#VALUE!"},0,{"$error":"#VALUE!"},{"$error":"#VALUE!"},0,null,0,{"$error":"#VALUE!"},0,0,0,0,0,0,0,0,0,0,0,0,0,0,null,0,{"$error":"#VALUE!"},0,0,0,0,0,0,0,0,0,0,0,0,0,0,null,0,{"$error":"#VALUE!"},0,0,0,0,0,0,0,0,0,0,0,0,0,0,null,0,{"$error":"#VALUE!"},0,0,0,0,0,0,0,0,0,0,0,0,0,0,null,0,{"$error":"#VALUE!"},0,0,0,0,0,0,0,0,0,0,0,0,0,0,null,0,{"$error":"#VALUE!"},0,0,0,0,0,0,0,0,0,0,0,0,0,0,null,0,{"$error":"#VALUE!"},0,0,0,0,0,0,0,0,0,0,0,0,0,0,null,0,{"$error":"#VALUE!"},0,0,0,0,0,0,0,0,0,0,0,0,0,0,null,0,{"$error":"#VALUE!"},0,0,0,0,0,0,0,0,0,0,0,0,0,0,null,0,{"$error":"#VALUE!"},0,0,0,0,0,0,0,0,0,0,0,0,0,0,null,0,{"$error":"#VALUE!"},0,0,0,0,0,0,0,0,0,0,0,0,0,0,null,0,{"$error":"#VALUE!"},0,0,0,0,0,0,0,0,0,0,0,0,0,0,null,0,0,0,0,0,0,0]
[null,null,null,null,null,null,null,null,null,null,null,null,"2014-10-03",{"$error":"#VALUE!"},0,{"$error":"#VALUE!"},{"$error":"#VALUE!"},0,null,0,{"$error":"#VALUE!"},0,0,0,0,0,0,0,0,0,0,0,0,0,0,null,0,{"$error":"#VALUE!"},0,0,0,0,0,0,0,0,0,0,0,0,0,0,null,0,{"$error":"#VALUE!"},0,0,0,0,0,0,0,0,0,0,0,0,0,0,null,0,{"$error":"#VALUE!"},0,0,0,0,0,0,0,0,0,0,0,0,0,0,null,0,{"$error":"#VALUE!"},0,0,0,0,0,0,0,0,0,0,0,0,0,0,null,0,{"$error":"#VALUE!"},0,0,0,0,0,0,0,0,0,0,0,0,0,0,null,0,{"$error":"#VALUE!"},0,0,0,0,0,0,0,0,0,0,0,0,0,0,null,0,{"$error":"#VALUE!"},0,0,0,0,0,0,0,0,0,0,0,0,0,0,null,0,{"$error":"#VALUE!"},0,0,0,0,0,0,0,0,0,0,0,0,0,0,null,0,{"$error":"#VALUE!"},0,0,0,0,0,0,0,0,0,0,0,0,0,0,null,0,{"$error":"#VALUE!"},0,0,0,0,0,0,0,0,0,0,0,0,0,0,null,0,{"$error":"#VALUE!"},0,0,0,0,0,0,0,0,0,0,0,0,0,0,null,0,0,0,0,0,0,0]
[null,null,null,null,null,null,null,null,null,null,null,null,"2014-10-04",{"$error":"#VALUE!"},0,{"$error":"#VALUE!"},{"$error":"#VALUE!"},0,null,0,{"$error":"#VALUE!"},0,0,0,0,0,0,0,0,0,0,0,0,0,0,null,0,{"$error":"#VALUE!"},0,0,0,0,0,0,0,0,0,0,0,0,0,0,null,0,{"$error":"#VALUE!"},0,0,0,0,0,0,0,0,0,0,0,0,0,0,null,0,{"$error":"#VALUE!"},0,0,0,0,0,0,0,0,0,0,0,0,0,0,null,0,{"$error":"#VALUE!"},0,0,0,0,0,0,0,0,0,0,0,0,0,0,null,0,{"$error":"#VALUE!"},0,0,0,0,0,0,0,0,0,0,0,0,0,0,null,0,{"$error":"#VALUE!"},0,0,0,0,0,0,0,0,0,0,0,0,0,0,null,0,{"$error":"#VALUE!"},0,0,0,0,0,0,0,0,0,0,0,0,0,0,null,0,{"$error":"#VALUE!"},0,0,0,0,0,0,0,0,0,0,0,0,0,0,null,0,{"$error":"#VALUE!"},0,0,0,0,0,0,0,0,0,0,0,0,0,0,null,0,{"$error":"#VALUE!"},0,0,0,0,0,0,0,0,0,0,0,0,0,0,null,0,{"$error":"#VALUE!"},0,0,0,0,0,0,0,0,0,0,0,0,0,0,null,0,0,0,0,0,0,0]
[null,null,null,null,null,null,null,null,null,null,null,null,"2014-10-05",{"$error":"#VALUE!"},0,{"$error":"#VALUE!"},{"$error":"#VALUE!"},0,null,0,{"$error":"#VALUE!"},0,0,0,0,0,0,0,0,0,0,0,0,0,0,null,0,{"$error":"#VALUE!"},0,0,0,0,0,0,0,0,0,0,0,0,0,0,null,0,{"$error":"#VALUE!"},0,0,0,0,0,0,0,0,0,0,0,0,0,0,null,0,{"$error":"#VALUE!"},0,0,0,0,0,0,0,0,0,0,0,0,0,0,null,0,{"$error":"#VALUE!"},0,0,0,0,0,0,0,0,0,0,0,0,0,0,null,0,{"$error":"#VALUE!"},0,0,0,0,0,0,0,0,0,0,0,0,0,0,null,0,{"$error":"#VALUE!"},0,0,0,0,0,0,0,0,0,0,0,0,0,0,null,0,{"$error":"#VALUE!"},0,0,0,0,0,0,0,0,0,0,0,0,0,0,null,0,{"$error":"#VALUE!"},0,0,0,0,0,0,0,0,0,0,0,0,0,0,null,0,{"$error":"#VALUE!"},0,0,0,0,0,0,0,0,0,0,0,0,0,0,null,0,{"$error":"#VALUE!"},0,0,0,0,0,0,0,0,0,0,0,0,0,0,null,0,{"$error":"#VALUE!"},0,0,0,0,0,0,0,0,0,0,0,0,0,0,null,0,0,0,0,0,0,0]
[null,null,null,null,null,null,null,null,null,null,null,null,"2014-10-06",{"$error":"#VALUE!"},0,{"$error":"#VALUE!"},{"$error":"#VALUE!"},0,null,0,{"$error":"#VALUE!"},0,0,0,0,0,0,0,0,0,0,0,0,0,0,null,0,{"$error":"#VALUE!"},0,0,0,0,0,0,0,0,0,0,0,0,0,0,null,0,{"$error":"#VALUE!"},0,0,0,0,0,0,0,0,0,0,0,0,0,0,null,0,{"$error":"#VALUE!"},0,0,0,0,0,0,0,0,0,0,0,0,0,0,null,0,{"$error":"#VALUE!"},0,0,0,0,0,0,0,0,0,0,0,0,0,0,null,0,{"$error":"#VALUE!"},0,0,0,0,0,0,0,0,0,0,0,0,0,0,null,0,{"$error":"#VALUE!"},0,0,0,0,0,0,0,0,0,0,0,0,0,0,null,0,{"$error":"#VALUE!"},0,0,0,0,0,0,0,0,0,0,0,0,0,0,null,0,{"$error":"#VALUE!"},0,0,0,0,0,0,0,0,0,0,0,0,0,0,null,0,{"$error":"#VALUE!"},0,0,0,0,0,0,0,0,0,0,0,0,0,0,null,0,{"$error":"#VALUE!"},0,0,0,0,0,0,0,0,0,0,0,0,0,0,null,0,{"$error":"#VALUE!"},0,0,0,0,0,0,0,0,0,0,0,0,0,0,null,0,0,0,0,0,0,0]
[null,null,null,null,null,null,null,null,null,null,null,null,"2014-10-07",{"$error":"#VALUE!"},0,{"$error":"#VALUE!"},{"$error":"#VALUE!"},0,null,0,{"$error":"#VALUE!"},0,0,0,0,0,0,0,0,0,0,0,0,0,0,null,0,{"$error":"#VALUE!"},0,0,0,0,0,0,0,0,0,0,0,0,0,0,null,0,{"$error":"#VALUE!"},0,0,0,0,0,0,0,0,0,0,0,0,0,0,null,0,{"$error":"#VALUE!"},0,0,0,0,0,0,0,0,0,0,0,0,0,0,null,0,{"$error":"#VALUE!"},0,0,0,0,0,0,0,0,0,0,0,0,0,0,null,0,{"$error":"#VALUE!"},0,0,0,0,0,0,0,0,0,0,0,0,0,0,null,0,{"$error":"#VALUE!"},0,0,0,0,0,0,0,0,0,0,0,0,0,0,null,0,{"$error":"#VALUE!"},0,0,0,0,0,0,0,0,0,0,0,0,0,0,null,0,{"$error":"#VALUE!"},0,0,0,0,0,0,0,0,0,0,0,0,0,0,null,0,{"$error":"#VALUE!"},0,0,0,0,0,0,0,0,0,0,0,0,0,0,null,0,{"$error":"#VALUE!"},0,0,0,0,0,0,0,0,0,0,0,0,0,0,null,0,{"$error":"#VALUE!"},0,0,0,0,0,0,0,0,0,0,0,0,0,0,null,0,0,0,0,0,0,0]
[null,null,null,null,null,null,null,null,null,null,null,null,"2014-10-08",{"$error":"#VALUE!"},0,{"$error":"#VALUE!"},{"$error":"#VALUE!"},0,null,0,{"$error":"#VALUE!"},0,0,0,0,0,0,0,0,0,0,0,0,0,0,null,0,{"$error":"#VALUE!"},0,0,0,0,0,0,0,0,0,0,0,0,0,0,null,0,{"$error":"#VALUE!"},0,0,0,0,0,0,0,0,0,0,0,0,0,0,null,0,{"$error":"#VALUE!"},0,0,0,0,0,0,0,0,0,0,0,0,0,0,null,0,{"$error":"#VALUE!"},0,0,0,0,0,0,0,0,0,0,0,0,0,0,null,0,{"$error":"#VALUE!"},0,0,0,0,0,0,0,0,0,0,0,0,0,0,null,0,{"$error":"#VALUE!"},0,0,0,0,0,0,0,0,0,0,0,0,0,0,null,0,{"$error":"#VALUE!"},0,0,0,0,0,0,0,0,0,0,0,0,0,0,null,0,{"$error":"#VALUE!"},0,0,0,0,0,0,0,0,0,0,0,0,0,0,null,0,{"$error":"#VALUE!"},0,0,0,0,0,0,0,0,0,0,0,0,0,0,null,0,{"$error":"#VALUE!"},0,0,0,0,0,0,0,0,0,0,0,0,0,0,null,0,{"$error":"#VALUE!"},0,0,0,0,0,0,0,0,0,0,0,0,0,0,null,0,0,0,0,0,0,0]
[null,null,null,null,null,null,null,null,null,null,null,null,"2014-10-09",{"$error":"#VALUE!"},0,{"$error":"#VALUE!"},{"$error":"#VALUE!"},0,null,0,{"$error":"#VALUE!"},0,0,0,0,0,0,0,0,0,0,0,0,0,0,null,0,{"$error":"#VALUE!"},0,0,0,0,0,0,0,0,0,0,0,0,0,0,null,0,{"$error":"#VALUE!"},0,0,0,0,0,0,0,0,0,0,0,0,0,0,null,0,{"$error":"#VALUE!"},0,0,0,0,0,0,0,0,0,0,0,0,0,0,null,0,{"$error":"#VALUE!"},0,0,0,0,0,0,0,0,0,0,0,0,0,0,null,0,{"$error":"#VALUE!"},0,0,0,0,0,0,0,0,0,0,0,0,0,0,null,0,{"$error":"#VALUE!"},0,0,0,0,0,0,0,0,0,0,0,0,0,0,null,0,{"$error":"#VALUE!"},0,0,0,0,0,0,0,0,0,0,0,0,0,0,null,0,{"$error":"#VALUE!"},0,0,0,0,0,0,0,0,0,0,0,0,0,0,null,0,{"$error":"#VALUE!"},0,0,0,0,0,0,0,0,0,0,0,0,0,0,null,0,{"$error":"#VALUE!"},0,0,0,0,0,0,0,0,0,0,0,0,0,0,null,0,{"$error":"#VALUE!"},0,0,0,0,0,0,0,0,0,0,0,0,0,0,null,0,0,0,0,0,0,0]
[null,null,null,null,null,null,null,null,null,null,null,null,"2014-10-10",{"$error":"#VALUE!"},0,{"$error":"#VALUE!"},{"$error":"#VALUE!"},0,null,0,{"$error":"#VALUE!"},0,0,0,0,0,0,0,0,0,0,0,0,0,0,null,0,{"$error":"#VALUE!"},0,0,0,0,0,0,0,0,0,0,0,0,0,0,null,0,{"$error":"#VALUE!"},0,0,0,0,0,0,0,0,0,0,0,0,0,0,null,0,{"$error":"#VALUE!"},0,0,0,0,0,0,0,0,0,0,0,0,0,0,null,0,{"$error":"#VALUE!"},0,0,0,0,0,0,0,0,0,0,0,0,0,0,null,0,{"$error":"#VALUE!"},0,0,0,0,0,0,0,0,0,0,0,0,0,0,null,0,{"$error":"#VALUE!"},0,0,0,0,0,0,0,0,0,0,0,0,0,0,null,0,{"$error":"#VALUE!"},0,0,0,0,0,0,0,0,0,0,0,0,0,0,null,0,{"$error":"#VALUE!"},0,0,0,0,0,0,0,0,0,0,0,0,0,0,null,0,{"$error":"#VALUE!"},0,0,0,0,0,0,0,0,0,0,0,0,0,0,null,0,{"$error":"#VALUE!"},0,0,0,0,0,0,0,0,0,0,0,0,0,0,null,0,{"$error":"#VALUE!"},0,0,0,0,0,0,0,0,0,0,0,0,0,0,null,0,0,0,0,0,0,0]
[null,null,null,null,null,null,null,null,null,null,null,null,"2014-10-11",{"$error":"#VALUE!"},0,{"$error":"#VALUE!"},{"$error":"#VALUE!"},0,null,0,{"$error":"#VALUE!"},0,0,0,0,0,0,0,0,0,0,0,0,0,0,null,0,{"$error":"#VALUE!"},0,0,0,0,0,0,0,0,0,0,0,0,0,0,null,0,{"$error":"#VALUE!"},0,0,0,0,0,0,0,0,0,0,0,0,0,0,null,0,{"$error":"#VALUE!"},0,0,0,0,0,0,0,0,0,0,0,0,0,0,null,0,{"$error":"#VALUE!"},0,0,0,0,0,0,0,0,0,0,0,0,0,0,null,0,{"$error":"#VALUE!"},0,0,0,0,0,0,0,0,0,0,0,0,0,0,null,0,{"$error":"#VALUE!"},0,0,0,0,0,0,0,0,0,0,0,0,0,0,null,0,{"$error":"#VALUE!"},0,0,0,0,0,0,0,0,0,0,0,0,0,0,null,0,{"$error":"#VALUE!"},0,0,0,0,0,0,0,0,0,0,0,0,0,0,null,0,{"$error":"#VALUE!"},0,0,0,0,0,0,0,0,0,0,0,0,0,0,null,0,{"$error":"#VALUE!"},0,0,0,0,0,0,0,0,0,0,0,0,0,0,null,0,{"$error":"#VALUE!"},0,0,0,0,0,0,0,0,0,0,0,0,0,0,null,0,0,0,0,0,0,0]
[null,null,null,null,null,null,null,null,null,null,null,null,"2014-10-12",{"$error":"#VALUE!"},0,{"$error":"#VALUE!"},{"$error":"#VALUE!"},0,null,0,{"$error":"#VALUE!"},0,0,0,0,0,0,0,0,0,0,0,0,0,0,null,0,{"$error":"#VALUE!"},0,0,0,0,0,0,0,0,0,0,0,0,0,0,null,0,{"$error":"#VALUE!"},0,0,0,0,0,0,0,0,0,0,0,0,0,0,null,0,{"$error":"#VALUE!"},0,0,0,0,0,0,0,0,0,0,0,0,0,0,null,0,{"$error":"#VALUE!"},0,0,0,0,0,0,0,0,0,0,0,0,0,0,null,0,{"$error":"#VALUE!"},0,0,0,0,0,0,0,0,0,0,0,0,0,0,null,0,{"$error":"#VALUE!"},0,0,0,0,0,0,0,0,0,0,0,0,0,0,null,0,{"$error":"#VALUE!"},0,0,0,0,0,0,0,0,0,0,0,0,0,0,null,0,{"$error":"#VALUE!"},0,0,0,0,0,0,0,0,0,0,0,0,0,0,null,0,{"$error":"#VALUE!"},0,0,0,0,0,0,0,0,0,0,0,0,0,0,null,0,{"$error":"#VALUE!"},0,0,0,0,0,0,0,0,0,0,0,0,0,0,null,0,{"$error":"#VALUE!"},0,0,0,0,0,0,0,0,0,0,0,0,0,0,null,0,0,0,0,0,0,0]
[null,null,null,null,null,null,null,null,null,null,null,null,"2014-10-13",{"$error":"#VALUE!"},0,{"$error":"#VALUE!"},{"$error":"#VALUE!"},0,null,0,{"$error":"#VALUE!"},0,0,0,0,0,0,0,0,0,0,0,0,0,0,null,0,{"$error":"#VALUE!"},0,0,0,0,0,0,0,0,0,0,0,0,0,0,null,0,{"$error":"#VALUE!"},0,0,0,0,0,0,0,0,0,0,0,0,0,0,null,0,{"$error":"#VALUE!"},0,0,0,0,0,0,0,0,0,0,0,0,0,0,null,0,{"$error":"#VALUE!"},0,0,0,0,0,0,0,0,0,0,0,0,0,0,null,0,{"$error":"#VALUE!"},0,0,0,0,0,0,0,0,0,0,0,0,0,0,null,0,{"$error":"#VALUE!"},0,0,0,0,0,0,0,0,0,0,0,0,0,0,null,0,{"$error":"#VALUE!"},0,0,0,0,0,0,0,0,0,0,0,0,0,0,null,0,{"$error":"#VALUE!"},0,0,0,0,0,0,0,0,0,0,0,0,0,0,null,0,{"$error":"#VALUE!"},0,0,0,0,0,0,0,0,0,0,0,0,0,0,null,0,{"$error":"#VALUE!"},0,0,0,0,0,0,0,0,0,0,0,0,0,0,null,0,{"$error":"#VALUE!"},0,0,0,0,0,0,0,0,0,0,0,0,0,0,null,0,0,0,0,0,0,0]
[null,null,null,null,null,null,null,null,null,null,null,null,"2014-10-14",{"$error":"#VALUE!"},0,{"$error":"#VALUE!"},{"$error":"#VALUE!"},0,null,0,{"$error":"#VALUE!"},0,0,0,0,0,0,0,0,0,0,0,0,0,0,null,0,{"$error":"#VALUE!"},0,0,0,0,0,0,0,0,0,0,0,0,0,0,null,0,{"$error":"#VALUE!"},0,0,0,0,0,0,0,0,0,0,0,0,0,0,null,0,{"$error":"#VALUE!"},0,0,0,0,0,0,0,0,0,0,0,0,0,0,null,0,{"$error":"#VALUE!"},0,0,0,0,0,0,0,0,0,0,0,0,0,0,null,0,{"$error":"#VALUE!"},0,0,0,0,0,0,0,0,0,0,0,0,0,0,null,0,{"$error":"#VALUE!"},0,0,0,0,0,0,0,0,0,0,0,0,0,0,null,0,{"$error":"#VALUE!"},0,0,0,0,0,0,0,0,0,0,0,0,0,0,null,0,{"$error":"#VALUE!"},0,0,0,0,0,0,0,0,0,0,0,0,0,0,null,0,{"$error":"#VALUE!"},0,0,0,0,0,0,0,0,0,0,0,0,0,0,null,0,{"$error":"#VALUE!"},0,0,0,0,0,0,0,0,0,0,0,0,0,0,null,0,{"$error":"#VALUE!"},0,0,0,0,0,0,0,0,0,0,0,0,0,0,null,0,0,0,0,0,0,0]
[null,null,null,null,null,null,null,null,null,null,null,null,"2014-10-15",{"$error":"#VALUE!"},0,{"$error":"#VALUE!"},{"$error":"#VALUE!"},0,null,0,{"$error":"#VALUE!"},0,0,0,0,0,0,0,0,0,0,0,0,0,0,null,0,{"$error":"#VALUE!"},0,0,0,0,0,0,0,0,0,0,0,0,0,0,null,0,{"$error":"#VALUE!"},0,0,0,0,0,0,0,0,0,0,0,0,0,0,null,0,{"$error":"#VALUE!"},0,0,0,0,0,0,0,0,0,0,0,0,0,0,null,0,{"$error":"#VALUE!"},0,0,0,0,0,0,0,0,0,0,0,0,0,0,null,0,{"$error":"#VALUE!"},0,0,0,0,0,0,0,0,0,0,0,0,0,0,null,0,{"$error":"#VALUE!"},0,0,0,0,0,0,0,0,0,0,0,0,0,0,null,0,{"$error":"#VALUE!"},0,0,0,0,0,0,0,0,0,0,0,0,0,0,null,0,{"$error":"#VALUE!"},0,0,0,0,0,0,0,0,0,0,0,0,0,0,null,0,{"$error":"#VALUE!"},0,0,0,0,0,0,0,0,0,0,0,0,0,0,null,0,{"$error":"#VALUE!"},0,0,0,0,0,0,0,0,0,0,0,0,0,0,null,0,{"$error":"#VALUE!"},0,0,0,0,0,0,0,0,0,0,0,0,0,0,null,0,0,0,0,0,0,0]
[null,null,null,null,null,null,null,null,null,null,null,null,"2014-10-16",{"$error":"#VALUE!"},0,{"$error":"#VALUE!"},{"$error":"#VALUE!"},0,null,0,{"$error":"#VALUE!"},0,0,0,0,0,0,0,0,0,0,0,0,0,0,null,0,{"$error":"#VALUE!"},0,0,0,0,0,0,0,0,0,0,0,0,0,0,null,0,{"$error":"#VALUE!"},0,0,0,0,0,0,0,0,0,0,0,0,0,0,null,0,{"$error":"#VALUE!"},0,0,0,0,0,0,0,0,0,0,0,0,0,0,null,0,{"$error":"#VALUE!"},0,0,0,0,0,0,0,0,0,0,0,0,0,0,null,0,{"$error":"#VALUE!"},0,0,0,0,0,0,0,0,0,0,0,0,0,0,null,0,{"$error":"#VALUE!"},0,0,0,0,0,0,0,0,0,0,0,0,0,0,null,0,{"$error":"#VALUE!"},0,0,0,0,0,0,0,0,0,0,0,0,0,0,null,0,{"$error":"#VALUE!"},0,0,0,0,0,0,0,0,0,0,0,0,0,0,null,0,{"$error":"#VALUE!"},0,0,0,0,0,0,0,0,0,0,0,0,0,0,null,0,{"$error":"#VALUE!"},0,0,0,0,0,0,0,0,0,0,0,0,0,0,null,0,{"$error":"#VALUE!"},0,0,0,0,0,0,0,0,0,0,0,0,0,0,null,0,0,0,0,0,0,0]
[null,null,null,null,null,null,null,null,null,null,null,null,"2014-10-17",{"$error":"#VALUE!"},0,{"$error":"#VALUE!"},{"$error":"#VALUE!"},0,null,0,{"$error":"#VALUE!"},0,0,0,0,0,0,0,0,0,0,0,0,0,0,null,0,{"$error":"#VALUE!"},0,0,0,0,0,0,0,0,0,0,0,0,0,0,null,0,{"$error":"#VALUE!"},0,0,0,0,0,0,0,0,0,0,0,0,0,0,null,0,{"$error":"#VALUE!"},0,0,0,0,0,0,0,0,0,0,0,0,0,0,null,0,{"$error":"#VALUE!"},0,0,0,0,0,0,0,0,0,0,0,0,0,0,null,0,{"$error":"#VALUE!"},0,0,0,0,0,0,0,0,0,0,0,0,0,0,null,0,{"$error":"#VALUE!"},0,0,0,0,0,0,0,0,0,0,0,0,0,0,null,0,{"$error":"#VALUE!"},0,0,0,0,0,0,0,0,0,0,0,0,0,0,null,0,{"$error":"#VALUE!"},0,0,0,0,0,0,0,0,0,0,0,0,0,0,null,0,{"$error":"#VALUE!"},0,0,0,0,0,0,0,0,0,0,0,0,0,0,null,0,{"$error":"#VALUE!"},0,0,0,0,0,0,0,0,0,0,0,0,0,0,null,0,{"$error":"#VALUE!"},0,0,0,0,0,0,0,0,0,0,0,0,0,0,null,0,0,0,0,0,0,0]
[null,null,null,null,null,null,null,null,null,null,null,null,"2014-10-18",{"$error":"#VALUE!"},0,{"$error":"#VALUE!"},{"$error":"#VALUE!"},0,null,0,{"$error":"#VALUE!"},0,0,0,0,0,0,0,0,0,0,0,0,0,0,null,0,{"$error":"#VALUE!"},0,0,0,0,0,0,0,0,0,0,0,0,0,0,null,0,{"$error":"#VALUE!"},0,0,0,0,0,0,0,0,0,0,0,0,0,0,null,0,{"$error":"#VALUE!"},0,0,0,0,0,0,0,0,0,0,0,0,0,0,null,0,{"$error":"#VALUE!"},0,0,0,0,0,0,0,0,0,0,0,0,0,0,null,0,{"$error":"#VALUE!"},0,0,0,0,0,0,0,0,0,0,0,0,0,0,null,0,{"$error":"#VALUE!"},0,0,0,0,0,0,0,0,0,0,0,0,0,0,null,0,{"$error":"#VALUE!"},0,0,0,0,0,0,0,0,0,0,0,0,0,0,null,0,{"$error":"#VALUE!"},0,0,0,0,0,0,0,0,0,0,0,0,0,0,null,0,{"$error":"#VALUE!"},0,0,0,0,0,0,0,0,0,0,0,0,0,0,null,0,{"$error":"#VALUE!"},0,0,0,0,0,0,0,0,0,0,0,0,0,0,null,0,{"$error":"#VALUE!"},0,0,0,0,0,0,0,0,0,0,0,0,0,0,null,0,0,0,0,0,0,0]
[null,null,null,null,null,null,null,null,null,null,null,null,"2014-10-19",{"$error":"#VALUE!"},0,{"$error":"#VALUE!"},{"$error":"#VALUE!"},0,null,0,{"$error":"#VALUE!"},0,0,0,0,0,0,0,0,0,0,0,0,0,0,null,0,{"$error":"#VALUE!"},0,0,0,0,0,0,0,0,0,0,0,0,0,0,null,0,{"$error":"#VALUE!"},0,0,0,0,0,0,0,0,0,0,0,0,0,0,null,0,{"$error":"#VALUE!"},0,0,0,0,0,0,0,0,0,0,0,0,0,0,null,0,{"$error":"#VALUE!"},0,0,0,0,0,0,0,0,0,0,0,0,0,0,null,0,{"$error":"#VALUE!"},0,0,0,0,0,0,0,0,0,0,0,0,0,0,null,0,{"$error":"#VALUE!"},0,0,0,0,0,0,0,0,0,0,0,0,0,0,null,0,{"$error":"#VALUE!"},0,0,0,0,0,0,0,0,0,0,0,0,0,0,null,0,{"$error":"#VALUE!"},0,0,0,0,0,0,0,0,0,0,0,0,0,0,null,0,{"$error":"#VALUE!"},0,0,0,0,0,0,0,0,0,0,0,0,0,0,null,0,{"$error":"#VALUE!"},0,0,0,0,0,0,0,0,0,0,0,0,0,0,null,0,{"$error":"#VALUE!"},0,0,0,0,0,0,0,0,0,0,0,0,0,0,null,0,0,0,0,0,0,0]
[null,null,null,null,null,null,null,null,null,null,null,null,"2014-10-20",{"$error":"#VALUE!"},0,{"$error":"#VALUE!"},{"$error":"#VALUE!"},0,null,0,{"$error":"#VALUE!"},0,0,0,0,0,0,0,0,0,0,0,0,0,0,null,0,{"$error":"#VALUE!"},0,0,0,0,0,0,0,0,0,0,0,0,0,0,null,0,{"$error":"#VALUE!"},0,0,0,0,0,0,0,0,0,0,0,0,0,0,null,0,{"$error":"#VALUE!"},0,0,0,0,0,0,0,0,0,0,0,0,0,0,null,0,{"$error":"#VALUE!"},0,0,0,0,0,0,0,0,0,0,0,0,0,0,null,0,{"$error":"#VALUE!"},0,0,0,0,0,0,0,0,0,0,0,0,0,0,null,0,{"$error":"#VALUE!"},0,0,0,0,0,0,0,0,0,0,0,0,0,0,null,0,{"$error":"#VALUE!"},0,0,0,0,0,0,0,0,0,0,0,0,0,0,null,0,{"$error":"#VALUE!"},0,0,0,0,0,0,0,0,0,0,0,0,0,0,null,0,{"$error":"#VALUE!"},0,0,0,0,0,0,0,0,0,0,0,0,0,0,null,0,{"$error":"#VALUE!"},0,0,0,0,0,0,0,0,0,0,0,0,0,0,null,0,{"$error":"#VALUE!"},0,0,0,0,0,0,0,0,0,0,0,0,0,0,null,0,0,0,0,0,0,0]
[null,null,null,null,null,null,null,null,null,null,null,null,"2014-10-21",{"$error":"#VALUE!"},0,{"$error":"#VALUE!"},{"$error":"#VALUE!"},0,null,0,{"$error":"#VALUE!"},0,0,0,0,0,0,0,0,0,0,0,0,0,0,null,0,{"$error":"#VALUE!"},0,0,0,0,0,0,0,0,0,0,0,0,0,0,null,0,{"$error":"#VALUE!"},0,0,0,0,0,0,0,0,0,0,0,0,0,0,null,0,{"$error":"#VALUE!"},0,0,0,0,0,0,0,0,0,0,0,0,0,0,null,0,{"$error":"#VALUE!"},0,0,0,0,0,0,0,0,0,0,0,0,0,0,null,0,{"$error":"#VALUE!"},0,0,0,0,0,0,0,0,0,0,0,0,0,0,null,0,{"$error":"#VALUE!"},0,0,0,0,0,0,0,0,0,0,0,0,0,0,null,0,{"$error":"#VALUE!"},0,0,0,0,0,0,0,0,0,0,0,0,0,0,null,0,{"$error":"#VALUE!"},0,0,0,0,0,0,0,0,0,0,0,0,0,0,null,0,{"$error":"#VALUE!"},0,0,0,0,0,0,0,0,0,0,0,0,0,0,null,0,{"$error":"#VALUE!"},0,0,0,0,0,0,0,0,0,0,0,0,0,0,null,0,{"$error":"#VALUE!"},0,0,0,0,0,0,0,0,0,0,0,0,0,0,null,0,0,0,0,0,0,0]
[null,null,null,null,null,null,null,null,null,null,null,null,"2014-10-22",{"$error":"#VALUE!"},0,{"$error":"#VALUE!"},{"$error":"#VALUE!"},0,null,0,{"$error":"#VALUE!"},0,0,0,0,0,0,0,0,0,0,0,0,0,0,null,0,{"$error":"#VALUE!"},0,0,0,0,0,0,0,0,0,0,0,0,0,0,null,0,{"$error":"#VALUE!"},0,0,0,0,0,0,0,0,0,0,0,0,0,0,null,0,{"$error":"#VALUE!"},0,0,0,0,0,0,0,0,0,0,0,0,0,0,null,0,{"$error":"#VALUE!"},0,0,0,0,0,0,0,0,0,0,0,0,0,0,null,0,{"$error":"#VALUE!"},0,0,0,0,0,0,0,0,0,0,0,0,0,0,null,0,{"$error":"#VALUE!"},0,0,0,0,0,0,0,0,0,0,0,0,0,0,null,0,{"$error":"#VALUE!"},0,0,0,0,0,0,0,0,0,0,0,0,0,0,null,0,{"$error":"#VALUE!"},0,0,0,0,0,0,0,0,0,0,0,0,0,0,null,0,{"$error":"#VALUE!"},0,0,0,0,0,0,0,0,0,0,0,0,0,0,null,0,{"$error":"#VALUE!"},0,0,0,0,0,0,0,0,0,0,0,0,0,0,null,0,{"$error":"#VALUE!"},0,0,0,0,0,0,0,0,0,0,0,0,0,0,null,0,0,0,0,0,0,0]
[null,null,null,null,null,null,null,null,null,null,null,null,"2014-10-23",{"$error":"#VALUE!"},0,{"$error":"#VALUE!"},{"$error":"#VALUE!"},0,null,0,{"$error":"#VALUE!"},0,0,0,0,0,0,0,0,0,0,0,0,0,0,null,0,{"$error":"#VALUE!"},0,0,0,0,0,0,0,0,0,0,0,0,0,0,null,0,{"$error":"#VALUE!"},0,0,0,0,0,0,0,0,0,0,0,0,0,0,null,0,{"$error":"#VALUE!"},0,0,0,0,0,0,0,0,0,0,0,0,0,0,null,0,{"$error":"#VALUE!"},0,0,0,0,0,0,0,0,0,0,0,0,0,0,null,0,{"$error":"#VALUE!"},0,0,0,0,0,0,0,0,0,0,0,0,0,0,null,0,{"$error":"#VALUE!"},0,0,0,0,0,0,0,0,0,0,0,0,0,0,null,0,{"$error":"#VALUE!"},0,0,0,0,0,0,0,0,0,0,0,0,0,0,null,0,{"$error":"#VALUE!"},0,0,0,0,0,0,0,0,0,0,0,0,0,0,null,0,{"$error":"#VALUE!"},0,0,0,0,0,0,0,0,0,0,0,0,0,0,null,0,{"$error":"#VALUE!"},0,0,0,0,0,0,0,0,0,0,0,0,0,0,null,0,{"$error":"#VALUE!"},0,0,0,0,0,0,0,0,0,0,0,0,0,0,null,0,0,0,0,0,0,0]
[null,null,null,null,null,null,null,null,null,null,null,null,"2014-10-24",{"$error":"#VALUE!"},0,{"$error":"#VALUE!"},{"$error":"#VALUE!"},0,null,0,{"$error":"#VALUE!"},0,0,0,0,0,0,0,0,0,0,0,0,0,0,null,0,{"$error":"#VALUE!"},0,0,0,0,0,0,0,0,0,0,0,0,0,0,null,0,{"$error":"#VALUE!"},0,0,0,0,0,0,0,0,0,0,0,0,0,0,null,0,{"$error":"#VALUE!"},0,0,0,0,0,0,0,0,0,0,0,0,0,0,null,0,{"$error":"#VALUE!"},0,0,0,0,0,0,0,0,0,0,0,0,0,0,null,0,{"$error":"#VALUE!"},0,0,0,0,0,0,0,0,0,0,0,0,0,0,null,0,{"$error":"#VALUE!"},0,0,0,0,0,0,0,0,0,0,0,0,0,0,null,0,{"$error":"#VALUE!"},0,0,0,0,0,0,0,0,0,0,0,0,0,0,null,0,{"$error":"#VALUE!"},0,0,0,0,0,0,0,0,0,0,0,0,0,0,null,0,{"$error":"#VALUE!"},0,0,0,0,0,0,0,0,0,0,0,0,0,0,null,0,{"$error":"#VALUE!"},0,0,0,0,0,0,0,0,0,0,0,0,0,0,null,0,{"$error":"#VALUE!"},0,0,0,0,0,0,0,0,0,0,0,0,0,0,null,0,0,0,0,0,0,0]
[null,null,null,null,null,null,null,null,null,null,null,null,"2014-10-25",{"$error":"#VALUE!"},0,{"$error":"#VALUE!"},{"$error":"#VALUE!"},0,null,0,{"$error":"#VALUE!"},0,0,0,0,0,0,0,0,0,0,0,0,0,0,null,0,{"$error":"#VALUE!"},0,0,0,0,0,0,0,0,0,0,0,0,0,0,null,0,{"$error":"#VALUE!"},0,0,0,0,0,0,0,0,0,0,0,0,0,0,null,0,{"$error":"#VALUE!"},0,0,0,0,0,0,0,0,0,0,0,0,0,0,null,0,{"$error":"#VALUE!"},0,0,0,0,0,0,0,0,0,0,0,0,0,0,null,0,{"$error":"#VALUE!"},0,0,0,0,0,0,0,0,0,0,0,0,0,0,null,0,{"$error":"#VALUE!"},0,0,0,0,0,0,0,0,0,0,0,0,0,0,null,0,{"$error":"#VALUE!"},0,0,0,0,0,0,0,0,0,0,0,0,0,0,null,0,{"$error":"#VALUE!"},0,0,0,0,0,0,0,0,0,0,0,0,0,0,null,0,{"$error":"#VALUE!"},0,0,0,0,0,0,0,0,0,0,0,0,0,0,null,0,{"$error":"#VALUE!"},0,0,0,0,0,0,0,0,0,0,0,0,0,0,null,0,{"$error":"#VALUE!"},0,0,0,0,0,0,0,0,0,0,0,0,0,0,null,0,0,0,0,0,0,0]
[null,null,null,null,null,null,null,null,null,null,null,null,"2014-10-26",{"$error":"#VALUE!"},0,{"$error":"#VALUE!"},{"$error":"#VALUE!"},0,null,0,{"$error":"#VALUE!"},0,0,0,0,0,0,0,0,0,0,0,0,0,0,null,0,{"$error":"#VALUE!"},0,0,0,0,0,0,0,0,0,0,0,0,0,0,null,0,{"$error":"#VALUE!"},0,0,0,0,0,0,0,0,0,0,0,0,0,0,null,0,{"$error":"#VALUE!"},0,0,0,0,0,0,0,0,0,0,0,0,0,0,null,0,{"$error":"#VALUE!"},0,0,0,0,0,0,0,0,0,0,0,0,0,0,null,0,{"$error":"#VALUE!"},0,0,0,0,0,0,0,0,0,0,0,0,0,0,null,0,{"$error":"#VALUE!"},0,0,0,0,0,0,0,0,0,0,0,0,0,0,null,0,{"$error":"#VALUE!"},0,0,0,0,0,0,0,0,0,0,0,0,0,0,null,0,{"$error":"#VALUE!"},0,0,0,0,0,0,0,0,0,0,0,0,0,0,null,0,{"$error":"#VALUE!"},0,0,0,0,0,0,0,0,0,0,0,0,0,0,null,0,{"$error":"#VALUE!"},0,0,0,0,0,0,0,0,0,0,0,0,0,0,null,0,{"$error":"#VALUE!"},0,0,0,0,0,0,0,0,0,0,0,0,0,0,null,0,0,0,0,0,0,0]
[null,null,null,null,null,null,null,null,null,null,null,null,"2014-10-27",{"$error":"#VALUE!"},0,{"$error":"#VALUE!"},{"$error":"#VALUE!"},0,null,0,{"$error":"#VALUE!"},0,0,0,0,0,0,0,0,0,0,0,0,0,0,null,0,{"$error":"#VALUE!"},0,0,0,0,0,0,0,0,0,0,0,0,0,0,null,0,{"$error":"#VALUE!"},0,0,0,0,0,0,0,0,0,0,0,0,0,0,null,0,{"$error":"#VALUE!"},0,0,0,0,0,0,0,0,0,0,0,0,0,0,null,0,{"$error":"#VALUE!"},0,0,0,0,0,0,0,0,0,0,0,0,0,0,null,0,{"$error":"#VALUE!"},0,0,0,0,0,0,0,0,0,0,0,0,0,0,null,0,{"$error":"#VALUE!"},0,0,0,0,0,0,0,0,0,0,0,0,0,0,null,0,{"$error":"#VALUE!"},0,0,0,0,0,0,0,0,0,0,0,0,0,0,null,0,{"$error":"#VALUE!"},0,0,0,0,0,0,0,0,0,0,0,0,0,0,null,0,{"$error":"#VALUE!"},0,0,0,0,0,0,0,0,0,0,0,0,0,0,null,0,{"$error":"#VALUE!"},0,0,0,0,0,0,0,0,0,0,0,0,0,0,null,0,{"$error":"#VALUE!"},0,0,0,0,0,0,0,0,0,0,0,0,0,0,null,0,0,0,0,0,0,0]
[null,null,null,null,null,null,null,null,null,null,null,null,"2014-10-28",{"$error":"#VALUE!"},0,{"$error":"#VALUE!"},{"$error":"#VALUE!"},0,null,0,{"$error":"#VALUE!"},0,0,0,0,0,0,0,0,0,0,0,0,0,0,null,0,{"$error":"#VALUE!"},0,0,0,0,0,0,0,0,0,0,0,0,0,0,null,0,{"$error":"#VALUE!"},0,0,0,0,0,0,0,0,0,0,0,0,0,0,null,0,{"$error":"#VALUE!"},0,0,0,0,0,0,0,0,0,0,0,0,0,0,null,0,{"$error":"#VALUE!"},0,0,0,0,0,0,0,0,0,0,0,0,0,0,null,0,{"$error":"#VALUE!"},0,0,0,0,0,0,0,0,0,0,0,0,0,0,null,0,{"$error":"#VALUE!"},0,0,0,0,0,0,0,0,0,0,0,0,0,0,null,0,{"$error":"#VALUE!"},0,0,0,0,0,0,0,0,0,0,0,0,0,0,null,0,{"$error":"#VALUE!"},0,0,0,0,0,0,0,0,0,0,0,0,0,0,null,0,{"$error":"#VALUE!"},0,0,0,0,0,0,0,0,0,0,0,0,0,0,null,0,{"$error":"#VALUE!"},0,0,0,0,0,0,0,0,0,0,0,0,0,0,null,0,{"$error":"#VALUE!"},0,0,0,0,0,0,0,0,0,0,0,0,0,0,null,0,0,0,0,0,0,0]
[null,null,null,null,null,null,null,null,null,null,null,null,"2014-10-29",{"$error":"#VALUE!"},0,{"$error":"#VALUE!"},{"$error":"#VALUE!"},0,null,0,{"$error":"#VALUE!"},0,0,0,0,0,0,0,0,0,0,0,0,0,0,null,0,{"$error":"#VALUE!"},0,0,0,0,0,0,0,0,0,0,0,0,0,0,null,0,{"$error":"#VALUE!"},0,0,0,0,0,0,0,0,0,0,0,0,0,0,null,0,{"$error":"#VALUE!"},0,0,0,0,0,0,0,0,0,0,0,0,0,0,null,0,{"$error":"#VALUE!"},0,0,0,0,0,0,0,0,0,0,0,0,0,0,null,0,{"$error":"#VALUE!"},0,0,0,0,0,0,0,0,0,0,0,0,0,0,null,0,{"$error":"#VALUE!"},0,0,0,0,0,0,0,0,0,0,0,0,0,0,null,0,{"$error":"#VALUE!"},0,0,0,0,0,0,0,0,0,0,0,0,0,0,null,0,{"$error":"#VALUE!"},0,0,0,0,0,0,0,0,0,0,0,0,0,0,null,0,{"$error":"#VALUE!"},0,0,0,0,0,0,0,0,0,0,0,0,0,0,null,0,{"$error":"#VALUE!"},0,0,0,0,0,0,0,0,0,0,0,0,0,0,null,0,{"$error":"#VALUE!"},0,0,0,0,0,0,0,0,0,0,0,0,0,0,null,0,0,0,0,0,0,0]
[null,null,null,null,null,null,null,null,null,null,null,null,"2014-10-30",{"$error":"#VALUE!"},0,{"$error":"#VALUE!"},{"$error":"#VALUE!"},0,null,0,{"$error":"#VALUE!"},0,0,0,0,0,0,0,0,0,0,0,0,0,0,null,0,{"$error":"#VALUE!"},0,0,0,0,0,0,0,0,0,0,0,0,0,0,null,0,{"$error":"#VALUE!"},0,0,0,0,0,0,0,0,0,0,0,0,0,0,null,0,{"$error":"#VALUE!"},0,0,0,0,0,0,0,0,0,0,0,0,0,0,null,0,{"$error":"#VALUE!"},0,0,0,0,0,0,0,0,0,0,0,0,0,0,null,0,{"$error":"#VALUE!"},0,0,0,0,0,0,0,0,0,0,0,0,0,0,null,0,{"$error":"#VALUE!"},0,0,0,0,0,0,0,0,0,0,0,0,0,0,null,0,{"$error":"#VALUE!"},0,0,0,0,0,0,0,0,0,0,0,0,0,0,null,0,{"$error":"#VALUE!"},0,0,0,0,0,0,0,0,0,0,0,0,0,0,null,0,{"$error":"#VALUE!"},0,0,0,0,0,0,0,0,0,0,0,0,0,0,null,0,{"$error":"#VALUE!"},0,0,0,0,0,0,0,0,0,0,0,0,0,0,null,0,{"$error":"#VALUE!"},0,0,0,0,0,0,0,0,0,0,0,0,0,0,null,0,0,0,0,0,0,0]
[null,null,null,null,null,null,null,null,null,null,null,null,"2014-10-31",{"$error":"#VALUE!"},0,{"$error":"#VALUE!"},{"$error":"#VALUE!"},0,null,0,{"$error":"#VALUE!"},0,0,0,0,0,0,0,0,0,0,0,0,0,0,null,0,{"$error":"#VALUE!"},0,0,0,0,0,0,0,0,0,0,0,0,0,0,null,0,{"$error":"#VALUE!"},0,0,0,0,0,0,0,0,0,0,0,0,0,0,null,0,{"$error":"#VALUE!"},0,0,0,0,0,0,0,0,0,0,0,0,0,0,null,0,{"$error":"#VALUE!"},0,0,0,0,0,0,0,0,0,0,0,0,0,0,null,0,{"$error":"#VALUE!"},0,0,0,0,0,0,0,0,0,0,0,0,0,0,null,0,{"$error":"#VALUE!"},0,0,0,0,0,0,0,0,0,0,0,0,0,0,null,0,{"$error":"#VALUE!"},0,0,0,0,0,0,0,0,0,0,0,0,0,0,null,0,{"$error":"#VALUE!"},0,0,0,0,0,0,0,0,0,0,0,0,0,0,null,0,{"$error":"#VALUE!"},0,0,0,0,0,0,0,0,0,0,0,0,0,0,null,0,{"$error":"#VALUE!"},0,0,0,0,0,0,0,0,0,0,0,0,0,0,null,0,{"$error":"#VALUE!"},0,0,0,0,0,0,0,0,0,0,0,0,0,0,null,0,0,0,0,0,0,0]
[null,null,null,null,null,null,null,null,null,null,null,null,"2014-11-01",{"$error":"#VALUE!"},0,{"$error":"#VALUE!"},{"$error":"#VALUE!"},0,null,0,{"$error":"#VALUE!"},0,0,0,0,0,0,0,0,0,0,0,0,0,0,null,0,{"$error":"#VALUE!"},0,0,0,0,0,0,0,0,0,0,0,0,0,0,null,0,{"$error":"#VALUE!"},0,0,0,0,0,0,0,0,0,0,0,0,0,0,null,0,{"$error":"#VALUE!"},0,0,0,0,0,0,0,0,0,0,0,0,0,0,null,0,{"$error":"#VALUE!"},0,0,0,0,0,0,0,0,0,0,0,0,0,0,null,0,{"$error":"#VALUE!"},0,0,0,0,0,0,0,0,0,0,0,0,0,0,null,0,{"$error":"#VALUE!"},0,0,0,0,0,0,0,0,0,0,0,0,0,0,null,0,{"$error":"#VALUE!"},0,0,0,0,0,0,0,0,0,0,0,0,0,0,null,0,{"$error":"#VALUE!"},0,0,0,0,0,0,0,0,0,0,0,0,0,0,null,0,{"$error":"#VALUE!"},0,0,0,0,0,0,0,0,0,0,0,0,0,0,null,0,{"$error":"#VALUE!"},0,0,0,0,0,0,0,0,0,0,0,0,0,0,null,0,{"$error":"#VALUE!"},0,0,0,0,0,0,0,0,0,0,0,0,0,0,null,0,0,0,0,0,0,0]
[null,null,null,null,null,null,null,null,null,null,null,null,"2014-11-02",{"$error":"#VALUE!"},0,{"$error":"#VALUE!"},{"$error":"#VALUE!"},0,null,0,{"$error":"#VALUE!"},0,0,0,0,0,0,0,0,0,0,0,0,0,0,null,0,{"$error":"#VALUE!"},0,0,0,0,0,0,0,0,0,0,0,0,0,0,null,0,{"$error":"#VALUE!"},0,0,0,0,0,0,0,0,0,0,0,0,0,0,null,0,{"$error":"#VALUE!"},0,0,0,0,0,0,0,0,0,0,0,0,0,0,null,0,{"$error":"#VALUE!"},0,0,0,0,0,0,0,0,0,0,0,0,0,0,null,0,{"$error":"#VALUE!"},0,0,0,0,0,0,0,0,0,0,0,0,0,0,null,0,{"$error":"#VALUE!"},0,0,0,0,0,0,0,0,0,0,0,0,0,0,null,0,{"$error":"#VALUE!"},0,0,0,0,0,0,0,0,0,0,0,0,0,0,null,0,{"$error":"#VALUE!"},0,0,0,0,0,0,0,0,0,0,0,0,0,0,null,0,{"$error":"#VALUE!"},0,0,0,0,0,0,0,0,0,0,0,0,0,0,null,0,{"$error":"#VALUE!"},0,0,0,0,0,0,0,0,0,0,0,0,0,0,null,0,{"$error":"#VALUE!"},0,0,0,0,0,0,0,0,0,0,0,0,0,0,null,0,0,0,0,0,0,0]
[null,null,null,null,null,null,null,null,null,null,null,null,"2014-11-03",{"$error":"#VALUE!"},0,{"$error":"#VALUE!"},{"$error":"#VALUE!"},0,null,0,{"$error":"#VALUE!"},0,0,0,0,0,0,0,0,0,0,0,0,0,0,null,0,{"$error":"#VALUE!"},0,0,0,0,0,0,0,0,0,0,0,0,0,0,null,0,{"$error":"#VALUE!"},0,0,0,0,0,0,0,0,0,0,0,0,0,0,null,0,{"$error":"#VALUE!"},0,0,0,0,0,0,0,0,0,0,0,0,0,0,null,0,{"$error":"#VALUE!"},0,0,0,0,0,0,0,0,0,0,0,0,0,0,null,0,{"$error":"#VALUE!"},0,0,0,0,0,0,0,0,0,0,0,0,0,0,null,0,{"$error":"#VALUE!"},0,0,0,0,0,0,0,0,0,0,0,0,0,0,null,0,{"$error":"#VALUE!"},0,0,0,0,0,0,0,0,0,0,0,0,0,0,null,0,{"$error":"#VALUE!"},0,0,0,0,0,0,0,0,0,0,0,0,0,0,null,0,{"$error":"#VALUE!"},0,0,0,0,0,0,0,0,0,0,0,0,0,0,null,0,{"$error":"#VALUE!"},0,0,0,0,0,0,0,0,0,0,0,0,0,0,null,0,{"$error":"#VALUE!"},0,0,0,0,0,0,0,0,0,0,0,0,0,0,null,0,0,0,0,0,0,0]
[null,null,null,null,null,null,null,null,null,null,null,null,"2014-11-04",{"$error":"#VALUE!"},0,{"$error":"#VALUE!"},{"$error":"#VALUE!"},0,null,0,{"$error":"#VALUE!"},0,0,0,0,0,0,0,0,0,0,0,0,0,0,null,0,{"$error":"#VALUE!"},0,0,0,0,0,0,0,0,0,0,0,0,0,0,null,0,{"$error":"#VALUE!"},0,0,0,0,0,0,0,0,0,0,0,0,0,0,null,0,{"$error":"#VALUE!"},0,0,0,0,0,0,0,0,0,0,0,0,0,0,null,0,{"$error":"#VALUE!"},0,0,0,0,0,0,0,0,0,0,0,0,0,0,null,0,{"$error":"#VALUE!"},0,0,0,0,0,0,0,0,0,0,0,0,0,0,null,0,{"$error":"#VALUE!"},0,0,0,0,0,0,0,0,0,0,0,0,0,0,null,0,{"$error":"#VALUE!"},0,0,0,0,0,0,0,0,0,0,0,0,0,0,null,0,{"$error":"#VALUE!"},0,0,0,0,0,0,0,0,0,0,0,0,0,0,null,0,{"$error":"#VALUE!"},0,0,0,0,0,0,0,0,0,0,0,0,0,0,null,0,{"$error":"#VALUE!"},0,0,0,0,0,0,0,0,0,0,0,0,0,0,null,0,{"$error":"#VALUE!"},0,0,0,0,0,0,0,0,0,0,0,0,0,0,null,0,0,0,0,0,0,0]
[null,null,null,null,null,null,null,null,null,null,null,null,"2014-11-05",{"$error":"#VALUE!"},0,{"$error":"#VALUE!"},{"$error":"#VALUE!"},0,null,0,{"$error":"#VALUE!"},0,0,0,0,0,0,0,0,0,0,0,0,0,0,null,0,{"$error":"#VALUE!"},0,0,0,0,0,0,0,0,0,0,0,0,0,0,null,0,{"$error":"#VALUE!"},0,0,0,0,0,0,0,0,0,0,0,0,0,0,null,0,{"$error":"#VALUE!"},0,0,0,0,0,0,0,0,0,0,0,0,0,0,null,0,{"$error":"#VALUE!"},0,0,0,0,0,0,0,0,0,0,0,0,0,0,null,0,{"$error":"#VALUE!"},0,0,0,0,0,0,0,0,0,0,0,0,0,0,null,0,{"$error":"#VALUE!"},0,0,0,0,0,0,0,0,0,0,0,0,0,0,null,0,{"$error":"#VALUE!"},0,0,0,0,0,0,0,0,0,0,0,0,0,0,null,0,{"$error":"#VALUE!"},0,0,0,0,0,0,0,0,0,0,0,0,0,0,null,0,{"$error":"#VALUE!"},0,0,0,0,0,0,0,0,0,0,0,0,0,0,null,0,{"$error":"#VALUE!"},0,0,0,0,0,0,0,0,0,0,0,0,0,0,null,0,{"$error":"#VALUE!"},0,0,0,0,0,0,0,0,0,0,0,0,0,0,null,0,0,0,0,0,0,0]
[null,null,null,null,null,null,null,null,null,null,null,null,"2014-11-06",{"$error":"#VALUE!"},0,{"$error":"#VALUE!"},{"$error":"#VALUE!"},0,null,0,{"$error":"#VALUE!"},0,0,0,0,0,0,0,0,0,0,0,0,0,0,null,0,{"$error":"#VALUE!"},0,0,0,0,0,0,0,0,0,0,0,0,0,0,null,0,{"$error":"#VALUE!"},0,0,0,0,0,0,0,0,0,0,0,0,0,0,null,0,{"$error":"#VALUE!"},0,0,0,0,0,0,0,0,0,0,0,0,0,0,null,0,{"$error":"#VALUE!"},0,0,0,0,0,0,0,0,0,0,0,0,0,0,null,0,{"$error":"#VALUE!"},0,0,0,0,0,0,0,0,0,0,0,0,0,0,null,0,{"$error":"#VALUE!"},0,0,0,0,0,0,0,0,0,0,0,0,0,0,null,0,{"$error":"#VALUE!"},0,0,0,0,0,0,0,0,0,0,0,0,0,0,null,0,{"$error":"#VALUE!"},0,0,0,0,0,0,0,0,0,0,0,0,0,0,null,0,{"$error":"#VALUE!"},0,0,0,0,0,0,0,0,0,0,0,0,0,0,null,0,{"$error":"#VALUE!"},0,0,0,0,0,0,0,0,0,0,0,0,0,0,null,0,{"$error":"#VALUE!"},0,0,0,0,0,0,0,0,0,0,0,0,0,0,null,0,0,0,0,0,0,0]
[null,null,null,null,null,null,null,null,null,null,null,null,"2014-11-07",{"$error":"#VALUE!"},0,{"$error":"#VALUE!"},{"$error":"#VALUE!"},0,null,0,{"$error":"#VALUE!"},0,0,0,0,0,0,0,0,0,0,0,0,0,0,null,0,{"$error":"#VALUE!"},0,0,0,0,0,0,0,0,0,0,0,0,0,0,null,0,{"$error":"#VALUE!"},0,0,0,0,0,0,0,0,0,0,0,0,0,0,null,0,{"$error":"#VALUE!"},0,0,0,0,0,0,0,0,0,0,0,0,0,0,null,0,{"$error":"#VALUE!"},0,0,0,0,0,0,0,0,0,0,0,0,0,0,null,0,{"$error":"#VALUE!"},0,0,0,0,0,0,0,0,0,0,0,0,0,0,null,0,{"$error":"#VALUE!"},0,0,0,0,0,0,0,0,0,0,0,0,0,0,null,0,{"$error":"#VALUE!"},0,0,0,0,0,0,0,0,0,0,0,0,0,0,null,0,{"$error":"#VALUE!"},0,0,0,0,0,0,0,0,0,0,0,0,0,0,null,0,{"$error":"#VALUE!"},0,0,0,0,0,0,0,0,0,0,0,0,0,0,null,0,{"$error":"#VALUE!"},0,0,0,0,0,0,0,0,0,0,0,0,0,0,null,0,{"$error":"#VALUE!"},0,0,0,0,0,0,0,0,0,0,0,0,0,0,null,0,0,0,0,0,0,0]
[null,null,null,null,null,null,null,null,null,null,null,null,"2014-11-08",{"$error":"#VALUE!"},0,{"$error":"#VALUE!"},{"$error":"#VALUE!"},0,null,0,{"$error":"#VALUE!"},0,0,0,0,0,0,0,0,0,0,0,0,0,0,null,0,{"$error":"#VALUE!"},0,0,0,0,0,0,0,0,0,0,0,0,0,0,null,0,{"$error":"#VALUE!"},0,0,0,0,0,0,0,0,0,0,0,0,0,0,null,0,{"$error":"#VALUE!"},0,0,0,0,0,0,0,0,0,0,0,0,0,0,null,0,{"$error":"#VALUE!"},0,0,0,0,0,0,0,0,0,0,0,0,0,0,null,0,{"$error":"#VALUE!"},0,0,0,0,0,0,0,0,0,0,0,0,0,0,null,0,{"$error":"#VALUE!"},0,0,0,0,0,0,0,0,0,0,0,0,0,0,null,0,{"$error":"#VALUE!"},0,0,0,0,0,0,0,0,0,0,0,0,0,0,null,0,{"$error":"#VALUE!"},0,0,0,0,0,0,0,0,0,0,0,0,0,0,null,0,{"$error":"#VALUE!"},0,0,0,0,0,0,0,0,0,0,0,0,0,0,null,0,{"$error":"#VALUE!"},0,0,0,0,0,0,0,0,0,0,0,0,0,0,null,0,{"$error":"#VALUE!"},0,0,0,0,0,0,0,0,0,0,0,0,0,0,null,0,0,0,0,0,0,0]
[null,null,null,null,null,null,null,null,null,null,null,null,"2014-11-09",{"$error":"#VALUE!"},0,{"$error":"#VALUE!"},{"$error":"#VALUE!"},0,null,0,{"$error":"#VALUE!"},0,0,0,0,0,0,0,0,0,0,0,0,0,0,null,0,{"$error":"#VALUE!"},0,0,0,0,0,0,0,0,0,0,0,0,0,0,null,0,{"$error":"#VALUE!"},0,0,0,0,0,0,0,0,0,0,0,0,0,0,null,0,{"$error":"#VALUE!"},0,0,0,0,0,0,0,0,0,0,0,0,0,0,null,0,{"$error":"#VALUE!"},0,0,0,0,0,0,0,0,0,0,0,0,0,0,null,0,{"$error":"#VALUE!"},0,0,0,0,0,0,0,0,0,0,0,0,0,0,null,0,{"$error":"#VALUE!"},0,0,0,0,0,0,0,0,0,0,0,0,0,0,null,0,{"$error":"#VALUE!"},0,0,0,0,0,0,0,0,0,0,0,0,0,0,null,0,{"$error":"#VALUE!"},0,0,0,0,0,0,0,0,0,0,0,0,0,0,null,0,{"$error":"#VALUE!"},0,0,0,0,0,0,0,0,0,0,0,0,0,0,null,0,{"$error":"#VALUE!"},0,0,0,0,0,0,0,0,0,0,0,0,0,0,null,0,{"$error":"#VALUE!"},0,0,0,0,0,0,0,0,0,0,0,0,0,0,null,0,0,0,0,0,0,0]
[null,null,null,null,null,null,null,null,null,null,null,null,"2014-11-10",{"$error":"#VALUE!"},0,{"$error":"#VALUE!"},{"$error":"#VALUE!"},0,null,0,{"$error":"#VALUE!"},0,0,0,0,0,0,0,0,0,0,0,0,0,0,null,0,{"$error":"#VALUE!"},0,0,0,0,0,0,0,0,0,0,0,0,0,0,null,0,{"$error":"#VALUE!"},0,0,0,0,0,0,0,0,0,0,0,0,0,0,null,0,{"$error":"#VALUE!"},0,0,0,0,0,0,0,0,0,0,0,0,0,0,null,0,{"$error":"#VALUE!"},0,0,0,0,0,0,0,0,0,0,0,0,0,0,null,0,{"$error":"#VALUE!"},0,0,0,0,0,0,0,0,0,0,0,0,0,0,null,0,{"$error":"#VALUE!"},0,0,0,0,0,0,0,0,0,0,0,0,0,0,null,0,{"$error":"#VALUE!"},0,0,0,0,0,0,0,0,0,0,0,0,0,0,null,0,{"$error":"#VALUE!"},0,0,0,0,0,0,0,0,0,0,0,0,0,0,null,0,{"$error":"#VALUE!"},0,0,0,0,0,0,0,0,0,0,0,0,0,0,null,0,{"$error":"#VALUE!"},0,0,0,0,0,0,0,0,0,0,0,0,0,0,null,0,{"$error":"#VALUE!"},0,0,0,0,0,0,0,0,0,0,0,0,0,0,null,0,0,0,0,0,0,0]
[null,null,null,null,null,null,null,null,null,null,null,null,"2014-11-11",{"$error":"#VALUE!"},0,{"$error":"#VALUE!"},{"$error":"#VALUE!"},0,null,0,{"$error":"#VALUE!"},0,0,0,0,0,0,0,0,0,0,0,0,0,0,null,0,{"$error":"#VALUE!"},0,0,0,0,0,0,0,0,0,0,0,0,0,0,null,0,{"$error":"#VALUE!"},0,0,0,0,0,0,0,0,0,0,0,0,0,0,null,0,{"$error":"#VALUE!"},0,0,0,0,0,0,0,0,0,0,0,0,0,0,null,0,{"$error":"#VALUE!"},0,0,0,0,0,0,0,0,0,0,0,0,0,0,null,0,{"$error":"#VALUE!"},0,0,0,0,0,0,0,0,0,0,0,0,0,0,null,0,{"$error":"#VALUE!"},0,0,0,0,0,0,0,0,0,0,0,0,0,0,null,0,{"$error":"#VALUE!"},0,0,0,0,0,0,0,0,0,0,0,0,0,0,null,0,{"$error":"#VALUE!"},0,0,0,0,0,0,0,0,0,0,0,0,0,0,null,0,{"$error":"#VALUE!"},0,0,0,0,0,0,0,0,0,0,0,0,0,0,null,0,{"$error":"#VALUE!"},0,0,0,0,0,0,0,0,0,0,0,0,0,0,null,0,{"$error":"#VALUE!"},0,0,0,0,0,0,0,0,0,0,0,0,0,0,null,0,0,0,0,0,0,0]
[null,null,null,null,null,null,null,null,null,null,null,null,"2014-11-12",{"$error":"#VALUE!"},0,{"$error":"#VALUE!"},{"$error":"#VALUE!"},0,null,0,{"$error":"#VALUE!"},0,0,0,0,0,0,0,0,0,0,0,0,0,0,null,0,{"$error":"#VALUE!"},0,0,0,0,0,0,0,0,0,0,0,0,0,0,null,0,{"$error":"#VALUE!"},0,0,0,0,0,0,0,0,0,0,0,0,0,0,null,0,{"$error":"#VALUE!"},0,0,0,0,0,0,0,0,0,0,0,0,0,0,null,0,{"$error":"#VALUE!"},0,0,0,0,0,0,0,0,0,0,0,0,0,0,null,0,{"$error":"#VALUE!"},0,0,0,0,0,0,0,0,0,0,0,0,0,0,null,0,{"$error":"#VALUE!"},0,0,0,0,0,0,0,0,0,0,0,0,0,0,null,0,{"$error":"#VALUE!"},0,0,0,0,0,0,0,0,0,0,0,0,0,0,null,0,{"$error":"#VALUE!"},0,0,0,0,0,0,0,0,0,0,0,0,0,0,null,0,{"$error":"#VALUE!"},0,0,0,0,0,0,0,0,0,0,0,0,0,0,null,0,{"$error":"#VALUE!"},0,0,0,0,0,0,0,0,0,0,0,0,0,0,null,0,{"$error":"#VALUE!"},0,0,0,0,0,0,0,0,0,0,0,0,0,0,null,0,0,0,0,0,0,0]
[null,null,null,null,null,null,null,null,null,null,null,null,"2014-11-13",{"$error":"#VALUE!"},0,{"$error":"#VALUE!"},{"$error":"#VALUE!"},0,null,0,{"$error":"#VALUE!"},0,0,0,0,0,0,0,0,0,0,0,0,0,0,null,0,{"$error":"#VALUE!"},0,0,0,0,0,0,0,0,0,0,0,0,0,0,null,0,{"$error":"#VALUE!"},0,0,0,0,0,0,0,0,0,0,0,0,0,0,null,0,{"$error":"#VALUE!"},0,0,0,0,0,0,0,0,0,0,0,0,0,0,null,0,{"$error":"#VALUE!"},0,0,0,0,0,0,0,0,0,0,0,0,0,0,null,0,{"$error":"#VALUE!"},0,0,0,0,0,0,0,0,0,0,0,0,0,0,null,0,{"$error":"#VALUE!"},0,0,0,0,0,0,0,0,0,0,0,0,0,0,null,0,{"$error":"#VALUE!"},0,0,0,0,0,0,0,0,0,0,0,0,0,0,null,0,{"$error":"#VALUE!"},0,0,0,0,0,0,0,0,0,0,0,0,0,0,null,0,{"$error":"#VALUE!"},0,0,0,0,0,0,0,0,0,0,0,0,0,0,null,0,{"$error":"#VALUE!"},0,0,0,0,0,0,0,0,0,0,0,0,0,0,null,0,{"$error":"#VALUE!"},0,0,0,0,0,0,0,0,0,0,0,0,0,0,null,0,0,0,0,0,0,0]
[null,null,null,null,null,null,null,null,null,null,null,null,"2014-11-14",{"$error":"#VALUE!"},0,{"$error":"#VALUE!"},{"$error":"#VALUE!"},0,null,0,{"$error":"#VALUE!"},0,0,0,0,0,0,0,0,0,0,0,0,0,0,null,0,{"$error":"#VALUE!"},0,0,0,0,0,0,0,0,0,0,0,0,0,0,null,0,{"$error":"#VALUE!"},0,0,0,0,0,0,0,0,0,0,0,0,0,0,null,0,{"$error":"#VALUE!"},0,0,0,0,0,0,0,0,0,0,0,0,0,0,null,0,{"$error":"#VALUE!"},0,0,0,0,0,0,0,0,0,0,0,0,0,0,null,0,{"$error":"#VALUE!"},0,0,0,0,0,0,0,0,0,0,0,0,0,0,null,0,{"$error":"#VALUE!"},0,0,0,0,0,0,0,0,0,0,0,0,0,0,null,0,{"$error":"#VALUE!"},0,0,0,0,0,0,0,0,0,0,0,0,0,0,null,0,{"$error":"#VALUE!"},0,0,0,0,0,0,0,0,0,0,0,0,0,0,null,0,{"$error":"#VALUE!"},0,0,0,0,0,0,0,0,0,0,0,0,0,0,null,0,{"$error":"#VALUE!"},0,0,0,0,0,0,0,0,0,0,0,0,0,0,null,0,{"$error":"#VALUE!"},0,0,0,0,0,0,0,0,0,0,0,0,0,0,null,0,0,0,0,0,0,0]
[null,null,null,null,null,null,null,null,null,null,null,null,"2014-11-15",{"$error":"#VALUE!"},0,{"$error":"#VALUE!"},{"$error":"#VALUE!"},0,null,0,{"$error":"#VALUE!"},0,0,0,0,0,0,0,0,0,0,0,0,0,0,null,0,{"$error":"#VALUE!"},0,0,0,0,0,0,0,0,0,0,0,0,0,0,null,0,{"$error":"#VALUE!"},0,0,0,0,0,0,0,0,0,0,0,0,0,0,null,0,{"$error":"#VALUE!"},0,0,0,0,0,0,0,0,0,0,0,0,0,0,null,0,{"$error":"#VALUE!"},0,0,0,0,0,0,0,0,0,0,0,0,0,0,null,0,{"$error":"#VALUE!"},0,0,0,0,0,0,0,0,0,0,0,0,0,0,null,0,{"$error":"#VALUE!"},0,0,0,0,0,0,0,0,0,0,0,0,0,0,null,0,{"$error":"#VALUE!"},0,0,0,0,0,0,0,0,0,0,0,0,0,0,null,0,{"$error":"#VALUE!"},0,0,0,0,0,0,0,0,0,0,0,0,0,0,null,0,{"$error":"#VALUE!"},0,0,0,0,0,0,0,0,0,0,0,0,0,0,null,0,{"$error":"#VALUE!"},0,0,0,0,0,0,0,0,0,0,0,0,0,0,null,0,{"$error":"#VALUE!"},0,0,0,0,0,0,0,0,0,0,0,0,0,0,null,0,0,0,0,0,0,0]
[null,null,null,null,null,null,null,null,null,null,null,null,"2014-11-16",{"$error":"#VALUE!"},0,{"$error":"#VALUE!"},{"$error":"#VALUE!"},0,null,0,{"$error":"#VALUE!"},0,0,0,0,0,0,0,0,0,0,0,0,0,0,null,0,{"$error":"#VALUE!"},0,0,0,0,0,0,0,0,0,0,0,0,0,0,null,0,{"$error":"#VALUE!"},0,0,0,0,0,0,0,0,0,0,0,0,0,0,null,0,{"$error":"#VALUE!"},0,0,0,0,0,0,0,0,0,0,0,0,0,0,null,0,{"$error":"#VALUE!"},0,0,0,0,0,0,0,0,0,0,0,0,0,0,null,0,{"$error":"#VALUE!"},0,0,0,0,0,0,0,0,0,0,0,0,0,0,null,0,{"$error":"#VALUE!"},0,0,0,0,0,0,0,0,0,0,0,0,0,0,null,0,{"$error":"#VALUE!"},0,0,0,0,0,0,0,0,0,0,0,0,0,0,null,0,{"$error":"#VALUE!"},0,0,0,0,0,0,0,0,0,0,0,0,0,0,null,0,{"$error":"#VALUE!"},0,0,0,0,0,0,0,0,0,0,0,0,0,0,null,0,{"$error":"#VALUE!"},0,0,0,0,0,0,0,0,0,0,0,0,0,0,null,0,{"$error":"#VALUE!"},0,0,0,0,0,0,0,0,0,0,0,0,0,0,null,0,0,0,0,0,0,0]
[null,null,null,null,null,null,null,null,null,null,null,null,"2014-11-17",{"$f":"IF(OR($D$56=\"No\",$D$57=\"No\"),0,IF(D1004*$E$451*$E$450*0.001-($R$435*$E$450*0.001)<0,0,D1004*$E$451*$E$450*0.001-($R$435*$E$450*0.001)))","v":{"$error":"#VALUE!"}},{"$f":"AF1324+AL1324","v":0},{"$f":"N2062-O2062","v":{"$error":"#VALUE!"}},{"$error":"#VALUE!"},{"$f":"AL1324","v":0},null,{"$f":"N1324*(1-$I$412)","v":0},{"$error":"#VALUE!"},0,0,0,{"$f":"BL1693","v":0},{"$f":"$T2062*D$412","v":0},{"$f":"$T2062*E$412","v":0},{"$f":"$T2062*F$412","v":0},0,{"$f":"$T2062*G$412","v":0},{"$f":"IF(AA2062=0,0,IF(AA2062>=V2062,V2062,AA2062))","v":0},{"$f":"IF(AE2062=T2062,0,IF(AB2062=0,0,IF((AB2062-AE2062)>W2062,W2062,AB2062-AE2062)))","v":0},{"$f":"IF(AE2062+AF2062=T2062,0,IF(Z2062=0,0,IF((Z2062-AE2062-AF2062)>U2062,U2062,Z2062-AE2062-AF2062)))","v":0},0,0,null,{"$f":"O1324*(1-$I$413)","v":0},{"$f":"MAX(0,U2062-AG2062)","v":{"$error":"#VALUE!"}},{"$f":"MAX(0,V2062-AE2062)","v":0},{"$f":"MAX(0,W2062-AF2062)","v":0},{"$f":"MAX(0,Y2062-AI2062)","v":0},{"$f":"$AK2062*D$413","v":0},0,0,0,0,{"$f":"IF(AQ2062=0,0,IF(AQ2062>=AM2062,AM2062,AQ2062))","v":0},{"$f":"IF(AU2062=AK2062,0,IF(AR2062=0,0,IF((AR2062-AU2062)>AN2062,AN2062,AR2062-AU2062)))","v":0},{"$f":"IF(AU2062+AV2062=AK2062,0,IF(AP2062=0,0,IF((AP2062-AU2062-AV2062)>AL2062,AL2062,AP2062-AU2062-AV2062)))","v":0},{"$f":"IF(AU2062+AV2062+AW2062=AK2062,0,IF(AS2062=0,0,IF((AS2062-AU2062-AV2062-AW2062)>AO2062,AO2062,AS2062-AU2062-AV2062-AW2062)))","v":0},0,0,null,0,{"$f":"MAX(0,AL2062-AW2062)","v":{"$error":"#VALUE!"}},{"$f":"MAX(0,AM2062-AU2062)","v":0},{"$f":"MAX(0,AN2062-AV2062)","v":0},0,{"$f":"MAX(0,AO2062-AX2062)","v":0},{"$f":"$AZ2062*D$414","v":0},{"$f":"$AZ2062*E$414","v":0},{"$f":"$AZ2062*F$414","v":0},0,{"$f":"$AZ2062*G$414","v":0},{"$f":"IF(BI2062=0,0,IF(BI2062>=BD2062,BD2062,BI2062))","v":0},{"$f":"IF(BM2062=AZ2062,0,IF(BJ2062=0,0,IF((BJ2062-BM2062)>BE2062,BE2062,BJ2062-BM2062)))","v":0},{"$f":"IF(BM2062+BN2062=AZ2062,0,IF(BH2062=0,0,IF((BH2062-BM2062-BN2062)>BC2062,BC2062,BH2062-BM2062-BN2062)))","v":0},0,0,null,{"$f":"Q1324*(1-$I$415)","v":0},{"$f":"MAX(0,BC2062-BO2062)","v":{"$error":"#VALUE!"}},{"$f":"MAX(0,BD2062-BM2062)","v":0},{"$f":"MAX(0,BE2062-BN2062)","v":0},0,{"$f":"MAX(0,BG2062-BQ2062)","v":0},{"$f":"$BS2062*D$415","v":0},{"$f":"$BS2062*E$415","v":0},{"$f":"$BS2062*F$415","v":0},0,{"$f":"$BS2062*G$415","v":0},{"$f":"IF(BZ2062=0,0,IF(BZ2062>=BU2062,BU2062,BZ2062))","v":0},{"$f":"IF(CD2062=BS2062,0,IF(CA2062=0,0,IF((CA2062-CD2062)>BV2062,BV2062,CA2062-CD2062)))","v":0},{"$f":"IF(CD2062+CE2062=BS2062,0,IF(BY2062=0,0,IF((BY2062-CD2062-CE2062)>BT2062,BT2062,BY2062-CD2062-CE2062)))","v":0},0,0,null,{"$f":"R1324*(1-$I$416)","v":0},{"$f":"MAX(0,BT2062-CF2062)","v":{"$error":"#VALUE!"}},{"$f":"MAX(0,BU2062-CD2062)","v":0},{"$f":"MAX(0,BV2062-CE2062)","v":0},0,{"$f":"MAX(0,BX2062-CH2062)","v":0},{"$f":"$CJ2062*D$416","v":0},{"$f":"$CJ2062*E$416","v":0},{"$f":"$CJ2062*F$416","v":0},0,{"$f":"$CJ2062*G$416","v":0},{"$f":"IF(CQ2062=0,0,IF(CQ2062>=CL2062,CL2062,CQ2062))","v":0},{"$f":"IF(CU2062=CJ2062,0,IF(CR2062=0,0,IF((CR2062-CU2062)>CM2062,CM2062,CR2062-CU2062)))","v":0},{"$f":"IF(CU2062+CV2062=CJ2062,0,IF(CP2062=0,0,IF((CP2062-CU2062-CV2062)>CK2062,CK2062,CP2062-CU2062-CV2062)))","v":0},0,0,null,{"$f":"S1324*(1-$I$417)","v":0},{"$f":"MAX(0,CK2062-CW2062)","v":{"$error":"#VALUE!"}},{"$f":"MAX(0,CL2062-CU2062)","v":0},{"$f":"MAX(0,CM2062-CV2062)","v":0},0,{"$f":"MAX(0,CO2062-CY2062)","v":0},{"$f":"$DA2062*D$417","v":0},{"$f":"$DA2062*E$417","v":0},{"$f":"$DA2062*F$417","v":0},0,{"$f":"$DA2062*G$417","v":0},{"$f":"IF(DH2062=0,0,IF(DH2062>=DC2062,DC2062,DH2062))","v":0},{"$f":"IF(DL2062=DA2062,0,IF(DI2062=0,0,IF((DI2062-DL2062)>DD2062,DD2062,DI2062-DL2062)))","v":0},{"$f":"IF(DL2062+DM2062=DA2062,0,IF(DG2062=0,0,IF((DG2062-DL2062-DM2062)>DB2062,DB2062,DG2062-DL2062-DM2062)))","v":0},0,0,null,{"$f":"T1324*(1-$I$418)","v":0},{"$f":"MAX(0,DB2062-DN2062)","v":{"$error":"#VALUE!"}},{"$f":"MAX(0,DC2062-DL2062)","v":0},{"$f":"MAX(0,DD2062-DM2062)","v":0},0,{"$f":"MAX(0,DF2062-DP2062)","v":0},{"$f":"$DR2062*D$418","v":0},{"$f":"$DR2062*E$418","v":0},{"$f":"$DR2062*F$418","v":0},0,{"$f":"$DR2062*G$418","v":0},{"$f":"IF(DY2062=0,0,IF(DY2062>=DT2062,DT2062,DY2062))","v":0},{"$f":"IF(EC2062=DR2062,0,IF(DZ2062=0,0,IF((DZ2062-EC2062)>DU2062,DU2062,DZ2062-EC2062)))","v":0},{"$f":"IF(EC2062+ED2062=DR2062,0,IF(DX2062=0,0,IF((DX2062-EC2062-ED2062)>DS2062,DS2062,DX2062-EC2062-ED2062)))","v":0},0,0,null,{"$f":"(U1324+V1324)*(1-$I$419)","v":0},{"$f":"MAX(0,DS2062-EE2062)","v":{"$error":"#VALUE!"}},{"$f":"MAX(0,DT2062-EC2062)","v":0},{"$f":"MAX(0,DU2062-ED2062)","v":0},0,{"$f":"MAX(0,DW2062-EG2062)","v":0},{"$f":"$EI2062*D$419","v":0},{"$f":"$EI2062*E$419","v":0},{"$f":"$EI2062*F$419","v":0},0,{"$f":"$EI2062*G$419","v":0},{"$f":"IF(EP2062=0,0,IF(EP2062>=EK2062,EK2062,EP2062))","v":0},{"$f":"IF(ET2062=EI2062,0,IF(EQ2062=0,0,IF((EQ2062-ET2062)>EL2062,EL2062,EQ2062-ET2062)))","v":0},{"$f":"IF(ET2062+EU2062=EI2062,0,IF(EO2062=0,0,IF((EO2062-ET2062-EU2062)>EJ2062,EJ2062,EO2062-ET2062-EU2062)))","v":0},0,0,null,{"$f":"W1324*(1-$I$420)","v":0},{"$f":"MAX(0,EJ2062-EV2062)","v":{"$error":"#VALUE!"}},{"$f":"MAX(0,EK2062-ET2062)","v":0},{"$f":"MAX(0,EL2062-EU2062)","v":0},0,{"$f":"MAX(0,EN2062-EX2062)","v":0},{"$f":"$EZ2062*D$420","v":0},{"$f":"$EZ2062*E$420","v":0},{"$f":"$EZ2062*F$420","v":0},0,{"$f":"$EZ2062*G$420","v":0},{"$f":"IF(FG2062=0,0,IF(FG2062>=FB2062,FB2062,FG2062))","v":0},{"$f":"IF(FK2062=EZ2062,0,IF(FH2062=0,0,IF((FH2062-FK2062)>FC2062,FC2062,FH2062-FK2062)))","v":0},{"$f":"IF(FK2062+FL2062=EZ2062,0,IF(FF2062=0,0,IF((FF2062-FK2062-FL2062)>FA2062,FA2062,FF2062-FK2062-FL2062)))","v":0},0,0,null,{"$f":"Z1324*(1-$I$423)","v":0},{"$f":"MAX(0,GI2062-GU2062)","v":{"$error":"#VALUE!"}},{"$f":"MAX(0,GJ2062-GS2062)","v":0},{"$f":"MAX(0,GK2062-GT2062)","v":0},0,{"$f":"MAX(0,GM2062-GW2062)","v":0},{"$f":"$FQ2062*$D$423","v":0},{"$f":"$FQ2062*$E$423","v":0},{"$f":"$FQ2062*$F$423","v":0},0,{"$f":"$FQ2062*$G$423","v":0},{"$f":"IF(FX2062=0,0,IF(FX2062>=FS2062,FS2062,FX2062))","v":0},{"$f":"IF(GB2062=FQ2062,0,IF(FY2062=0,0,IF((FY2062-GB2062)>FT2062,FT2062,FY2062-GB2062)))","v":0},{"$f":"IF(GB2062+GC2062=FQ2062,0,IF(FW2062=0,0,IF((FW2062-GB2062-GC2062)>FR2062,FR2062,FW2062-GB2062-GC2062)))","v":0},0,0,null,{"$f":"X1324*(1-$I$421)","v":0},{"$f":"MAX(0,FA2062-FM2062)","v":{"$error":"#VALUE!"}},{"$f":"MAX(0,FB2062-FK2062)","v":0},{"$f":"MAX(0,FC2062-FL2062)","v":0},0,{"$f":"MAX(0,FE2062-FO2062)","v":0},{"$f":"$GH2062*D$421","v":0},{"$f":"$GH2062*E$421","v":0},{"$f":"$GH2062*F$421","v":0},0,{"$f":"$GH2062*G$421","v":0},{"$f":"IF(GO2062=0,0,IF(GO2062>=GJ2062,GJ2062,GO2062))","v":0},{"$f":"IF(GS2062=GH2062,0,IF(GP2062=0,0,IF((GP2062-GS2062)>GK2062,GK2062,GP2062-GS2062)))","v":0},{"$f":"IF(GS2062+GT2062=GH2062,0,IF(GN2062=0,0,IF((GN2062-GS2062-GT2062)>GI2062,GI2062,GN2062-GS2062-GT2062)))","v":0},0,0,null,{"$f":"Y1324*(1-$I$422)","v":0},{"$f":"MAX(0,FR2062-GD2062)","v":{"$error":"#VALUE!"}},{"$f":"MAX(0,FS2062-GB2062)","v":0},{"$f":"MAX(0,FT2062-GC2062)","v":0},0,{"$f":"MAX(0,FV2062-GF2062)","v":0},{"$f":"$GY2062*D$422","v":0},{"$f":"$GY2062*E$422","v":0},{"$f":"$GY2062*F$422","v":0},0,{"$f":"$GY2062*G$422","v":0},{"$f":"IF(HF2062=0,0,IF(HF2062>=HA2062,HA2062,HF2062))","v":0},{"$f":"IF(HJ2062=GY2062,0,IF(HG2062=0,0,IF((HG2062-HJ2062)>HB2062,HB2062,HG2062-HJ2062)))","v":0},{"$f":"IF(HJ2062+HK2062=GY2062,0,IF(HE2062=0,0,IF((HE2062-HJ2062-HK2062)>GZ2062,GZ2062,HE2062-HJ2062-HK2062)))","v":0},0,0,null,{"$f":"AD1324","v":0},0,0,0,0,0,{"$f":"HP2062-SUM(HQ2062:HU2062)","v":0}]
[null,null,null,null,null,null,null,null,null,null,null,null,"2014-11-18",{"$error":"#VALUE!"},0,{"$error":"#VALUE!"},{"$f":"MAX(0,MIN($E$452,(Q2062+P2063)))","v":{"$error":"#VALUE!"}},0,null,0,{"$f":"MAX(0,MIN($E$452,(U2062+N2062-HQ2062-R2063)))","v":{"$error":"#VALUE!"}},{"$f":"AC1694","v":0},{"$f":"BC1694","v":0},{"$f":"CE1694","v":0},0,0,0,0,{"$f":"$T2063*H$412","v":0},0,0,0,0,{"$f":"IF(AC2063=0,0,IF(AC2063>=X2063,X2063,AC2063))","v":0},{"$f":"IF(AE2063+AF2063+AG2063+AH2063=T2063,0,IF(AD2063=0,0,IF((AD2063-AE2063-AF2063-AG2063-AH2063)>Y2063,Y2063,AD2063-AE2063-AF2063-AG2063-AH2063)))","v":0},null,0,{"$error":"#VALUE!"},0,0,0,0,{"$f":"$AK2063*G$413","v":0},{"$f":"$AK2063*E$413","v":0},{"$f":"$AK2063*F$413","v":0},{"$f":"$AK2063*H$413","v":0},0,0,0,0,{"$f":"IF(AT2063=0,0,IF(AT2063>=AO2063,AO2063,AT2063))","v":0},{"$f":"IF(AV2063+AW2063+AX2063+AY2063=AK2063,0,IF(AT2063=0,0,IF((AT2063-AV2063-AW2063-AX2063-AY2063)>AP2063,AP2063,AT2063-AV2063-AW2063-AX2063-AY2063)))","v":0},null,{"$f":"P1325*(1-$I$414)","v":0},{"$error":"#VALUE!"},0,0,{"$f":"MAX(0, AO2063-AY2063)","v":0},0,0,0,0,{"$f":"$BB2063*H$414","v":0},0,0,0,0,{"$f":"IF(BK2063=0,0,IF(BK2063>=BF2063,BF2063,BK2063))","v":0},{"$f":"IF(BM2063+BN2063+BO2063+BP2063=AZ2063,0,IF(BL2063=0,0,IF((BL2063-BM2063-BN2063-BO2063-BP2063)>BG2063,BG2063,BL2063-BM2063-BN2063-BO2063-BP2063)))","v":0},null,0,{"$error":"#VALUE!"},0,0,{"$f":"MAX(0, BF2063-BP2063)","v":0},0,0,0,0,{"$f":"$BS2063*H$415","v":0},0,0,0,0,{"$f":"IF(CB2063=0,0,IF(CB2063>=BW2063,BW2063,CB2063))","v":0},{"$f":"IF(CD2063+CE2063+CF2063+CG2063=BQ2063,0,IF(CC2063=0,0,IF((CC2063-CD2063-CE2063-CF2063-CG2063)>BX2063,BX2063,CC2063-CD2063-CE2063-CF2063-CG2063)))","v":0},null,0,{"$error":"#VALUE!"},0,0,{"$f":"MAX(0, BW2063-CG2063)","v":0},0,0,0,0,{"$f":"$CJ2063*H$416","v":0},0,0,0,0,{"$f":"IF(CS2063=0,0,IF(CS2063>=CN2063,CN2063,CS2063))","v":0},{"$f":"IF(CU2063+CV2063+CW2063+CX2063=CJ2063,0,IF(CT2063=0,0,IF((CT2063-CU2063-CV2063-CW2063-CX2063)>CO2063,CO2063,CT2063-CU2063-CV2063-CW2063-CX2063)))","v":0},null,0,{"$error":"#VALUE!"},0,0,{"$f":"MAX(0, CN2063-CX2063)","v":0},0,0,0,0,{"$f":"$DA2063*H$417","v":0},0,0,0,0,{"$f":"IF(DJ2063=0,0,IF(DJ2063>DE2063,DE2063,DJ2063))","v":0},{"$f":"IF(DL2063+DM2063+DN2063+DO2063=DA2063,0,IF(DK2063=0,0,IF((DK2063-DL2063-DM2063-DN2063-DO2063)>DF2063,DF2063,DK2063-DL2063-DM2063-DN2063-DO2063)))","v":0},null,0,{"$error":"#VALUE!"},0,0,{"$f":"MAX(0, DE2063-DO2063)","v":0},0,0,0,0,{"$f":"$DR2063*H$418","v":0},0,0,0,0,{"$f":"IF(EA2063=0,0,IF(EA2063>DV2063,DV2063,EA2063))","v":0},{"$f":"IF(EC2063+ED2063+EE2063=DR2063,0,IF(EB2063=0,0,IF((EB2063-EC2063-ED2063-EE2063)>DW2063,DW2063,EB2063-EC2063-ED2063-EE2063)))","v":0},null,0,{"$error":"#VALUE!"},0,0,{"$f":"MAX(0, DV2063-EF2063)","v":0},0,0,0,0,{"$f":"$EI2063*H$419","v":0},0,0,0,0,{"$f":"IF(ER2063=0,0,IF(ER2063>EM2063,EM2063,ER2063))","v":0},{"$f":"IF(ET2063+EU2063+EV2063+EW2063=EI2063,0,IF(ES2063=0,0,IF((ES2063-ET2063-EU2063-EV2063-EW2063)>EN2063,EN2063,ES2063-ET2063-EU2063-EV2063-EW2063)))","v":0},null,0,{"$error":"#VALUE!"},0,0,{"$f":"MAX(0, EM2063-EW2063)","v":0},0,0,0,0,{"$f":"$EZ2063*H$420","v":0},0,0,0,0,{"$f":"IF(FI2063=0,0,IF(FI2063>FD2063,FD2063,FI2063))","v":0},{"$f":"IF(FK2063+FL2063+FM2063+FN2063=EZ2063,0,IF(FJ2063=0,0,IF((FJ2063-FK2063-FL2063-FM2063-FN2063)>FE2063,FE2063,FJ2063-FK2063-FL2063-FM2063-FN2063)))","v":0},null,0,{"$error":"#VALUE!"},0,0,{"$f":"MAX(0, FD2063-FN2063)","v":0},0,0,0,0,{"$f":"$FQ2063*H$422","v":0},0,0,0,0,{"$f":"IF(FZ2063=0,0,IF(FZ2063>FU2063,FU2063,FZ2063))","v":0},{"$f":"IF(GB2063+GC2063+GD2063+GE2063=FQ2063,0,IF(GA2063=0,0,IF((GA2063-GB2063-GC2063-GD2063-GE2063)>FV2063,FV2063,GA2063-GB2063-GC2063-GD2063-GE2063)))","v":0},null,0,{"$error":"#VALUE!"},0,0,{"$f":"MAX(0, FU2063-GE2063)","v":0},0,0,0,0,{"$f":"$GH2063*H$423","v":0},0,0,0,0,{"$f":"IF(GQ2063=0,0,IF(GQ2063>GL2063,GL2063,GQ2063))","v":0},{"$f":"IF(GS2063+GT2063+GU2063+GV2063=GH2063,0,IF(GR2063=0,0,IF((GR2063-GS2063-GT2063-GU2063-GV2063)>GM2063,GM2063,GR2063-GS2063-GT2063-GU2063-GV2063)))","v":0},null,0,{"$error":"#VALUE!"},0,0,{"$f":"MAX(0, GL2063-GV2063)","v":0},0,0,0,0,{"$f":"$GY2063*H$424","v":0},0,0,0,0,{"$f":"IF(HH2063=0,0,IF(HH2063>HC2063,HC2063,HH2063))","v":0},{"$f":"IF(HJ2063+HK2063+HL2063+HM2063=GY2063,0,IF(HI2063=0,0,IF((HI2063-HJ2063-HK2063-HL2063-HM2063)>HD2063,HD2063,HI2063-HJ2063-HK2063-HL2063-HM2063)))","v":0},null,0,{"$f":"SUM(AG2063,AX2063,BO2063,CF2063,CW2063,DN2063,EE2063,EV2063,FM2063,GU2063,GD2063,HL2063,IC2063)","v":0},{"$f":"SUM(AE2063,AV2063,BM2063,CD2063,CU2063,DL2063,EC2063,ET2063,FK2063,GS2063,GB2063,HJ2063,IA2063)","v":0},{"$f":"SUM(AF2063,AW2063,BN2063,CE2063,CV2063,DM2063,ED2063,EU2063,FL2063,GT2063,GC2063,HK2063,IB2063)","v":0},{"$f":"SUM(AH2063,AY2063,BP2063,CG2063,CX2063,DO2063,EF2063,EW2063,FN2063,GE2063,GV2063,HM2063)","v":0},{"$f":"SUM(AI2063,AZ2063,BQ2063,CH2063,CY2063,DP2063,EG2063,EX2063,FO2063,GW2063,GF2063,HN2063,ID2063)","v":0},0]
[null,null,null,null,null,null,null,null,null,null,null,null,"2014-11-19",{"$error":"#VALUE!"},0,{"$error":"#VALUE!"},{"$error":"#VALUE!"},0,null,0,{"$error":"#VALUE!"},0,0,0,0,0,0,0,0,0,0,0,0,0,0,null,0,{"$error":"#VALUE!"},0,0,0,0,0,0,0,0,0,0,0,0,0,0,null,0,{"$error":"#VALUE!"},0,0,0,0,0,0,0,0,0,0,0,0,0,0,null,0,{"$error":"#VALUE!"},0,0,0,0,0,0,0,0,0,0,0,0,0,0,null,0,{"$error":"#VALUE!"},0,0,0,0,0,0,0,0,0,0,0,0,0,0,null,0,{"$error":"#VALUE!"},0,0,0,0,0,0,0,0,0,0,0,0,0,0,null,0,{"$error":"#VALUE!"},0,0,0,0,0,0,0,0,0,0,0,0,0,0,null,0,{"$error":"#VALUE!"},0,0,0,0,0,0,0,0,0,0,0,0,0,0,null,0,{"$error":"#VALUE!"},0,0,0,0,0,0,0,0,0,0,0,0,0,0,null,0,{"$error":"#VALUE!"},0,0,0,0,0,0,0,0,0,0,0,0,0,0,null,0,{"$error":"#VALUE!"},0,0,0,0,0,0,0,0,0,0,0,0,0,0,null,0,{"$error":"#VALUE!"},0,0,0,0,0,0,0,0,0,0,0,0,0,0,null,0,0,0,0,0,0,0]
[null,null,null,null,null,null,null,null,null,null,null,null,"2014-11-20",{"$error":"#VALUE!"},0,{"$error":"#VALUE!"},{"$error":"#VALUE!"},0,null,0,{"$error":"#VALUE!"},0,0,0,0,0,0,0,0,0,0,0,0,0,0,null,0,{"$error":"#VALUE!"},0,0,0,0,0,0,0,0,0,0,0,0,0,0,null,0,{"$error":"#VALUE!"},0,0,0,0,0,0,0,0,0,0,0,0,0,0,null,0,{"$error":"#VALUE!"},0,0,0,0,0,0,0,0,0,0,0,0,0,0,null,0,{"$error":"#VALUE!"},0,0,0,0,0,0,0,0,0,0,0,0,0,0,null,0,{"$error":"#VALUE!"},0,0,0,0,0,0,0,0,0,0,0,0,0,0,null,0,{"$error":"#VALUE!"},0,0,0,0,0,0,0,0,0,0,0,0,0,0,null,0,{"$error":"#VALUE!"},0,0,0,0,0,0,0,0,0,0,0,0,0,0,null,0,{"$error":"#VALUE!"},0,0,0,0,0,0,0,0,0,0,0,0,0,0,null,0,{"$error":"#VALUE!"},0,0,0,0,0,0,0,0,0,0,0,0,0,0,null,0,{"$error":"#VALUE!"},0,0,0,0,0,0,0,0,0,0,0,0,0,0,null,0,{"$error":"#VALUE!"},0,0,0,0,0,0,0,0,0,0,0,0,0,0,null,0,0,0,0,0,0,0]
[null,null,null,null,null,null,null,null,null,null,null,null,"2014-11-21",{"$error":"#VALUE!"},0,{"$error":"#VALUE!"},{"$error":"#VALUE!"},0,null,0,{"$error":"#VALUE!"},0,0,0,0,0,0,0,0,0,0,0,0,0,0,null,0,{"$error":"#VALUE!"},0,0,0,0,0,0,0,0,0,0,0,0,0,0,null,0,{"$error":"#VALUE!"},0,0,0,0,0,0,0,0,0,0,0,0,0,0,null,0,{"$error":"#VALUE!"},0,0,0,0,0,0,0,0,0,0,0,0,0,0,null,0,{"$error":"#VALUE!"},0,0,0,0,0,0,0,0,0,0,0,0,0,0,null,0,{"$error":"#VALUE!"},0,0,0,0,0,0,0,0,0,0,0,0,0,0,null,0,{"$error":"#VALUE!"},0,0,0,0,0,0,0,0,0,0,0,0,0,0,null,0,{"$error":"#VALUE!"},0,0,0,0,0,0,0,0,0,0,0,0,0,0,null,0,{"$error":"#VALUE!"},0,0,0,0,0,0,0,0,0,0,0,0,0,0,null,0,{"$error":"#VALUE!"},0,0,0,0,0,0,0,0,0,0,0,0,0,0,null,0,{"$error":"#VALUE!"},0,0,0,0,0,0,0,0,0,0,0,0,0,0,null,0,{"$error":"#VALUE!"},0,0,0,0,0,0,0,0,0,0,0,0,0,0,null,0,0,0,0,0,0,0]
[null,null,null,null,null,null,null,null,null,null,null,null,"2014-11-22",{"$error":"#VALUE!"},0,{"$error":"#VALUE!"},{"$error":"#VALUE!"},0,null,0,{"$error":"#VALUE!"},0,0,0,0,0,0,0,0,0,0,0,0,0,0,null,0,{"$error":"#VALUE!"},0,0,0,0,0,0,0,0,0,0,0,0,0,0,null,0,{"$error":"#VALUE!"},0,0,0,0,0,0,0,0,0,0,0,0,0,0,null,0,{"$error":"#VALUE!"},0,0,0,0,0,0,0,0,0,0,0,0,0,0,null,0,{"$error":"#VALUE!"},0,0,0,0,0,0,0,0,0,0,0,0,0,0,null,0,{"$error":"#VALUE!"},0,0,0,0,0,0,0,0,0,0,0,0,0,0,null,0,{"$error":"#VALUE!"},0,0,0,0,0,0,0,0,0,0,0,0,0,0,null,0,{"$error":"#VALUE!"},0,0,0,0,0,0,0,0,0,0,0,0,0,0,null,0,{"$error":"#VALUE!"},0,0,0,0,0,0,0,0,0,0,0,0,0,0,null,0,{"$error":"#VALUE!"},0,0,0,0,0,0,0,0,0,0,0,0,0,0,null,0,{"$error":"#VALUE!"},0,0,0,0,0,0,0,0,0,0,0,0,0,0,null,0,{"$error":"#VALUE!"},0,0,0,0,0,0,0,0,0,0,0,0,0,0,null,0,0,0,0,0,0,0]
[null,null,null,null,null,null,null,null,null,null,null,null,"2014-11-23",{"$error":"#VALUE!"},0,{"$error":"#VALUE!"},{"$error":"#VALUE!"},0,null,0,{"$error":"#VALUE!"},0,0,0,0,0,0,0,0,0,0,0,0,0,0,null,0,{"$error":"#VALUE!"},0,0,0,0,0,0,0,0,0,0,0,0,0,0,null,0,{"$error":"#VALUE!"},0,0,0,0,0,0,0,0,0,0,0,0,0,0,null,0,{"$error":"#VALUE!"},0,0,0,0,0,0,0,0,0,0,0,0,0,0,null,0,{"$error":"#VALUE!"},0,0,0,0,0,0,0,0,0,0,0,0,0,0,null,0,{"$error":"#VALUE!"},0,0,0,0,0,0,0,0,0,0,0,0,0,0,null,0,{"$error":"#VALUE!"},0,0,0,0,0,0,0,0,0,0,0,0,0,0,null,0,{"$error":"#VALUE!"},0,0,0,0,0,0,0,0,0,0,0,0,0,0,null,0,{"$error":"#VALUE!"},0,0,0,0,0,0,0,0,0,0,0,0,0,0,null,0,{"$error":"#VALUE!"},0,0,0,0,0,0,0,0,0,0,0,0,0,0,null,0,{"$error":"#VALUE!"},0,0,0,0,0,0,0,0,0,0,0,0,0,0,null,0,{"$error":"#VALUE!"},0,0,0,0,0,0,0,0,0,0,0,0,0,0,null,0,0,0,0,0,0,0]
[null,null,null,null,null,null,null,null,null,null,null,null,"2014-11-24",{"$error":"#VALUE!"},0,{"$error":"#VALUE!"},{"$error":"#VALUE!"},0,null,0,{"$error":"#VALUE!"},0,0,0,0,0,0,0,0,0,0,0,0,0,0,null,0,{"$error":"#VALUE!"},0,0,0,0,0,0,0,0,0,0,0,0,0,0,null,0,{"$error":"#VALUE!"},0,0,0,0,0,0,0,0,0,0,0,0,0,0,null,0,{"$error":"#VALUE!"},0,0,0,0,0,0,0,0,0,0,0,0,0,0,null,0,{"$error":"#VALUE!"},0,0,0,0,0,0,0,0,0,0,0,0,0,0,null,0,{"$error":"#VALUE!"},0,0,0,0,0,0,0,0,0,0,0,0,0,0,null,0,{"$error":"#VALUE!"},0,0,0,0,0,0,0,0,0,0,0,0,0,0,null,0,{"$error":"#VALUE!"},0,0,0,0,0,0,0,0,0,0,0,0,0,0,null,0,{"$error":"#VALUE!"},0,0,0,0,0,0,0,0,0,0,0,0,0,0,null,0,{"$error":"#VALUE!"},0,0,0,0,0,0,0,0,0,0,0,0,0,0,null,0,{"$error":"#VALUE!"},0,0,0,0,0,0,0,0,0,0,0,0,0,0,null,0,{"$error":"#VALUE!"},0,0,0,0,0,0,0,0,0,0,0,0,0,0,null,0,0,0,0,0,0,0]
[null,null,null,null,null,null,null,null,null,null,null,null,"2014-11-25",{"$error":"#VALUE!"},0,{"$error":"#VALUE!"},{"$error":"#VALUE!"},0,null,0,{"$error":"#VALUE!"},0,0,0,0,0,0,0,0,0,0,0,0,0,0,null,0,{"$error":"#VALUE!"},0,0,0,0,0,0,0,0,0,0,0,0,0,0,null,0,{"$error":"#VALUE!"},0,0,0,0,0,0,0,0,0,0,0,0,0,0,null,0,{"$error":"#VALUE!"},0,0,0,0,0,0,0,0,0,0,0,0,0,0,null,0,{"$error":"#VALUE!"},0,0,0,0,0,0,0,0,0,0,0,0,0,0,null,0,{"$error":"#VALUE!"},0,0,0,0,0,0,0,0,0,0,0,0,0,0,null,0,{"$error":"#VALUE!"},0,0,0,0,0,0,0,0,0,0,0,0,0,0,null,0,{"$error":"#VALUE!"},0,0,0,0,0,0,0,0,0,0,0,0,0,0,null,0,{"$error":"#VALUE!"},0,0,0,0,0,0,0,0,0,0,0,0,0,0,null,0,{"$error":"#VALUE!"},0,0,0,0,0,0,0,0,0,0,0,0,0,0,null,0,{"$error":"#VALUE!"},0,0,0,0,0,0,0,0,0,0,0,0,0,0,null,0,{"$error":"#VALUE!"},0,0,0,0,0,0,0,0,0,0,0,0,0,0,null,0,0,0,0,0,0,0]
[null,null,null,null,null,null,null,null,null,null,null,null,"2014-11-26",{"$error":"#VALUE!"},0,{"$error":"#VALUE!"},{"$error":"#VALUE!"},0,null,0,{"$error":"#VALUE!"},0,0,0,0,0,0,0,0,0,0,0,0,0,0,null,0,{"$error":"#VALUE!"},0,0,0,0,0,0,0,0,0,0,0,0,0,0,null,0,{"$error":"#VALUE!"},0,0,0,0,0,0,0,0,0,0,0,0,0,0,null,0,{"$error":"#VALUE!"},0,0,0,0,0,0,0,0,0,0,0,0,0,0,null,0,{"$error":"#VALUE!"},0,0,0,0,0,0,0,0,0,0,0,0,0,0,null,0,{"$error":"#VALUE!"},0,0,0,0,0,0,0,0,0,0,0,0,0,0,null,0,{"$error":"#VALUE!"},0,0,0,0,0,0,0,0,0,0,0,0,0,0,null,0,{"$error":"#VALUE!"},0,0,0,0,0,0,0,0,0,0,0,0,0,0,null,0,{"$error":"#VALUE!"},0,0,0,0,0,0,0,0,0,0,0,0,0,0,null,0,{"$error":"#VALUE!"},0,0,0,0,0,0,0,0,0,0,0,0,0,0,null,0,{"$error":"#VALUE!"},0,0,0,0,0,0,0,0,0,0,0,0,0,0,null,0,{"$error":"#VALUE!"},0,0,0,0,0,0,0,0,0,0,0,0,0,0,null,0,0,0,0,0,0,0]
[null,null,null,null,null,null,null,null,null,null,null,null,"2014-11-27",{"$error":"#VALUE!"},0,{"$error":"#VALUE!"},{"$error":"#VALUE!"},0,null,0,{"$error":"#VALUE!"},0,0,0,0,0,0,0,0,0,0,0,0,0,0,null,0,{"$error":"#VALUE!"},0,0,0,0,0,0,0,0,0,0,0,0,0,0,null,0,{"$error":"#VALUE!"},0,0,0,0,0,0,0,0,0,0,0,0,0,0,null,0,{"$error":"#VALUE!"},0,0,0,0,0,0,0,0,0,0,0,0,0,0,null,0,{"$error":"#VALUE!"},0,0,0,0,0,0,0,0,0,0,0,0,0,0,null,0,{"$error":"#VALUE!"},0,0,0,0,0,0,0,0,0,0,0,0,0,0,null,0,{"$error":"#VALUE!"},0,0,0,0,0,0,0,0,0,0,0,0,0,0,null,0,{"$error":"#VALUE!"},0,0,0,0,0,0,0,0,0,0,0,0,0,0,null,0,{"$error":"#VALUE!"},0,0,0,0,0,0,0,0,0,0,0,0,0,0,null,0,{"$error":"#VALUE!"},0,0,0,0,0,0,0,0,0,0,0,0,0,0,null,0,{"$error":"#VALUE!"},0,0,0,0,0,0,0,0,0,0,0,0,0,0,null,0,{"$error":"#VALUE!"},0,0,0,0,0,0,0,0,0,0,0,0,0,0,null,0,0,0,0,0,0,0]
[null,null,null,null,null,null,null,null,null,null,null,null,"2014-11-28",{"$error":"#VALUE!"},0,{"$error":"#VALUE!"},{"$error":"#VALUE!"},0,null,0,{"$error":"#VALUE!"},0,0,0,0,0,0,0,0,0,0,0,0,0,0,null,0,{"$error":"#VALUE!"},0,0,0,0,0,0,0,0,0,0,0,0,0,0,null,0,{"$error":"#VALUE!"},0,0,0,0,0,0,0,0,0,0,0,0,0,0,null,0,{"$error":"#VALUE!"},0,0,0,0,0,0,0,0,0,0,0,0,0,0,null,0,{"$error":"#VALUE!"},0,0,0,0,0,0,0,0,0,0,0,0,0,0,null,0,{"$error":"#VALUE!"},0,0,0,0,0,0,0,0,0,0,0,0,0,0,null,0,{"$error":"#VALUE!"},0,0,0,0,0,0,0,0,0,0,0,0,0,0,null,0,{"$error":"#VALUE!"},0,0,0,0,0,0,0,0,0,0,0,0,0,0,null,0,{"$error":"#VALUE!"},0,0,0,0,0,0,0,0,0,0,0,0,0,0,null,0,{"$error":"#VALUE!"},0,0,0,0,0,0,0,0,0,0,0,0,0,0,null,0,{"$error":"#VALUE!"},0,0,0,0,0,0,0,0,0,0,0,0,0,0,null,0,{"$error":"#VALUE!"},0,0,0,0,0,0,0,0,0,0,0,0,0,0,null,0,0,0,0,0,0,0]
[null,null,null,null,null,null,null,null,null,null,null,null,"2014-11-29",{"$error":"#VALUE!"},0,{"$error":"#VALUE!"},{"$error":"#VALUE!"},0,null,0,{"$error":"#VALUE!"},0,0,0,0,0,0,0,0,0,0,0,0,0,0,null,0,{"$error":"#VALUE!"},0,0,0,0,0,0,0,0,0,0,0,0,0,0,null,0,{"$error":"#VALUE!"},0,0,0,0,0,0,0,0,0,0,0,0,0,0,null,0,{"$error":"#VALUE!"},0,0,0,0,0,0,0,0,0,0,0,0,0,0,null,0,{"$error":"#VALUE!"},0,0,0,0,0,0,0,0,0,0,0,0,0,0,null,0,{"$error":"#VALUE!"},0,0,0,0,0,0,0,0,0,0,0,0,0,0,null,0,{"$error":"#VALUE!"},0,0,0,0,0,0,0,0,0,0,0,0,0,0,null,0,{"$error":"#VALUE!"},0,0,0,0,0,0,0,0,0,0,0,0,0,0,null,0,{"$error":"#VALUE!"},0,0,0,0,0,0,0,0,0,0,0,0,0,0,null,0,{"$error":"#VALUE!"},0,0,0,0,0,0,0,0,0,0,0,0,0,0,null,0,{"$error":"#VALUE!"},0,0,0,0,0,0,0,0,0,0,0,0,0,0,null,0,{"$error":"#VALUE!"},0,0,0,0,0,0,0,0,0,0,0,0,0,0,null,0,0,0,0,0,0,0]
[null,null,null,null,null,null,null,null,null,null,null,null,"2014-11-30",{"$error":"#VALUE!"},0,{"$error":"#VALUE!"},{"$error":"#VALUE!"},0,null,0,{"$error":"#VALUE!"},0,0,0,0,0,0,0,0,0,0,0,0,0,0,null,0,{"$error":"#VALUE!"},0,0,0,0,0,0,0,0,0,0,0,0,0,0,null,0,{"$error":"#VALUE!"},0,0,0,0,0,0,0,0,0,0,0,0,0,0,null,0,{"$error":"#VALUE!"},0,0,0,0,0,0,0,0,0,0,0,0,0,0,null,0,{"$error":"#VALUE!"},0,0,0,0,0,0,0,0,0,0,0,0,0,0,null,0,{"$error":"#VALUE!"},0,0,0,0,0,0,0,0,0,0,0,0,0,0,null,0,{"$error":"#VALUE!"},0,0,0,0,0,0,0,0,0,0,0,0,0,0,null,0,{"$error":"#VALUE!"},0,0,0,0,0,0,0,0,0,0,0,0,0,0,null,0,{"$error":"#VALUE!"},0,0,0,0,0,0,0,0,0,0,0,0,0,0,null,0,{"$error":"#VALUE!"},0,0,0,0,0,0,0,0,0,0,0,0,0,0,null,0,{"$error":"#VALUE!"},0,0,0,0,0,0,0,0,0,0,0,0,0,0,null,0,{"$error":"#VALUE!"},0,0,0,0,0,0,0,0,0,0,0,0,0,0,null,0,0,0,0,0,0,0]
[null,null,null,null,null,null,null,null,null,null,null,null,"2014-12-01",{"$error":"#VALUE!"},0,{"$error":"#VALUE!"},{"$error":"#VALUE!"},0,null,0,{"$error":"#VALUE!"},0,0,0,0,0,0,0,0,0,0,0,0,0,0,null,0,{"$error":"#VALUE!"},0,0,0,0,0,0,0,0,0,0,0,0,0,0,null,0,{"$error":"#VALUE!"},0,0,0,0,0,0,0,0,0,0,0,0,0,0,null,0,{"$error":"#VALUE!"},0,0,0,0,0,0,0,0,0,0,0,0,0,0,null,0,{"$error":"#VALUE!"},0,0,0,0,0,0,0,0,0,0,0,0,0,0,null,0,{"$error":"#VALUE!"},0,0,0,0,0,0,0,0,0,0,0,0,0,0,null,0,{"$error":"#VALUE!"},0,0,0,0,0,0,0,0,0,0,0,0,0,0,null,0,{"$error":"#VALUE!"},0,0,0,0,0,0,0,0,0,0,0,0,0,0,null,0,{"$error":"#VALUE!"},0,0,0,0,0,0,0,0,0,0,0,0,0,0,null,0,{"$error":"#VALUE!"},0,0,0,0,0,0,0,0,0,0,0,0,0,0,null,0,{"$error":"#VALUE!"},0,0,0,0,0,0,0,0,0,0,0,0,0,0,null,0,{"$error":"#VALUE!"},0,0,0,0,0,0,0,0,0,0,0,0,0,0,null,0,0,0,0,0,0,0]
[null,null,null,null,null,null,null,null,null,null,null,null,"2014-12-02",{"$error":"#VALUE!"},0,{"$error":"#VALUE!"},{"$error":"#VALUE!"},0,null,0,{"$error":"#VALUE!"},0,0,0,0,0,0,0,0,0,0,0,0,0,0,null,0,{"$error":"#VALUE!"},0,0,0,0,0,0,0,0,0,0,0,0,0,0,null,0,{"$error":"#VALUE!"},0,0,0,0,0,0,0,0,0,0,0,0,0,0,null,0,{"$error":"#VALUE!"},0,0,0,0,0,0,0,0,0,0,0,0,0,0,null,0,{"$error":"#VALUE!"},0,0,0,0,0,0,0,0,0,0,0,0,0,0,null,0,{"$error":"#VALUE!"},0,0,0,0,0,0,0,0,0,0,0,0,0,0,null,0,{"$error":"#VALUE!"},0,0,0,0,0,0,0,0,0,0,0,0,0,0,null,0,{"$error":"#VALUE!"},0,0,0,0,0,0,0,0,0,0,0,0,0,0,null,0,{"$error":"#VALUE!"},0,0,0,0,0,0,0,0,0,0,0,0,0,0,null,0,{"$error":"#VALUE!"},0,0,0,0,0,0,0,0,0,0,0,0,0,0,null,0,{"$error":"#VALUE!"},0,0,0,0,0,0,0,0,0,0,0,0,0,0,null,0,{"$error":"#VALUE!"},0,0,0,0,0,0,0,0,0,0,0,0,0,0,null,0,0,0,0,0,0,0]
[null,null,null,null,null,null,null,null,null,null,null,null,"2014-12-03",{"$error":"#VALUE!"},0,{"$error":"#VALUE!"},{"$error":"#VALUE!"},0,null,0,{"$error":"#VALUE!"},0,0,0,0,0,0,0,0,0,0,0,0,0,0,null,0,{"$error":"#VALUE!"},0,0,0,0,0,0,0,0,0,0,0,0,0,0,null,0,{"$error":"#VALUE!"},0,0,0,0,0,0,0,0,0,0,0,0,0,0,null,0,{"$error":"#VALUE!"},0,0,0,0,0,0,0,0,0,0,0,0,0,0,null,0,{"$error":"#VALUE!"},0,0,0,0,0,0,0,0,0,0,0,0,0,0,null,0,{"$error":"#VALUE!"},0,0,0,0,0,0,0,0,0,0,0,0,0,0,null,0,{"$error":"#VALUE!"},0,0,0,0,0,0,0,0,0,0,0,0,0,0,null,0,{"$error":"#VALUE!"},0,0,0,0,0,0,0,0,0,0,0,0,0,0,null,0,{"$error":"#VALUE!"},0,0,0,0,0,0,0,0,0,0,0,0,0,0,null,0,{"$error":"#VALUE!"},0,0,0,0,0,0,0,0,0,0,0,0,0,0,null,0,{"$error":"#VALUE!"},0,0,0,0,0,0,0,0,0,0,0,0,0,0,null,0,{"$error":"#VALUE!"},0,0,0,0,0,0,0,0,0,0,0,0,0,0,null,0,0,0,0,0,0,0]
[null,null,null,null,null,null,null,null,null,null,null,null,"2014-12-04",{"$error":"#VALUE!"},0,{"$error":"#VALUE!"},{"$error":"#VALUE!"},0,null,0,{"$error":"#VALUE!"},0,0,0,0,0,0,0,0,0,0,0,0,0,0,null,0,{"$error":"#VALUE!"},0,0,0,0,0,0,0,0,0,0,0,0,0,0,null,0,{"$error":"#VALUE!"},0,0,0,0,0,0,0,0,0,0,0,0,0,0,null,0,{"$error":"#VALUE!"},0,0,0,0,0,0,0,0,0,0,0,0,0,0,null,0,{"$error":"#VALUE!"},0,0,0,0,0,0,0,0,0,0,0,0,0,0,null,0,{"$error":"#VALUE!"},0,0,0,0,0,0,0,0,0,0,0,0,0,0,null,0,{"$error":"#VALUE!"},0,0,0,0,0,0,0,0,0,0,0,0,0,0,null,0,{"$error":"#VALUE!"},0,0,0,0,0,0,0,0,0,0,0,0,0,0,null,0,{"$error":"#VALUE!"},0,0,0,0,0,0,0,0,0,0,0,0,0,0,null,0,{"$error":"#VALUE!"},0,0,0,0,0,0,0,0,0,0,0,0,0,0,null,0,{"$error":"#VALUE!"},0,0,0,0,0,0,0,0,0,0,0,0,0,0,null,0,{"$error":"#VALUE!"},0,0,0,0,0,0,0,0,0,0,0,0,0,0,null,0,0,0,0,0,0,0]
[null,null,null,null,null,null,null,null,null,null,null,null,"2014-12-05",{"$error":"#VALUE!"},0,{"$error":"#VALUE!"},{"$error":"#VALUE!"},0,null,0,{"$error":"#VALUE!"},0,0,0,0,0,0,0,0,0,0,0,0,0,0,null,0,{"$error":"#VALUE!"},0,0,0,0,0,0,0,0,0,0,0,0,0,0,null,0,{"$error":"#VALUE!"},0,0,0,0,0,0,0,0,0,0,0,0,0,0,null,0,{"$error":"#VALUE!"},0,0,0,0,0,0,0,0,0,0,0,0,0,0,null,0,{"$error":"#VALUE!"},0,0,0,0,0,0,0,0,0,0,0,0,0,0,null,0,{"$error":"#VALUE!"},0,0,0,0,0,0,0,0,0,0,0,0,0,0,null,0,{"$error":"#VALUE!"},0,0,0,0,0,0,0,0,0,0,0,0,0,0,null,0,{"$error":"#VALUE!"},0,0,0,0,0,0,0,0,0,0,0,0,0,0,null,0,{"$error":"#VALUE!"},0,0,0,0,0,0,0,0,0,0,0,0,0,0,null,0,{"$error":"#VALUE!"},0,0,0,0,0,0,0,0,0,0,0,0,0,0,null,0,{"$error":"#VALUE!"},0,0,0,0,0,0,0,0,0,0,0,0,0,0,null,0,{"$error":"#VALUE!"},0,0,0,0,0,0,0,0,0,0,0,0,0,0,null,0,0,0,0,0,0,0]
[null,null,null,null,null,null,null,null,null,null,null,null,"2014-12-06",{"$error":"#VALUE!"},0,{"$error":"#VALUE!"},{"$error":"#VALUE!"},0,null,0,{"$error":"#VALUE!"},0,0,0,0,0,0,0,0,0,0,0,0,0,0,null,0,{"$error":"#VALUE!"},0,0,0,0,0,0,0,0,0,0,0,0,0,0,null,0,{"$error":"#VALUE!"},0,0,0,0,0,0,0,0,0,0,0,0,0,0,null,0,{"$error":"#VALUE!"},0,0,0,0,0,0,0,0,0,0,0,0,0,0,null,0,{"$error":"#VALUE!"},0,0,0,0,0,0,0,0,0,0,0,0,0,0,null,0,{"$error":"#VALUE!"},0,0,0,0,0,0,0,0,0,0,0,0,0,0,null,0,{"$error":"#VALUE!"},0,0,0,0,0,0,0,0,0,0,0,0,0,0,null,0,{"$error":"#VALUE!"},0,0,0,0,0,0,0,0,0,0,0,0,0,0,null,0,{"$error":"#VALUE!"},0,0,0,0,0,0,0,0,0,0,0,0,0,0,null,0,{"$error":"#VALUE!"},0,0,0,0,0,0,0,0,0,0,0,0,0,0,null,0,{"$error":"#VALUE!"},0,0,0,0,0,0,0,0,0,0,0,0,0,0,null,0,{"$error":"#VALUE!"},0,0,0,0,0,0,0,0,0,0,0,0,0,0,null,0,0,0,0,0,0,0]
[null,null,null,null,null,null,null,null,null,null,null,null,"2014-12-07",{"$error":"#VALUE!"},0,{"$error":"#VALUE!"},{"$error":"#VALUE!"},0,null,0,{"$error":"#VALUE!"},0,0,0,0,0,0,0,0,0,0,0,0,0,0,null,0,{"$error":"#VALUE!"},0,0,0,0,0,0,0,0,0,0,0,0,0,0,null,0,{"$error":"#VALUE!"},0,0,0,0,0,0,0,0,0,0,0,0,0,0,null,0,{"$error":"#VALUE!"},0,0,0,0,0,0,0,0,0,0,0,0,0,0,null,0,{"$error":"#VALUE!"},0,0,0,0,0,0,0,0,0,0,0,0,0,0,null,0,{"$error":"#VALUE!"},0,0,0,0,0,0,0,0,0,0,0,0,0,0,null,0,{"$error":"#VALUE!"},0,0,0,0,0,0,0,0,0,0,0,0,0,0,null,0,{"$error":"#VALUE!"},0,0,0,0,0,0,0,0,0,0,0,0,0,0,null,0,{"$error":"#VALUE!"},0,0,0,0,0,0,0,0,0,0,0,0,0,0,null,0,{"$error":"#VALUE!"},0,0,0,0,0,0,0,0,0,0,0,0,0,0,null,0,{"$error":"#VALUE!"},0,0,0,0,0,0,0,0,0,0,0,0,0,0,null,0,{"$error":"#VALUE!"},0,0,0,0,0,0,0,0,0,0,0,0,0,0,null,0,0,0,0,0,0,0]
[null,null,null,null,null,null,null,null,null,null,null,null,"2014-12-08",{"$error":"#VALUE!"},0,{"$error":"#VALUE!"},{"$error":"#VALUE!"},0,null,0,{"$error":"#VALUE!"},0,0,0,0,0,0,0,0,0,0,0,0,0,0,null,0,{"$error":"#VALUE!"},0,0,0,0,0,0,0,0,0,0,0,0,0,0,null,0,{"$error":"#VALUE!"},0,0,0,0,0,0,0,0,0,0,0,0,0,0,null,0,{"$error":"#VALUE!"},0,0,0,0,0,0,0,0,0,0,0,0,0,0,null,0,{"$error":"#VALUE!"},0,0,0,0,0,0,0,0,0,0,0,0,0,0,null,0,{"$error":"#VALUE!"},0,0,0,0,0,0,0,0,0,0,0,0,0,0,null,0,{"$error":"#VALUE!"},0,0,0,0,0,0,0,0,0,0,0,0,0,0,null,0,{"$error":"#VALUE!"},0,0,0,0,0,0,0,0,0,0,0,0,0,0,null,0,{"$error":"#VALUE!"},0,0,0,0,0,0,0,0,0,0,0,0,0,0,null,0,{"$error":"#VALUE!"},0,0,0,0,0,0,0,0,0,0,0,0,0,0,null,0,{"$error":"#VALUE!"},0,0,0,0,0,0,0,0,0,0,0,0,0,0,null,0,{"$error":"#VALUE!"},0,0,0,0,0,0,0,0,0,0,0,0,0,0,null,0,0,0,0,0,0,0]
[null,null,null,null,null,null,null,null,null,null,null,null,"2014-12-09",{"$error":"#VALUE!"},0,{"$error":"#VALUE!"},{"$error":"#VALUE!"},0,null,0,{"$error":"#VALUE!"},0,0,0,0,0,0,0,0,0,0,0,0,0,0,null,0,{"$error":"#VALUE!"},0,0,0,0,0,0,0,0,0,0,0,0,0,0,null,0,{"$error":"#VALUE!"},0,0,0,0,0,0,0,0,0,0,0,0,0,0,null,0,{"$error":"#VALUE!"},0,0,0,0,0,0,0,0,0,0,0,0,0,0,null,0,{"$error":"#VALUE!"},0,0,0,0,0,0,0,0,0,0,0,0,0,0,null,0,{"$error":"#VALUE!"},0,0,0,0,0,0,0,0,0,0,0,0,0,0,null,0,{"$error":"#VALUE!"},0,0,0,0,0,0,0,0,0,0,0,0,0,0,null,0,{"$error":"#VALUE!"},0,0,0,0,0,0,0,0,0,0,0,0,0,0,null,0,{"$error":"#VALUE!"},0,0,0,0,0,0,0,0,0,0,0,0,0,0,null,0,{"$error":"#VALUE!"},0,0,0,0,0,0,0,0,0,0,0,0,0,0,null,0,{"$error":"#VALUE!"},0,0,0,0,0,0,0,0,0,0,0,0,0,0,null,0,{"$error":"#VALUE!"},0,0,0,0,0,0,0,0,0,0,0,0,0,0,null,0,0,0,0,0,0,0]
[null,null,null,null,null,null,null,null,null,null,null,null,"2014-12-10",{"$error":"#VALUE!"},0,{"$error":"#VALUE!"},{"$error":"#VALUE!"},0,null,0,{"$error":"#VALUE!"},0,0,0,0,0,0,0,0,0,0,0,0,0,0,null,0,{"$error":"#VALUE!"},0,0,0,0,0,0,0,0,0,0,0,0,0,0,null,0,{"$error":"#VALUE!"},0,0,0,0,0,0,0,0,0,0,0,0,0,0,null,0,{"$error":"#VALUE!"},0,0,0,0,0,0,0,0,0,0,0,0,0,0,null,0,{"$error":"#VALUE!"},0,0,0,0,0,0,0,0,0,0,0,0,0,0,null,0,{"$error":"#VALUE!"},0,0,0,0,0,0,0,0,0,0,0,0,0,0,null,0,{"$error":"#VALUE!"},0,0,0,0,0,0,0,0,0,0,0,0,0,0,null,0,{"$error":"#VALUE!"},0,0,0,0,0,0,0,0,0,0,0,0,0,0,null,0,{"$error":"#VALUE!"},0,0,0,0,0,0,0,0,0,0,0,0,0,0,null,0,{"$error":"#VALUE!"},0,0,0,0,0,0,0,0,0,0,0,0,0,0,null,0,{"$error":"#VALUE!"},0,0,0,0,0,0,0,0,0,0,0,0,0,0,null,0,{"$error":"#VALUE!"},0,0,0,0,0,0,0,0,0,0,0,0,0,0,null,0,0,0,0,0,0,0]
[null,null,null,null,null,null,null,null,null,null,null,null,"2014-12-11",{"$error":"#VALUE!"},0,{"$error":"#VALUE!"},{"$error":"#VALUE!"},0,null,0,{"$error":"#VALUE!"},0,0,0,0,0,0,0,0,0,0,0,0,0,0,null,0,{"$error":"#VALUE!"},0,0,0,0,0,0,0,0,0,0,0,0,0,0,null,0,{"$error":"#VALUE!"},0,0,0,0,0,0,0,0,0,0,0,0,0,0,null,0,{"$error":"#VALUE!"},0,0,0,0,0,0,0,0,0,0,0,0,0,0,null,0,{"$error":"#VALUE!"},0,0,0,0,0,0,0,0,0,0,0,0,0,0,null,0,{"$error":"#VALUE!"},0,0,0,0,0,0,0,0,0,0,0,0,0,0,null,0,{"$error":"#VALUE!"},0,0,0,0,0,0,0,0,0,0,0,0,0,0,null,0,{"$error":"#VALUE!"},0,0,0,0,0,0,0,0,0,0,0,0,0,0,null,0,{"$error":"#VALUE!"},0,0,0,0,0,0,0,0,0,0,0,0,0,0,null,0,{"$error":"#VALUE!"},0,0,0,0,0,0,0,0,0,0,0,0,0,0,null,0,{"$error":"#VALUE!"},0,0,0,0,0,0,0,0,0,0,0,0,0,0,null,0,{"$error":"#VALUE!"},0,0,0,0,0,0,0,0,0,0,0,0,0,0,null,0,0,0,0,0,0,0]
[null,null,null,null,null,null,null,null,null,null,null,null,"2014-12-12",{"$error":"#VALUE!"},0,{"$error":"#VALUE!"},{"$error":"#VALUE!"},0,null,0,{"$error":"#VALUE!"},0,0,0,0,0,0,0,0,0,0,0,0,0,0,null,0,{"$error":"#VALUE!"},0,0,0,0,0,0,0,0,0,0,0,0,0,0,null,0,{"$error":"#VALUE!"},0,0,0,0,0,0,0,0,0,0,0,0,0,0,null,0,{"$error":"#VALUE!"},0,0,0,0,0,0,0,0,0,0,0,0,0,0,null,0,{"$error":"#VALUE!"},0,0,0,0,0,0,0,0,0,0,0,0,0,0,null,0,{"$error":"#VALUE!"},0,0,0,0,0,0,0,0,0,0,0,0,0,0,null,0,{"$error":"#VALUE!"},0,0,0,0,0,0,0,0,0,0,0,0,0,0,null,0,{"$error":"#VALUE!"},0,0,0,0,0,0,0,0,0,0,0,0,0,0,null,0,{"$error":"#VALUE!"},0,0,0,0,0,0,0,0,0,0,0,0,0,0,null,0,{"$error":"#VALUE!"},0,0,0,0,0,0,0,0,0,0,0,0,0,0,null,0,{"$error":"#VALUE!"},0,0,0,0,0,0,0,0,0,0,0,0,0,0,null,0,{"$error":"#VALUE!"},0,0,0,0,0,0,0,0,0,0,0,0,0,0,null,0,0,0,0,0,0,0]
[null,null,null,null,null,null,null,null,null,null,null,null,"2014-12-13",{"$error":"#VALUE!"},0,{"$error":"#VALUE!"},{"$error":"#VALUE!"},0,null,0,{"$error":"#VALUE!"},0,0,0,0,0,0,0,0,0,0,0,0,0,0,null,0,{"$error":"#VALUE!"},0,0,0,0,0,0,0,0,0,0,0,0,0,0,null,0,{"$error":"#VALUE!"},0,0,0,0,0,0,0,0,0,0,0,0,0,0,null,0,{"$error":"#VALUE!"},0,0,0,0,0,0,0,0,0,0,0,0,0,0,null,0,{"$error":"#VALUE!"},0,0,0,0,0,0,0,0,0,0,0,0,0,0,null,0,{"$error":"#VALUE!"},0,0,0,0,0,0,0,0,0,0,0,0,0,0,null,0,{"$error":"#VALUE!"},0,0,0,0,0,0,0,0,0,0,0,0,0,0,null,0,{"$error":"#VALUE!"},0,0,0,0,0,0,0,0,0,0,0,0,0,0,null,0,{"$error":"#VALUE!"},0,0,0,0,0,0,0,0,0,0,0,0,0,0,null,0,{"$error":"#VALUE!"},0,0,0,0,0,0,0,0,0,0,0,0,0,0,null,0,{"$error":"#VALUE!"},0,0,0,0,0,0,0,0,0,0,0,0,0,0,null,0,{"$error":"#VALUE!"},0,0,0,0,0,0,0,0,0,0,0,0,0,0,null,0,0,0,0,0,0,0]
[null,null,null,null,null,null,null,null,null,null,null,null,"2014-12-14",{"$error":"#VALUE!"},0,{"$error":"#VALUE!"},{"$error":"#VALUE!"},0,null,0,{"$error":"#VALUE!"},0,0,0,0,0,0,0,0,0,0,0,0,0,0,null,0,{"$error":"#VALUE!"},0,0,0,0,0,0,0,0,0,0,0,0,0,0,null,0,{"$error":"#VALUE!"},0,0,0,0,0,0,0,0,0,0,0,0,0,0,null,0,{"$error":"#VALUE!"},0,0,0,0,0,0,0,0,0,0,0,0,0,0,null,0,{"$error":"#VALUE!"},0,0,0,0,0,0,0,0,0,0,0,0,0,0,null,0,{"$error":"#VALUE!"},0,0,0,0,0,0,0,0,0,0,0,0,0,0,null,0,{"$error":"#VALUE!"},0,0,0,0,0,0,0,0,0,0,0,0,0,0,null,0,{"$error":"#VALUE!"},0,0,0,0,0,0,0,0,0,0,0,0,0,0,null,0,{"$error":"#VALUE!"},0,0,0,0,0,0,0,0,0,0,0,0,0,0,null,0,{"$error":"#VALUE!"},0,0,0,0,0,0,0,0,0,0,0,0,0,0,null,0,{"$error":"#VALUE!"},0,0,0,0,0,0,0,0,0,0,0,0,0,0,null,0,{"$error":"#VALUE!"},0,0,0,0,0,0,0,0,0,0,0,0,0,0,null,0,0,0,0,0,0,0]
[null,null,null,null,null,null,null,null,null,null,null,null,"2014-12-15",{"$error":"#VALUE!"},0,{"$error":"#VALUE!"},{"$error":"#VALUE!"},0,null,0,{"$error":"#VALUE!"},0,0,0,0,0,0,0,0,0,0,0,0,0,0,null,0,{"$error":"#VALUE!"},0,0,0,0,0,0,0,0,0,0,0,0,0,0,null,0,{"$error":"#VALUE!"},0,0,0,0,0,0,0,0,0,0,0,0,0,0,null,0,{"$error":"#VALUE!"},0,0,0,0,0,0,0,0,0,0,0,0,0,0,null,0,{"$error":"#VALUE!"},0,0,0,0,0,0,0,0,0,0,0,0,0,0,null,0,{"$error":"#VALUE!"},0,0,0,0,0,0,0,0,0,0,0,0,0,0,null,0,{"$error":"#VALUE!"},0,0,0,0,0,0,0,0,0,0,0,0,0,0,null,0,{"$error":"#VALUE!"},0,0,0,0,0,0,0,0,0,0,0,0,0,0,null,0,{"$error":"#VALUE!"},0,0,0,0,0,0,0,0,0,0,0,0,0,0,null,0,{"$error":"#VALUE!"},0,0,0,0,0,0,0,0,0,0,0,0,0,0,null,0,{"$error":"#VALUE!"},0,0,0,0,0,0,0,0,0,0,0,0,0,0,null,0,{"$error":"#VALUE!"},0,0,0,0,0,0,0,0,0,0,0,0,0,0,null,0,0,0,0,0,0,0]
[null,null,null,null,null,null,null,null,null,null,null,null,"2014-12-16",{"$error":"#VALUE!"},0,{"$error":"#VALUE!"},{"$error":"#VALUE!"},0,null,0,{"$error":"#VALUE!"},0,0,0,0,0,0,0,0,0,0,0,0,0,0,null,0,{"$error":"#VALUE!"},0,0,0,0,0,0,0,0,0,0,0,0,0,0,null,0,{"$error":"#VALUE!"},0,0,0,0,0,0,0,0,0,0,0,0,0,0,null,0,{"$error":"#VALUE!"},0,0,0,0,0,0,0,0,0,0,0,0,0,0,null,0,{"$error":"#VALUE!"},0,0,0,0,0,0,0,0,0,0,0,0,0,0,null,0,{"$error":"#VALUE!"},0,0,0,0,0,0,0,0,0,0,0,0,0,0,null,0,{"$error":"#VALUE!"},0,0,0,0,0,0,0,0,0,0,0,0,0,0,null,0,{"$error":"#VALUE!"},0,0,0,0,0,0,0,0,0,0,0,0,0,0,null,0,{"$error":"#VALUE!"},0,0,0,0,0,0,0,0,0,0,0,0,0,0,null,0,{"$error":"#VALUE!"},0,0,0,0,0,0,0,0,0,0,0,0,0,0,null,0,{"$error":"#VALUE!"},0,0,0,0,0,0,0,0,0,0,0,0,0,0,null,0,{"$error":"#VALUE!"},0,0,0,0,0,0,0,0,0,0,0,0,0,0,null,0,0,0,0,0,0,0]
[null,null,null,null,null,null,null,null,null,null,null,null,"2014-12-17",{"$error":"#VALUE!"},0,{"$error":"#VALUE!"},{"$error":"#VALUE!"},0,null,0,{"$error":"#VALUE!"},0,0,0,0,0,0,0,0,0,0,0,0,0,0,null,0,{"$error":"#VALUE!"},0,0,0,0,0,0,0,0,0,0,0,0,0,0,null,0,{"$error":"#VALUE!"},0,0,0,0,0,0,0,0,0,0,0,0,0,0,null,0,{"$error":"#VALUE!"},0,0,0,0,0,0,0,0,0,0,0,0,0,0,null,0,{"$error":"#VALUE!"},0,0,0,0,0,0,0,0,0,0,0,0,0,0,null,0,{"$error":"#VALUE!"},0,0,0,0,0,0,0,0,0,0,0,0,0,0,null,0,{"$error":"#VALUE!"},0,0,0,0,0,0,0,0,0,0,0,0,0,0,null,0,{"$error":"#VALUE!"},0,0,0,0,0,0,0,0,0,0,0,0,0,0,null,0,{"$error":"#VALUE!"},0,0,0,0,0,0,0,0,0,0,0,0,0,0,null,0,{"$error":"#VALUE!"},0,0,0,0,0,0,0,0,0,0,0,0,0,0,null,0,{"$error":"#VALUE!"},0,0,0,0,0,0,0,0,0,0,0,0,0,0,null,0,{"$error":"#VALUE!"},0,0,0,0,0,0,0,0,0,0,0,0,0,0,null,0,0,0,0,0,0,0]
[null,null,null,null,null,null,null,null,null,null,null,null,"2014-12-18",{"$error":"#VALUE!"},0,{"$error":"#VALUE!"},{"$error":"#VALUE!"},0,null,0,{"$error":"#VALUE!"},0,0,0,0,0,0,0,0,0,0,0,0,0,0,null,0,{"$error":"#VALUE!"},0,0,0,0,0,0,0,0,0,0,0,0,0,0,null,0,{"$error":"#VALUE!"},0,0,0,0,0,0,0,0,0,0,0,0,0,0,null,0,{"$error":"#VALUE!"},0,0,0,0,0,0,0,0,0,0,0,0,0,0,null,0,{"$error":"#VALUE!"},0,0,0,0,0,0,0,0,0,0,0,0,0,0,null,0,{"$error":"#VALUE!"},0,0,0,0,0,0,0,0,0,0,0,0,0,0,null,0,{"$error":"#VALUE!"},0,0,0,0,0,0,0,0,0,0,0,0,0,0,null,0,{"$error":"#VALUE!"},0,0,0,0,0,0,0,0,0,0,0,0,0,0,null,0,{"$error":"#VALUE!"},0,0,0,0,0,0,0,0,0,0,0,0,0,0,null,0,{"$error":"#VALUE!"},0,0,0,0,0,0,0,0,0,0,0,0,0,0,null,0,{"$error":"#VALUE!"},0,0,0,0,0,0,0,0,0,0,0,0,0,0,null,0,{"$error":"#VALUE!"},0,0,0,0,0,0,0,0,0,0,0,0,0,0,null,0,0,0,0,0,0,0]
[null,null,null,null,null,null,null,null,null,null,null,null,"2014-12-19",{"$error":"#VALUE!"},0,{"$error":"#VALUE!"},{"$error":"#VALUE!"},0,null,0,{"$error":"#VALUE!"},0,0,0,0,0,0,0,0,0,0,0,0,0,0,null,0,{"$error":"#VALUE!"},0,0,0,0,0,0,0,0,0,0,0,0,0,0,null,0,{"$error":"#VALUE!"},0,0,0,0,0,0,0,0,0,0,0,0,0,0,null,0,{"$error":"#VALUE!"},0,0,0,0,0,0,0,0,0,0,0,0,0,0,null,0,{"$error":"#VALUE!"},0,0,0,0,0,0,0,0,0,0,0,0,0,0,null,0,{"$error":"#VALUE!"},0,0,0,0,0,0,0,0,0,0,0,0,0,0,null,0,{"$error":"#VALUE!"},0,0,0,0,0,0,0,0,0,0,0,0,0,0,null,0,{"$error":"#VALUE!"},0,0,0,0,0,0,0,0,0,0,0,0,0,0,null,0,{"$error":"#VALUE!"},0,0,0,0,0,0,0,0,0,0,0,0,0,0,null,0,{"$error":"#VALUE!"},0,0,0,0,0,0,0,0,0,0,0,0,0,0,null,0,{"$error":"#VALUE!"},0,0,0,0,0,0,0,0,0,0,0,0,0,0,null,0,{"$error":"#VALUE!"},0,0,0,0,0,0,0,0,0,0,0,0,0,0,null,0,0,0,0,0,0,0]
[null,null,null,null,null,null,null,null,null,null,null,null,"2014-12-20",{"$error":"#VALUE!"},0,{"$error":"#VALUE!"},{"$error":"#VALUE!"},0,null,0,{"$error":"#VALUE!"},0,0,0,0,0,0,0,0,0,0,0,0,0,0,null,0,{"$error":"#VALUE!"},0,0,0,0,0,0,0,0,0,0,0,0,0,0,null,0,{"$error":"#VALUE!"},0,0,0,0,0,0,0,0,0,0,0,0,0,0,null,0,{"$error":"#VALUE!"},0,0,0,0,0,0,0,0,0,0,0,0,0,0,null,0,{"$error":"#VALUE!"},0,0,0,0,0,0,0,0,0,0,0,0,0,0,null,0,{"$error":"#VALUE!"},0,0,0,0,0,0,0,0,0,0,0,0,0,0,null,0,{"$error":"#VALUE!"},0,0,0,0,0,0,0,0,0,0,0,0,0,0,null,0,{"$error":"#VALUE!"},0,0,0,0,0,0,0,0,0,0,0,0,0,0,null,0,{"$error":"#VALUE!"},0,0,0,0,0,0,0,0,0,0,0,0,0,0,null,0,{"$error":"#VALUE!"},0,0,0,0,0,0,0,0,0,0,0,0,0,0,null,0,{"$error":"#VALUE!"},0,0,0,0,0,0,0,0,0,0,0,0,0,0,null,0,{"$error":"#VALUE!"},0,0,0,0,0,0,0,0,0,0,0,0,0,0,null,0,0,0,0,0,0,0]
[null,null,null,null,null,null,null,null,null,null,null,null,"2014-12-21",{"$error":"#VALUE!"},0,{"$error":"#VALUE!"},{"$error":"#VALUE!"},0,null,0,{"$error":"#VALUE!"},0,0,0,0,0,0,0,0,0,0,0,0,0,0,null,0,{"$error":"#VALUE!"},0,0,0,0,0,0,0,0,0,0,0,0,0,0,null,0,{"$error":"#VALUE!"},0,0,0,0,0,0,0,0,0,0,0,0,0,0,null,0,{"$error":"#VALUE!"},0,0,0,0,0,0,0,0,0,0,0,0,0,0,null,0,{"$error":"#VALUE!"},0,0,0,0,0,0,0,0,0,0,0,0,0,0,null,0,{"$error":"#VALUE!"},0,0,0,0,0,0,0,0,0,0,0,0,0,0,null,0,{"$error":"#VALUE!"},0,0,0,0,0,0,0,0,0,0,0,0,0,0,null,0,{"$error":"#VALUE!"},0,0,0,0,0,0,0,0,0,0,0,0,0,0,null,0,{"$error":"#VALUE!"},0,0,0,0,0,0,0,0,0,0,0,0,0,0,null,0,{"$error":"#VALUE!"},0,0,0,0,0,0,0,0,0,0,0,0,0,0,null,0,{"$error":"#VALUE!"},0,0,0,0,0,0,0,0,0,0,0,0,0,0,null,0,{"$error":"#VALUE!"},0,0,0,0,0,0,0,0,0,0,0,0,0,0,null,0,0,0,0,0,0,0]
[null,null,null,null,null,null,null,null,null,null,null,null,"2014-12-22",{"$error":"#VALUE!"},0,{"$error":"#VALUE!"},{"$error":"#VALUE!"},0,null,0,{"$error":"#VALUE!"},0,0,0,0,0,0,0,0,0,0,0,0,0,0,null,0,{"$error":"#VALUE!"},0,0,0,0,0,0,0,0,0,0,0,0,0,0,null,0,{"$error":"#VALUE!"},0,0,0,0,0,0,0,0,0,0,0,0,0,0,null,0,{"$error":"#VALUE!"},0,0,0,0,0,0,0,0,0,0,0,0,0,0,null,0,{"$error":"#VALUE!"},0,0,0,0,0,0,0,0,0,0,0,0,0,0,null,0,{"$error":"#VALUE!"},0,0,0,0,0,0,0,0,0,0,0,0,0,0,null,0,{"$error":"#VALUE!"},0,0,0,0,0,0,0,0,0,0,0,0,0,0,null,0,{"$error":"#VALUE!"},0,0,0,0,0,0,0,0,0,0,0,0,0,0,null,0,{"$error":"#VALUE!"},0,0,0,0,0,0,0,0,0,0,0,0,0,0,null,0,{"$error":"#VALUE!"},0,0,0,0,0,0,0,0,0,0,0,0,0,0,null,0,{"$error":"#VALUE!"},0,0,0,0,0,0,0,0,0,0,0,0,0,0,null,0,{"$error":"#VALUE!"},0,0,0,0,0,0,0,0,0,0,0,0,0,0,null,0,0,0,0,0,0,0]
[null,null,null,null,null,null,null,null,null,null,null,null,"2014-12-23",{"$error":"#VALUE!"},0,{"$error":"#VALUE!"},{"$error":"#VALUE!"},0,null,0,{"$error":"#VALUE!"},0,0,0,0,0,0,0,0,0,0,0,0,0,0,null,0,{"$error":"#VALUE!"},0,0,0,0,0,0,0,0,0,0,0,0,0,0,null,0,{"$error":"#VALUE!"},0,0,0,0,0,0,0,0,0,0,0,0,0,0,null,0,{"$error":"#VALUE!"},0,0,0,0,0,0,0,0,0,0,0,0,0,0,null,0,{"$error":"#VALUE!"},0,0,0,0,0,0,0,0,0,0,0,0,0,0,null,0,{"$error":"#VALUE!"},0,0,0,0,0,0,0,0,0,0,0,0,0,0,null,0,{"$error":"#VALUE!"},0,0,0,0,0,0,0,0,0,0,0,0,0,0,null,0,{"$error":"#VALUE!"},0,0,0,0,0,0,0,0,0,0,0,0,0,0,null,0,{"$error":"#VALUE!"},0,0,0,0,0,0,0,0,0,0,0,0,0,0,null,0,{"$error":"#VALUE!"},0,0,0,0,0,0,0,0,0,0,0,0,0,0,null,0,{"$error":"#VALUE!"},0,0,0,0,0,0,0,0,0,0,0,0,0,0,null,0,{"$error":"#VALUE!"},0,0,0,0,0,0,0,0,0,0,0,0,0,0,null,0,0,0,0,0,0,0]
[null,null,null,null,null,null,null,null,null,null,null,null,"2014-12-24",{"$error":"#VALUE!"},0,{"$error":"#VALUE!"},{"$error":"#VALUE!"},0,null,0,{"$error":"#VALUE!"},0,0,0,0,0,0,0,0,0,0,0,0,0,0,null,0,{"$error":"#VALUE!"},0,0,0,0,0,0,0,0,0,0,0,0,0,0,null,0,{"$error":"#VALUE!"},0,0,0,0,0,0,0,0,0,0,0,0,0,0,null,0,{"$error":"#VALUE!"},0,0,0,0,0,0,0,0,0,0,0,0,0,0,null,0,{"$error":"#VALUE!"},0,0,0,0,0,0,0,0,0,0,0,0,0,0,null,0,{"$error":"#VALUE!"},0,0,0,0,0,0,0,0,0,0,0,0,0,0,null,0,{"$error":"#VALUE!"},0,0,0,0,0,0,0,0,0,0,0,0,0,0,null,0,{"$error":"#VALUE!"},0,0,0,0,0,0,0,0,0,0,0,0,0,0,null,0,{"$error":"#VALUE!"},0,0,0,0,0,0,0,0,0,0,0,0,0,0,null,0,{"$error":"#VALUE!"},0,0,0,0,0,0,0,0,0,0,0,0,0,0,null,0,{"$error":"#VALUE!"},0,0,0,0,0,0,0,0,0,0,0,0,0,0,null,0,{"$error":"#VALUE!"},0,0,0,0,0,0,0,0,0,0,0,0,0,0,null,0,0,0,0,0,0,0]
[null,null,null,null,null,null,null,null,null,null,null,null,"2014-12-25",{"$error":"#VALUE!"},0,{"$error":"#VALUE!"},{"$error":"#VALUE!"},0,null,0,{"$error":"#VALUE!"},0,0,0,0,0,0,0,0,0,0,0,0,0,0,null,0,{"$error":"#VALUE!"},0,0,0,0,0,0,0,0,0,0,0,0,0,0,null,0,{"$error":"#VALUE!"},0,0,0,0,0,0,0,0,0,0,0,0,0,0,null,0,{"$error":"#VALUE!"},0,0,0,0,0,0,0,0,0,0,0,0,0,0,null,0,{"$error":"#VALUE!"},0,0,0,0,0,0,0,0,0,0,0,0,0,0,null,0,{"$error":"#VALUE!"},0,0,0,0,0,0,0,0,0,0,0,0,0,0,null,0,{"$error":"#VALUE!"},0,0,0,0,0,0,0,0,0,0,0,0,0,0,null,0,{"$error":"#VALUE!"},0,0,0,0,0,0,0,0,0,0,0,0,0,0,null,0,{"$error":"#VALUE!"},0,0,0,0,0,0,0,0,0,0,0,0,0,0,null,0,{"$error":"#VALUE!"},0,0,0,0,0,0,0,0,0,0,0,0,0,0,null,0,{"$error":"#VALUE!"},0,0,0,0,0,0,0,0,0,0,0,0,0,0,null,0,{"$error":"#VALUE!"},0,0,0,0,0,0,0,0,0,0,0,0,0,0,null,0,0,0,0,0,0,0]
[null,null,null,null,null,null,null,null,null,null,null,null,"2014-12-26",{"$error":"#VALUE!"},0,{"$error":"#VALUE!"},{"$error":"#VALUE!"},0,null,0,{"$error":"#VALUE!"},0,0,0,0,0,0,0,0,0,0,0,0,0,0,null,0,{"$error":"#VALUE!"},0,0,0,0,0,0,0,0,0,0,0,0,0,0,null,0,{"$error":"#VALUE!"},0,0,0,0,0,0,0,0,0,0,0,0,0,0,null,0,{"$error":"#VALUE!"},0,0,0,0,0,0,0,0,0,0,0,0,0,0,null,0,{"$error":"#VALUE!"},0,0,0,0,0,0,0,0,0,0,0,0,0,0,null,0,{"$error":"#VALUE!"},0,0,0,0,0,0,0,0,0,0,0,0,0,0,null,0,{"$error":"#VALUE!"},0,0,0,0,0,0,0,0,0,0,0,0,0,0,null,0,{"$error":"#VALUE!"},0,0,0,0,0,0,0,0,0,0,0,0,0,0,null,0,{"$error":"#VALUE!"},0,0,0,0,0,0,0,0,0,0,0,0,0,0,null,0,{"$error":"#VALUE!"},0,0,0,0,0,0,0,0,0,0,0,0,0,0,null,0,{"$error":"#VALUE!"},0,0,0,0,0,0,0,0,0,0,0,0,0,0,null,0,{"$error":"#VALUE!"},0,0,0,0,0,0,0,0,0,0,0,0,0,0,null,0,0,0,0,0,0,0]
[null,null,null,null,null,null,null,null,null,null,null,null,"2014-12-27",{"$error":"#VALUE!"},0,{"$error":"#VALUE!"},{"$error":"#VALUE!"},0,null,0,{"$error":"#VALUE!"},0,0,0,0,0,0,0,0,0,0,0,0,0,0,null,0,{"$error":"#VALUE!"},0,0,0,0,0,0,0,0,0,0,0,0,0,0,null,0,{"$error":"#VALUE!"},0,0,0,0,0,0,0,0,0,0,0,0,0,0,null,0,{"$error":"#VALUE!"},0,0,0,0,0,0,0,0,0,0,0,0,0,0,null,0,{"$error":"#VALUE!"},0,0,0,0,0,0,0,0,0,0,0,0,0,0,null,0,{"$error":"#VALUE!"},0,0,0,0,0,0,0,0,0,0,0,0,0,0,null,0,{"$error":"#VALUE!"},0,0,0,0,0,0,0,0,0,0,0,0,0,0,null,0,{"$error":"#VALUE!"},0,0,0,0,0,0,0,0,0,0,0,0,0,0,null,0,{"$error":"#VALUE!"},0,0,0,0,0,0,0,0,0,0,0,0,0,0,null,0,{"$error":"#VALUE!"},0,0,0,0,0,0,0,0,0,0,0,0,0,0,null,0,{"$error":"#VALUE!"},0,0,0,0,0,0,0,0,0,0,0,0,0,0,null,0,{"$error":"#VALUE!"},0,0,0,0,0,0,0,0,0,0,0,0,0,0,null,0,0,0,0,0,0,0]
[null,null,null,null,null,null,null,null,null,null,null,null,"2014-12-28",{"$error":"#VALUE!"},0,{"$error":"#VALUE!"},{"$error":"#VALUE!"},0,null,0,{"$error":"#VALUE!"},0,0,0,0,0,0,0,0,0,0,0,0,0,0,null,0,{"$error":"#VALUE!"},0,0,0,0,0,0,0,0,0,0,0,0,0,0,null,0,{"$error":"#VALUE!"},0,0,0,0,0,0,0,0,0,0,0,0,0,0,null,0,{"$error":"#VALUE!"},0,0,0,0,0,0,0,0,0,0,0,0,0,0,null,0,{"$error":"#VALUE!"},0,0,0,0,0,0,0,0,0,0,0,0,0,0,null,0,{"$error":"#VALUE!"},0,0,0,0,0,0,0,0,0,0,0,0,0,0,null,0,{"$error":"#VALUE!"},0,0,0,0,0,0,0,0,0,0,0,0,0,0,null,0,{"$error":"#VALUE!"},0,0,0,0,0,0,0,0,0,0,0,0,0,0,null,0,{"$error":"#VALUE!"},0,0,0,0,0,0,0,0,0,0,0,0,0,0,null,0,{"$error":"#VALUE!"},0,0,0,0,0,0,0,0,0,0,0,0,0,0,null,0,{"$error":"#VALUE!"},0,0,0,0,0,0,0,0,0,0,0,0,0,0,null,0,{"$error":"#VALUE!"},0,0,0,0,0,0,0,0,0,0,0,0,0,0,null,0,0,0,0,0,0,0]
[null,null,null,null,null,null,null,null,null,null,null,null,"2014-12-29",{"$error":"#VALUE!"},0,{"$error":"#VALUE!"},{"$error":"#VALUE!"},0,null,0,{"$error":"#VALUE!"},0,0,0,0,0,0,0,0,0,0,0,0,0,0,null,0,{"$error":"#VALUE!"},0,0,0,0,0,0,0,0,0,0,0,0,0,0,null,0,{"$error":"#VALUE!"},0,0,0,0,0,0,0,0,0,0,0,0,0,0,null,0,{"$error":"#VALUE!"},0,0,0,0,0,0,0,0,0,0,0,0,0,0,null,0,{"$error":"#VALUE!"},0,0,0,0,0,0,0,0,0,0,0,0,0,0,null,0,{"$error":"#VALUE!"},0,0,0,0,0,0,0,0,0,0,0,0,0,0,null,0,{"$error":"#VALUE!"},0,0,0,0,0,0,0,0,0,0,0,0,0,0,null,0,{"$error":"#VALUE!"},0,0,0,0,0,0,0,0,0,0,0,0,0,0,null,0,{"$error":"#VALUE!"},0,0,0,0,0,0,0,0,0,0,0,0,0,0,null,0,{"$error":"#VALUE!"},0,0,0,0,0,0,0,0,0,0,0,0,0,0,null,0,{"$error":"#VALUE!"},0,0,0,0,0,0,0,0,0,0,0,0,0,0,null,0,{"$error":"#VALUE!"},0,0,0,0,0,0,0,0,0,0,0,0,0,0,null,0,0,0,0,0,0,0]
[null,null,null,null,null,null,null,null,null,null,null,null,"2014-12-30",{"$error":"#VALUE!"},0,{"$error":"#VALUE!"},{"$error":"#VALUE!"},0,null,0,{"$error":"#VALUE!"},0,0,0,0,0,0,0,0,0,0,0,0,0,0,null,0,{"$error":"#VALUE!"},0,0,0,0,0,0,0,0,0,0,0,0,0,0,null,0,{"$error":"#VALUE!"},0,0,0,0,0,0,0,0,0,0,0,0,0,0,null,0,{"$error":"#VALUE!"},0,0,0,0,0,0,0,0,0,0,0,0,0,0,null,0,{"$error":"#VALUE!"},0,0,0,0,0,0,0,0,0,0,0,0,0,0,null,0,{"$error":"#VALUE!"},0,0,0,0,0,0,0,0,0,0,0,0,0,0,null,0,{"$error":"#VALUE!"},0,0,0,0,0,0,0,0,0,0,0,0,0,0,null,0,{"$error":"#VALUE!"},0,0,0,0,0,0,0,0,0,0,0,0,0,0,null,0,{"$error":"#VALUE!"},0,0,0,0,0,0,0,0,0,0,0,0,0,0,null,0,{"$error":"#VALUE!"},0,0,0,0,0,0,0,0,0,0,0,0,0,0,null,0,{"$error":"#VALUE!"},0,0,0,0,0,0,0,0,0,0,0,0,0,0,null,0,{"$error":"#VALUE!"},0,0,0,0,0,0,0,0,0,0,0,0,0,0,null,0,0,0,0,0,0,0]
[null,null,null,null,null,null,null,null,null,null,null,null,"2014-12-31",{"$error":"#VALUE!"},0,{"$error":"#VALUE!"},{"$error":"#VALUE!"},0,null,0,{"$error":"#VALUE!"},0,0,0,0,0,0,0,0,0,0,0,0,0,0,null,0,{"$error":"#VALUE!"},0,0,0,0,0,0,0,0,0,0,0,0,0,0,null,0,{"$error":"#VALUE!"},0,0,0,0,0,0,0,0,0,0,0,0,0,0,null,0,{"$error":"#VALUE!"},0,0,0,0,0,0,0,0,0,0,0,0,0,0,null,0,{"$error":"#VALUE!"},0,0,0,0,0,0,0,0,0,0,0,0,0,0,null,0,{"$error":"#VALUE!"},0,0,0,0,0,0,0,0,0,0,0,0,0,0,null,0,{"$error":"#VALUE!"},0,0,0,0,0,0,0,0,0,0,0,0,0,0,null,0,{"$error":"#VALUE!"},0,0,0,0,0,0,0,0,0,0,0,0,0,0,null,0,{"$error":"#VALUE!"},0,0,0,0,0,0,0,0,0,0,0,0,0,0,null,0,{"$error":"#VALUE!"},0,0,0,0,0,0,0,0,0,0,0,0,0,0,null,0,{"$error":"#VALUE!"},0,0,0,0,0,0,0,0,0,0,0,0,0,0,null,0,{"$error":"#VALUE!"},0,0,0,0,0,0,0,0,0,0,0,0,0,0,null,0,0,0,0,0,0,0]

{"sheet":"Raw Data","index":3,"n_rows":690331,"n_cols":4,"rows_kept":4500,"cut":true,"hidden":true,"merged":[],"bounds":{"rows_first":2000,"rows_last":500,"rows_between":2000,"halvings":0}}
[null,"site","date","rainfall [mm]"]
[{"$f":"_xlfn.CONCAT(B2,\"-\",DAY(C2),\"-\",MONTH(C2),\"-\",YEAR(C2))","v":"Auckland (Auckland)-1-1-1960"},"Auckland (Auckland)","1960-01-01",0]
[{"$f":"_xlfn.CONCAT(B3,\"-\",DAY(C3),\"-\",MONTH(C3),\"-\",YEAR(C3))","v":"Auckland (Auckland)-2-1-1960"},"Auckland (Auckland)","1960-01-02",0]
["Auckland (Auckland)-3-1-1960","Auckland (Auckland)","1960-01-03",9.1999999999999993]
["Auckland (Auckland)-4-1-1960","Auckland (Auckland)","1960-01-04",0]
["Auckland (Auckland)-5-1-1960","Auckland (Auckland)","1960-01-05",0]
["Auckland (Auckland)-6-1-1960","Auckland (Auckland)","1960-01-06",1.6]
["Auckland (Auckland)-7-1-1960","Auckland (Auckland)","1960-01-07",0]
["Auckland (Auckland)-8-1-1960","Auckland (Auckland)","1960-01-08",0]
["Auckland (Auckland)-9-1-1960","Auckland (Auckland)","1960-01-09",0]
["Auckland (Auckland)-10-1-1960","Auckland (Auckland)","1960-01-10",0]
["Auckland (Auckland)-11-1-1960","Auckland (Auckland)","1960-01-11",0]
["Auckland (Auckland)-12-1-1960","Auckland (Auckland)","1960-01-12",0]
["Auckland (Auckland)-13-1-1960","Auckland (Auckland)","1960-01-13",0]
["Auckland (Auckland)-14-1-1960","Auckland (Auckland)","1960-01-14",0]
["Auckland (Auckland)-15-1-1960","Auckland (Auckland)","1960-01-15",0]
["Auckland (Auckland)-16-1-1960","Auckland (Auckland)","1960-01-16",0]
["Auckland (Auckland)-17-1-1960","Auckland (Auckland)","1960-01-17",1]
["Auckland (Auckland)-18-1-1960","Auckland (Auckland)","1960-01-18",0]
["Auckland (Auckland)-19-1-1960","Auckland (Auckland)","1960-01-19",0]
["Auckland (Auckland)-20-1-1960","Auckland (Auckland)","1960-01-20",0]
["Auckland (Auckland)-21-1-1960","Auckland (Auckland)","1960-01-21",0]
["Auckland (Auckland)-22-1-1960","Auckland (Auckland)","1960-01-22",0]
["Auckland (Auckland)-23-1-1960","Auckland (Auckland)","1960-01-23",0]
["Auckland (Auckland)-24-1-1960","Auckland (Auckland)","1960-01-24",8.1999999999999993]
["Auckland (Auckland)-25-1-1960","Auckland (Auckland)","1960-01-25",1.2]
["Auckland (Auckland)-26-1-1960","Auckland (Auckland)","1960-01-26",0]
["Auckland (Auckland)-27-1-1960","Auckland (Auckland)","1960-01-27",0]
["Auckland (Auckland)-28-1-1960","Auckland (Auckland)","1960-01-28",0]
["Auckland (Auckland)-29-1-1960","Auckland (Auckland)","1960-01-29",0]
["Auckland (Auckland)-30-1-1960","Auckland (Auckland)","1960-01-30",0]
["Auckland (Auckland)-31-1-1960","Auckland (Auckland)","1960-01-31",0]
["Auckland (Auckland)-1-2-1960","Auckland (Auckland)","1960-02-01",0]
["Auckland (Auckland)-2-2-1960","Auckland (Auckland)","1960-02-02",2.2999999999999998]
["Auckland (Auckland)-3-2-1960","Auckland (Auckland)","1960-02-03",23.5]
["Auckland (Auckland)-4-2-1960","Auckland (Auckland)","1960-02-04",42.9]
["Auckland (Auckland)-5-2-1960","Auckland (Auckland)","1960-02-05",0]
["Auckland (Auckland)-6-2-1960","Auckland (Auckland)","1960-02-06",0]
["Auckland (Auckland)-7-2-1960","Auckland (Auckland)","1960-02-07",0]
["Auckland (Auckland)-8-2-1960","Auckland (Auckland)","1960-02-08",0]
["Auckland (Auckland)-9-2-1960","Auckland (Auckland)","1960-02-09",0]
["Auckland (Auckland)-10-2-1960","Auckland (Auckland)","1960-02-10",0]
["Auckland (Auckland)-11-2-1960","Auckland (Auckland)","1960-02-11",3.3]
["Auckland (Auckland)-12-2-1960","Auckland (Auckland)","1960-02-12",0]
["Auckland (Auckland)-13-2-1960","Auckland (Auckland)","1960-02-13",0]
["Auckland (Auckland)-14-2-1960","Auckland (Auckland)","1960-02-14",2.8]
["Auckland (Auckland)-15-2-1960","Auckland (Auckland)","1960-02-15",0]
["Auckland (Auckland)-16-2-1960","Auckland (Auckland)","1960-02-16",0]
["Auckland (Auckland)-17-2-1960","Auckland (Auckland)","1960-02-17",0]
["Auckland (Auckland)-18-2-1960","Auckland (Auckland)","1960-02-18",0]
["Auckland (Auckland)-19-2-1960","Auckland (Auckland)","1960-02-19",0]
["Auckland (Auckland)-20-2-1960","Auckland (Auckland)","1960-02-20",0]
["Auckland (Auckland)-21-2-1960","Auckland (Auckland)","1960-02-21",2]
["Auckland (Auckland)-22-2-1960","Auckland (Auckland)","1960-02-22",8.4]
["Auckland (Auckland)-23-2-1960","Auckland (Auckland)","1960-02-23",19.399999999999999]
["Auckland (Auckland)-24-2-1960","Auckland (Auckland)","1960-02-24",19.3]
["Auckland (Auckland)-25-2-1960","Auckland (Auckland)","1960-02-25",13.7]
["Auckland (Auckland)-26-2-1960","Auckland (Auckland)","1960-02-26",11.5]
["Auckland (Auckland)-27-2-1960","Auckland (Auckland)","1960-02-27",5.3]
["Auckland (Auckland)-28-2-1960","Auckland (Auckland)","1960-02-28",1.1000000000000001]
["Auckland (Auckland)-29-2-1960","Auckland (Auckland)","1960-02-29",0]
["Auckland (Auckland)-1-3-1960","Auckland (Auckland)","1960-03-01",0]
["Auckland (Auckland)-2-3-1960","Auckland (Auckland)","1960-03-02",0]
["Auckland (Auckland)-3-3-1960","Auckland (Auckland)","1960-03-03",0]
["Auckland (Auckland)-4-3-1960","Auckland (Auckland)","1960-03-04",0]
["Auckland (Auckland)-5-3-1960","Auckland (Auckland)","1960-03-05",0]
[{"$f":"_xlfn.CONCAT(B67,\"-\",DAY(C67),\"-\",MONTH(C67),\"-\",YEAR(C67))","v":"Auckland (Auckland)-6-3-1960"},"Auckland (Auckland)","1960-03-06",0]
["Auckland (Auckland)-7-3-1960","Auckland (Auckland)","1960-03-07",1.9]
["Auckland (Auckland)-8-3-1960","Auckland (Auckland)","1960-03-08",4.2]
["Auckland (Auckland)-9-3-1960","Auckland (Auckland)","1960-03-09",0]
["Auckland (Auckland)-10-3-1960","Auckland (Auckland)","1960-03-10",0]
["Auckland (Auckland)-11-3-1960","Auckland (Auckland)","1960-03-11",2.2000000000000002]
["Auckland (Auckland)-12-3-1960","Auckland (Auckland)","1960-03-12",1.2]
["Auckland (Auckland)-13-3-1960","Auckland (Auckland)","1960-03-13",1]
["Auckland (Auckland)-14-3-1960","Auckland (Auckland)","1960-03-14",5.2]
["Auckland (Auckland)-15-3-1960","Auckland (Auckland)","1960-03-15",1.7]
["Auckland (Auckland)-16-3-1960","Auckland (Auckland)","1960-03-16",0]
["Auckland (Auckland)-17-3-1960","Auckland (Auckland)","1960-03-17",0]
["Auckland (Auckland)-18-3-1960","Auckland (Auckland)","1960-03-18",0]
["Auckland (Auckland)-19-3-1960","Auckland (Auckland)","1960-03-19",0]
["Auckland (Auckland)-20-3-1960","Auckland (Auckland)","1960-03-20",0]
["Auckland (Auckland)-21-3-1960","Auckland (Auckland)","1960-03-21",32.9]
["Auckland (Auckland)-22-3-1960","Auckland (Auckland)","1960-03-22",0]
["Auckland (Auckland)-23-3-1960","Auckland (Auckland)","1960-03-23",5]
["Auckland (Auckland)-24-3-1960","Auckland (Auckland)","1960-03-24",4.7]
["Auckland (Auckland)-25-3-1960","Auckland (Auckland)","1960-03-25",1.1000000000000001]
["Auckland (Auckland)-26-3-1960","Auckland (Auckland)","1960-03-26",0]
["Auckland (Auckland)-27-3-1960","Auckland (Auckland)","1960-03-27",0]
["Auckland (Auckland)-28-3-1960","Auckland (Auckland)","1960-03-28",2]
["Auckland (Auckland)-29-3-1960","Auckland (Auckland)","1960-03-29",2.2000000000000002]
["Auckland (Auckland)-30-3-1960","Auckland (Auckland)","1960-03-30",2.2999999999999998]
["Auckland (Auckland)-31-3-1960","Auckland (Auckland)","1960-03-31",1.3]
["Auckland (Auckland)-1-4-1960","Auckland (Auckland)","1960-04-01",0]
["Auckland (Auckland)-2-4-1960","Auckland (Auckland)","1960-04-02",0]
["Auckland (Auckland)-3-4-1960","Auckland (Auckland)","1960-04-03",1]
["Auckland (Auckland)-4-4-1960","Auckland (Auckland)","1960-04-04",0]
["Auckland (Auckland)-5-4-1960","Auckland (Auckland)","1960-04-05",0]
["Auckland (Auckland)-6-4-1960","Auckland (Auckland)","1960-04-06",1.9]
["Auckland (Auckland)-7-4-1960","Auckland (Auckland)","1960-04-07",0]
["Auckland (Auckland)-8-4-1960","Auckland (Auckland)","1960-04-08",0]
["Auckland (Auckland)-9-4-1960","Auckland (Auckland)","1960-04-09",0]
["Auckland (Auckland)-10-4-1960","Auckland (Auckland)","1960-04-10",1.8]
["Auckland (Auckland)-11-4-1960","Auckland (Auckland)","1960-04-11",18.600000000000001]
["Auckland (Auckland)-12-4-1960","Auckland (Auckland)","1960-04-12",33.1]
["Auckland (Auckland)-13-4-1960","Auckland (Auckland)","1960-04-13",0]
["Auckland (Auckland)-14-4-1960","Auckland (Auckland)","1960-04-14",0]
["Auckland (Auckland)-15-4-1960","Auckland (Auckland)","1960-04-15",0]
["Auckland (Auckland)-16-4-1960","Auckland (Auckland)","1960-04-16",2]
["Auckland (Auckland)-17-4-1960","Auckland (Auckland)","1960-04-17",33.700000000000003]
["Auckland (Auckland)-18-4-1960","Auckland (Auckland)","1960-04-18",2.7]
["Auckland (Auckland)-19-4-1960","Auckland (Auckland)","1960-04-19",0]
["Auckland (Auckland)-20-4-1960","Auckland (Auckland)","1960-04-20",0]
["Auckland (Auckland)-21-4-1960","Auckland (Auckland)","1960-04-21",0]
["Auckland (Auckland)-22-4-1960","Auckland (Auckland)","1960-04-22",0]
["Auckland (Auckland)-23-4-1960","Auckland (Auckland)","1960-04-23",0]
["Auckland (Auckland)-24-4-1960","Auckland (Auckland)","1960-04-24",0]
["Auckland (Auckland)-25-4-1960","Auckland (Auckland)","1960-04-25",0]
["Auckland (Auckland)-26-4-1960","Auckland (Auckland)","1960-04-26",0]
["Auckland (Auckland)-27-4-1960","Auckland (Auckland)","1960-04-27",0]
["Auckland (Auckland)-28-4-1960","Auckland (Auckland)","1960-04-28",0]
["Auckland (Auckland)-29-4-1960","Auckland (Auckland)","1960-04-29",0]
["Auckland (Auckland)-30-4-1960","Auckland (Auckland)","1960-04-30",0]
["Auckland (Auckland)-1-5-1960","Auckland (Auckland)","1960-05-01",0]
["Auckland (Auckland)-2-5-1960","Auckland (Auckland)","1960-05-02",0]
["Auckland (Auckland)-3-5-1960","Auckland (Auckland)","1960-05-03",0]
["Auckland (Auckland)-4-5-1960","Auckland (Auckland)","1960-05-04",0]
["Auckland (Auckland)-5-5-1960","Auckland (Auckland)","1960-05-05",0]
["Auckland (Auckland)-6-5-1960","Auckland (Auckland)","1960-05-06",0]
["Auckland (Auckland)-7-5-1960","Auckland (Auckland)","1960-05-07",8.3000000000000007]
["Auckland (Auckland)-8-5-1960","Auckland (Auckland)","1960-05-08",3.8]
[{"$f":"_xlfn.CONCAT(B131,\"-\",DAY(C131),\"-\",MONTH(C131),\"-\",YEAR(C131))","v":"Auckland (Auckland)-9-5-1960"},"Auckland (Auckland)","1960-05-09",10.8]
["Auckland (Auckland)-10-5-1960","Auckland (Auckland)","1960-05-10",8.5]
["Auckland (Auckland)-11-5-1960","Auckland (Auckland)","1960-05-11",2.9]
["Auckland (Auckland)-12-5-1960","Auckland (Auckland)","1960-05-12",0]
["Auckland (Auckland)-13-5-1960","Auckland (Auckland)","1960-05-13",0]
["Auckland (Auckland)-14-5-1960","Auckland (Auckland)","1960-05-14",2.8]
["Auckland (Auckland)-15-5-1960","Auckland (Auckland)","1960-05-15",23.2]
["Auckland (Auckland)-16-5-1960","Auckland (Auckland)","1960-05-16",2.8]
["Auckland (Auckland)-17-5-1960","Auckland (Auckland)","1960-05-17",1.4]
["Auckland (Auckland)-18-5-1960","Auckland (Auckland)","1960-05-18",0]
["Auckland (Auckland)-19-5-1960","Auckland (Auckland)","1960-05-19",0]
["Auckland (Auckland)-20-5-1960","Auckland (Auckland)","1960-05-20",0]
["Auckland (Auckland)-21-5-1960","Auckland (Auckland)","1960-05-21",16]
["Auckland (Auckland)-22-5-1960","Auckland (Auckland)","1960-05-22",0]
["Auckland (Auckland)-23-5-1960","Auckland (Auckland)","1960-05-23",1.4]
["Auckland (Auckland)-24-5-1960","Auckland (Auckland)","1960-05-24",0]
["Auckland (Auckland)-25-5-1960","Auckland (Auckland)","1960-05-25",1.9]
["Auckland (Auckland)-26-5-1960","Auckland (Auckland)","1960-05-26",0]
["Auckland (Auckland)-27-5-1960","Auckland (Auckland)","1960-05-27",0]
["Auckland (Auckland)-28-5-1960","Auckland (Auckland)","1960-05-28",0]
["Auckland (Auckland)-29-5-1960","Auckland (Auckland)","1960-05-29",2.8]
["Auckland (Auckland)-30-5-1960","Auckland (Auckland)","1960-05-30",14.8]
["Auckland (Auckland)-31-5-1960","Auckland (Auckland)","1960-05-31",6.7]
["Auckland (Auckland)-1-6-1960","Auckland (Auckland)","1960-06-01",3.9]
["Auckland (Auckland)-2-6-1960","Auckland (Auckland)","1960-06-02",0]
["Auckland (Auckland)-3-6-1960","Auckland (Auckland)","1960-06-03",0]
["Auckland (Auckland)-4-6-1960","Auckland (Auckland)","1960-06-04",5.8]
["Auckland (Auckland)-5-6-1960","Auckland (Auckland)","1960-06-05",2.1]
["Auckland (Auckland)-6-6-1960","Auckland (Auckland)","1960-06-06",4.5999999999999996]
["Auckland (Auckland)-7-6-1960","Auckland (Auckland)","1960-06-07",18.3]
["Auckland (Auckland)-8-6-1960","Auckland (Auckland)","1960-06-08",18.100000000000001]
["Auckland (Auckland)-9-6-1960","Auckland (Auckland)","1960-06-09",5.8]
["Auckland (Auckland)-10-6-1960","Auckland (Auckland)","1960-06-10",2.2000000000000002]
["Auckland (Auckland)-11-6-1960","Auckland (Auckland)","1960-06-11",0]
["Auckland (Auckland)-12-6-1960","Auckland (Auckland)","1960-06-12",12.2]
["Auckland (Auckland)-13-6-1960","Auckland (Auckland)","1960-06-13",1.2]
["Auckland (Auckland)-14-6-1960","Auckland (Auckland)","1960-06-14",0]
["Auckland (Auckland)-15-6-1960","Auckland (Auckland)","1960-06-15",0]
["Auckland (Auckland)-16-6-1960","Auckland (Auckland)","1960-06-16",0]
["Auckland (Auckland)-17-6-1960","Auckland (Auckland)","1960-06-17",0]
["Auckland (Auckland)-18-6-1960","Auckland (Auckland)","1960-06-18",13.1]
["Auckland (Auckland)-19-6-1960","Auckland (Auckland)","1960-06-19",5.3]
["Auckland (Auckland)-20-6-1960","Auckland (Auckland)","1960-06-20",10.199999999999999]
["Auckland (Auckland)-21-6-1960","Auckland (Auckland)","1960-06-21",5.6]
["Auckland (Auckland)-22-6-1960","Auckland (Auckland)","1960-06-22",0]
["Auckland (Auckland)-23-6-1960","Auckland (Auckland)","1960-06-23",0]
["Auckland (Auckland)-24-6-1960","Auckland (Auckland)","1960-06-24",15.2]
["Auckland (Auckland)-25-6-1960","Auckland (Auckland)","1960-06-25",2.6]
["Auckland (Auckland)-26-6-1960","Auckland (Auckland)","1960-06-26",5]
["Auckland (Auckland)-27-6-1960","Auckland (Auckland)","1960-06-27",1.1000000000000001]
["Auckland (Auckland)-28-6-1960","Auckland (Auckland)","1960-06-28",2.2999999999999998]
["Auckland (Auckland)-29-6-1960","Auckland (Auckland)","1960-06-29",7.5]
["Auckland (Auckland)-30-6-1960","Auckland (Auckland)","1960-06-30",0]
["Auckland (Auckland)-1-7-1960","Auckland (Auckland)","1960-07-01",3.3]
["Auckland (Auckland)-2-7-1960","Auckland (Auckland)","1960-07-02",1.6]
["Auckland (Auckland)-3-7-1960","Auckland (Auckland)","1960-07-03",0]
["Auckland (Auckland)-4-7-1960","Auckland (Auckland)","1960-07-04",9.5]
["Auckland (Auckland)-5-7-1960","Auckland (Auckland)","1960-07-05",22.9]
["Auckland (Auckland)-6-7-1960","Auckland (Auckland)","1960-07-06",12.4]
["Auckland (Auckland)-7-7-1960","Auckland (Auckland)","1960-07-07",0]
["Auckland (Auckland)-8-7-1960","Auckland (Auckland)","1960-07-08",0]
["Auckland (Auckland)-9-7-1960","Auckland (Auckland)","1960-07-09",0]
["Auckland (Auckland)-10-7-1960","Auckland (Auckland)","1960-07-10",0]
["Auckland (Auckland)-11-7-1960","Auckland (Auckland)","1960-07-11",0]
[{"$f":"_xlfn.CONCAT(B195,\"-\",DAY(C195),\"-\",MONTH(C195),\"-\",YEAR(C195))","v":"Auckland (Auckland)-12-7-1960"},"Auckland (Auckland)","1960-07-12",0]
["Auckland (Auckland)-13-7-1960","Auckland (Auckland)","1960-07-13",0]
["Auckland (Auckland)-14-7-1960","Auckland (Auckland)","1960-07-14",0]
["Auckland (Auckland)-15-7-1960","Auckland (Auckland)","1960-07-15",0]
["Auckland (Auckland)-16-7-1960","Auckland (Auckland)","1960-07-16",12.9]
["Auckland (Auckland)-17-7-1960","Auckland (Auckland)","1960-07-17",1.2]
["Auckland (Auckland)-18-7-1960","Auckland (Auckland)","1960-07-18",0]
["Auckland (Auckland)-19-7-1960","Auckland (Auckland)","1960-07-19",2.8]
["Auckland (Auckland)-20-7-1960","Auckland (Auckland)","1960-07-20",5.2]
["Auckland (Auckland)-21-7-1960","Auckland (Auckland)","1960-07-21",15.4]
["Auckland (Auckland)-22-7-1960","Auckland (Auckland)","1960-07-22",1]
["Auckland (Auckland)-23-7-1960","Auckland (Auckland)","1960-07-23",0]
["Auckland (Auckland)-24-7-1960","Auckland (Auckland)","1960-07-24",16.3]
["Auckland (Auckland)-25-7-1960","Auckland (Auckland)","1960-07-25",4]
["Auckland (Auckland)-26-7-1960","Auckland (Auckland)","1960-07-26",10.1]
["Auckland (Auckland)-27-7-1960","Auckland (Auckland)","1960-07-27",1.3]
["Auckland (Auckland)-28-7-1960","Auckland (Auckland)","1960-07-28",0]
["Auckland (Auckland)-29-7-1960","Auckland (Auckland)","1960-07-29",0]
["Auckland (Auckland)-30-7-1960","Auckland (Auckland)","1960-07-30",1.2]
["Auckland (Auckland)-31-7-1960","Auckland (Auckland)","1960-07-31",1.1000000000000001]
["Auckland (Auckland)-1-8-1960","Auckland (Auckland)","1960-08-01",2.6]
["Auckland (Auckland)-2-8-1960","Auckland (Auckland)","1960-08-02",0]
["Auckland (Auckland)-3-8-1960","Auckland (Auckland)","1960-08-03",4.5999999999999996]
["Auckland (Auckland)-4-8-1960","Auckland (Auckland)","1960-08-04",6.1]
["Auckland (Auckland)-5-8-1960","Auckland (Auckland)","1960-08-05",6.7]
["Auckland (Auckland)-6-8-1960","Auckland (Auckland)","1960-08-06",6]
["Auckland (Auckland)-7-8-1960","Auckland (Auckland)","1960-08-07",2.9]
["Auckland (Auckland)-8-8-1960","Auckland (Auckland)","1960-08-08",4.5999999999999996]
["Auckland (Auckland)-9-8-1960","Auckland (Auckland)","1960-08-09",3.8]
["Auckland (Auckland)-10-8-1960","Auckland (Auckland)","1960-08-10",5.2]
["Auckland (Auckland)-11-8-1960","Auckland (Auckland)","1960-08-11",1.1000000000000001]
["Auckland (Auckland)-12-8-1960","Auckland (Auckland)","1960-08-12",2]
["Auckland (Auckland)-13-8-1960","Auckland (Auckland)","1960-08-13",5.8]
["Auckland (Auckland)-14-8-1960","Auckland (Auckland)","1960-08-14",4.2]
["Auckland (Auckland)-15-8-1960","Auckland (Auckland)","1960-08-15",8.5]
["Auckland (Auckland)-16-8-1960","Auckland (Auckland)","1960-08-16",6.5]
["Auckland (Auckland)-17-8-1960","Auckland (Auckland)","1960-08-17",4]
["Auckland (Auckland)-18-8-1960","Auckland (Auckland)","1960-08-18",0]
["Auckland (Auckland)-19-8-1960","Auckland (Auckland)","1960-08-19",0]
["Auckland (Auckland)-20-8-1960","Auckland (Auckland)","1960-08-20",0]
["Auckland (Auckland)-21-8-1960","Auckland (Auckland)","1960-08-21",0]
["Auckland (Auckland)-22-8-1960","Auckland (Auckland)","1960-08-22",0]
["Auckland (Auckland)-23-8-1960","Auckland (Auckland)","1960-08-23",0]
["Auckland (Auckland)-24-8-1960","Auckland (Auckland)","1960-08-24",0]
["Auckland (Auckland)-25-8-1960","Auckland (Auckland)","1960-08-25",0]
["Auckland (Auckland)-26-8-1960","Auckland (Auckland)","1960-08-26",0]
["Auckland (Auckland)-27-8-1960","Auckland (Auckland)","1960-08-27",0]
["Auckland (Auckland)-28-8-1960","Auckland (Auckland)","1960-08-28",0]
["Auckland (Auckland)-29-8-1960","Auckland (Auckland)","1960-08-29",0]
["Auckland (Auckland)-30-8-1960","Auckland (Auckland)","1960-08-30",0]
["Auckland (Auckland)-31-8-1960","Auckland (Auckland)","1960-08-31",0]
["Auckland (Auckland)-1-9-1960","Auckland (Auckland)","1960-09-01",0]
["Auckland (Auckland)-2-9-1960","Auckland (Auckland)","1960-09-02",0]
["Auckland (Auckland)-3-9-1960","Auckland (Auckland)","1960-09-03",3.7]
["Auckland (Auckland)-4-9-1960","Auckland (Auckland)","1960-09-04",1.8]
["Auckland (Auckland)-5-9-1960","Auckland (Auckland)","1960-09-05",42.8]
["Auckland (Auckland)-6-9-1960","Auckland (Auckland)","1960-09-06",2.2000000000000002]
["Auckland (Auckland)-7-9-1960","Auckland (Auckland)","1960-09-07",0]
["Auckland (Auckland)-8-9-1960","Auckland (Auckland)","1960-09-08",0]
["Auckland (Auckland)-9-9-1960","Auckland (Auckland)","1960-09-09",3.2]
["Auckland (Auckland)-10-9-1960","Auckland (Auckland)","1960-09-10",18.399999999999999]
["Auckland (Auckland)-11-9-1960","Auckland (Auckland)","1960-09-11",2]
["Auckland (Auckland)-12-9-1960","Auckland (Auckland)","1960-09-12",14.1]
["Auckland (Auckland)-13-9-1960","Auckland (Auckland)","1960-09-13",20.7]
[{"$f":"_xlfn.CONCAT(B259,\"-\",DAY(C259),\"-\",MONTH(C259),\"-\",YEAR(C259))","v":"Auckland (Auckland)-14-9-1960"},"Auckland (Auckland)","1960-09-14",15.5]
["Auckland (Auckland)-15-9-1960","Auckland (Auckland)","1960-09-15",1.6]
["Auckland (Auckland)-16-9-1960","Auckland (Auckland)","1960-09-16",1.1000000000000001]
["Auckland (Auckland)-17-9-1960","Auckland (Auckland)","1960-09-17",0]
["Auckland (Auckland)-18-9-1960","Auckland (Auckland)","1960-09-18",17.100000000000001]
["Auckland (Auckland)-19-9-1960","Auckland (Auckland)","1960-09-19",1]
["Auckland (Auckland)-20-9-1960","Auckland (Auckland)","1960-09-20",15.7]
["Auckland (Auckland)-21-9-1960","Auckland (Auckland)","1960-09-21",1.3]
["Auckland (Auckland)-22-9-1960","Auckland (Auckland)","1960-09-22",0]
["Auckland (Auckland)-23-9-1960","Auckland (Auckland)","1960-09-23",0]
["Auckland (Auckland)-24-9-1960","Auckland (Auckland)","1960-09-24",0]
["Auckland (Auckland)-25-9-1960","Auckland (Auckland)","1960-09-25",0]
["Auckland (Auckland)-26-9-1960","Auckland (Auckland)","1960-09-26",0]
["Auckland (Auckland)-27-9-1960","Auckland (Auckland)","1960-09-27",0]
["Auckland (Auckland)-28-9-1960","Auckland (Auckland)","1960-09-28",0]
["Auckland (Auckland)-29-9-1960","Auckland (Auckland)","1960-09-29",29.1]
["Auckland (Auckland)-30-9-1960","Auckland (Auckland)","1960-09-30",16.600000000000001]
["Auckland (Auckland)-1-10-1960","Auckland (Auckland)","1960-10-01",0]
["Auckland (Auckland)-2-10-1960","Auckland (Auckland)","1960-10-02",0]
["Auckland (Auckland)-3-10-1960","Auckland (Auckland)","1960-10-03",0]
["Auckland (Auckland)-4-10-1960","Auckland (Auckland)","1960-10-04",6.2]
["Auckland (Auckland)-5-10-1960","Auckland (Auckland)","1960-10-05",18.399999999999999]
["Auckland (Auckland)-6-10-1960","Auckland (Auckland)","1960-10-06",0]
["Auckland (Auckland)-7-10-1960","Auckland (Auckland)","1960-10-07",4.5999999999999996]
["Auckland (Auckland)-8-10-1960","Auckland (Auckland)","1960-10-08",0]
["Auckland (Auckland)-9-10-1960","Auckland (Auckland)","1960-10-09",1]
["Auckland (Auckland)-10-10-1960","Auckland (Auckland)","1960-10-10",0]
["Auckland (Auckland)-11-10-1960","Auckland (Auckland)","1960-10-11",6.5]
["Auckland (Auckland)-12-10-1960","Auckland (Auckland)","1960-10-12",1]
["Auckland (Auckland)-13-10-1960","Auckland (Auckland)","1960-10-13",8]
["Auckland (Auckland)-14-10-1960","Auckland (Auckland)","1960-10-14",5.5]
["Auckland (Auckland)-15-10-1960","Auckland (Auckland)","1960-10-15",3.7]
["Auckland (Auckland)-16-10-1960","Auckland (Auckland)","1960-10-16",5.2]
["Auckland (Auckland)-17-10-1960","Auckland (Auckland)","1960-10-17",0]
["Auckland (Auckland)-18-10-1960","Auckland (Auckland)","1960-10-18",0]
["Auckland (Auckland)-19-10-1960","Auckland (Auckland)","1960-10-19",0]
["Auckland (Auckland)-20-10-1960","Auckland (Auckland)","1960-10-20",0]
["Auckland (Auckland)-21-10-1960","Auckland (Auckland)","1960-10-21",0]
["Auckland (Auckland)-22-10-1960","Auckland (Auckland)","1960-10-22",0]
["Auckland (Auckland)-23-10-1960","Auckland (Auckland)","1960-10-23",0]
["Auckland (Auckland)-24-10-1960","Auckland (Auckland)","1960-10-24",0]
["Auckland (Auckland)-25-10-1960","Auckland (Auckland)","1960-10-25",0]
["Auckland (Auckland)-26-10-1960","Auckland (Auckland)","1960-10-26",0]
["Auckland (Auckland)-27-10-1960","Auckland (Auckland)","1960-10-27",0]
["Auckland (Auckland)-28-10-1960","Auckland (Auckland)","1960-10-28",0]
["Auckland (Auckland)-29-10-1960","Auckland (Auckland)","1960-10-29",5]
["Auckland (Auckland)-30-10-1960","Auckland (Auckland)","1960-10-30",7.2]
["Auckland (Auckland)-31-10-1960","Auckland (Auckland)","1960-10-31",0]
["Auckland (Auckland)-1-11-1960","Auckland (Auckland)","1960-11-01",0]
["Auckland (Auckland)-2-11-1960","Auckland (Auckland)","1960-11-02",1.3]
["Auckland (Auckland)-3-11-1960","Auckland (Auckland)","1960-11-03",0]
["Auckland (Auckland)-4-11-1960","Auckland (Auckland)","1960-11-04",0]
["Auckland (Auckland)-5-11-1960","Auckland (Auckland)","1960-11-05",16.399999999999999]
["Auckland (Auckland)-6-11-1960","Auckland (Auckland)","1960-11-06",19.8]
["Auckland (Auckland)-7-11-1960","Auckland (Auckland)","1960-11-07",2.2999999999999998]
["Auckland (Auckland)-8-11-1960","Auckland (Auckland)","1960-11-08",0]
["Auckland (Auckland)-9-11-1960","Auckland (Auckland)","1960-11-09",0]
["Auckland (Auckland)-10-11-1960","Auckland (Auckland)","1960-11-10",0]
["Auckland (Auckland)-11-11-1960","Auckland (Auckland)","1960-11-11",0]
["Auckland (Auckland)-12-11-1960","Auckland (Auckland)","1960-11-12",0]
["Auckland (Auckland)-13-11-1960","Auckland (Auckland)","1960-11-13",0]
["Auckland (Auckland)-14-11-1960","Auckland (Auckland)","1960-11-14",2.2000000000000002]
["Auckland (Auckland)-15-11-1960","Auckland (Auckland)","1960-11-15",6.2]
["Auckland (Auckland)-16-11-1960","Auckland (Auckland)","1960-11-16",4.7]
[{"$f":"_xlfn.CONCAT(B323,\"-\",DAY(C323),\"-\",MONTH(C323),\"-\",YEAR(C323))","v":"Auckland (Auckland)-17-11-1960"},"Auckland (Auckland)","1960-11-17",11]
["Auckland (Auckland)-18-11-1960","Auckland (Auckland)","1960-11-18",1.9]
["Auckland (Auckland)-19-11-1960","Auckland (Auckland)","1960-11-19",0]
["Auckland (Auckland)-20-11-1960","Auckland (Auckland)","1960-11-20",0]
["Auckland (Auckland)-21-11-1960","Auckland (Auckland)","1960-11-21",0]
["Auckland (Auckland)-22-11-1960","Auckland (Auckland)","1960-11-22",0]
["Auckland (Auckland)-23-11-1960","Auckland (Auckland)","1960-11-23",0]
["Auckland (Auckland)-24-11-1960","Auckland (Auckland)","1960-11-24",0]
["Auckland (Auckland)-25-11-1960","Auckland (Auckland)","1960-11-25",1.3]
["Auckland (Auckland)-26-11-1960","Auckland (Auckland)","1960-11-26",0]
["Auckland (Auckland)-27-11-1960","Auckland (Auckland)","1960-11-27",2.7]
["Auckland (Auckland)-28-11-1960","Auckland (Auckland)","1960-11-28",0]
["Auckland (Auckland)-29-11-1960","Auckland (Auckland)","1960-11-29",0]
["Auckland (Auckland)-30-11-1960","Auckland (Auckland)","1960-11-30",0]
["Auckland (Auckland)-1-12-1960","Auckland (Auckland)","1960-12-01",2.2000000000000002]
["Auckland (Auckland)-2-12-1960","Auckland (Auckland)","1960-12-02",5.9]
["Auckland (Auckland)-3-12-1960","Auckland (Auckland)","1960-12-03",2.7]
["Auckland (Auckland)-4-12-1960","Auckland (Auckland)","1960-12-04",0]
["Auckland (Auckland)-5-12-1960","Auckland (Auckland)","1960-12-05",10.7]
["Auckland (Auckland)-6-12-1960","Auckland (Auckland)","1960-12-06",6.7]
["Auckland (Auckland)-7-12-1960","Auckland (Auckland)","1960-12-07",6.8]
["Auckland (Auckland)-8-12-1960","Auckland (Auckland)","1960-12-08",2]
["Auckland (Auckland)-9-12-1960","Auckland (Auckland)","1960-12-09",4.5]
["Auckland (Auckland)-10-12-1960","Auckland (Auckland)","1960-12-10",4.3]
["Auckland (Auckland)-11-12-1960","Auckland (Auckland)","1960-12-11",3]
["Auckland (Auckland)-12-12-1960","Auckland (Auckland)","1960-12-12",1]
["Auckland (Auckland)-13-12-1960","Auckland (Auckland)","1960-12-13",0]
["Auckland (Auckland)-14-12-1960","Auckland (Auckland)","1960-12-14",0]
["Auckland (Auckland)-15-12-1960","Auckland (Auckland)","1960-12-15",0]
["Auckland (Auckland)-16-12-1960","Auckland (Auckland)","1960-12-16",0]
["Auckland (Auckland)-17-12-1960","Auckland (Auckland)","1960-12-17",0]
["Auckland (Auckland)-18-12-1960","Auckland (Auckland)","1960-12-18",0]
["Auckland (Auckland)-19-12-1960","Auckland (Auckland)","1960-12-19",0]
["Auckland (Auckland)-20-12-1960","Auckland (Auckland)","1960-12-20",13.2]
["Auckland (Auckland)-21-12-1960","Auckland (Auckland)","1960-12-21",0]
["Auckland (Auckland)-22-12-1960","Auckland (Auckland)","1960-12-22",0]
["Auckland (Auckland)-23-12-1960","Auckland (Auckland)","1960-12-23",0]
["Auckland (Auckland)-24-12-1960","Auckland (Auckland)","1960-12-24",0]
["Auckland (Auckland)-25-12-1960","Auckland (Auckland)","1960-12-25",0]
["Auckland (Auckland)-26-12-1960","Auckland (Auckland)","1960-12-26",0]
["Auckland (Auckland)-27-12-1960","Auckland (Auckland)","1960-12-27",0]
["Auckland (Auckland)-28-12-1960","Auckland (Auckland)","1960-12-28",0]
["Auckland (Auckland)-29-12-1960","Auckland (Auckland)","1960-12-29",0]
["Auckland (Auckland)-30-12-1960","Auckland (Auckland)","1960-12-30",0]
["Auckland (Auckland)-31-12-1960","Auckland (Auckland)","1960-12-31",0]
["Auckland (Auckland)-1-1-1961","Auckland (Auckland)","1961-01-01",0]
["Auckland (Auckland)-2-1-1961","Auckland (Auckland)","1961-01-02",0]
["Auckland (Auckland)-3-1-1961","Auckland (Auckland)","1961-01-03",0]
["Auckland (Auckland)-4-1-1961","Auckland (Auckland)","1961-01-04",0]
["Auckland (Auckland)-5-1-1961","Auckland (Auckland)","1961-01-05",0]
["Auckland (Auckland)-6-1-1961","Auckland (Auckland)","1961-01-06",0]
["Auckland (Auckland)-7-1-1961","Auckland (Auckland)","1961-01-07",0]
["Auckland (Auckland)-8-1-1961","Auckland (Auckland)","1961-01-08",0]
["Auckland (Auckland)-9-1-1961","Auckland (Auckland)","1961-01-09",0]
["Auckland (Auckland)-10-1-1961","Auckland (Auckland)","1961-01-10",0]
["Auckland (Auckland)-11-1-1961","Auckland (Auckland)","1961-01-11",0]
["Auckland (Auckland)-12-1-1961","Auckland (Auckland)","1961-01-12",0]
["Auckland (Auckland)-13-1-1961","Auckland (Auckland)","1961-01-13",0]
["Auckland (Auckland)-14-1-1961","Auckland (Auckland)","1961-01-14",0]
["Auckland (Auckland)-15-1-1961","Auckland (Auckland)","1961-01-15",10.1]
["Auckland (Auckland)-16-1-1961","Auckland (Auckland)","1961-01-16",37]
["Auckland (Auckland)-17-1-1961","Auckland (Auckland)","1961-01-17",1.8]
["Auckland (Auckland)-18-1-1961","Auckland (Auckland)","1961-01-18",0]
["Auckland (Auckland)-19-1-1961","Auckland (Auckland)","1961-01-19",6.8]
[{"$f":"_xlfn.CONCAT(B387,\"-\",DAY(C387),\"-\",MONTH(C387),\"-\",YEAR(C387))","v":"Auckland (Auckland)-20-1-1961"},"Auckland (Auckland)","1961-01-20",15.1]
["Auckland (Auckland)-21-1-1961","Auckland (Auckland)","1961-01-21",1.3]
["Auckland (Auckland)-22-1-1961","Auckland (Auckland)","1961-01-22",24.8]
["Auckland (Auckland)-23-1-1961","Auckland (Auckland)","1961-01-23",0]
["Auckland (Auckland)-24-1-1961","Auckland (Auckland)","1961-01-24",0]
["Auckland (Auckland)-25-1-1961","Auckland (Auckland)","1961-01-25",0]
["Auckland (Auckland)-26-1-1961","Auckland (Auckland)","1961-01-26",0]
["Auckland (Auckland)-27-1-1961","Auckland (Auckland)","1961-01-27",0]
["Auckland (Auckland)-28-1-1961","Auckland (Auckland)","1961-01-28",0]
["Auckland (Auckland)-29-1-1961","Auckland (Auckland)","1961-01-29",0]
["Auckland (Auckland)-30-1-1961","Auckland (Auckland)","1961-01-30",0]
["Auckland (Auckland)-31-1-1961","Auckland (Auckland)","1961-01-31",0]
["Auckland (Auckland)-1-2-1961","Auckland (Auckland)","1961-02-01",0]
["Auckland (Auckland)-2-2-1961","Auckland (Auckland)","1961-02-02",0]
["Auckland (Auckland)-3-2-1961","Auckland (Auckland)","1961-02-03",2.8]
["Auckland (Auckland)-4-2-1961","Auckland (Auckland)","1961-02-04",2.8]
["Auckland (Auckland)-5-2-1961","Auckland (Auckland)","1961-02-05",0]
["Auckland (Auckland)-6-2-1961","Auckland (Auckland)","1961-02-06",1.7]
["Auckland (Auckland)-7-2-1961","Auckland (Auckland)","1961-02-07",0]
["Auckland (Auckland)-8-2-1961","Auckland (Auckland)","1961-02-08",0]
["Auckland (Auckland)-9-2-1961","Auckland (Auckland)","1961-02-09",0]
["Auckland (Auckland)-10-2-1961","Auckland (Auckland)","1961-02-10",0]
["Auckland (Auckland)-11-2-1961","Auckland (Auckland)","1961-02-11",0]
["Auckland (Auckland)-12-2-1961","Auckland (Auckland)","1961-02-12",0]
["Auckland (Auckland)-13-2-1961","Auckland (Auckland)","1961-02-13",0]
["Auckland (Auckland)-14-2-1961","Auckland (Auckland)","1961-02-14",0]
["Auckland (Auckland)-15-2-1961","Auckland (Auckland)","1961-02-15",3.7]
["Auckland (Auckland)-16-2-1961","Auckland (Auckland)","1961-02-16",1.6]
["Auckland (Auckland)-17-2-1961","Auckland (Auckland)","1961-02-17",0]
["Auckland (Auckland)-18-2-1961","Auckland (Auckland)","1961-02-18",0]
["Auckland (Auckland)-19-2-1961","Auckland (Auckland)","1961-02-19",0]
["Auckland (Auckland)-20-2-1961","Auckland (Auckland)","1961-02-20",0]
["Auckland (Auckland)-21-2-1961","Auckland (Auckland)","1961-02-21",0]
["Auckland (Auckland)-22-2-1961","Auckland (Auckland)","1961-02-22",0]
["Auckland (Auckland)-23-2-1961","Auckland (Auckland)","1961-02-23",34.6]
["Auckland (Auckland)-24-2-1961","Auckland (Auckland)","1961-02-24",0]
["Auckland (Auckland)-25-2-1961","Auckland (Auckland)","1961-02-25",0]
["Auckland (Auckland)-26-2-1961","Auckland (Auckland)","1961-02-26",0]
["Auckland (Auckland)-27-2-1961","Auckland (Auckland)","1961-02-27",0]
["Auckland (Auckland)-28-2-1961","Auckland (Auckland)","1961-02-28",0]
["Auckland (Auckland)-1-3-1961","Auckland (Auckland)","1961-03-01",3]
["Auckland (Auckland)-2-3-1961","Auckland (Auckland)","1961-03-02",0]
["Auckland (Auckland)-3-3-1961","Auckland (Auckland)","1961-03-03",0]
["Auckland (Auckland)-4-3-1961","Auckland (Auckland)","1961-03-04",0]
["Auckland (Auckland)-5-3-1961","Auckland (Auckland)","1961-03-05",6.7]
["Auckland (Auckland)-6-3-1961","Auckland (Auckland)","1961-03-06",2]
["Auckland (Auckland)-7-3-1961","Auckland (Auckland)","1961-03-07",0]
["Auckland (Auckland)-8-3-1961","Auckland (Auckland)","1961-03-08",0]
["Auckland (Auckland)-9-3-1961","Auckland (Auckland)","1961-03-09",0]
["Auckland (Auckland)-10-3-1961","Auckland (Auckland)","1961-03-10",1.6]
["Auckland (Auckland)-11-3-1961","Auckland (Auckland)","1961-03-11",0]
["Auckland (Auckland)-12-3-1961","Auckland (Auckland)","1961-03-12",5.6]
["Auckland (Auckland)-13-3-1961","Auckland (Auckland)","1961-03-13",0]
["Auckland (Auckland)-14-3-1961","Auckland (Auckland)","1961-03-14",0]
["Auckland (Auckland)-15-3-1961","Auckland (Auckland)","1961-03-15",0]
["Auckland (Auckland)-16-3-1961","Auckland (Auckland)","1961-03-16",0]
["Auckland (Auckland)-17-3-1961","Auckland (Auckland)","1961-03-17",0]
["Auckland (Auckland)-18-3-1961","Auckland (Auckland)","1961-03-18",0]
["Auckland (Auckland)-19-3-1961","Auckland (Auckland)","1961-03-19",0]
["Auckland (Auckland)-20-3-1961","Auckland (Auckland)","1961-03-20",0]
["Auckland (Auckland)-21-3-1961","Auckland (Auckland)","1961-03-21",0]
["Auckland (Auckland)-22-3-1961","Auckland (Auckland)","1961-03-22",0]
["Auckland (Auckland)-23-3-1961","Auckland (Auckland)","1961-03-23",4.3]
["Auckland (Auckland)-24-3-1961","Auckland (Auckland)","1961-03-24",9.8000000000000007]
[{"$f":"_xlfn.CONCAT(B451,\"-\",DAY(C451),\"-\",MONTH(C451),\"-\",YEAR(C451))","v":"Auckland (Auckland)-25-3-1961"},"Auckland (Auckland)","1961-03-25",1.2]
["Auckland (Auckland)-26-3-1961","Auckland (Auckland)","1961-03-26",1.8]
["Auckland (Auckland)-27-3-1961","Auckland (Auckland)","1961-03-27",0]
["Auckland (Auckland)-28-3-1961","Auckland (Auckland)","1961-03-28",0]
["Auckland (Auckland)-29-3-1961","Auckland (Auckland)","1961-03-29",0]
["Auckland (Auckland)-30-3-1961","Auckland (Auckland)","1961-03-30",0]
["Auckland (Auckland)-31-3-1961","Auckland (Auckland)","1961-03-31",0]
["Auckland (Auckland)-1-4-1961","Auckland (Auckland)","1961-04-01",0]
["Auckland (Auckland)-2-4-1961","Auckland (Auckland)","1961-04-02",11.5]
["Auckland (Auckland)-3-4-1961","Auckland (Auckland)","1961-04-03",0]
["Auckland (Auckland)-4-4-1961","Auckland (Auckland)","1961-04-04",0]
["Auckland (Auckland)-5-4-1961","Auckland (Auckland)","1961-04-05",0]
["Auckland (Auckland)-6-4-1961","Auckland (Auckland)","1961-04-06",0]
["Auckland (Auckland)-7-4-1961","Auckland (Auckland)","1961-04-07",0]
["Auckland (Auckland)-8-4-1961","Auckland (Auckland)","1961-04-08",0]
["Auckland (Auckland)-9-4-1961","Auckland (Auckland)","1961-04-09",0]
["Auckland (Auckland)-10-4-1961","Auckland (Auckland)","1961-04-10",0]
["Auckland (Auckland)-11-4-1961","Auckland (Auckland)","1961-04-11",0]
["Auckland (Auckland)-12-4-1961","Auckland (Auckland)","1961-04-12",0]
["Auckland (Auckland)-13-4-1961","Auckland (Auckland)","1961-04-13",0]
["Auckland (Auckland)-14-4-1961","Auckland (Auckland)","1961-04-14",0]
["Auckland (Auckland)-15-4-1961","Auckland (Auckland)","1961-04-15",7.8]
["Auckland (Auckland)-16-4-1961","Auckland (Auckland)","1961-04-16",15.3]
["Auckland (Auckland)-17-4-1961","Auckland (Auckland)","1961-04-17",9.6]
["Auckland (Auckland)-18-4-1961","Auckland (Auckland)","1961-04-18",3.8]
["Auckland (Auckland)-19-4-1961","Auckland (Auckland)","1961-04-19",1.3]
["Auckland (Auckland)-20-4-1961","Auckland (Auckland)","1961-04-20",0]
["Auckland (Auckland)-21-4-1961","Auckland (Auckland)","1961-04-21",0]
["Auckland (Auckland)-22-4-1961","Auckland (Auckland)","1961-04-22",0]
["Auckland (Auckland)-23-4-1961","Auckland (Auckland)","1961-04-23",0]
["Auckland (Auckland)-24-4-1961","Auckland (Auckland)","1961-04-24",0]
["Auckland (Auckland)-25-4-1961","Auckland (Auckland)","1961-04-25",0]
["Auckland (Auckland)-26-4-1961","Auckland (Auckland)","1961-04-26",3.3]
["Auckland (Auckland)-27-4-1961","Auckland (Auckland)","1961-04-27",26.9]
["Auckland (Auckland)-28-4-1961","Auckland (Auckland)","1961-04-28",18.600000000000001]
["Auckland (Auckland)-29-4-1961","Auckland (Auckland)","1961-04-29",0]
["Auckland (Auckland)-30-4-1961","Auckland (Auckland)","1961-04-30",0]
["Auckland (Auckland)-1-5-1961","Auckland (Auckland)","1961-05-01",0]
["Auckland (Auckland)-2-5-1961","Auckland (Auckland)","1961-05-02",0]
["Auckland (Auckland)-3-5-1961","Auckland (Auckland)","1961-05-03",0]
["Auckland (Auckland)-4-5-1961","Auckland (Auckland)","1961-05-04",0]
["Auckland (Auckland)-5-5-1961","Auckland (Auckland)","1961-05-05",27.3]
["Auckland (Auckland)-6-5-1961","Auckland (Auckland)","1961-05-06",3.4]
["Auckland (Auckland)-7-5-1961","Auckland (Auckland)","1961-05-07",1.4]
["Auckland (Auckland)-8-5-1961","Auckland (Auckland)","1961-05-08",17.8]
["Auckland (Auckland)-9-5-1961","Auckland (Auckland)","1961-05-09",1.2]
["Auckland (Auckland)-10-5-1961","Auckland (Auckland)","1961-05-10",3.3]
["Auckland (Auckland)-11-5-1961","Auckland (Auckland)","1961-05-11",6.7]
["Auckland (Auckland)-12-5-1961","Auckland (Auckland)","1961-05-12",0]
["Auckland (Auckland)-13-5-1961","Auckland (Auckland)","1961-05-13",4.3]
["Auckland (Auckland)-14-5-1961","Auckland (Auckland)","1961-05-14",7.9]
["Auckland (Auckland)-15-5-1961","Auckland (Auckland)","1961-05-15",4]
["Auckland (Auckland)-16-5-1961","Auckland (Auckland)","1961-05-16",2]
["Auckland (Auckland)-17-5-1961","Auckland (Auckland)","1961-05-17",1.1000000000000001]
["Auckland (Auckland)-18-5-1961","Auckland (Auckland)","1961-05-18",0]
["Auckland (Auckland)-19-5-1961","Auckland (Auckland)","1961-05-19",0]
["Auckland (Auckland)-20-5-1961","Auckland (Auckland)","1961-05-20",1.2]
["Auckland (Auckland)-21-5-1961","Auckland (Auckland)","1961-05-21",1.6]
["Auckland (Auckland)-22-5-1961","Auckland (Auckland)","1961-05-22",0]
["Auckland (Auckland)-23-5-1961","Auckland (Auckland)","1961-05-23",0]
["Auckland (Auckland)-24-5-1961","Auckland (Auckland)","1961-05-24",4.0999999999999996]
["Auckland (Auckland)-25-5-1961","Auckland (Auckland)","1961-05-25",0]
["Auckland (Auckland)-26-5-1961","Auckland (Auckland)","1961-05-26",11.9]
["Auckland (Auckland)-27-5-1961","Auckland (Auckland)","1961-05-27",1.4]
[{"$f":"_xlfn.CONCAT(B515,\"-\",DAY(C515),\"-\",MONTH(C515),\"-\",YEAR(C515))","v":"Auckland (Auckland)-28-5-1961"},"Auckland (Auckland)","1961-05-28",0]
["Auckland (Auckland)-29-5-1961","Auckland (Auckland)","1961-05-29",0]
["Auckland (Auckland)-30-5-1961","Auckland (Auckland)","1961-05-30",12.2]
["Auckland (Auckland)-31-5-1961","Auckland (Auckland)","1961-05-31",0]
["Auckland (Auckland)-1-6-1961","Auckland (Auckland)","1961-06-01",0]
["Auckland (Auckland)-2-6-1961","Auckland (Auckland)","1961-06-02",0]
["Auckland (Auckland)-3-6-1961","Auckland (Auckland)","1961-06-03",0]
["Auckland (Auckland)-4-6-1961","Auckland (Auckland)","1961-06-04",1.6]
["Auckland (Auckland)-5-6-1961","Auckland (Auckland)","1961-06-05",0]
["Auckland (Auckland)-6-6-1961","Auckland (Auckland)","1961-06-06",26.1]
["Auckland (Auckland)-7-6-1961","Auckland (Auckland)","1961-06-07",10.8]
["Auckland (Auckland)-8-6-1961","Auckland (Auckland)","1961-06-08",21.8]
["Auckland (Auckland)-9-6-1961","Auckland (Auckland)","1961-06-09",0]
["Auckland (Auckland)-10-6-1961","Auckland (Auckland)","1961-06-10",0]
["Auckland (Auckland)-11-6-1961","Auckland (Auckland)","1961-06-11",0]
["Auckland (Auckland)-12-6-1961","Auckland (Auckland)","1961-06-12",9.8000000000000007]
["Auckland (Auckland)-13-6-1961","Auckland (Auckland)","1961-06-13",68.099999999999994]
["Auckland (Auckland)-14-6-1961","Auckland (Auckland)","1961-06-14",0]
["Auckland (Auckland)-15-6-1961","Auckland (Auckland)","1961-06-15",19.7]
["Auckland (Auckland)-16-6-1961","Auckland (Auckland)","1961-06-16",3.9]
["Auckland (Auckland)-17-6-1961","Auckland (Auckland)","1961-06-17",6.3]
["Auckland (Auckland)-18-6-1961","Auckland (Auckland)","1961-06-18",0]
["Auckland (Auckland)-19-6-1961","Auckland (Auckland)","1961-06-19",0]
["Auckland (Auckland)-20-6-1961","Auckland (Auckland)","1961-06-20",0]
["Auckland (Auckland)-21-6-1961","Auckland (Auckland)","1961-06-21",2.2999999999999998]
["Auckland (Auckland)-22-6-1961","Auckland (Auckland)","1961-06-22",12.4]
["Auckland (Auckland)-23-6-1961","Auckland (Auckland)","1961-06-23",26.7]
["Auckland (Auckland)-24-6-1961","Auckland (Auckland)","1961-06-24",4.4000000000000004]
["Auckland (Auckland)-25-6-1961","Auckland (Auckland)","1961-06-25",7.3]
["Auckland (Auckland)-26-6-1961","Auckland (Auckland)","1961-06-26",12.2]
["Auckland (Auckland)-27-6-1961","Auckland (Auckland)","1961-06-27",5.6]
["Auckland (Auckland)-28-6-1961","Auckland (Auckland)","1961-06-28",7.5]
["Auckland (Auckland)-29-6-1961","Auckland (Auckland)","1961-06-29",3.8]
["Auckland (Auckland)-30-6-1961","Auckland (Auckland)","1961-06-30",8.1]
["Auckland (Auckland)-1-7-1961","Auckland (Auckland)","1961-07-01",2.4]
["Auckland (Auckland)-2-7-1961","Auckland (Auckland)","1961-07-02",0]
["Auckland (Auckland)-3-7-1961","Auckland (Auckland)","1961-07-03",0]
["Auckland (Auckland)-4-7-1961","Auckland (Auckland)","1961-07-04",2.4]
["Auckland (Auckland)-5-7-1961","Auckland (Auckland)","1961-07-05",1]
["Auckland (Auckland)-6-7-1961","Auckland (Auckland)","1961-07-06",9.1]
["Auckland (Auckland)-7-7-1961","Auckland (Auckland)","1961-07-07",9.6999999999999993]
["Auckland (Auckland)-8-7-1961","Auckland (Auckland)","1961-07-08",2.1]
["Auckland (Auckland)-9-7-1961","Auckland (Auckland)","1961-07-09",17.899999999999999]
["Auckland (Auckland)-10-7-1961","Auckland (Auckland)","1961-07-10",3.6]
["Auckland (Auckland)-11-7-1961","Auckland (Auckland)","1961-07-11",2]
["Auckland (Auckland)-12-7-1961","Auckland (Auckland)","1961-07-12",5.2]
["Auckland (Auckland)-13-7-1961","Auckland (Auckland)","1961-07-13",5.3]
["Auckland (Auckland)-14-7-1961","Auckland (Auckland)","1961-07-14",0]
["Auckland (Auckland)-15-7-1961","Auckland (Auckland)","1961-07-15",3]
["Auckland (Auckland)-16-7-1961","Auckland (Auckland)","1961-07-16",62.7]
["Auckland (Auckland)-17-7-1961","Auckland (Auckland)","1961-07-17",18.600000000000001]
["Auckland (Auckland)-18-7-1961","Auckland (Auckland)","1961-07-18",2.2000000000000002]
["Auckland (Auckland)-19-7-1961","Auckland (Auckland)","1961-07-19",2]
["Auckland (Auckland)-20-7-1961","Auckland (Auckland)","1961-07-20",0]
["Auckland (Auckland)-21-7-1961","Auckland (Auckland)","1961-07-21",0]
["Auckland (Auckland)-22-7-1961","Auckland (Auckland)","1961-07-22",0]
["Auckland (Auckland)-23-7-1961","Auckland (Auckland)","1961-07-23",0]
["Auckland (Auckland)-24-7-1961","Auckland (Auckland)","1961-07-24",0]
["Auckland (Auckland)-25-7-1961","Auckland (Auckland)","1961-07-25",0]
["Auckland (Auckland)-26-7-1961","Auckland (Auckland)","1961-07-26",0]
["Auckland (Auckland)-27-7-1961","Auckland (Auckland)","1961-07-27",0]
["Auckland (Auckland)-28-7-1961","Auckland (Auckland)","1961-07-28",23.3]
["Auckland (Auckland)-29-7-1961","Auckland (Auckland)","1961-07-29",6.5]
["Auckland (Auckland)-30-7-1961","Auckland (Auckland)","1961-07-30",13.7]
[{"$f":"_xlfn.CONCAT(B579,\"-\",DAY(C579),\"-\",MONTH(C579),\"-\",YEAR(C579))","v":"Auckland (Auckland)-31-7-1961"},"Auckland (Auckland)","1961-07-31",4.0999999999999996]
["Auckland (Auckland)-1-8-1961","Auckland (Auckland)","1961-08-01",2]
["Auckland (Auckland)-2-8-1961","Auckland (Auckland)","1961-08-02",0]
["Auckland (Auckland)-3-8-1961","Auckland (Auckland)","1961-08-03",0]
["Auckland (Auckland)-4-8-1961","Auckland (Auckland)","1961-08-04",23.6]
["Auckland (Auckland)-5-8-1961","Auckland (Auckland)","1961-08-05",7.8]
["Auckland (Auckland)-6-8-1961","Auckland (Auckland)","1961-08-06",6.5]
["Auckland (Auckland)-7-8-1961","Auckland (Auckland)","1961-08-07",0]
["Auckland (Auckland)-8-8-1961","Auckland (Auckland)","1961-08-08",0]
["Auckland (Auckland)-9-8-1961","Auckland (Auckland)","1961-08-09",1.3]
["Auckland (Auckland)-10-8-1961","Auckland (Auckland)","1961-08-10",0]
["Auckland (Auckland)-11-8-1961","Auckland (Auckland)","1961-08-11",0]
["Auckland (Auckland)-12-8-1961","Auckland (Auckland)","1961-08-12",0]
["Auckland (Auckland)-13-8-1961","Auckland (Auckland)","1961-08-13",0]
["Auckland (Auckland)-14-8-1961","Auckland (Auckland)","1961-08-14",0]
["Auckland (Auckland)-15-8-1961","Auckland (Auckland)","1961-08-15",0]
["Auckland (Auckland)-16-8-1961","Auckland (Auckland)","1961-08-16",0]
["Auckland (Auckland)-17-8-1961","Auckland (Auckland)","1961-08-17",0]
["Auckland (Auckland)-18-8-1961","Auckland (Auckland)","1961-08-18",0]
["Auckland (Auckland)-19-8-1961","Auckland (Auckland)","1961-08-19",0]
["Auckland (Auckland)-20-8-1961","Auckland (Auckland)","1961-08-20",0]
["Auckland (Auckland)-21-8-1961","Auckland (Auckland)","1961-08-21",0]
["Auckland (Auckland)-22-8-1961","Auckland (Auckland)","1961-08-22",20.6]
["Auckland (Auckland)-23-8-1961","Auckland (Auckland)","1961-08-23",106.3]
["Auckland (Auckland)-24-8-1961","Auckland (Auckland)","1961-08-24",13.7]
["Auckland (Auckland)-25-8-1961","Auckland (Auckland)","1961-08-25",0]
["Auckland (Auckland)-26-8-1961","Auckland (Auckland)","1961-08-26",0]
["Auckland (Auckland)-27-8-1961","Auckland (Auckland)","1961-08-27",0]
["Auckland (Auckland)-28-8-1961","Auckland (Auckland)","1961-08-28",0]
["Auckland (Auckland)-29-8-1961","Auckland (Auckland)","1961-08-29",0]
["Auckland (Auckland)-30-8-1961","Auckland (Auckland)","1961-08-30",0]
["Auckland (Auckland)-31-8-1961","Auckland (Auckland)","1961-08-31",5.5]
["Auckland (Auckland)-1-9-1961","Auckland (Auckland)","1961-09-01",0]
["Auckland (Auckland)-2-9-1961","Auckland (Auckland)","1961-09-02",0]
["Auckland (Auckland)-3-9-1961","Auckland (Auckland)","1961-09-03",0]
["Auckland (Auckland)-4-9-1961","Auckland (Auckland)","1961-09-04",0]
["Auckland (Auckland)-5-9-1961","Auckland (Auckland)","1961-09-05",2.2999999999999998]
["Auckland (Auckland)-6-9-1961","Auckland (Auckland)","1961-09-06",0]
["Auckland (Auckland)-7-9-1961","Auckland (Auckland)","1961-09-07",0]
["Auckland (Auckland)-8-9-1961","Auckland (Auckland)","1961-09-08",8.9]
["Auckland (Auckland)-9-9-1961","Auckland (Auckland)","1961-09-09",51.2]
["Auckland (Auckland)-10-9-1961","Auckland (Auckland)","1961-09-10",3.2]
["Auckland (Auckland)-11-9-1961","Auckland (Auckland)","1961-09-11",0]
["Auckland (Auckland)-12-9-1961","Auckland (Auckland)","1961-09-12",0]
["Auckland (Auckland)-13-9-1961","Auckland (Auckland)","1961-09-13",0]
["Auckland (Auckland)-14-9-1961","Auckland (Auckland)","1961-09-14",4.4000000000000004]
["Auckland (Auckland)-15-9-1961","Auckland (Auckland)","1961-09-15",0]
["Auckland (Auckland)-16-9-1961","Auckland (Auckland)","1961-09-16",0]
["Auckland (Auckland)-17-9-1961","Auckland (Auckland)","1961-09-17",12.2]
["Auckland (Auckland)-18-9-1961","Auckland (Auckland)","1961-09-18",2.2000000000000002]
["Auckland (Auckland)-19-9-1961","Auckland (Auckland)","1961-09-19",0]
["Auckland (Auckland)-20-9-1961","Auckland (Auckland)","1961-09-20",0]
["Auckland (Auckland)-21-9-1961","Auckland (Auckland)","1961-09-21",0]
["Auckland (Auckland)-22-9-1961","Auckland (Auckland)","1961-09-22",7.5]
["Auckland (Auckland)-23-9-1961","Auckland (Auckland)","1961-09-23",6.1]
["Auckland (Auckland)-24-9-1961","Auckland (Auckland)","1961-09-24",8.1]
["Auckland (Auckland)-25-9-1961","Auckland (Auckland)","1961-09-25",0]
["Auckland (Auckland)-26-9-1961","Auckland (Auckland)","1961-09-26",0]
["Auckland (Auckland)-27-9-1961","Auckland (Auckland)","1961-09-27",4.5999999999999996]
["Auckland (Auckland)-28-9-1961","Auckland (Auckland)","1961-09-28",7]
["Auckland (Auckland)-29-9-1961","Auckland (Auckland)","1961-09-29",0]
["Auckland (Auckland)-30-9-1961","Auckland (Auckland)","1961-09-30",0]
["Auckland (Auckland)-1-10-1961","Auckland (Auckland)","1961-10-01",0]
["Auckland (Auckland)-2-10-1961","Auckland (Auckland)","1961-10-02",0]
[{"$f":"_xlfn.CONCAT(B643,\"-\",DAY(C643),\"-\",MONTH(C643),\"-\",YEAR(C643))","v":"Auckland (Auckland)-3-10-1961"},"Auckland (Auckland)","1961-10-03",0]
["Auckland (Auckland)-4-10-1961","Auckland (Auckland)","1961-10-04",0]
["Auckland (Auckland)-5-10-1961","Auckland (Auckland)","1961-10-05",0]
["Auckland (Auckland)-6-10-1961","Auckland (Auckland)","1961-10-06",0]
["Auckland (Auckland)-7-10-1961","Auckland (Auckland)","1961-10-07",0]
["Auckland (Auckland)-8-10-1961","Auckland (Auckland)","1961-10-08",0]
["Auckland (Auckland)-9-10-1961","Auckland (Auckland)","1961-10-09",0]
["Auckland (Auckland)-10-10-1961","Auckland (Auckland)","1961-10-10",0]
["Auckland (Auckland)-11-10-1961","Auckland (Auckland)","1961-10-11",0]
["Auckland (Auckland)-12-10-1961","Auckland (Auckland)","1961-10-12",0]
["Auckland (Auckland)-13-10-1961","Auckland (Auckland)","1961-10-13",0]
["Auckland (Auckland)-14-10-1961","Auckland (Auckland)","1961-10-14",8.6999999999999993]
["Auckland (Auckland)-15-10-1961","Auckland (Auckland)","1961-10-15",10.5]
["Auckland (Auckland)-16-10-1961","Auckland (Auckland)","1961-10-16",2.6]
["Auckland (Auckland)-17-10-1961","Auckland (Auckland)","1961-10-17",0]
["Auckland (Auckland)-18-10-1961","Auckland (Auckland)","1961-10-18",0]
["Auckland (Auckland)-19-10-1961","Auckland (Auckland)","1961-10-19",0]
["Auckland (Auckland)-20-10-1961","Auckland (Auckland)","1961-10-20",0]
["Auckland (Auckland)-21-10-1961","Auckland (Auckland)","1961-10-21",0]
["Auckland (Auckland)-22-10-1961","Auckland (Auckland)","1961-10-22",0]
["Auckland (Auckland)-23-10-1961","Auckland (Auckland)","1961-10-23",0]
["Auckland (Auckland)-24-10-1961","Auckland (Auckland)","1961-10-24",0]
["Auckland (Auckland)-25-10-1961","Auckland (Auckland)","1961-10-25",0]
["Auckland (Auckland)-26-10-1961","Auckland (Auckland)","1961-10-26",0]
["Auckland (Auckland)-27-10-1961","Auckland (Auckland)","1961-10-27",45.6]
["Auckland (Auckland)-28-10-1961","Auckland (Auckland)","1961-10-28",63.9]
["Auckland (Auckland)-29-10-1961","Auckland (Auckland)","1961-10-29",1.9]
["Auckland (Auckland)-30-10-1961","Auckland (Auckland)","1961-10-30",0]
["Auckland (Auckland)-31-10-1961","Auckland (Auckland)","1961-10-31",0]
["Auckland (Auckland)-1-11-1961","Auckland (Auckland)","1961-11-01",0]
["Auckland (Auckland)-2-11-1961","Auckland (Auckland)","1961-11-02",0]
["Auckland (Auckland)-3-11-1961","Auckland (Auckland)","1961-11-03",0]
["Auckland (Auckland)-4-11-1961","Auckland (Auckland)","1961-11-04",0]
["Auckland (Auckland)-5-11-1961","Auckland (Auckland)","1961-11-05",0]
["Auckland (Auckland)-6-11-1961","Auckland (Auckland)","1961-11-06",0]
["Auckland (Auckland)-7-11-1961","Auckland (Auckland)","1961-11-07",0]
["Auckland (Auckland)-8-11-1961","Auckland (Auckland)","1961-11-08",0]
["Auckland (Auckland)-9-11-1961","Auckland (Auckland)","1961-11-09",0]
["Auckland (Auckland)-10-11-1961","Auckland (Auckland)","1961-11-10",2.7]
["Auckland (Auckland)-11-11-1961","Auckland (Auckland)","1961-11-11",5.2]
["Auckland (Auckland)-12-11-1961","Auckland (Auckland)","1961-11-12",0]
["Auckland (Auckland)-13-11-1961","Auckland (Auckland)","1961-11-13",0]
["Auckland (Auckland)-14-11-1961","Auckland (Auckland)","1961-11-14",0]
["Auckland (Auckland)-15-11-1961","Auckland (Auckland)","1961-11-15",0]
["Auckland (Auckland)-16-11-1961","Auckland (Auckland)","1961-11-16",0]
["Auckland (Auckland)-17-11-1961","Auckland (Auckland)","1961-11-17",9.1]
["Auckland (Auckland)-18-11-1961","Auckland (Auckland)","1961-11-18",0]
["Auckland (Auckland)-19-11-1961","Auckland (Auckland)","1961-11-19",0]
["Auckland (Auckland)-20-11-1961","Auckland (Auckland)","1961-11-20",0]
["Auckland (Auckland)-21-11-1961","Auckland (Auckland)","1961-11-21",0]
["Auckland (Auckland)-22-11-1961","Auckland (Auckland)","1961-11-22",0]
["Auckland (Auckland)-23-11-1961","Auckland (Auckland)","1961-11-23",0]
["Auckland (Auckland)-24-11-1961","Auckland (Auckland)","1961-11-24",0]
["Auckland (Auckland)-25-11-1961","Auckland (Auckland)","1961-11-25",0]
["Auckland (Auckland)-26-11-1961","Auckland (Auckland)","1961-11-26",0]
["Auckland (Auckland)-27-11-1961","Auckland (Auckland)","1961-11-27",0]
["Auckland (Auckland)-28-11-1961","Auckland (Auckland)","1961-11-28",0]
["Auckland (Auckland)-29-11-1961","Auckland (Auckland)","1961-11-29",6.6]
["Auckland (Auckland)-30-11-1961","Auckland (Auckland)","1961-11-30",16.7]
["Auckland (Auckland)-1-12-1961","Auckland (Auckland)","1961-12-01",1.8]
["Auckland (Auckland)-2-12-1961","Auckland (Auckland)","1961-12-02",0]
["Auckland (Auckland)-3-12-1961","Auckland (Auckland)","1961-12-03",0]
["Auckland (Auckland)-4-12-1961","Auckland (Auckland)","1961-12-04",0]
["Auckland (Auckland)-5-12-1961","Auckland (Auckland)","1961-12-05",0]
[{"$f":"_xlfn.CONCAT(B707,\"-\",DAY(C707),\"-\",MONTH(C707),\"-\",YEAR(C707))","v":"Auckland (Auckland)-6-12-1961"},"Auckland (Auckland)","1961-12-06",0]
["Auckland (Auckland)-7-12-1961","Auckland (Auckland)","1961-12-07",0]
["Auckland (Auckland)-8-12-1961","Auckland (Auckland)","1961-12-08",9.4]
["Auckland (Auckland)-9-12-1961","Auckland (Auckland)","1961-12-09",3.1]
["Auckland (Auckland)-10-12-1961","Auckland (Auckland)","1961-12-10",0]
["Auckland (Auckland)-11-12-1961","Auckland (Auckland)","1961-12-11",0]
["Auckland (Auckland)-12-12-1961","Auckland (Auckland)","1961-12-12",0]
["Auckland (Auckland)-13-12-1961","Auckland (Auckland)","1961-12-13",0]
["Auckland (Auckland)-14-12-1961","Auckland (Auckland)","1961-12-14",10.199999999999999]
["Auckland (Auckland)-15-12-1961","Auckland (Auckland)","1961-12-15",0]
["Auckland (Auckland)-16-12-1961","Auckland (Auckland)","1961-12-16",0]
["Auckland (Auckland)-17-12-1961","Auckland (Auckland)","1961-12-17",0]
["Auckland (Auckland)-18-12-1961","Auckland (Auckland)","1961-12-18",0]
["Auckland (Auckland)-19-12-1961","Auckland (Auckland)","1961-12-19",0]
["Auckland (Auckland)-20-12-1961","Auckland (Auckland)","1961-12-20",0]
["Auckland (Auckland)-21-12-1961","Auckland (Auckland)","1961-12-21",0]
["Auckland (Auckland)-22-12-1961","Auckland (Auckland)","1961-12-22",0]
["Auckland (Auckland)-23-12-1961","Auckland (Auckland)","1961-12-23",0]
["Auckland (Auckland)-24-12-1961","Auckland (Auckland)","1961-12-24",0]
["Auckland (Auckland)-25-12-1961","Auckland (Auckland)","1961-12-25",0]
["Auckland (Auckland)-26-12-1961","Auckland (Auckland)","1961-12-26",0]
["Auckland (Auckland)-27-12-1961","Auckland (Auckland)","1961-12-27",0]
["Auckland (Auckland)-28-12-1961","Auckland (Auckland)","1961-12-28",0]
["Auckland (Auckland)-29-12-1961","Auckland (Auckland)","1961-12-29",0]
["Auckland (Auckland)-30-12-1961","Auckland (Auckland)","1961-12-30",7.9]
["Auckland (Auckland)-31-12-1961","Auckland (Auckland)","1961-12-31",2.2000000000000002]
["Auckland (Auckland)-1-1-1962","Auckland (Auckland)","1962-01-01",0]
["Auckland (Auckland)-2-1-1962","Auckland (Auckland)","1962-01-02",1]
["Auckland (Auckland)-3-1-1962","Auckland (Auckland)","1962-01-03",0]
["Auckland (Auckland)-4-1-1962","Auckland (Auckland)","1962-01-04",0]
["Auckland (Auckland)-5-1-1962","Auckland (Auckland)","1962-01-05",0]
["Auckland (Auckland)-6-1-1962","Auckland (Auckland)","1962-01-06",4.0999999999999996]
["Auckland (Auckland)-7-1-1962","Auckland (Auckland)","1962-01-07",0]
["Auckland (Auckland)-8-1-1962","Auckland (Auckland)","1962-01-08",0]
["Auckland (Auckland)-9-1-1962","Auckland (Auckland)","1962-01-09",0]
["Auckland (Auckland)-10-1-1962","Auckland (Auckland)","1962-01-10",0]
["Auckland (Auckland)-11-1-1962","Auckland (Auckland)","1962-01-11",0]
["Auckland (Auckland)-12-1-1962","Auckland (Auckland)","1962-01-12",0]
["Auckland (Auckland)-13-1-1962","Auckland (Auckland)","1962-01-13",1.7]
["Auckland (Auckland)-14-1-1962","Auckland (Auckland)","1962-01-14",0]
["Auckland (Auckland)-15-1-1962","Auckland (Auckland)","1962-01-15",0]
["Auckland (Auckland)-16-1-1962","Auckland (Auckland)","1962-01-16",0]
["Auckland (Auckland)-17-1-1962","Auckland (Auckland)","1962-01-17",0]
["Auckland (Auckland)-18-1-1962","Auckland (Auckland)","1962-01-18",0]
["Auckland (Auckland)-19-1-1962","Auckland (Auckland)","1962-01-19",0]
["Auckland (Auckland)-20-1-1962","Auckland (Auckland)","1962-01-20",0]
["Auckland (Auckland)-21-1-1962","Auckland (Auckland)","1962-01-21",0]
["Auckland (Auckland)-22-1-1962","Auckland (Auckland)","1962-01-22",8.3000000000000007]
["Auckland (Auckland)-23-1-1962","Auckland (Auckland)","1962-01-23",0]
["Auckland (Auckland)-24-1-1962","Auckland (Auckland)","1962-01-24",0]
["Auckland (Auckland)-25-1-1962","Auckland (Auckland)","1962-01-25",0]
["Auckland (Auckland)-26-1-1962","Auckland (Auckland)","1962-01-26",0]
["Auckland (Auckland)-27-1-1962","Auckland (Auckland)","1962-01-27",1.3]
["Auckland (Auckland)-28-1-1962","Auckland (Auckland)","1962-01-28",8.5]
["Auckland (Auckland)-29-1-1962","Auckland (Auckland)","1962-01-29",0]
["Auckland (Auckland)-30-1-1962","Auckland (Auckland)","1962-01-30",0]
["Auckland (Auckland)-31-1-1962","Auckland (Auckland)","1962-01-31",1.7]
["Auckland (Auckland)-1-2-1962","Auckland (Auckland)","1962-02-01",0]
["Auckland (Auckland)-2-2-1962","Auckland (Auckland)","1962-02-02",0]
["Auckland (Auckland)-3-2-1962","Auckland (Auckland)","1962-02-03",0]
["Auckland (Auckland)-4-2-1962","Auckland (Auckland)","1962-02-04",0]
["Auckland (Auckland)-5-2-1962","Auckland (Auckland)","1962-02-05",0]
["Auckland (Auckland)-6-2-1962","Auckland (Auckland)","1962-02-06",2.9]
["Auckland (Auckland)-7-2-1962","Auckland (Auckland)","1962-02-07",4.3]
[{"$f":"_xlfn.CONCAT(B771,\"-\",DAY(C771),\"-\",MONTH(C771),\"-\",YEAR(C771))","v":"Auckland (Auckland)-8-2-1962"},"Auckland (Auckland)","1962-02-08",0]
["Auckland (Auckland)-9-2-1962","Auckland (Auckland)","1962-02-09",0]
["Auckland (Auckland)-10-2-1962","Auckland (Auckland)","1962-02-10",0]
["Auckland (Auckland)-11-2-1962","Auckland (Auckland)","1962-02-11",6]
["Auckland (Auckland)-12-2-1962","Auckland (Auckland)","1962-02-12",4.5999999999999996]
["Auckland (Auckland)-13-2-1962","Auckland (Auckland)","1962-02-13",0]
["Auckland (Auckland)-14-2-1962","Auckland (Auckland)","1962-02-14",0]
["Auckland (Auckland)-15-2-1962","Auckland (Auckland)","1962-02-15",0]
["Auckland (Auckland)-16-2-1962","Auckland (Auckland)","1962-02-16",0]
["Auckland (Auckland)-17-2-1962","Auckland (Auckland)","1962-02-17",0]
["Auckland (Auckland)-18-2-1962","Auckland (Auckland)","1962-02-18",0]
["Auckland (Auckland)-19-2-1962","Auckland (Auckland)","1962-02-19",0]
["Auckland (Auckland)-20-2-1962","Auckland (Auckland)","1962-02-20",0]
["Auckland (Auckland)-21-2-1962","Auckland (Auckland)","1962-02-21",0]
["Auckland (Auckland)-22-2-1962","Auckland (Auckland)","1962-02-22",0]
["Auckland (Auckland)-23-2-1962","Auckland (Auckland)","1962-02-23",0]
["Auckland (Auckland)-24-2-1962","Auckland (Auckland)","1962-02-24",0]
["Auckland (Auckland)-25-2-1962","Auckland (Auckland)","1962-02-25",0]
["Auckland (Auckland)-26-2-1962","Auckland (Auckland)","1962-02-26",9.1]
["Auckland (Auckland)-27-2-1962","Auckland (Auckland)","1962-02-27",1.1000000000000001]
["Auckland (Auckland)-28-2-1962","Auckland (Auckland)","1962-02-28",0]
["Auckland (Auckland)-1-3-1962","Auckland (Auckland)","1962-03-01",2.9]
["Auckland (Auckland)-2-3-1962","Auckland (Auckland)","1962-03-02",21.3]
["Auckland (Auckland)-3-3-1962","Auckland (Auckland)","1962-03-03",1]
["Auckland (Auckland)-4-3-1962","Auckland (Auckland)","1962-03-04",17.899999999999999]
["Auckland (Auckland)-5-3-1962","Auckland (Auckland)","1962-03-05",12.1]
["Auckland (Auckland)-6-3-1962","Auckland (Auckland)","1962-03-06",1.4]
["Auckland (Auckland)-7-3-1962","Auckland (Auckland)","1962-03-07",12.2]
["Auckland (Auckland)-8-3-1962","Auckland (Auckland)","1962-03-08",26.9]
["Auckland (Auckland)-9-3-1962","Auckland (Auckland)","1962-03-09",2.2000000000000002]
["Auckland (Auckland)-10-3-1962","Auckland (Auckland)","1962-03-10",18]
["Auckland (Auckland)-11-3-1962","Auckland (Auckland)","1962-03-11",9.6]
["Auckland (Auckland)-12-3-1962","Auckland (Auckland)","1962-03-12",0]
["Auckland (Auckland)-13-3-1962","Auckland (Auckland)","1962-03-13",2.2000000000000002]
["Auckland (Auckland)-14-3-1962","Auckland (Auckland)","1962-03-14",0]
["Auckland (Auckland)-15-3-1962","Auckland (Auckland)","1962-03-15",0]
["Auckland (Auckland)-16-3-1962","Auckland (Auckland)","1962-03-16",0]
["Auckland (Auckland)-17-3-1962","Auckland (Auckland)","1962-03-17",0]
["Auckland (Auckland)-18-3-1962","Auckland (Auckland)","1962-03-18",0]
["Auckland (Auckland)-19-3-1962","Auckland (Auckland)","1962-03-19",0]
["Auckland (Auckland)-20-3-1962","Auckland (Auckland)","1962-03-20",0]
["Auckland (Auckland)-21-3-1962","Auckland (Auckland)","1962-03-21",2]
["Auckland (Auckland)-22-3-1962","Auckland (Auckland)","1962-03-22",0]
["Auckland (Auckland)-23-3-1962","Auckland (Auckland)","1962-03-23",0]
["Auckland (Auckland)-24-3-1962","Auckland (Auckland)","1962-03-24",0]
["Auckland (Auckland)-25-3-1962","Auckland (Auckland)","1962-03-25",0]
["Auckland (Auckland)-26-3-1962","Auckland (Auckland)","1962-03-26",0]
["Auckland (Auckland)-27-3-1962","Auckland (Auckland)","1962-03-27",0]
["Auckland (Auckland)-28-3-1962","Auckland (Auckland)","1962-03-28",0]
["Auckland (Auckland)-29-3-1962","Auckland (Auckland)","1962-03-29",0]
["Auckland (Auckland)-30-3-1962","Auckland (Auckland)","1962-03-30",6.7]
["Auckland (Auckland)-31-3-1962","Auckland (Auckland)","1962-03-31",3.4]
["Auckland (Auckland)-1-4-1962","Auckland (Auckland)","1962-04-01",3.6]
["Auckland (Auckland)-2-4-1962","Auckland (Auckland)","1962-04-02",0]
["Auckland (Auckland)-3-4-1962","Auckland (Auckland)","1962-04-03",0]
["Auckland (Auckland)-4-4-1962","Auckland (Auckland)","1962-04-04",0]
["Auckland (Auckland)-5-4-1962","Auckland (Auckland)","1962-04-05",0]
["Auckland (Auckland)-6-4-1962","Auckland (Auckland)","1962-04-06",1.1000000000000001]
["Auckland (Auckland)-7-4-1962","Auckland (Auckland)","1962-04-07",0]
["Auckland (Auckland)-8-4-1962","Auckland (Auckland)","1962-04-08",0]
["Auckland (Auckland)-9-4-1962","Auckland (Auckland)","1962-04-09",6.6]
["Auckland (Auckland)-10-4-1962","Auckland (Auckland)","1962-04-10",5.9]
["Auckland (Auckland)-11-4-1962","Auckland (Auckland)","1962-04-11",8]
["Auckland (Auckland)-12-4-1962","Auckland (Auckland)","1962-04-12",6.3]
[{"$f":"_xlfn.CONCAT(B835,\"-\",DAY(C835),\"-\",MONTH(C835),\"-\",YEAR(C835))","v":"Auckland (Auckland)-13-4-1962"},"Auckland (Auckland)","1962-04-13",0]
["Auckland (Auckland)-14-4-1962","Auckland (Auckland)","1962-04-14",8.8000000000000007]
["Auckland (Auckland)-15-4-1962","Auckland (Auckland)","1962-04-15",11.5]
["Auckland (Auckland)-16-4-1962","Auckland (Auckland)","1962-04-16",4.9000000000000004]
["Auckland (Auckland)-17-4-1962","Auckland (Auckland)","1962-04-17",0]
["Auckland (Auckland)-18-4-1962","Auckland (Auckland)","1962-04-18",2]
["Auckland (Auckland)-19-4-1962","Auckland (Auckland)","1962-04-19",0]
["Auckland (Auckland)-20-4-1962","Auckland (Auckland)","1962-04-20",0]
["Auckland (Auckland)-21-4-1962","Auckland (Auckland)","1962-04-21",0]
["Auckland (Auckland)-22-4-1962","Auckland (Auckland)","1962-04-22",0]
["Auckland (Auckland)-23-4-1962","Auckland (Auckland)","1962-04-23",0]
["Auckland (Auckland)-24-4-1962","Auckland (Auckland)","1962-04-24",0]
["Auckland (Auckland)-25-4-1962","Auckland (Auckland)","1962-04-25",0]
["Auckland (Auckland)-26-4-1962","Auckland (Auckland)","1962-04-26",0]
["Auckland (Auckland)-27-4-1962","Auckland (Auckland)","1962-04-27",2.7]
["Auckland (Auckland)-28-4-1962","Auckland (Auckland)","1962-04-28",5.9]
["Auckland (Auckland)-29-4-1962","Auckland (Auckland)","1962-04-29",48.6]
["Auckland (Auckland)-30-4-1962","Auckland (Auckland)","1962-04-30",1.1000000000000001]
["Auckland (Auckland)-1-5-1962","Auckland (Auckland)","1962-05-01",0]
["Auckland (Auckland)-2-5-1962","Auckland (Auckland)","1962-05-02",0]
["Auckland (Auckland)-3-5-1962","Auckland (Auckland)","1962-05-03",38.1]
["Auckland (Auckland)-4-5-1962","Auckland (Auckland)","1962-05-04",3.8]
["Auckland (Auckland)-5-5-1962","Auckland (Auckland)","1962-05-05",0]
["Auckland (Auckland)-6-5-1962","Auckland (Auckland)","1962-05-06",0]
["Auckland (Auckland)-7-5-1962","Auckland (Auckland)","1962-05-07",0]
["Auckland (Auckland)-8-5-1962","Auckland (Auckland)","1962-05-08",8.6]
["Auckland (Auckland)-9-5-1962","Auckland (Auckland)","1962-05-09",0]
["Auckland (Auckland)-10-5-1962","Auckland (Auckland)","1962-05-10",1.5]
["Auckland (Auckland)-11-5-1962","Auckland (Auckland)","1962-05-11",0.5]
["Auckland (Auckland)-12-5-1962","Auckland (Auckland)","1962-05-12",0]
["Auckland (Auckland)-13-5-1962","Auckland (Auckland)","1962-05-13",1]
["Auckland (Auckland)-14-5-1962","Auckland (Auckland)","1962-05-14",0]
["Auckland (Auckland)-15-5-1962","Auckland (Auckland)","1962-05-15",0]
["Auckland (Auckland)-16-5-1962","Auckland (Auckland)","1962-05-16",0]
["Auckland (Auckland)-17-5-1962","Auckland (Auckland)","1962-05-17",0]
["Auckland (Auckland)-18-5-1962","Auckland (Auckland)","1962-05-18",1.3]
["Auckland (Auckland)-19-5-1962","Auckland (Auckland)","1962-05-19",55.9]
["Auckland (Auckland)-20-5-1962","Auckland (Auckland)","1962-05-20",3.6]
["Auckland (Auckland)-21-5-1962","Auckland (Auckland)","1962-05-21",4.3]
["Auckland (Auckland)-22-5-1962","Auckland (Auckland)","1962-05-22",0]
["Auckland (Auckland)-23-5-1962","Auckland (Auckland)","1962-05-23",0]
["Auckland (Auckland)-24-5-1962","Auckland (Auckland)","1962-05-24",0]
["Auckland (Auckland)-25-5-1962","Auckland (Auckland)","1962-05-25",0]
["Auckland (Auckland)-26-5-1962","Auckland (Auckland)","1962-05-26",0.5]
["Auckland (Auckland)-27-5-1962","Auckland (Auckland)","1962-05-27",0]
["Auckland (Auckland)-28-5-1962","Auckland (Auckland)","1962-05-28",4.3]
["Auckland (Auckland)-29-5-1962","Auckland (Auckland)","1962-05-29",0]
["Auckland (Auckland)-30-5-1962","Auckland (Auckland)","1962-05-30",27.9]
["Auckland (Auckland)-31-5-1962","Auckland (Auckland)","1962-05-31",37.6]
["Auckland (Auckland)-1-6-1962","Auckland (Auckland)","1962-06-01",14]
["Auckland (Auckland)-2-6-1962","Auckland (Auckland)","1962-06-02",12.2]
["Auckland (Auckland)-3-6-1962","Auckland (Auckland)","1962-06-03",4.8]
["Auckland (Auckland)-4-6-1962","Auckland (Auckland)","1962-06-04",1.3]
["Auckland (Auckland)-5-6-1962","Auckland (Auckland)","1962-06-05",7.6]
["Auckland (Auckland)-6-6-1962","Auckland (Auckland)","1962-06-06",5.8]
["Auckland (Auckland)-7-6-1962","Auckland (Auckland)","1962-06-07",2.5]
["Auckland (Auckland)-8-6-1962","Auckland (Auckland)","1962-06-08",0.5]
["Auckland (Auckland)-9-6-1962","Auckland (Auckland)","1962-06-09",0]
["Auckland (Auckland)-10-6-1962","Auckland (Auckland)","1962-06-10",0]
["Auckland (Auckland)-11-6-1962","Auckland (Auckland)","1962-06-11",1.3]
["Auckland (Auckland)-12-6-1962","Auckland (Auckland)","1962-06-12",4.3]
["Auckland (Auckland)-13-6-1962","Auckland (Auckland)","1962-06-13",1.5]
["Auckland (Auckland)-14-6-1962","Auckland (Auckland)","1962-06-14",7.1]
["Auckland (Auckland)-15-6-1962","Auckland (Auckland)","1962-06-15",0]
[{"$f":"_xlfn.CONCAT(B899,\"-\",DAY(C899),\"-\",MONTH(C899),\"-\",YEAR(C899))","v":"Auckland (Auckland)-16-6-1962"},"Auckland (Auckland)","1962-06-16",0]
["Auckland (Auckland)-17-6-1962","Auckland (Auckland)","1962-06-17",0]
["Auckland (Auckland)-18-6-1962","Auckland (Auckland)","1962-06-18",3.8]
["Auckland (Auckland)-19-6-1962","Auckland (Auckland)","1962-06-19",0]
["Auckland (Auckland)-20-6-1962","Auckland (Auckland)","1962-06-20",0]
["Auckland (Auckland)-21-6-1962","Auckland (Auckland)","1962-06-21",23.9]
["Auckland (Auckland)-22-6-1962","Auckland (Auckland)","1962-06-22",15.7]
["Auckland (Auckland)-23-6-1962","Auckland (Auckland)","1962-06-23",14]
["Auckland (Auckland)-24-6-1962","Auckland (Auckland)","1962-06-24",2.2999999999999998]
["Auckland (Auckland)-25-6-1962","Auckland (Auckland)","1962-06-25",0.3]
["Auckland (Auckland)-26-6-1962","Auckland (Auckland)","1962-06-26",0.5]
["Auckland (Auckland)-27-6-1962","Auckland (Auckland)","1962-06-27",6.9]
["Auckland (Auckland)-28-6-1962","Auckland (Auckland)","1962-06-28",8.9]
["Auckland (Auckland)-29-6-1962","Auckland (Auckland)","1962-06-29",0]
["Auckland (Auckland)-30-6-1962","Auckland (Auckland)","1962-06-30",0]
["Auckland (Auckland)-1-7-1962","Auckland (Auckland)","1962-07-01",0]
["Auckland (Auckland)-2-7-1962","Auckland (Auckland)","1962-07-02",7.9]
["Auckland (Auckland)-3-7-1962","Auckland (Auckland)","1962-07-03",0]
["Auckland (Auckland)-4-7-1962","Auckland (Auckland)","1962-07-04",9.6999999999999993]
["Auckland (Auckland)-5-7-1962","Auckland (Auckland)","1962-07-05",0]
["Auckland (Auckland)-6-7-1962","Auckland (Auckland)","1962-07-06",6.1]
["Auckland (Auckland)-7-7-1962","Auckland (Auckland)","1962-07-07",0]
["Auckland (Auckland)-8-7-1962","Auckland (Auckland)","1962-07-08",0]
["Auckland (Auckland)-9-7-1962","Auckland (Auckland)","1962-07-09",0]
["Auckland (Auckland)-10-7-1962","Auckland (Auckland)","1962-07-10",0]
["Auckland (Auckland)-11-7-1962","Auckland (Auckland)","1962-07-11",0]
["Auckland (Auckland)-12-7-1962","Auckland (Auckland)","1962-07-12",0.5]
["Auckland (Auckland)-13-7-1962","Auckland (Auckland)","1962-07-13",34.299999999999997]
["Auckland (Auckland)-14-7-1962","Auckland (Auckland)","1962-07-14",20.8]
["Auckland (Auckland)-15-7-1962","Auckland (Auckland)","1962-07-15",15.7]
["Auckland (Auckland)-16-7-1962","Auckland (Auckland)","1962-07-16",1]
["Auckland (Auckland)-17-7-1962","Auckland (Auckland)","1962-07-17",0]
["Auckland (Auckland)-18-7-1962","Auckland (Auckland)","1962-07-18",0]
["Auckland (Auckland)-19-7-1962","Auckland (Auckland)","1962-07-19",0]
["Auckland (Auckland)-20-7-1962","Auckland (Auckland)","1962-07-20",0]
["Auckland (Auckland)-21-7-1962","Auckland (Auckland)","1962-07-21",0]
["Auckland (Auckland)-22-7-1962","Auckland (Auckland)","1962-07-22",0]
["Auckland (Auckland)-23-7-1962","Auckland (Auckland)","1962-07-23",0]
["Auckland (Auckland)-24-7-1962","Auckland (Auckland)","1962-07-24",0]
["Auckland (Auckland)-25-7-1962","Auckland (Auckland)","1962-07-25",0]
["Auckland (Auckland)-26-7-1962","Auckland (Auckland)","1962-07-26",0]
["Auckland (Auckland)-27-7-1962","Auckland (Auckland)","1962-07-27",0]
["Auckland (Auckland)-28-7-1962","Auckland (Auckland)","1962-07-28",51.3]
["Auckland (Auckland)-29-7-1962","Auckland (Auckland)","1962-07-29",1.8]
["Auckland (Auckland)-30-7-1962","Auckland (Auckland)","1962-07-30",8.9]
["Auckland (Auckland)-31-7-1962","Auckland (Auckland)","1962-07-31",1.5]
["Auckland (Auckland)-1-8-1962","Auckland (Auckland)","1962-08-01",0]
["Auckland (Auckland)-2-8-1962","Auckland (Auckland)","1962-08-02",10.9]
["Auckland (Auckland)-3-8-1962","Auckland (Auckland)","1962-08-03",12.2]
["Auckland (Auckland)-4-8-1962","Auckland (Auckland)","1962-08-04",2.8]
["Auckland (Auckland)-5-8-1962","Auckland (Auckland)","1962-08-05",3.3]
["Auckland (Auckland)-6-8-1962","Auckland (Auckland)","1962-08-06",6.1]
["Auckland (Auckland)-7-8-1962","Auckland (Auckland)","1962-08-07",0]
["Auckland (Auckland)-8-8-1962","Auckland (Auckland)","1962-08-08",0]
["Auckland (Auckland)-9-8-1962","Auckland (Auckland)","1962-08-09",0]
["Auckland (Auckland)-10-8-1962","Auckland (Auckland)","1962-08-10",9.6999999999999993]
["Auckland (Auckland)-11-8-1962","Auckland (Auckland)","1962-08-11",0]
["Auckland (Auckland)-12-8-1962","Auckland (Auckland)","1962-08-12",0]
["Auckland (Auckland)-13-8-1962","Auckland (Auckland)","1962-08-13",0]
["Auckland (Auckland)-14-8-1962","Auckland (Auckland)","1962-08-14",0]
["Auckland (Auckland)-15-8-1962","Auckland (Auckland)","1962-08-15",0]
["Auckland (Auckland)-16-8-1962","Auckland (Auckland)","1962-08-16",0]
["Auckland (Auckland)-17-8-1962","Auckland (Auckland)","1962-08-17",4.0999999999999996]
["Auckland (Auckland)-18-8-1962","Auckland (Auckland)","1962-08-18",3.3]
[{"$f":"_xlfn.CONCAT(B963,\"-\",DAY(C963),\"-\",MONTH(C963),\"-\",YEAR(C963))","v":"Auckland (Auckland)-19-8-1962"},"Auckland (Auckland)","1962-08-19",0]
["Auckland (Auckland)-20-8-1962","Auckland (Auckland)","1962-08-20",0]
["Auckland (Auckland)-21-8-1962","Auckland (Auckland)","1962-08-21",1.5]
["Auckland (Auckland)-22-8-1962","Auckland (Auckland)","1962-08-22",10.199999999999999]
["Auckland (Auckland)-23-8-1962","Auckland (Auckland)","1962-08-23",2.5]
["Auckland (Auckland)-24-8-1962","Auckland (Auckland)","1962-08-24",0]
["Auckland (Auckland)-25-8-1962","Auckland (Auckland)","1962-08-25",0.5]
["Auckland (Auckland)-26-8-1962","Auckland (Auckland)","1962-08-26",0]
["Auckland (Auckland)-27-8-1962","Auckland (Auckland)","1962-08-27",10.199999999999999]
["Auckland (Auckland)-28-8-1962","Auckland (Auckland)","1962-08-28",1]
["Auckland (Auckland)-29-8-1962","Auckland (Auckland)","1962-08-29",9.4]
["Auckland (Auckland)-30-8-1962","Auckland (Auckland)","1962-08-30",20.3]
["Auckland (Auckland)-31-8-1962","Auckland (Auckland)","1962-08-31",0]
["Auckland (Auckland)-1-9-1962","Auckland (Auckland)","1962-09-01",8.9]
["Auckland (Auckland)-2-9-1962","Auckland (Auckland)","1962-09-02",0]
["Auckland (Auckland)-3-9-1962","Auckland (Auckland)","1962-09-03",0.5]
["Auckland (Auckland)-4-9-1962","Auckland (Auckland)","1962-09-04",2.5]
["Auckland (Auckland)-5-9-1962","Auckland (Auckland)","1962-09-05",0]
["Auckland (Auckland)-6-9-1962","Auckland (Auckland)","1962-09-06",15.7]
["Auckland (Auckland)-7-9-1962","Auckland (Auckland)","1962-09-07",7.1]
["Auckland (Auckland)-8-9-1962","Auckland (Auckland)","1962-09-08",1.3]
["Auckland (Auckland)-9-9-1962","Auckland (Auckland)","1962-09-09",20.3]
["Auckland (Auckland)-10-9-1962","Auckland (Auckland)","1962-09-10",0.3]
["Auckland (Auckland)-11-9-1962","Auckland (Auckland)","1962-09-11",1]
["Auckland (Auckland)-12-9-1962","Auckland (Auckland)","1962-09-12",0]
["Auckland (Auckland)-13-9-1962","Auckland (Auckland)","1962-09-13",24.1]
["Auckland (Auckland)-14-9-1962","Auckland (Auckland)","1962-09-14",1.3]
["Auckland (Auckland)-15-9-1962","Auckland (Auckland)","1962-09-15",0.5]
["Auckland (Auckland)-16-9-1962","Auckland (Auckland)","1962-09-16",0]
["Auckland (Auckland)-17-9-1962","Auckland (Auckland)","1962-09-17",0]
["Auckland (Auckland)-18-9-1962","Auckland (Auckland)","1962-09-18",0]
["Auckland (Auckland)-19-9-1962","Auckland (Auckland)","1962-09-19",0]
["Auckland (Auckland)-20-9-1962","Auckland (Auckland)","1962-09-20",0]
["Auckland (Auckland)-21-9-1962","Auckland (Auckland)","1962-09-21",0]
["Auckland (Auckland)-22-9-1962","Auckland (Auckland)","1962-09-22",16.3]
["Auckland (Auckland)-23-9-1962","Auckland (Auckland)","1962-09-23",0]
["Auckland (Auckland)-24-9-1962","Auckland (Auckland)","1962-09-24",0]
["Auckland (Auckland)-25-9-1962","Auckland (Auckland)","1962-09-25",0]
["Auckland (Auckland)-26-9-1962","Auckland (Auckland)","1962-09-26",0]
["Auckland (Auckland)-27-9-1962","Auckland (Auckland)","1962-09-27",0]
["Auckland (Auckland)-28-9-1962","Auckland (Auckland)","1962-09-28",0]
["Auckland (Auckland)-29-9-1962","Auckland (Auckland)","1962-09-29",0]
["Auckland (Auckland)-30-9-1962","Auckland (Auckland)","1962-09-30",0]
["Auckland (Auckland)-1-10-1962","Auckland (Auckland)","1962-10-01",16.3]
["Auckland (Auckland)-2-10-1962","Auckland (Auckland)","1962-10-02",3.8]
["Auckland (Auckland)-3-10-1962","Auckland (Auckland)","1962-10-03",0]
["Auckland (Auckland)-4-10-1962","Auckland (Auckland)","1962-10-04",11.2]
["Auckland (Auckland)-5-10-1962","Auckland (Auckland)","1962-10-05",5.0999999999999996]
["Auckland (Auckland)-6-10-1962","Auckland (Auckland)","1962-10-06",6.4]
["Auckland (Auckland)-7-10-1962","Auckland (Auckland)","1962-10-07",13.2]
["Auckland (Auckland)-8-10-1962","Auckland (Auckland)","1962-10-08",0]
["Auckland (Auckland)-9-10-1962","Auckland (Auckland)","1962-10-09",0]
["Auckland (Auckland)-10-10-1962","Auckland (Auckland)","1962-10-10",16.5]
["Auckland (Auckland)-11-10-1962","Auckland (Auckland)","1962-10-11",0]
["Auckland (Auckland)-12-10-1962","Auckland (Auckland)","1962-10-12",0]
["Auckland (Auckland)-13-10-1962","Auckland (Auckland)","1962-10-13",0]
["Auckland (Auckland)-14-10-1962","Auckland (Auckland)","1962-10-14",0.5]
["Auckland (Auckland)-15-10-1962","Auckland (Auckland)","1962-10-15",0.5]
["Auckland (Auckland)-16-10-1962","Auckland (Auckland)","1962-10-16",1.8]
["Auckland (Auckland)-17-10-1962","Auckland (Auckland)","1962-10-17",38.1]
["Auckland (Auckland)-18-10-1962","Auckland (Auckland)","1962-10-18",1.3]
["Auckland (Auckland)-19-10-1962","Auckland (Auckland)","1962-10-19",0]
["Auckland (Auckland)-20-10-1962","Auckland (Auckland)","1962-10-20",0]
["Auckland (Auckland)-21-10-1962","Auckland (Auckland)","1962-10-21",0]
[{"$f":"_xlfn.CONCAT(B1027,\"-\",DAY(C1027),\"-\",MONTH(C1027),\"-\",YEAR(C1027))","v":"Auckland (Auckland)-22-10-1962"},"Auckland (Auckland)","1962-10-22",2.2999999999999998]
["Auckland (Auckland)-23-10-1962","Auckland (Auckland)","1962-10-23",18]
["Auckland (Auckland)-24-10-1962","Auckland (Auckland)","1962-10-24",5.8]
["Auckland (Auckland)-25-10-1962","Auckland (Auckland)","1962-10-25",24.1]
["Auckland (Auckland)-26-10-1962","Auckland (Auckland)","1962-10-26",12.7]
["Auckland (Auckland)-27-10-1962","Auckland (Auckland)","1962-10-27",5.0999999999999996]
["Auckland (Auckland)-28-10-1962","Auckland (Auckland)","1962-10-28",0]
["Auckland (Auckland)-29-10-1962","Auckland (Auckland)","1962-10-29",0]
["Auckland (Auckland)-30-10-1962","Auckland (Auckland)","1962-10-30",0]
["Auckland (Auckland)-31-10-1962","Auckland (Auckland)","1962-10-31",1.5]
["Auckland (Auckland)-1-11-1962","Auckland (Auckland)","1962-11-01",38.1]
["Auckland (Auckland)-2-11-1962","Auckland (Auckland)","1962-11-02",4.5999999999999996]
["Auckland (Auckland)-3-11-1962","Auckland (Auckland)","1962-11-03",5.8]
["Auckland (Auckland)-4-11-1962","Auckland (Auckland)","1962-11-04",2.2999999999999998]
["Auckland (Auckland)-5-11-1962","Auckland (Auckland)","1962-11-05",6.6]
["Auckland (Auckland)-6-11-1962","Auckland (Auckland)","1962-11-06",3.8]
["Auckland (Auckland)-7-11-1962","Auckland (Auckland)","1962-11-07",3]
["Auckland (Auckland)-8-11-1962","Auckland (Auckland)","1962-11-08",16.3]
["Auckland (Auckland)-9-11-1962","Auckland (Auckland)","1962-11-09",0]
["Auckland (Auckland)-10-11-1962","Auckland (Auckland)","1962-11-10",0]
["Auckland (Auckland)-11-11-1962","Auckland (Auckland)","1962-11-11",0]
["Auckland (Auckland)-12-11-1962","Auckland (Auckland)","1962-11-12",0]
["Auckland (Auckland)-13-11-1962","Auckland (Auckland)","1962-11-13",0]
["Auckland (Auckland)-14-11-1962","Auckland (Auckland)","1962-11-14",0]
["Auckland (Auckland)-15-11-1962","Auckland (Auckland)","1962-11-15",0]
["Auckland (Auckland)-16-11-1962","Auckland (Auckland)","1962-11-16",0]
["Auckland (Auckland)-17-11-1962","Auckland (Auckland)","1962-11-17",0]
["Auckland (Auckland)-18-11-1962","Auckland (Auckland)","1962-11-18",0]
["Auckland (Auckland)-19-11-1962","Auckland (Auckland)","1962-11-19",0]
["Auckland (Auckland)-20-11-1962","Auckland (Auckland)","1962-11-20",0]
["Auckland (Auckland)-21-11-1962","Auckland (Auckland)","1962-11-21",0]
["Auckland (Auckland)-22-11-1962","Auckland (Auckland)","1962-11-22",0]
["Auckland (Auckland)-23-11-1962","Auckland (Auckland)","1962-11-23",0]
["Auckland (Auckland)-24-11-1962","Auckland (Auckland)","1962-11-24",0]
["Auckland (Auckland)-25-11-1962","Auckland (Auckland)","1962-11-25",31.2]
["Auckland (Auckland)-26-11-1962","Auckland (Auckland)","1962-11-26",0]
["Auckland (Auckland)-27-11-1962","Auckland (Auckland)","1962-11-27",0]
["Auckland (Auckland)-28-11-1962","Auckland (Auckland)","1962-11-28",0]
["Auckland (Auckland)-29-11-1962","Auckland (Auckland)","1962-11-29",3.8]
["Auckland (Auckland)-30-11-1962","Auckland (Auckland)","1962-11-30",3]
["Auckland (Auckland)-1-12-1962","Auckland (Auckland)","1962-12-01",0]
["Auckland (Auckland)-2-12-1962","Auckland (Auckland)","1962-12-02",4.0999999999999996]
["Auckland (Auckland)-3-12-1962","Auckland (Auckland)","1962-12-03",7.9]
["Auckland (Auckland)-4-12-1962","Auckland (Auckland)","1962-12-04",5.0999999999999996]
["Auckland (Auckland)-5-12-1962","Auckland (Auckland)","1962-12-05",1.3]
["Auckland (Auckland)-6-12-1962","Auckland (Auckland)","1962-12-06",0]
["Auckland (Auckland)-7-12-1962","Auckland (Auckland)","1962-12-07",0]
["Auckland (Auckland)-8-12-1962","Auckland (Auckland)","1962-12-08",0]
["Auckland (Auckland)-9-12-1962","Auckland (Auckland)","1962-12-09",0]
["Auckland (Auckland)-10-12-1962","Auckland (Auckland)","1962-12-10",0]
["Auckland (Auckland)-11-12-1962","Auckland (Auckland)","1962-12-11",0]
["Auckland (Auckland)-12-12-1962","Auckland (Auckland)","1962-12-12",0]
["Auckland (Auckland)-13-12-1962","Auckland (Auckland)","1962-12-13",17.8]
["Auckland (Auckland)-14-12-1962","Auckland (Auckland)","1962-12-14",0]
["Auckland (Auckland)-15-12-1962","Auckland (Auckland)","1962-12-15",0]
["Auckland (Auckland)-16-12-1962","Auckland (Auckland)","1962-12-16",0]
["Auckland (Auckland)-17-12-1962","Auckland (Auckland)","1962-12-17",12.7]
["Auckland (Auckland)-18-12-1962","Auckland (Auckland)","1962-12-18",11.2]
["Auckland (Auckland)-19-12-1962","Auckland (Auckland)","1962-12-19",4.0999999999999996]
["Auckland (Auckland)-20-12-1962","Auckland (Auckland)","1962-12-20",16.3]
["Auckland (Auckland)-21-12-1962","Auckland (Auckland)","1962-12-21",0]
["Auckland (Auckland)-22-12-1962","Auckland (Auckland)","1962-12-22",0]
["Auckland (Auckland)-23-12-1962","Auckland (Auckland)","1962-12-23",0]
["Auckland (Auckland)-24-12-1962","Auckland (Auckland)","1962-12-24",0.5]
[{"$f":"_xlfn.CONCAT(B1091,\"-\",DAY(C1091),\"-\",MONTH(C1091),\"-\",YEAR(C1091))","v":"Auckland (Auckland)-25-12-1962"},"Auckland (Auckland)","1962-12-25",0]
["Auckland (Auckland)-26-12-1962","Auckland (Auckland)","1962-12-26",13.2]
["Auckland (Auckland)-27-12-1962","Auckland (Auckland)","1962-12-27",0]
["Auckland (Auckland)-28-12-1962","Auckland (Auckland)","1962-12-28",0]
["Auckland (Auckland)-29-12-1962","Auckland (Auckland)","1962-12-29",0]
["Auckland (Auckland)-30-12-1962","Auckland (Auckland)","1962-12-30",0]
["Auckland (Auckland)-31-12-1962","Auckland (Auckland)","1962-12-31",0]
["Auckland (Auckland)-1-1-1963","Auckland (Auckland)","1963-01-01",0]
["Auckland (Auckland)-2-1-1963","Auckland (Auckland)","1963-01-02",0]
["Auckland (Auckland)-3-1-1963","Auckland (Auckland)","1963-01-03",0]
["Auckland (Auckland)-4-1-1963","Auckland (Auckland)","1963-01-04",0]
["Auckland (Auckland)-5-1-1963","Auckland (Auckland)","1963-01-05",0]
["Auckland (Auckland)-6-1-1963","Auckland (Auckland)","1963-01-06",0]
["Auckland (Auckland)-7-1-1963","Auckland (Auckland)","1963-01-07",0]
["Auckland (Auckland)-8-1-1963","Auckland (Auckland)","1963-01-08",0.3]
["Auckland (Auckland)-9-1-1963","Auckland (Auckland)","1963-01-09",56.4]
["Auckland (Auckland)-10-1-1963","Auckland (Auckland)","1963-01-10",0.8]
["Auckland (Auckland)-11-1-1963","Auckland (Auckland)","1963-01-11",0]
["Auckland (Auckland)-12-1-1963","Auckland (Auckland)","1963-01-12",0]
["Auckland (Auckland)-13-1-1963","Auckland (Auckland)","1963-01-13",0]
["Auckland (Auckland)-14-1-1963","Auckland (Auckland)","1963-01-14",0]
["Auckland (Auckland)-15-1-1963","Auckland (Auckland)","1963-01-15",0]
["Auckland (Auckland)-16-1-1963","Auckland (Auckland)","1963-01-16",0]
["Auckland (Auckland)-17-1-1963","Auckland (Auckland)","1963-01-17",0]
["Auckland (Auckland)-18-1-1963","Auckland (Auckland)","1963-01-18",0]
["Auckland (Auckland)-19-1-1963","Auckland (Auckland)","1963-01-19",0]
["Auckland (Auckland)-20-1-1963","Auckland (Auckland)","1963-01-20",0]
["Auckland (Auckland)-21-1-1963","Auckland (Auckland)","1963-01-21",0]
["Auckland (Auckland)-22-1-1963","Auckland (Auckland)","1963-01-22",0]
["Auckland (Auckland)-23-1-1963","Auckland (Auckland)","1963-01-23",0]
["Auckland (Auckland)-24-1-1963","Auckland (Auckland)","1963-01-24",0.8]
["Auckland (Auckland)-25-1-1963","Auckland (Auckland)","1963-01-25",0]
["Auckland (Auckland)-26-1-1963","Auckland (Auckland)","1963-01-26",0]
["Auckland (Auckland)-27-1-1963","Auckland (Auckland)","1963-01-27",0]
["Auckland (Auckland)-28-1-1963","Auckland (Auckland)","1963-01-28",0]
["Auckland (Auckland)-29-1-1963","Auckland (Auckland)","1963-01-29",0]
["Auckland (Auckland)-30-1-1963","Auckland (Auckland)","1963-01-30",0]
["Auckland (Auckland)-31-1-1963","Auckland (Auckland)","1963-01-31",0]
["Auckland (Auckland)-1-2-1963","Auckland (Auckland)","1963-02-01",0]
["Auckland (Auckland)-2-2-1963","Auckland (Auckland)","1963-02-02",0]
["Auckland (Auckland)-3-2-1963","Auckland (Auckland)","1963-02-03",0]
["Auckland (Auckland)-4-2-1963","Auckland (Auckland)","1963-02-04",0]
["Auckland (Auckland)-5-2-1963","Auckland (Auckland)","1963-02-05",1.3]
["Auckland (Auckland)-6-2-1963","Auckland (Auckland)","1963-02-06",0]
["Auckland (Auckland)-7-2-1963","Auckland (Auckland)","1963-02-07",0]
["Auckland (Auckland)-8-2-1963","Auckland (Auckland)","1963-02-08",0]
["Auckland (Auckland)-9-2-1963","Auckland (Auckland)","1963-02-09",0.5]
["Auckland (Auckland)-10-2-1963","Auckland (Auckland)","1963-02-10",0]
["Auckland (Auckland)-11-2-1963","Auckland (Auckland)","1963-02-11",1.3]
["Auckland (Auckland)-12-2-1963","Auckland (Auckland)","1963-02-12",0]
["Auckland (Auckland)-13-2-1963","Auckland (Auckland)","1963-02-13",0]
["Auckland (Auckland)-14-2-1963","Auckland (Auckland)","1963-02-14",0]
["Auckland (Auckland)-15-2-1963","Auckland (Auckland)","1963-02-15",8.1]
["Auckland (Auckland)-16-2-1963","Auckland (Auckland)","1963-02-16",38.1]
["Auckland (Auckland)-17-2-1963","Auckland (Auckland)","1963-02-17",27.9]
["Auckland (Auckland)-18-2-1963","Auckland (Auckland)","1963-02-18",0]
["Auckland (Auckland)-19-2-1963","Auckland (Auckland)","1963-02-19",0]
["Auckland (Auckland)-20-2-1963","Auckland (Auckland)","1963-02-20",2.5]
["Auckland (Auckland)-21-2-1963","Auckland (Auckland)","1963-02-21",0]
["Auckland (Auckland)-22-2-1963","Auckland (Auckland)","1963-02-22",5.3]
["Auckland (Auckland)-23-2-1963","Auckland (Auckland)","1963-02-23",0]
["Auckland (Auckland)-24-2-1963","Auckland (Auckland)","1963-02-24",0]
["Auckland (Auckland)-25-2-1963","Auckland (Auckland)","1963-02-25",7.6]
["Auckland (Auckland)-26-2-1963","Auckland (Auckland)","1963-02-26",0]
[{"$f":"_xlfn.CONCAT(B1155,\"-\",DAY(C1155),\"-\",MONTH(C1155),\"-\",YEAR(C1155))","v":"Auckland (Auckland)-27-2-1963"},"Auckland (Auckland)","1963-02-27",0]
["Auckland (Auckland)-28-2-1963","Auckland (Auckland)","1963-02-28",0.5]
["Auckland (Auckland)-1-3-1963","Auckland (Auckland)","1963-03-01",0]
["Auckland (Auckland)-2-3-1963","Auckland (Auckland)","1963-03-02",0]
["Auckland (Auckland)-3-3-1963","Auckland (Auckland)","1963-03-03",0]
["Auckland (Auckland)-4-3-1963","Auckland (Auckland)","1963-03-04",13]
["Auckland (Auckland)-5-3-1963","Auckland (Auckland)","1963-03-05",0]
["Auckland (Auckland)-6-3-1963","Auckland (Auckland)","1963-03-06",0]
["Auckland (Auckland)-7-3-1963","Auckland (Auckland)","1963-03-07",0]
["Auckland (Auckland)-8-3-1963","Auckland (Auckland)","1963-03-08",6.4]
["Auckland (Auckland)-9-3-1963","Auckland (Auckland)","1963-03-09",1]
["Auckland (Auckland)-10-3-1963","Auckland (Auckland)","1963-03-10",0.3]
["Auckland (Auckland)-11-3-1963","Auckland (Auckland)","1963-03-11",0]
["Auckland (Auckland)-12-3-1963","Auckland (Auckland)","1963-03-12",4.0999999999999996]
["Auckland (Auckland)-13-3-1963","Auckland (Auckland)","1963-03-13",1]
["Auckland (Auckland)-14-3-1963","Auckland (Auckland)","1963-03-14",0]
["Auckland (Auckland)-15-3-1963","Auckland (Auckland)","1963-03-15",0]
["Auckland (Auckland)-16-3-1963","Auckland (Auckland)","1963-03-16",0]
["Auckland (Auckland)-17-3-1963","Auckland (Auckland)","1963-03-17",0]
["Auckland (Auckland)-18-3-1963","Auckland (Auckland)","1963-03-18",0]
["Auckland (Auckland)-19-3-1963","Auckland (Auckland)","1963-03-19",0]
["Auckland (Auckland)-20-3-1963","Auckland (Auckland)","1963-03-20",0]
["Auckland (Auckland)-21-3-1963","Auckland (Auckland)","1963-03-21",0]
["Auckland (Auckland)-22-3-1963","Auckland (Auckland)","1963-03-22",0]
["Auckland (Auckland)-23-3-1963","Auckland (Auckland)","1963-03-23",0]
["Auckland (Auckland)-24-3-1963","Auckland (Auckland)","1963-03-24",0]
["Auckland (Auckland)-25-3-1963","Auckland (Auckland)","1963-03-25",0]
["Auckland (Auckland)-26-3-1963","Auckland (Auckland)","1963-03-26",0]
["Auckland (Auckland)-27-3-1963","Auckland (Auckland)","1963-03-27",0]
["Auckland (Auckland)-28-3-1963","Auckland (Auckland)","1963-03-28",1.3]
["Auckland (Auckland)-29-3-1963","Auckland (Auckland)","1963-03-29",2.5]
["Auckland (Auckland)-30-3-1963","Auckland (Auckland)","1963-03-30",47.2]
["Auckland (Auckland)-31-3-1963","Auckland (Auckland)","1963-03-31",29]
["Auckland (Auckland)-1-4-1963","Auckland (Auckland)","1963-04-01",0.3]
["Auckland (Auckland)-2-4-1963","Auckland (Auckland)","1963-04-02",0]
["Auckland (Auckland)-3-4-1963","Auckland (Auckland)","1963-04-03",0]
["Auckland (Auckland)-4-4-1963","Auckland (Auckland)","1963-04-04",0]
["Auckland (Auckland)-5-4-1963","Auckland (Auckland)","1963-04-05",35.1]
["Auckland (Auckland)-6-4-1963","Auckland (Auckland)","1963-04-06",0]
["Auckland (Auckland)-7-4-1963","Auckland (Auckland)","1963-04-07",0]
["Auckland (Auckland)-8-4-1963","Auckland (Auckland)","1963-04-08",0]
["Auckland (Auckland)-9-4-1963","Auckland (Auckland)","1963-04-09",0]
["Auckland (Auckland)-10-4-1963","Auckland (Auckland)","1963-04-10",1.3]
["Auckland (Auckland)-11-4-1963","Auckland (Auckland)","1963-04-11",0]
["Auckland (Auckland)-12-4-1963","Auckland (Auckland)","1963-04-12",0]
["Auckland (Auckland)-13-4-1963","Auckland (Auckland)","1963-04-13",0.3]
["Auckland (Auckland)-14-4-1963","Auckland (Auckland)","1963-04-14",1]
["Auckland (Auckland)-15-4-1963","Auckland (Auckland)","1963-04-15",5.0999999999999996]
["Auckland (Auckland)-16-4-1963","Auckland (Auckland)","1963-04-16",1.3]
["Auckland (Auckland)-17-4-1963","Auckland (Auckland)","1963-04-17",9.4]
["Auckland (Auckland)-18-4-1963","Auckland (Auckland)","1963-04-18",8.4]
["Auckland (Auckland)-19-4-1963","Auckland (Auckland)","1963-04-19",8.9]
["Auckland (Auckland)-20-4-1963","Auckland (Auckland)","1963-04-20",1.3]
["Auckland (Auckland)-21-4-1963","Auckland (Auckland)","1963-04-21",0.3]
["Auckland (Auckland)-22-4-1963","Auckland (Auckland)","1963-04-22",0]
["Auckland (Auckland)-23-4-1963","Auckland (Auckland)","1963-04-23",0]
["Auckland (Auckland)-24-4-1963","Auckland (Auckland)","1963-04-24",0]
["Auckland (Auckland)-25-4-1963","Auckland (Auckland)","1963-04-25",0]
["Auckland (Auckland)-26-4-1963","Auckland (Auckland)","1963-04-26",0]
["Auckland (Auckland)-27-4-1963","Auckland (Auckland)","1963-04-27",0]
["Auckland (Auckland)-28-4-1963","Auckland (Auckland)","1963-04-28",0]
["Auckland (Auckland)-29-4-1963","Auckland (Auckland)","1963-04-29",0]
["Auckland (Auckland)-30-4-1963","Auckland (Auckland)","1963-04-30",0]
["Auckland (Auckland)-1-5-1963","Auckland (Auckland)","1963-05-01",0]
[{"$f":"_xlfn.CONCAT(B1219,\"-\",DAY(C1219),\"-\",MONTH(C1219),\"-\",YEAR(C1219))","v":"Auckland (Auckland)-2-5-1963"},"Auckland (Auckland)","1963-05-02",8.1]
["Auckland (Auckland)-3-5-1963","Auckland (Auckland)","1963-05-03",3.8]
["Auckland (Auckland)-4-5-1963","Auckland (Auckland)","1963-05-04",0.5]
["Auckland (Auckland)-5-5-1963","Auckland (Auckland)","1963-05-05",5.6]
["Auckland (Auckland)-6-5-1963","Auckland (Auckland)","1963-05-06",0]
["Auckland (Auckland)-7-5-1963","Auckland (Auckland)","1963-05-07",0]
["Auckland (Auckland)-8-5-1963","Auckland (Auckland)","1963-05-08",0]
["Auckland (Auckland)-9-5-1963","Auckland (Auckland)","1963-05-09",0.3]
["Auckland (Auckland)-10-5-1963","Auckland (Auckland)","1963-05-10",0]
["Auckland (Auckland)-11-5-1963","Auckland (Auckland)","1963-05-11",1]
["Auckland (Auckland)-12-5-1963","Auckland (Auckland)","1963-05-12",0]
["Auckland (Auckland)-13-5-1963","Auckland (Auckland)","1963-05-13",2.5]
["Auckland (Auckland)-14-5-1963","Auckland (Auckland)","1963-05-14",0]
["Auckland (Auckland)-15-5-1963","Auckland (Auckland)","1963-05-15",0]
["Auckland (Auckland)-16-5-1963","Auckland (Auckland)","1963-05-16",0]
["Auckland (Auckland)-17-5-1963","Auckland (Auckland)","1963-05-17",0.8]
["Auckland (Auckland)-18-5-1963","Auckland (Auckland)","1963-05-18",0]
["Auckland (Auckland)-19-5-1963","Auckland (Auckland)","1963-05-19",0]
["Auckland (Auckland)-20-5-1963","Auckland (Auckland)","1963-05-20",0]
["Auckland (Auckland)-21-5-1963","Auckland (Auckland)","1963-05-21",0]
["Auckland (Auckland)-22-5-1963","Auckland (Auckland)","1963-05-22",0]
["Auckland (Auckland)-23-5-1963","Auckland (Auckland)","1963-05-23",0.5]
["Auckland (Auckland)-24-5-1963","Auckland (Auckland)","1963-05-24",5.6]
["Auckland (Auckland)-25-5-1963","Auckland (Auckland)","1963-05-25",8.1]
["Auckland (Auckland)-26-5-1963","Auckland (Auckland)","1963-05-26",0]
["Auckland (Auckland)-27-5-1963","Auckland (Auckland)","1963-05-27",5.8]
["Auckland (Auckland)-28-5-1963","Auckland (Auckland)","1963-05-28",18]
["Auckland (Auckland)-29-5-1963","Auckland (Auckland)","1963-05-29",1.3]
["Auckland (Auckland)-30-5-1963","Auckland (Auckland)","1963-05-30",6.1]
["Auckland (Auckland)-31-5-1963","Auckland (Auckland)","1963-05-31",0]
["Auckland (Auckland)-1-6-1963","Auckland (Auckland)","1963-06-01",5.6]
["Auckland (Auckland)-2-6-1963","Auckland (Auckland)","1963-06-02",21.3]
["Auckland (Auckland)-3-6-1963","Auckland (Auckland)","1963-06-03",1]
["Auckland (Auckland)-4-6-1963","Auckland (Auckland)","1963-06-04",0]
["Auckland (Auckland)-5-6-1963","Auckland (Auckland)","1963-06-05",10.9]
["Auckland (Auckland)-6-6-1963","Auckland (Auckland)","1963-06-06",16]
["Auckland (Auckland)-7-6-1963","Auckland (Auckland)","1963-06-07",0]
["Auckland (Auckland)-8-6-1963","Auckland (Auckland)","1963-06-08",1.8]
["Auckland (Auckland)-9-6-1963","Auckland (Auckland)","1963-06-09",2]
["Auckland (Auckland)-10-6-1963","Auckland (Auckland)","1963-06-10",0]
["Auckland (Auckland)-11-6-1963","Auckland (Auckland)","1963-06-11",0]
["Auckland (Auckland)-12-6-1963","Auckland (Auckland)","1963-06-12",0]
["Auckland (Auckland)-13-6-1963","Auckland (Auckland)","1963-06-13",0]
["Auckland (Auckland)-14-6-1963","Auckland (Auckland)","1963-06-14",0]
["Auckland (Auckland)-15-6-1963","Auckland (Auckland)","1963-06-15",0]
["Auckland (Auckland)-16-6-1963","Auckland (Auckland)","1963-06-16",0]
["Auckland (Auckland)-17-6-1963","Auckland (Auckland)","1963-06-17",0]
["Auckland (Auckland)-18-6-1963","Auckland (Auckland)","1963-06-18",31.8]
["Auckland (Auckland)-19-6-1963","Auckland (Auckland)","1963-06-19",1]
["Auckland (Auckland)-20-6-1963","Auckland (Auckland)","1963-06-20",7.4]
["Auckland (Auckland)-21-6-1963","Auckland (Auckland)","1963-06-21",14.2]
["Auckland (Auckland)-22-6-1963","Auckland (Auckland)","1963-06-22",3.8]
["Auckland (Auckland)-23-6-1963","Auckland (Auckland)","1963-06-23",3.3]
["Auckland (Auckland)-24-6-1963","Auckland (Auckland)","1963-06-24",2]
["Auckland (Auckland)-25-6-1963","Auckland (Auckland)","1963-06-25",0]
["Auckland (Auckland)-26-6-1963","Auckland (Auckland)","1963-06-26",0.5]
["Auckland (Auckland)-27-6-1963","Auckland (Auckland)","1963-06-27",0]
["Auckland (Auckland)-28-6-1963","Auckland (Auckland)","1963-06-28",0]
["Auckland (Auckland)-29-6-1963","Auckland (Auckland)","1963-06-29",0]
["Auckland (Auckland)-30-6-1963","Auckland (Auckland)","1963-06-30",0]
["Auckland (Auckland)-1-7-1963","Auckland (Auckland)","1963-07-01",0.3]
["Auckland (Auckland)-2-7-1963","Auckland (Auckland)","1963-07-02",0.8]
["Auckland (Auckland)-3-7-1963","Auckland (Auckland)","1963-07-03",17.8]
["Auckland (Auckland)-4-7-1963","Auckland (Auckland)","1963-07-04",12.4]
[{"$f":"_xlfn.CONCAT(B1283,\"-\",DAY(C1283),\"-\",MONTH(C1283),\"-\",YEAR(C1283))","v":"Auckland (Auckland)-5-7-1963"},"Auckland (Auckland)","1963-07-05",0]
["Auckland (Auckland)-6-7-1963","Auckland (Auckland)","1963-07-06",0]
["Auckland (Auckland)-7-7-1963","Auckland (Auckland)","1963-07-07",0.8]
["Auckland (Auckland)-8-7-1963","Auckland (Auckland)","1963-07-08",8.1]
["Auckland (Auckland)-9-7-1963","Auckland (Auckland)","1963-07-09",3.6]
["Auckland (Auckland)-10-7-1963","Auckland (Auckland)","1963-07-10",0]
["Auckland (Auckland)-11-7-1963","Auckland (Auckland)","1963-07-11",0]
["Auckland (Auckland)-12-7-1963","Auckland (Auckland)","1963-07-12",7.9]
["Auckland (Auckland)-13-7-1963","Auckland (Auckland)","1963-07-13",2.5]
["Auckland (Auckland)-14-7-1963","Auckland (Auckland)","1963-07-14",7.6]
["Auckland (Auckland)-15-7-1963","Auckland (Auckland)","1963-07-15",5.3]
["Auckland (Auckland)-16-7-1963","Auckland (Auckland)","1963-07-16",5.3]
["Auckland (Auckland)-17-7-1963","Auckland (Auckland)","1963-07-17",1.8]
["Auckland (Auckland)-18-7-1963","Auckland (Auckland)","1963-07-18",0]
["Auckland (Auckland)-19-7-1963","Auckland (Auckland)","1963-07-19",0]
["Auckland (Auckland)-20-7-1963","Auckland (Auckland)","1963-07-20",0]
["Auckland (Auckland)-21-7-1963","Auckland (Auckland)","1963-07-21",0.5]
["Auckland (Auckland)-22-7-1963","Auckland (Auckland)","1963-07-22",8.6]
["Auckland (Auckland)-23-7-1963","Auckland (Auckland)","1963-07-23",11.2]
["Auckland (Auckland)-24-7-1963","Auckland (Auckland)","1963-07-24",19.8]
["Auckland (Auckland)-25-7-1963","Auckland (Auckland)","1963-07-25",2]
["Auckland (Auckland)-26-7-1963","Auckland (Auckland)","1963-07-26",0]
["Auckland (Auckland)-27-7-1963","Auckland (Auckland)","1963-07-27",0]
["Auckland (Auckland)-28-7-1963","Auckland (Auckland)","1963-07-28",0]
["Auckland (Auckland)-29-7-1963","Auckland (Auckland)","1963-07-29",0]
["Auckland (Auckland)-30-7-1963","Auckland (Auckland)","1963-07-30",8.6]
["Auckland (Auckland)-31-7-1963","Auckland (Auckland)","1963-07-31",5.6]
["Auckland (Auckland)-1-8-1963","Auckland (Auckland)","1963-08-01",0]
["Auckland (Auckland)-2-8-1963","Auckland (Auckland)","1963-08-02",4.3]
["Auckland (Auckland)-3-8-1963","Auckland (Auckland)","1963-08-03",0.5]
["Auckland (Auckland)-4-8-1963","Auckland (Auckland)","1963-08-04",0]
["Auckland (Auckland)-5-8-1963","Auckland (Auckland)","1963-08-05",0]
["Auckland (Auckland)-6-8-1963","Auckland (Auckland)","1963-08-06",0]
["Auckland (Auckland)-7-8-1963","Auckland (Auckland)","1963-08-07",19.100000000000001]
["Auckland (Auckland)-8-8-1963","Auckland (Auckland)","1963-08-08",2.2999999999999998]
["Auckland (Auckland)-9-8-1963","Auckland (Auckland)","1963-08-09",5.6]
["Auckland (Auckland)-10-8-1963","Auckland (Auckland)","1963-08-10",2]
["Auckland (Auckland)-11-8-1963","Auckland (Auckland)","1963-08-11",0]
["Auckland (Auckland)-12-8-1963","Auckland (Auckland)","1963-08-12",0.5]
["Auckland (Auckland)-13-8-1963","Auckland (Auckland)","1963-08-13",1]
["Auckland (Auckland)-14-8-1963","Auckland (Auckland)","1963-08-14",2.2999999999999998]
["Auckland (Auckland)-15-8-1963","Auckland (Auckland)","1963-08-15",0]
["Auckland (Auckland)-16-8-1963","Auckland (Auckland)","1963-08-16",0]
["Auckland (Auckland)-17-8-1963","Auckland (Auckland)","1963-08-17",0.5]
["Auckland (Auckland)-18-8-1963","Auckland (Auckland)","1963-08-18",4.3]
["Auckland (Auckland)-19-8-1963","Auckland (Auckland)","1963-08-19",0]
["Auckland (Auckland)-20-8-1963","Auckland (Auckland)","1963-08-20",0]
["Auckland (Auckland)-21-8-1963","Auckland (Auckland)","1963-08-21",0]
["Auckland (Auckland)-22-8-1963","Auckland (Auckland)","1963-08-22",0]
["Auckland (Auckland)-23-8-1963","Auckland (Auckland)","1963-08-23",0]
["Auckland (Auckland)-24-8-1963","Auckland (Auckland)","1963-08-24",0]
["Auckland (Auckland)-25-8-1963","Auckland (Auckland)","1963-08-25",0]
["Auckland (Auckland)-26-8-1963","Auckland (Auckland)","1963-08-26",0]
["Auckland (Auckland)-27-8-1963","Auckland (Auckland)","1963-08-27",0.5]
["Auckland (Auckland)-28-8-1963","Auckland (Auckland)","1963-08-28",16.3]
["Auckland (Auckland)-29-8-1963","Auckland (Auckland)","1963-08-29",0]
["Auckland (Auckland)-30-8-1963","Auckland (Auckland)","1963-08-30",2.5]
["Auckland (Auckland)-31-8-1963","Auckland (Auckland)","1963-08-31",25.9]
["Auckland (Auckland)-1-9-1963","Auckland (Auckland)","1963-09-01",1.3]
["Auckland (Auckland)-2-9-1963","Auckland (Auckland)","1963-09-02",1.5]
["Auckland (Auckland)-3-9-1963","Auckland (Auckland)","1963-09-03",2.5]
["Auckland (Auckland)-4-9-1963","Auckland (Auckland)","1963-09-04",1]
["Auckland (Auckland)-5-9-1963","Auckland (Auckland)","1963-09-05",0]
["Auckland (Auckland)-6-9-1963","Auckland (Auckland)","1963-09-06",0]
[{"$f":"_xlfn.CONCAT(B1347,\"-\",DAY(C1347),\"-\",MONTH(C1347),\"-\",YEAR(C1347))","v":"Auckland (Auckland)-7-9-1963"},"Auckland (Auckland)","1963-09-07",5.6]
["Auckland (Auckland)-8-9-1963","Auckland (Auckland)","1963-09-08",5.0999999999999996]
["Auckland (Auckland)-9-9-1963","Auckland (Auckland)","1963-09-09",5.6]
["Auckland (Auckland)-10-9-1963","Auckland (Auckland)","1963-09-10",0]
["Auckland (Auckland)-11-9-1963","Auckland (Auckland)","1963-09-11",0]
["Auckland (Auckland)-12-9-1963","Auckland (Auckland)","1963-09-12",0]
["Auckland (Auckland)-13-9-1963","Auckland (Auckland)","1963-09-13",17.3]
["Auckland (Auckland)-14-9-1963","Auckland (Auckland)","1963-09-14",1.8]
["Auckland (Auckland)-15-9-1963","Auckland (Auckland)","1963-09-15",0]
["Auckland (Auckland)-16-9-1963","Auckland (Auckland)","1963-09-16",1.3]
["Auckland (Auckland)-17-9-1963","Auckland (Auckland)","1963-09-17",0]
["Auckland (Auckland)-18-9-1963","Auckland (Auckland)","1963-09-18",0]
["Auckland (Auckland)-19-9-1963","Auckland (Auckland)","1963-09-19",31]
["Auckland (Auckland)-20-9-1963","Auckland (Auckland)","1963-09-20",3.3]
["Auckland (Auckland)-21-9-1963","Auckland (Auckland)","1963-09-21",0]
["Auckland (Auckland)-22-9-1963","Auckland (Auckland)","1963-09-22",0.8]
["Auckland (Auckland)-23-9-1963","Auckland (Auckland)","1963-09-23",0.5]
["Auckland (Auckland)-24-9-1963","Auckland (Auckland)","1963-09-24",3]
["Auckland (Auckland)-25-9-1963","Auckland (Auckland)","1963-09-25",0]
["Auckland (Auckland)-26-9-1963","Auckland (Auckland)","1963-09-26",0]
["Auckland (Auckland)-27-9-1963","Auckland (Auckland)","1963-09-27",0]
["Auckland (Auckland)-28-9-1963","Auckland (Auckland)","1963-09-28",0]
["Auckland (Auckland)-29-9-1963","Auckland (Auckland)","1963-09-29",0]
["Auckland (Auckland)-30-9-1963","Auckland (Auckland)","1963-09-30",0.3]
["Auckland (Auckland)-1-10-1963","Auckland (Auckland)","1963-10-01",0.3]
["Auckland (Auckland)-2-10-1963","Auckland (Auckland)","1963-10-02",0]
["Auckland (Auckland)-3-10-1963","Auckland (Auckland)","1963-10-03",1.5]
["Auckland (Auckland)-4-10-1963","Auckland (Auckland)","1963-10-04",0]
["Auckland (Auckland)-5-10-1963","Auckland (Auckland)","1963-10-05",0]
["Auckland (Auckland)-6-10-1963","Auckland (Auckland)","1963-10-06",0]
["Auckland (Auckland)-7-10-1963","Auckland (Auckland)","1963-10-07",0]
["Auckland (Auckland)-8-10-1963","Auckland (Auckland)","1963-10-08",0]
["Auckland (Auckland)-9-10-1963","Auckland (Auckland)","1963-10-09",0]
["Auckland (Auckland)-10-10-1963","Auckland (Auckland)","1963-10-10",1.5]
["Auckland (Auckland)-11-10-1963","Auckland (Auckland)","1963-10-11",0]
["Auckland (Auckland)-12-10-1963","Auckland (Auckland)","1963-10-12",0]
["Auckland (Auckland)-13-10-1963","Auckland (Auckland)","1963-10-13",0]
["Auckland (Auckland)-14-10-1963","Auckland (Auckland)","1963-10-14",0]
["Auckland (Auckland)-15-10-1963","Auckland (Auckland)","1963-10-15",0]
["Auckland (Auckland)-16-10-1963","Auckland (Auckland)","1963-10-16",0]
["Auckland (Auckland)-17-10-1963","Auckland (Auckland)","1963-10-17",0]
["Auckland (Auckland)-18-10-1963","Auckland (Auckland)","1963-10-18",0]
["Auckland (Auckland)-19-10-1963","Auckland (Auckland)","1963-10-19",0]
["Auckland (Auckland)-20-10-1963","Auckland (Auckland)","1963-10-20",0]
["Auckland (Auckland)-21-10-1963","Auckland (Auckland)","1963-10-21",0]
["Auckland (Auckland)-22-10-1963","Auckland (Auckland)","1963-10-22",0]
["Auckland (Auckland)-23-10-1963","Auckland (Auckland)","1963-10-23",6.4]
["Auckland (Auckland)-24-10-1963","Auckland (Auckland)","1963-10-24",0]
["Auckland (Auckland)-25-10-1963","Auckland (Auckland)","1963-10-25",0]
["Auckland (Auckland)-26-10-1963","Auckland (Auckland)","1963-10-26",0.5]
["Auckland (Auckland)-27-10-1963","Auckland (Auckland)","1963-10-27",0]
["Auckland (Auckland)-28-10-1963","Auckland (Auckland)","1963-10-28",0.5]
["Auckland (Auckland)-29-10-1963","Auckland (Auckland)","1963-10-29",0]
["Auckland (Auckland)-30-10-1963","Auckland (Auckland)","1963-10-30",0]
["Auckland (Auckland)-31-10-1963","Auckland (Auckland)","1963-10-31",14]
["Auckland (Auckland)-1-11-1963","Auckland (Auckland)","1963-11-01",0]
["Auckland (Auckland)-2-11-1963","Auckland (Auckland)","1963-11-02",0]
["Auckland (Auckland)-3-11-1963","Auckland (Auckland)","1963-11-03",0]
["Auckland (Auckland)-4-11-1963","Auckland (Auckland)","1963-11-04",0]
["Auckland (Auckland)-5-11-1963","Auckland (Auckland)","1963-11-05",6.9]
["Auckland (Auckland)-6-11-1963","Auckland (Auckland)","1963-11-06",5.8]
["Auckland (Auckland)-7-11-1963","Auckland (Auckland)","1963-11-07",0]
["Auckland (Auckland)-8-11-1963","Auckland (Auckland)","1963-11-08",2.5]
["Auckland (Auckland)-9-11-1963","Auckland (Auckland)","1963-11-09",1.8]
[{"$f":"_xlfn.CONCAT(B1411,\"-\",DAY(C1411),\"-\",MONTH(C1411),\"-\",YEAR(C1411))","v":"Auckland (Auckland)-10-11-1963"},"Auckland (Auckland)","1963-11-10",6.6]
["Auckland (Auckland)-11-11-1963","Auckland (Auckland)","1963-11-11",0]
["Auckland (Auckland)-12-11-1963","Auckland (Auckland)","1963-11-12",0]
["Auckland (Auckland)-13-11-1963","Auckland (Auckland)","1963-11-13",8.1]
["Auckland (Auckland)-14-11-1963","Auckland (Auckland)","1963-11-14",0]
["Auckland (Auckland)-15-11-1963","Auckland (Auckland)","1963-11-15",0]
["Auckland (Auckland)-16-11-1963","Auckland (Auckland)","1963-11-16",0]
["Auckland (Auckland)-17-11-1963","Auckland (Auckland)","1963-11-17",1.3]
["Auckland (Auckland)-18-11-1963","Auckland (Auckland)","1963-11-18",0]
["Auckland (Auckland)-19-11-1963","Auckland (Auckland)","1963-11-19",0]
["Auckland (Auckland)-20-11-1963","Auckland (Auckland)","1963-11-20",0.5]
["Auckland (Auckland)-21-11-1963","Auckland (Auckland)","1963-11-21",0]
["Auckland (Auckland)-22-11-1963","Auckland (Auckland)","1963-11-22",0]
["Auckland (Auckland)-23-11-1963","Auckland (Auckland)","1963-11-23",0]
["Auckland (Auckland)-24-11-1963","Auckland (Auckland)","1963-11-24",0]
["Auckland (Auckland)-25-11-1963","Auckland (Auckland)","1963-11-25",4.8]
["Auckland (Auckland)-26-11-1963","Auckland (Auckland)","1963-11-26",0]
["Auckland (Auckland)-27-11-1963","Auckland (Auckland)","1963-11-27",0]
["Auckland (Auckland)-28-11-1963","Auckland (Auckland)","1963-11-28",2.2999999999999998]
["Auckland (Auckland)-29-11-1963","Auckland (Auckland)","1963-11-29",17.3]
["Auckland (Auckland)-30-11-1963","Auckland (Auckland)","1963-11-30",11.9]
["Auckland (Auckland)-1-12-1963","Auckland (Auckland)","1963-12-01",0]
["Auckland (Auckland)-2-12-1963","Auckland (Auckland)","1963-12-02",0]
["Auckland (Auckland)-3-12-1963","Auckland (Auckland)","1963-12-03",0]
["Auckland (Auckland)-4-12-1963","Auckland (Auckland)","1963-12-04",0]
["Auckland (Auckland)-5-12-1963","Auckland (Auckland)","1963-12-05",0]
["Auckland (Auckland)-6-12-1963","Auckland (Auckland)","1963-12-06",0]
["Auckland (Auckland)-7-12-1963","Auckland (Auckland)","1963-12-07",0]
["Auckland (Auckland)-8-12-1963","Auckland (Auckland)","1963-12-08",0]
["Auckland (Auckland)-9-12-1963","Auckland (Auckland)","1963-12-09",0]
["Auckland (Auckland)-10-12-1963","Auckland (Auckland)","1963-12-10",0]
["Auckland (Auckland)-11-12-1963","Auckland (Auckland)","1963-12-11",0]
["Auckland (Auckland)-12-12-1963","Auckland (Auckland)","1963-12-12",0]
["Auckland (Auckland)-13-12-1963","Auckland (Auckland)","1963-12-13",0]
["Auckland (Auckland)-14-12-1963","Auckland (Auckland)","1963-12-14",0]
["Auckland (Auckland)-15-12-1963","Auckland (Auckland)","1963-12-15",5.0999999999999996]
["Auckland (Auckland)-16-12-1963","Auckland (Auckland)","1963-12-16",0]
["Auckland (Auckland)-17-12-1963","Auckland (Auckland)","1963-12-17",0]
["Auckland (Auckland)-18-12-1963","Auckland (Auckland)","1963-12-18",12.7]
["Auckland (Auckland)-19-12-1963","Auckland (Auckland)","1963-12-19",35.6]
["Auckland (Auckland)-20-12-1963","Auckland (Auckland)","1963-12-20",5.3]
["Auckland (Auckland)-21-12-1963","Auckland (Auckland)","1963-12-21",0]
["Auckland (Auckland)-22-12-1963","Auckland (Auckland)","1963-12-22",1.3]
["Auckland (Auckland)-23-12-1963","Auckland (Auckland)","1963-12-23",0.8]
["Auckland (Auckland)-24-12-1963","Auckland (Auckland)","1963-12-24",0]
["Auckland (Auckland)-25-12-1963","Auckland (Auckland)","1963-12-25",0]
["Auckland (Auckland)-26-12-1963","Auckland (Auckland)","1963-12-26",0.8]
["Auckland (Auckland)-27-12-1963","Auckland (Auckland)","1963-12-27",0]
["Auckland (Auckland)-28-12-1963","Auckland (Auckland)","1963-12-28",0]
["Auckland (Auckland)-29-12-1963","Auckland (Auckland)","1963-12-29",4.8]
["Auckland (Auckland)-30-12-1963","Auckland (Auckland)","1963-12-30",2]
["Auckland (Auckland)-31-12-1963","Auckland (Auckland)","1963-12-31",2.5]
["Auckland (Auckland)-1-1-1964","Auckland (Auckland)","1964-01-01",3]
["Auckland (Auckland)-2-1-1964","Auckland (Auckland)","1964-01-02",3.6]
["Auckland (Auckland)-3-1-1964","Auckland (Auckland)","1964-01-03",0]
["Auckland (Auckland)-4-1-1964","Auckland (Auckland)","1964-01-04",0]
["Auckland (Auckland)-5-1-1964","Auckland (Auckland)","1964-01-05",1.8]
["Auckland (Auckland)-6-1-1964","Auckland (Auckland)","1964-01-06",0]
["Auckland (Auckland)-7-1-1964","Auckland (Auckland)","1964-01-07",0]
["Auckland (Auckland)-8-1-1964","Auckland (Auckland)","1964-01-08",1.8]
["Auckland (Auckland)-9-1-1964","Auckland (Auckland)","1964-01-09",0]
["Auckland (Auckland)-10-1-1964","Auckland (Auckland)","1964-01-10",20.100000000000001]
["Auckland (Auckland)-11-1-1964","Auckland (Auckland)","1964-01-11",4.8]
["Auckland (Auckland)-12-1-1964","Auckland (Auckland)","1964-01-12",5.6]
[{"$f":"_xlfn.CONCAT(B1475,\"-\",DAY(C1475),\"-\",MONTH(C1475),\"-\",YEAR(C1475))","v":"Auckland (Auckland)-13-1-1964"},"Auckland (Auckland)","1964-01-13",0]
["Auckland (Auckland)-14-1-1964","Auckland (Auckland)","1964-01-14",0]
["Auckland (Auckland)-15-1-1964","Auckland (Auckland)","1964-01-15",16.5]
["Auckland (Auckland)-16-1-1964","Auckland (Auckland)","1964-01-16",0]
["Auckland (Auckland)-17-1-1964","Auckland (Auckland)","1964-01-17",0]
["Auckland (Auckland)-18-1-1964","Auckland (Auckland)","1964-01-18",0]
["Auckland (Auckland)-19-1-1964","Auckland (Auckland)","1964-01-19",1.3]
["Auckland (Auckland)-20-1-1964","Auckland (Auckland)","1964-01-20",0]
["Auckland (Auckland)-21-1-1964","Auckland (Auckland)","1964-01-21",3.3]
["Auckland (Auckland)-22-1-1964","Auckland (Auckland)","1964-01-22",0]
["Auckland (Auckland)-23-1-1964","Auckland (Auckland)","1964-01-23",0]
["Auckland (Auckland)-24-1-1964","Auckland (Auckland)","1964-01-24",0]
["Auckland (Auckland)-25-1-1964","Auckland (Auckland)","1964-01-25",0]
["Auckland (Auckland)-26-1-1964","Auckland (Auckland)","1964-01-26",0]
["Auckland (Auckland)-27-1-1964","Auckland (Auckland)","1964-01-27",0]
["Auckland (Auckland)-28-1-1964","Auckland (Auckland)","1964-01-28",0]
["Auckland (Auckland)-29-1-1964","Auckland (Auckland)","1964-01-29",0]
["Auckland (Auckland)-30-1-1964","Auckland (Auckland)","1964-01-30",0]
["Auckland (Auckland)-31-1-1964","Auckland (Auckland)","1964-01-31",0]
["Auckland (Auckland)-1-2-1964","Auckland (Auckland)","1964-02-01",11.7]
["Auckland (Auckland)-2-2-1964","Auckland (Auckland)","1964-02-02",0]
["Auckland (Auckland)-3-2-1964","Auckland (Auckland)","1964-02-03",0]
["Auckland (Auckland)-4-2-1964","Auckland (Auckland)","1964-02-04",0]
["Auckland (Auckland)-5-2-1964","Auckland (Auckland)","1964-02-05",0]
["Auckland (Auckland)-6-2-1964","Auckland (Auckland)","1964-02-06",0]
["Auckland (Auckland)-7-2-1964","Auckland (Auckland)","1964-02-07",0]
["Auckland (Auckland)-8-2-1964","Auckland (Auckland)","1964-02-08",0]
["Auckland (Auckland)-9-2-1964","Auckland (Auckland)","1964-02-09",0]
["Auckland (Auckland)-10-2-1964","Auckland (Auckland)","1964-02-10",0]
["Auckland (Auckland)-11-2-1964","Auckland (Auckland)","1964-02-11",0.5]
["Auckland (Auckland)-12-2-1964","Auckland (Auckland)","1964-02-12",0]
["Auckland (Auckland)-13-2-1964","Auckland (Auckland)","1964-02-13",0]
["Auckland (Auckland)-14-2-1964","Auckland (Auckland)","1964-02-14",0]
["Auckland (Auckland)-15-2-1964","Auckland (Auckland)","1964-02-15",0]
["Auckland (Auckland)-16-2-1964","Auckland (Auckland)","1964-02-16",1]
["Auckland (Auckland)-17-2-1964","Auckland (Auckland)","1964-02-17",0]
["Auckland (Auckland)-18-2-1964","Auckland (Auckland)","1964-02-18",0]
["Auckland (Auckland)-19-2-1964","Auckland (Auckland)","1964-02-19",0]
["Auckland (Auckland)-20-2-1964","Auckland (Auckland)","1964-02-20",0]
["Auckland (Auckland)-21-2-1964","Auckland (Auckland)","1964-02-21",0]
["Auckland (Auckland)-22-2-1964","Auckland (Auckland)","1964-02-22",0]
["Auckland (Auckland)-23-2-1964","Auckland (Auckland)","1964-02-23",0]
["Auckland (Auckland)-24-2-1964","Auckland (Auckland)","1964-02-24",0]
["Auckland (Auckland)-25-2-1964","Auckland (Auckland)","1964-02-25",1]
["Auckland (Auckland)-26-2-1964","Auckland (Auckland)","1964-02-26",0]
["Auckland (Auckland)-27-2-1964","Auckland (Auckland)","1964-02-27",18.3]
["Auckland (Auckland)-28-2-1964","Auckland (Auckland)","1964-02-28",0]
["Auckland (Auckland)-29-2-1964","Auckland (Auckland)","1964-02-29",6.4]
["Auckland (Auckland)-1-3-1964","Auckland (Auckland)","1964-03-01",11.7]
["Auckland (Auckland)-2-3-1964","Auckland (Auckland)","1964-03-02",0]
["Auckland (Auckland)-3-3-1964","Auckland (Auckland)","1964-03-03",3.3]
["Auckland (Auckland)-4-3-1964","Auckland (Auckland)","1964-03-04",0.8]
["Auckland (Auckland)-5-3-1964","Auckland (Auckland)","1964-03-05",0]
["Auckland (Auckland)-6-3-1964","Auckland (Auckland)","1964-03-06",0]
["Auckland (Auckland)-7-3-1964","Auckland (Auckland)","1964-03-07",0]
["Auckland (Auckland)-8-3-1964","Auckland (Auckland)","1964-03-08",5.0999999999999996]
["Auckland (Auckland)-9-3-1964","Auckland (Auckland)","1964-03-09",26.7]
["Auckland (Auckland)-10-3-1964","Auckland (Auckland)","1964-03-10",43.7]
["Auckland (Auckland)-11-3-1964","Auckland (Auckland)","1964-03-11",5.0999999999999996]
["Auckland (Auckland)-12-3-1964","Auckland (Auckland)","1964-03-12",0]
["Auckland (Auckland)-13-3-1964","Auckland (Auckland)","1964-03-13",0]
["Auckland (Auckland)-14-3-1964","Auckland (Auckland)","1964-03-14",0]
["Auckland (Auckland)-15-3-1964","Auckland (Auckland)","1964-03-15",0]
["Auckland (Auckland)-16-3-1964","Auckland (Auckland)","1964-03-16",0]
[{"$f":"_xlfn.CONCAT(B1539,\"-\",DAY(C1539),\"-\",MONTH(C1539),\"-\",YEAR(C1539))","v":"Auckland (Auckland)-17-3-1964"},"Auckland (Auckland)","1964-03-17",0]
["Auckland (Auckland)-18-3-1964","Auckland (Auckland)","1964-03-18",0]
["Auckland (Auckland)-19-3-1964","Auckland (Auckland)","1964-03-19",0]
["Auckland (Auckland)-20-3-1964","Auckland (Auckland)","1964-03-20",0]
["Auckland (Auckland)-21-3-1964","Auckland (Auckland)","1964-03-21",1.8]
["Auckland (Auckland)-22-3-1964","Auckland (Auckland)","1964-03-22",0]
["Auckland (Auckland)-23-3-1964","Auckland (Auckland)","1964-03-23",0]
["Auckland (Auckland)-24-3-1964","Auckland (Auckland)","1964-03-24",0]
["Auckland (Auckland)-25-3-1964","Auckland (Auckland)","1964-03-25",0]
["Auckland (Auckland)-26-3-1964","Auckland (Auckland)","1964-03-26",0]
["Auckland (Auckland)-27-3-1964","Auckland (Auckland)","1964-03-27",0]
["Auckland (Auckland)-28-3-1964","Auckland (Auckland)","1964-03-28",0]
["Auckland (Auckland)-29-3-1964","Auckland (Auckland)","1964-03-29",0]
["Auckland (Auckland)-30-3-1964","Auckland (Auckland)","1964-03-30",0]
["Auckland (Auckland)-31-3-1964","Auckland (Auckland)","1964-03-31",0]
["Auckland (Auckland)-1-4-1964","Auckland (Auckland)","1964-04-01",0.8]
["Auckland (Auckland)-2-4-1964","Auckland (Auckland)","1964-04-02",0]
["Auckland (Auckland)-3-4-1964","Auckland (Auckland)","1964-04-03",0]
["Auckland (Auckland)-4-4-1964","Auckland (Auckland)","1964-04-04",0]
["Auckland (Auckland)-5-4-1964","Auckland (Auckland)","1964-04-05",0]
["Auckland (Auckland)-6-4-1964","Auckland (Auckland)","1964-04-06",0]
["Auckland (Auckland)-7-4-1964","Auckland (Auckland)","1964-04-07",0]
["Auckland (Auckland)-8-4-1964","Auckland (Auckland)","1964-04-08",2]
["Auckland (Auckland)-9-4-1964","Auckland (Auckland)","1964-04-09",3.6]
["Auckland (Auckland)-10-4-1964","Auckland (Auckland)","1964-04-10",0.5]
["Auckland (Auckland)-11-4-1964","Auckland (Auckland)","1964-04-11",0]
["Auckland (Auckland)-12-4-1964","Auckland (Auckland)","1964-04-12",0]
["Auckland (Auckland)-13-4-1964","Auckland (Auckland)","1964-04-13",0]
["Auckland (Auckland)-14-4-1964","Auckland (Auckland)","1964-04-14",0]
["Auckland (Auckland)-15-4-1964","Auckland (Auckland)","1964-04-15",0]
["Auckland (Auckland)-16-4-1964","Auckland (Auckland)","1964-04-16",0]
["Auckland (Auckland)-17-4-1964","Auckland (Auckland)","1964-04-17",0]
["Auckland (Auckland)-18-4-1964","Auckland (Auckland)","1964-04-18",0]
["Auckland (Auckland)-19-4-1964","Auckland (Auckland)","1964-04-19",0]
["Auckland (Auckland)-20-4-1964","Auckland (Auckland)","1964-04-20",0]
["Auckland (Auckland)-21-4-1964","Auckland (Auckland)","1964-04-21",0]
["Auckland (Auckland)-22-4-1964","Auckland (Auckland)","1964-04-22",0]
["Auckland (Auckland)-23-4-1964","Auckland (Auckland)","1964-04-23",0]
["Auckland (Auckland)-24-4-1964","Auckland (Auckland)","1964-04-24",0]
["Auckland (Auckland)-25-4-1964","Auckland (Auckland)","1964-04-25",0]
["Auckland (Auckland)-26-4-1964","Auckland (Auckland)","1964-04-26",3.3]
["Auckland (Auckland)-27-4-1964","Auckland (Auckland)","1964-04-27",10.4]
["Auckland (Auckland)-28-4-1964","Auckland (Auckland)","1964-04-28",0]
["Auckland (Auckland)-29-4-1964","Auckland (Auckland)","1964-04-29",0.5]
["Auckland (Auckland)-30-4-1964","Auckland (Auckland)","1964-04-30",0.8]
["Auckland (Auckland)-1-5-1964","Auckland (Auckland)","1964-05-01",2.5]
["Auckland (Auckland)-2-5-1964","Auckland (Auckland)","1964-05-02",0]
["Auckland (Auckland)-3-5-1964","Auckland (Auckland)","1964-05-03",1.3]
["Auckland (Auckland)-4-5-1964","Auckland (Auckland)","1964-05-04",37.6]
["Auckland (Auckland)-5-5-1964","Auckland (Auckland)","1964-05-05",29.2]
["Auckland (Auckland)-6-5-1964","Auckland (Auckland)","1964-05-06",10.4]
["Auckland (Auckland)-7-5-1964","Auckland (Auckland)","1964-05-07",0]
["Auckland (Auckland)-8-5-1964","Auckland (Auckland)","1964-05-08",0]
["Auckland (Auckland)-9-5-1964","Auckland (Auckland)","1964-05-09",0]
["Auckland (Auckland)-10-5-1964","Auckland (Auckland)","1964-05-10",0]
["Auckland (Auckland)-11-5-1964","Auckland (Auckland)","1964-05-11",0]
["Auckland (Auckland)-12-5-1964","Auckland (Auckland)","1964-05-12",0]
["Auckland (Auckland)-13-5-1964","Auckland (Auckland)","1964-05-13",8.4]
["Auckland (Auckland)-14-5-1964","Auckland (Auckland)","1964-05-14",0]
["Auckland (Auckland)-15-5-1964","Auckland (Auckland)","1964-05-15",8.1]
["Auckland (Auckland)-16-5-1964","Auckland (Auckland)","1964-05-16",1.3]
["Auckland (Auckland)-17-5-1964","Auckland (Auckland)","1964-05-17",0]
["Auckland (Auckland)-18-5-1964","Auckland (Auckland)","1964-05-18",0.5]
["Auckland (Auckland)-19-5-1964","Auckland (Auckland)","1964-05-19",0.3]
[{"$f":"_xlfn.CONCAT(B1603,\"-\",DAY(C1603),\"-\",MONTH(C1603),\"-\",YEAR(C1603))","v":"Auckland (Auckland)-20-5-1964"},"Auckland (Auckland)","1964-05-20",4.3]
["Auckland (Auckland)-21-5-1964","Auckland (Auckland)","1964-05-21",0]
["Auckland (Auckland)-22-5-1964","Auckland (Auckland)","1964-05-22",0]
["Auckland (Auckland)-23-5-1964","Auckland (Auckland)","1964-05-23",0.3]
["Auckland (Auckland)-24-5-1964","Auckland (Auckland)","1964-05-24",2]
["Auckland (Auckland)-25-5-1964","Auckland (Auckland)","1964-05-25",7.6]
["Auckland (Auckland)-26-5-1964","Auckland (Auckland)","1964-05-26",2.8]
["Auckland (Auckland)-27-5-1964","Auckland (Auckland)","1964-05-27",0]
["Auckland (Auckland)-28-5-1964","Auckland (Auckland)","1964-05-28",6.6]
["Auckland (Auckland)-29-5-1964","Auckland (Auckland)","1964-05-29",4.5999999999999996]
["Auckland (Auckland)-30-5-1964","Auckland (Auckland)","1964-05-30",0]
["Auckland (Auckland)-31-5-1964","Auckland (Auckland)","1964-05-31",0]
["Auckland (Auckland)-1-6-1964","Auckland (Auckland)","1964-06-01",0]
["Auckland (Auckland)-2-6-1964","Auckland (Auckland)","1964-06-02",4.5999999999999996]
["Auckland (Auckland)-3-6-1964","Auckland (Auckland)","1964-06-03",11.2]
["Auckland (Auckland)-4-6-1964","Auckland (Auckland)","1964-06-04",1]
["Auckland (Auckland)-5-6-1964","Auckland (Auckland)","1964-06-05",0]
["Auckland (Auckland)-6-6-1964","Auckland (Auckland)","1964-06-06",0]
["Auckland (Auckland)-7-6-1964","Auckland (Auckland)","1964-06-07",2.2999999999999998]
["Auckland (Auckland)-8-6-1964","Auckland (Auckland)","1964-06-08",0]
["Auckland (Auckland)-9-6-1964","Auckland (Auckland)","1964-06-09",0]
["Auckland (Auckland)-10-6-1964","Auckland (Auckland)","1964-06-10",1]
["Auckland (Auckland)-11-6-1964","Auckland (Auckland)","1964-06-11",0]
["Auckland (Auckland)-12-6-1964","Auckland (Auckland)","1964-06-12",16.5]
["Auckland (Auckland)-13-6-1964","Auckland (Auckland)","1964-06-13",0]
["Auckland (Auckland)-14-6-1964","Auckland (Auckland)","1964-06-14",8.9]
["Auckland (Auckland)-15-6-1964","Auckland (Auckland)","1964-06-15",8.4]
["Auckland (Auckland)-16-6-1964","Auckland (Auckland)","1964-06-16",0]
["Auckland (Auckland)-17-6-1964","Auckland (Auckland)","1964-06-17",0]
["Auckland (Auckland)-18-6-1964","Auckland (Auckland)","1964-06-18",0]
["Auckland (Auckland)-19-6-1964","Auckland (Auckland)","1964-06-19",0]
["Auckland (Auckland)-20-6-1964","Auckland (Auckland)","1964-06-20",0]
["Auckland (Auckland)-21-6-1964","Auckland (Auckland)","1964-06-21",3.3]
["Auckland (Auckland)-22-6-1964","Auckland (Auckland)","1964-06-22",12.7]
["Auckland (Auckland)-23-6-1964","Auckland (Auckland)","1964-06-23",2.5]
["Auckland (Auckland)-24-6-1964","Auckland (Auckland)","1964-06-24",0.5]
["Auckland (Auckland)-25-6-1964","Auckland (Auckland)","1964-06-25",12.2]
["Auckland (Auckland)-26-6-1964","Auckland (Auckland)","1964-06-26",5.0999999999999996]
["Auckland (Auckland)-27-6-1964","Auckland (Auckland)","1964-06-27",6.6]
["Auckland (Auckland)-28-6-1964","Auckland (Auckland)","1964-06-28",16.5]
["Auckland (Auckland)-29-6-1964","Auckland (Auckland)","1964-06-29",0]
["Auckland (Auckland)-30-6-1964","Auckland (Auckland)","1964-06-30",0]
["Auckland (Auckland)-1-7-1964","Auckland (Auckland)","1964-07-01",1.3]
["Auckland (Auckland)-2-7-1964","Auckland (Auckland)","1964-07-02",0]
["Auckland (Auckland)-3-7-1964","Auckland (Auckland)","1964-07-03",0]
["Auckland (Auckland)-4-7-1964","Auckland (Auckland)","1964-07-04",0]
["Auckland (Auckland)-5-7-1964","Auckland (Auckland)","1964-07-05",13.5]
["Auckland (Auckland)-6-7-1964","Auckland (Auckland)","1964-07-06",29.5]
["Auckland (Auckland)-7-7-1964","Auckland (Auckland)","1964-07-07",0.5]
["Auckland (Auckland)-8-7-1964","Auckland (Auckland)","1964-07-08",10.4]
["Auckland (Auckland)-9-7-1964","Auckland (Auckland)","1964-07-09",7.1]
["Auckland (Auckland)-10-7-1964","Auckland (Auckland)","1964-07-10",5.0999999999999996]
["Auckland (Auckland)-11-7-1964","Auckland (Auckland)","1964-07-11",0]
["Auckland (Auckland)-12-7-1964","Auckland (Auckland)","1964-07-12",14]
["Auckland (Auckland)-13-7-1964","Auckland (Auckland)","1964-07-13",8.9]
["Auckland (Auckland)-14-7-1964","Auckland (Auckland)","1964-07-14",10.7]
["Auckland (Auckland)-15-7-1964","Auckland (Auckland)","1964-07-15",5.3]
["Auckland (Auckland)-16-7-1964","Auckland (Auckland)","1964-07-16",1.8]
["Auckland (Auckland)-17-7-1964","Auckland (Auckland)","1964-07-17",19.3]
["Auckland (Auckland)-18-7-1964","Auckland (Auckland)","1964-07-18",6.4]
["Auckland (Auckland)-19-7-1964","Auckland (Auckland)","1964-07-19",3.6]
["Auckland (Auckland)-20-7-1964","Auckland (Auckland)","1964-07-20",21.1]
["Auckland (Auckland)-21-7-1964","Auckland (Auckland)","1964-07-21",3.3]
["Auckland (Auckland)-22-7-1964","Auckland (Auckland)","1964-07-22",0]
[{"$f":"_xlfn.CONCAT(B1667,\"-\",DAY(C1667),\"-\",MONTH(C1667),\"-\",YEAR(C1667))","v":"Auckland (Auckland)-23-7-1964"},"Auckland (Auckland)","1964-07-23",3.8]
["Auckland (Auckland)-24-7-1964","Auckland (Auckland)","1964-07-24",2.5]
["Auckland (Auckland)-25-7-1964","Auckland (Auckland)","1964-07-25",1.5]
["Auckland (Auckland)-26-7-1964","Auckland (Auckland)","1964-07-26",3]
["Auckland (Auckland)-27-7-1964","Auckland (Auckland)","1964-07-27",1.3]
["Auckland (Auckland)-28-7-1964","Auckland (Auckland)","1964-07-28",0.8]
["Auckland (Auckland)-29-7-1964","Auckland (Auckland)","1964-07-29",0]
["Auckland (Auckland)-30-7-1964","Auckland (Auckland)","1964-07-30",0.8]
["Auckland (Auckland)-31-7-1964","Auckland (Auckland)","1964-07-31",0]
["Auckland (Auckland)-1-8-1964","Auckland (Auckland)","1964-08-01",0]
["Auckland (Auckland)-2-8-1964","Auckland (Auckland)","1964-08-02",0]
["Auckland (Auckland)-3-8-1964","Auckland (Auckland)","1964-08-03",7.9]
["Auckland (Auckland)-4-8-1964","Auckland (Auckland)","1964-08-04",11.2]
["Auckland (Auckland)-5-8-1964","Auckland (Auckland)","1964-08-05",0]
["Auckland (Auckland)-6-8-1964","Auckland (Auckland)","1964-08-06",22.6]
["Auckland (Auckland)-7-8-1964","Auckland (Auckland)","1964-08-07",10.7]
["Auckland (Auckland)-8-8-1964","Auckland (Auckland)","1964-08-08",1.3]
["Auckland (Auckland)-9-8-1964","Auckland (Auckland)","1964-08-09",2.5]
["Auckland (Auckland)-10-8-1964","Auckland (Auckland)","1964-08-10",1.3]
["Auckland (Auckland)-11-8-1964","Auckland (Auckland)","1964-08-11",2]
["Auckland (Auckland)-12-8-1964","Auckland (Auckland)","1964-08-12",16.3]
["Auckland (Auckland)-13-8-1964","Auckland (Auckland)","1964-08-13",12.4]
["Auckland (Auckland)-14-8-1964","Auckland (Auckland)","1964-08-14",10.9]
["Auckland (Auckland)-15-8-1964","Auckland (Auckland)","1964-08-15",0.8]
["Auckland (Auckland)-16-8-1964","Auckland (Auckland)","1964-08-16",0.8]
["Auckland (Auckland)-17-8-1964","Auckland (Auckland)","1964-08-17",0]
["Auckland (Auckland)-18-8-1964","Auckland (Auckland)","1964-08-18",28.7]
["Auckland (Auckland)-19-8-1964","Auckland (Auckland)","1964-08-19",0.8]
["Auckland (Auckland)-20-8-1964","Auckland (Auckland)","1964-08-20",1.8]
["Auckland (Auckland)-21-8-1964","Auckland (Auckland)","1964-08-21",0.8]
["Auckland (Auckland)-22-8-1964","Auckland (Auckland)","1964-08-22",0]
["Auckland (Auckland)-23-8-1964","Auckland (Auckland)","1964-08-23",0.5]
["Auckland (Auckland)-24-8-1964","Auckland (Auckland)","1964-08-24",4.8]
["Auckland (Auckland)-25-8-1964","Auckland (Auckland)","1964-08-25",6.1]
["Auckland (Auckland)-26-8-1964","Auckland (Auckland)","1964-08-26",12.7]
["Auckland (Auckland)-27-8-1964","Auckland (Auckland)","1964-08-27",1.5]
["Auckland (Auckland)-28-8-1964","Auckland (Auckland)","1964-08-28",1.5]
["Auckland (Auckland)-29-8-1964","Auckland (Auckland)","1964-08-29",0]
["Auckland (Auckland)-30-8-1964","Auckland (Auckland)","1964-08-30",1.3]
["Auckland (Auckland)-31-8-1964","Auckland (Auckland)","1964-08-31",0]
["Auckland (Auckland)-1-9-1964","Auckland (Auckland)","1964-09-01",8.1]
["Auckland (Auckland)-2-9-1964","Auckland (Auckland)","1964-09-02",0]
["Auckland (Auckland)-3-9-1964","Auckland (Auckland)","1964-09-03",0]
["Auckland (Auckland)-4-9-1964","Auckland (Auckland)","1964-09-04",0]
["Auckland (Auckland)-5-9-1964","Auckland (Auckland)","1964-09-05",0]
["Auckland (Auckland)-6-9-1964","Auckland (Auckland)","1964-09-06",8.1]
["Auckland (Auckland)-7-9-1964","Auckland (Auckland)","1964-09-07",0]
["Auckland (Auckland)-8-9-1964","Auckland (Auckland)","1964-09-08",5.8]
["Auckland (Auckland)-9-9-1964","Auckland (Auckland)","1964-09-09",0]
["Auckland (Auckland)-10-9-1964","Auckland (Auckland)","1964-09-10",0]
["Auckland (Auckland)-11-9-1964","Auckland (Auckland)","1964-09-11",0]
["Auckland (Auckland)-12-9-1964","Auckland (Auckland)","1964-09-12",0]
["Auckland (Auckland)-13-9-1964","Auckland (Auckland)","1964-09-13",0]
["Auckland (Auckland)-14-9-1964","Auckland (Auckland)","1964-09-14",30.2]
["Auckland (Auckland)-15-9-1964","Auckland (Auckland)","1964-09-15",10.9]
["Auckland (Auckland)-16-9-1964","Auckland (Auckland)","1964-09-16",2.2999999999999998]
["Auckland (Auckland)-17-9-1964","Auckland (Auckland)","1964-09-17",1.3]
["Auckland (Auckland)-18-9-1964","Auckland (Auckland)","1964-09-18",10.199999999999999]
["Auckland (Auckland)-19-9-1964","Auckland (Auckland)","1964-09-19",2.8]
["Auckland (Auckland)-20-9-1964","Auckland (Auckland)","1964-09-20",4.3]
["Auckland (Auckland)-21-9-1964","Auckland (Auckland)","1964-09-21",5.6]
["Auckland (Auckland)-22-9-1964","Auckland (Auckland)","1964-09-22",7.6]
["Auckland (Auckland)-23-9-1964","Auckland (Auckland)","1964-09-23",10.9]
["Auckland (Auckland)-24-9-1964","Auckland (Auckland)","1964-09-24",2.8]
[{"$f":"_xlfn.CONCAT(B1731,\"-\",DAY(C1731),\"-\",MONTH(C1731),\"-\",YEAR(C1731))","v":"Auckland (Auckland)-25-9-1964"},"Auckland (Auckland)","1964-09-25",0.8]
["Auckland (Auckland)-26-9-1964","Auckland (Auckland)","1964-09-26",0]
["Auckland (Auckland)-27-9-1964","Auckland (Auckland)","1964-09-27",0]
["Auckland (Auckland)-28-9-1964","Auckland (Auckland)","1964-09-28",0]
["Auckland (Auckland)-29-9-1964","Auckland (Auckland)","1964-09-29",1]
["Auckland (Auckland)-30-9-1964","Auckland (Auckland)","1964-09-30",7.9]
["Auckland (Auckland)-1-10-1964","Auckland (Auckland)","1964-10-01",1.5]
["Auckland (Auckland)-2-10-1964","Auckland (Auckland)","1964-10-02",0]
["Auckland (Auckland)-3-10-1964","Auckland (Auckland)","1964-10-03",1.3]
["Auckland (Auckland)-4-10-1964","Auckland (Auckland)","1964-10-04",11.4]
["Auckland (Auckland)-5-10-1964","Auckland (Auckland)","1964-10-05",0.8]
["Auckland (Auckland)-6-10-1964","Auckland (Auckland)","1964-10-06",3.6]
["Auckland (Auckland)-7-10-1964","Auckland (Auckland)","1964-10-07",0.8]
["Auckland (Auckland)-8-10-1964","Auckland (Auckland)","1964-10-08",0]
["Auckland (Auckland)-9-10-1964","Auckland (Auckland)","1964-10-09",0]
["Auckland (Auckland)-10-10-1964","Auckland (Auckland)","1964-10-10",0]
["Auckland (Auckland)-11-10-1964","Auckland (Auckland)","1964-10-11",0]
["Auckland (Auckland)-12-10-1964","Auckland (Auckland)","1964-10-12",20.3]
["Auckland (Auckland)-13-10-1964","Auckland (Auckland)","1964-10-13",1.8]
["Auckland (Auckland)-14-10-1964","Auckland (Auckland)","1964-10-14",0.3]
["Auckland (Auckland)-15-10-1964","Auckland (Auckland)","1964-10-15",27.4]
["Auckland (Auckland)-16-10-1964","Auckland (Auckland)","1964-10-16",4.5999999999999996]
["Auckland (Auckland)-17-10-1964","Auckland (Auckland)","1964-10-17",0.5]
["Auckland (Auckland)-18-10-1964","Auckland (Auckland)","1964-10-18",1.3]
["Auckland (Auckland)-19-10-1964","Auckland (Auckland)","1964-10-19",2.5]
["Auckland (Auckland)-20-10-1964","Auckland (Auckland)","1964-10-20",29.2]
["Auckland (Auckland)-21-10-1964","Auckland (Auckland)","1964-10-21",2.5]
["Auckland (Auckland)-22-10-1964","Auckland (Auckland)","1964-10-22",2.5]
["Auckland (Auckland)-23-10-1964","Auckland (Auckland)","1964-10-23",0]
["Auckland (Auckland)-24-10-1964","Auckland (Auckland)","1964-10-24",1.5]
["Auckland (Auckland)-25-10-1964","Auckland (Auckland)","1964-10-25",20.3]
["Auckland (Auckland)-26-10-1964","Auckland (Auckland)","1964-10-26",0]
["Auckland (Auckland)-27-10-1964","Auckland (Auckland)","1964-10-27",0]
["Auckland (Auckland)-28-10-1964","Auckland (Auckland)","1964-10-28",0]
["Auckland (Auckland)-29-10-1964","Auckland (Auckland)","1964-10-29",0]
["Auckland (Auckland)-30-10-1964","Auckland (Auckland)","1964-10-30",0]
["Auckland (Auckland)-31-10-1964","Auckland (Auckland)","1964-10-31",0]
["Auckland (Auckland)-1-11-1964","Auckland (Auckland)","1964-11-01",0]
["Auckland (Auckland)-2-11-1964","Auckland (Auckland)","1964-11-02",0]
["Auckland (Auckland)-3-11-1964","Auckland (Auckland)","1964-11-03",1]
["Auckland (Auckland)-4-11-1964","Auckland (Auckland)","1964-11-04",5.8]
["Auckland (Auckland)-5-11-1964","Auckland (Auckland)","1964-11-05",1.3]
["Auckland (Auckland)-6-11-1964","Auckland (Auckland)","1964-11-06",0]
["Auckland (Auckland)-7-11-1964","Auckland (Auckland)","1964-11-07",14.2]
["Auckland (Auckland)-8-11-1964","Auckland (Auckland)","1964-11-08",2]
["Auckland (Auckland)-9-11-1964","Auckland (Auckland)","1964-11-09",4.8]
["Auckland (Auckland)-10-11-1964","Auckland (Auckland)","1964-11-10",0]
["Auckland (Auckland)-11-11-1964","Auckland (Auckland)","1964-11-11",2.5]
["Auckland (Auckland)-12-11-1964","Auckland (Auckland)","1964-11-12",1.8]
["Auckland (Auckland)-13-11-1964","Auckland (Auckland)","1964-11-13",0]
["Auckland (Auckland)-14-11-1964","Auckland (Auckland)","1964-11-14",0]
["Auckland (Auckland)-15-11-1964","Auckland (Auckland)","1964-11-15",0]
["Auckland (Auckland)-16-11-1964","Auckland (Auckland)","1964-11-16",2]
["Auckland (Auckland)-17-11-1964","Auckland (Auckland)","1964-11-17",0]
["Auckland (Auckland)-18-11-1964","Auckland (Auckland)","1964-11-18",0.5]
["Auckland (Auckland)-19-11-1964","Auckland (Auckland)","1964-11-19",0]
["Auckland (Auckland)-20-11-1964","Auckland (Auckland)","1964-11-20",1]
["Auckland (Auckland)-21-11-1964","Auckland (Auckland)","1964-11-21",5.3]
["Auckland (Auckland)-22-11-1964","Auckland (Auckland)","1964-11-22",3.3]
["Auckland (Auckland)-23-11-1964","Auckland (Auckland)","1964-11-23",0]
["Auckland (Auckland)-24-11-1964","Auckland (Auckland)","1964-11-24",0]
["Auckland (Auckland)-25-11-1964","Auckland (Auckland)","1964-11-25",0.8]
["Auckland (Auckland)-26-11-1964","Auckland (Auckland)","1964-11-26",0]
["Auckland (Auckland)-27-11-1964","Auckland (Auckland)","1964-11-27",0]
[{"$f":"_xlfn.CONCAT(B1795,\"-\",DAY(C1795),\"-\",MONTH(C1795),\"-\",YEAR(C1795))","v":"Auckland (Auckland)-28-11-1964"},"Auckland (Auckland)","1964-11-28",0]
["Auckland (Auckland)-29-11-1964","Auckland (Auckland)","1964-11-29",3.3]
["Auckland (Auckland)-30-11-1964","Auckland (Auckland)","1964-11-30",2.2999999999999998]
["Auckland (Auckland)-1-12-1964","Auckland (Auckland)","1964-12-01",0]
["Auckland (Auckland)-2-12-1964","Auckland (Auckland)","1964-12-02",0]
["Auckland (Auckland)-3-12-1964","Auckland (Auckland)","1964-12-03",0]
["Auckland (Auckland)-4-12-1964","Auckland (Auckland)","1964-12-04",0]
["Auckland (Auckland)-5-12-1964","Auckland (Auckland)","1964-12-05",0]
["Auckland (Auckland)-6-12-1964","Auckland (Auckland)","1964-12-06",0]
["Auckland (Auckland)-7-12-1964","Auckland (Auckland)","1964-12-07",5.8]
["Auckland (Auckland)-8-12-1964","Auckland (Auckland)","1964-12-08",0.3]
["Auckland (Auckland)-9-12-1964","Auckland (Auckland)","1964-12-09",0]
["Auckland (Auckland)-10-12-1964","Auckland (Auckland)","1964-12-10",0]
["Auckland (Auckland)-11-12-1964","Auckland (Auckland)","1964-12-11",3]
["Auckland (Auckland)-12-12-1964","Auckland (Auckland)","1964-12-12",44.7]
["Auckland (Auckland)-13-12-1964","Auckland (Auckland)","1964-12-13",28.2]
["Auckland (Auckland)-14-12-1964","Auckland (Auckland)","1964-12-14",10.7]
["Auckland (Auckland)-15-12-1964","Auckland (Auckland)","1964-12-15",0.5]
["Auckland (Auckland)-16-12-1964","Auckland (Auckland)","1964-12-16",0]
["Auckland (Auckland)-17-12-1964","Auckland (Auckland)","1964-12-17",0]
["Auckland (Auckland)-18-12-1964","Auckland (Auckland)","1964-12-18",0]
["Auckland (Auckland)-19-12-1964","Auckland (Auckland)","1964-12-19",32]
["Auckland (Auckland)-20-12-1964","Auckland (Auckland)","1964-12-20",0]
["Auckland (Auckland)-21-12-1964","Auckland (Auckland)","1964-12-21",0]
["Auckland (Auckland)-22-12-1964","Auckland (Auckland)","1964-12-22",0]
["Auckland (Auckland)-23-12-1964","Auckland (Auckland)","1964-12-23",0]
["Auckland (Auckland)-24-12-1964","Auckland (Auckland)","1964-12-24",0]
["Auckland (Auckland)-25-12-1964","Auckland (Auckland)","1964-12-25",0]
["Auckland (Auckland)-26-12-1964","Auckland (Auckland)","1964-12-26",0]
["Auckland (Auckland)-27-12-1964","Auckland (Auckland)","1964-12-27",0]
["Auckland (Auckland)-28-12-1964","Auckland (Auckland)","1964-12-28",0]
["Auckland (Auckland)-29-12-1964","Auckland (Auckland)","1964-12-29",0]
["Auckland (Auckland)-30-12-1964","Auckland (Auckland)","1964-12-30",0]
["Auckland (Auckland)-31-12-1964","Auckland (Auckland)","1964-12-31",0]
["Auckland (Auckland)-1-1-1965","Auckland (Auckland)","1965-01-01",7.1]
["Auckland (Auckland)-2-1-1965","Auckland (Auckland)","1965-01-02",0]
["Auckland (Auckland)-3-1-1965","Auckland (Auckland)","1965-01-03",0]
["Auckland (Auckland)-4-1-1965","Auckland (Auckland)","1965-01-04",0]
["Auckland (Auckland)-5-1-1965","Auckland (Auckland)","1965-01-05",0]
["Auckland (Auckland)-6-1-1965","Auckland (Auckland)","1965-01-06",0]
["Auckland (Auckland)-7-1-1965","Auckland (Auckland)","1965-01-07",0]
["Auckland (Auckland)-8-1-1965","Auckland (Auckland)","1965-01-08",3.8]
["Auckland (Auckland)-9-1-1965","Auckland (Auckland)","1965-01-09",0]
["Auckland (Auckland)-10-1-1965","Auckland (Auckland)","1965-01-10",0]
["Auckland (Auckland)-11-1-1965","Auckland (Auckland)","1965-01-11",0]
["Auckland (Auckland)-12-1-1965","Auckland (Auckland)","1965-01-12",0]
["Auckland (Auckland)-13-1-1965","Auckland (Auckland)","1965-01-13",0]
["Auckland (Auckland)-14-1-1965","Auckland (Auckland)","1965-01-14",3.6]
["Auckland (Auckland)-15-1-1965","Auckland (Auckland)","1965-01-15",62.2]
["Auckland (Auckland)-16-1-1965","Auckland (Auckland)","1965-01-16",4.8]
["Auckland (Auckland)-17-1-1965","Auckland (Auckland)","1965-01-17",5.6]
["Auckland (Auckland)-18-1-1965","Auckland (Auckland)","1965-01-18",3.6]
["Auckland (Auckland)-19-1-1965","Auckland (Auckland)","1965-01-19",3.8]
["Auckland (Auckland)-20-1-1965","Auckland (Auckland)","1965-01-20",0]
["Auckland (Auckland)-21-1-1965","Auckland (Auckland)","1965-01-21",7.1]
["Auckland (Auckland)-22-1-1965","Auckland (Auckland)","1965-01-22",0]
["Auckland (Auckland)-23-1-1965","Auckland (Auckland)","1965-01-23",0.5]
["Auckland (Auckland)-24-1-1965","Auckland (Auckland)","1965-01-24",1]
["Auckland (Auckland)-25-1-1965","Auckland (Auckland)","1965-01-25",0]
["Auckland (Auckland)-26-1-1965","Auckland (Auckland)","1965-01-26",0]
["Auckland (Auckland)-27-1-1965","Auckland (Auckland)","1965-01-27",0]
["Auckland (Auckland)-28-1-1965","Auckland (Auckland)","1965-01-28",0]
["Auckland (Auckland)-29-1-1965","Auckland (Auckland)","1965-01-29",21.3]
["Auckland (Auckland)-30-1-1965","Auckland (Auckland)","1965-01-30",0.8]
[{"$f":"_xlfn.CONCAT(B1859,\"-\",DAY(C1859),\"-\",MONTH(C1859),\"-\",YEAR(C1859))","v":"Auckland (Auckland)-31-1-1965"},"Auckland (Auckland)","1965-01-31",1.3]
["Auckland (Auckland)-1-2-1965","Auckland (Auckland)","1965-02-01",0.5]
["Auckland (Auckland)-2-2-1965","Auckland (Auckland)","1965-02-02",0]
["Auckland (Auckland)-3-2-1965","Auckland (Auckland)","1965-02-03",0]
["Auckland (Auckland)-4-2-1965","Auckland (Auckland)","1965-02-04",0]
["Auckland (Auckland)-5-2-1965","Auckland (Auckland)","1965-02-05",7.6]
["Auckland (Auckland)-6-2-1965","Auckland (Auckland)","1965-02-06",0]
["Auckland (Auckland)-7-2-1965","Auckland (Auckland)","1965-02-07",0]
["Auckland (Auckland)-8-2-1965","Auckland (Auckland)","1965-02-08",0]
["Auckland (Auckland)-9-2-1965","Auckland (Auckland)","1965-02-09",0]
["Auckland (Auckland)-10-2-1965","Auckland (Auckland)","1965-02-10",4.8]
["Auckland (Auckland)-11-2-1965","Auckland (Auckland)","1965-02-11",70.400000000000006]
["Auckland (Auckland)-12-2-1965","Auckland (Auckland)","1965-02-12",38.1]
["Auckland (Auckland)-13-2-1965","Auckland (Auckland)","1965-02-13",2.8]
["Auckland (Auckland)-14-2-1965","Auckland (Auckland)","1965-02-14",0]
["Auckland (Auckland)-15-2-1965","Auckland (Auckland)","1965-02-15",0]
["Auckland (Auckland)-16-2-1965","Auckland (Auckland)","1965-02-16",0]
["Auckland (Auckland)-17-2-1965","Auckland (Auckland)","1965-02-17",12.2]
["Auckland (Auckland)-18-2-1965","Auckland (Auckland)","1965-02-18",0]
["Auckland (Auckland)-19-2-1965","Auckland (Auckland)","1965-02-19",0]
["Auckland (Auckland)-20-2-1965","Auckland (Auckland)","1965-02-20",0]
["Auckland (Auckland)-21-2-1965","Auckland (Auckland)","1965-02-21",3.6]
["Auckland (Auckland)-22-2-1965","Auckland (Auckland)","1965-02-22",0]
["Auckland (Auckland)-23-2-1965","Auckland (Auckland)","1965-02-23",0]
["Auckland (Auckland)-24-2-1965","Auckland (Auckland)","1965-02-24",3]
["Auckland (Auckland)-25-2-1965","Auckland (Auckland)","1965-02-25",0]
["Auckland (Auckland)-26-2-1965","Auckland (Auckland)","1965-02-26",0]
["Auckland (Auckland)-27-2-1965","Auckland (Auckland)","1965-02-27",0]
["Auckland (Auckland)-28-2-1965","Auckland (Auckland)","1965-02-28",0]
["Auckland (Auckland)-1-3-1965","Auckland (Auckland)","1965-03-01",5.6]
["Auckland (Auckland)-2-3-1965","Auckland (Auckland)","1965-03-02",3]
["Auckland (Auckland)-3-3-1965","Auckland (Auckland)","1965-03-03",8.6]
["Auckland (Auckland)-4-3-1965","Auckland (Auckland)","1965-03-04",2.2999999999999998]
["Auckland (Auckland)-5-3-1965","Auckland (Auckland)","1965-03-05",0]
["Auckland (Auckland)-6-3-1965","Auckland (Auckland)","1965-03-06",0]
["Auckland (Auckland)-7-3-1965","Auckland (Auckland)","1965-03-07",0]
["Auckland (Auckland)-8-3-1965","Auckland (Auckland)","1965-03-08",0]
["Auckland (Auckland)-9-3-1965","Auckland (Auckland)","1965-03-09",0]
["Auckland (Auckland)-10-3-1965","Auckland (Auckland)","1965-03-10",0]
["Auckland (Auckland)-11-3-1965","Auckland (Auckland)","1965-03-11",0]
["Auckland (Auckland)-12-3-1965","Auckland (Auckland)","1965-03-12",0]
["Auckland (Auckland)-13-3-1965","Auckland (Auckland)","1965-03-13",0]
["Auckland (Auckland)-14-3-1965","Auckland (Auckland)","1965-03-14",0]
["Auckland (Auckland)-15-3-1965","Auckland (Auckland)","1965-03-15",0]
["Auckland (Auckland)-16-3-1965","Auckland (Auckland)","1965-03-16",23.6]
["Auckland (Auckland)-17-3-1965","Auckland (Auckland)","1965-03-17",1.5]
["Auckland (Auckland)-18-3-1965","Auckland (Auckland)","1965-03-18",3.3]
["Auckland (Auckland)-19-3-1965","Auckland (Auckland)","1965-03-19",0]
["Auckland (Auckland)-20-3-1965","Auckland (Auckland)","1965-03-20",1.5]
["Auckland (Auckland)-21-3-1965","Auckland (Auckland)","1965-03-21",0]
["Auckland (Auckland)-22-3-1965","Auckland (Auckland)","1965-03-22",0]
["Auckland (Auckland)-23-3-1965","Auckland (Auckland)","1965-03-23",19.100000000000001]
["Auckland (Auckland)-24-3-1965","Auckland (Auckland)","1965-03-24",0.8]
["Auckland (Auckland)-25-3-1965","Auckland (Auckland)","1965-03-25",0]
["Auckland (Auckland)-26-3-1965","Auckland (Auckland)","1965-03-26",13]
["Auckland (Auckland)-27-3-1965","Auckland (Auckland)","1965-03-27",3]
["Auckland (Auckland)-28-3-1965","Auckland (Auckland)","1965-03-28",1]
["Auckland (Auckland)-29-3-1965","Auckland (Auckland)","1965-03-29",1.8]
["Auckland (Auckland)-30-3-1965","Auckland (Auckland)","1965-03-30",0]
["Auckland (Auckland)-31-3-1965","Auckland (Auckland)","1965-03-31",0]
["Auckland (Auckland)-1-4-1965","Auckland (Auckland)","1965-04-01",0]
["Auckland (Auckland)-2-4-1965","Auckland (Auckland)","1965-04-02",0]
["Auckland (Auckland)-3-4-1965","Auckland (Auckland)","1965-04-03",0]
["Auckland (Auckland)-4-4-1965","Auckland (Auckland)","1965-04-04",2.8]
[{"$f":"_xlfn.CONCAT(B1923,\"-\",DAY(C1923),\"-\",MONTH(C1923),\"-\",YEAR(C1923))","v":"Auckland (Auckland)-5-4-1965"},"Auckland (Auckland)","1965-04-05",1.8]
["Auckland (Auckland)-6-4-1965","Auckland (Auckland)","1965-04-06",0]
["Auckland (Auckland)-7-4-1965","Auckland (Auckland)","1965-04-07",0]
["Auckland (Auckland)-8-4-1965","Auckland (Auckland)","1965-04-08",0]
["Auckland (Auckland)-9-4-1965","Auckland (Auckland)","1965-04-09",3]
["Auckland (Auckland)-10-4-1965","Auckland (Auckland)","1965-04-10",0]
["Auckland (Auckland)-11-4-1965","Auckland (Auckland)","1965-04-11",0]
["Auckland (Auckland)-12-4-1965","Auckland (Auckland)","1965-04-12",0.8]
["Auckland (Auckland)-13-4-1965","Auckland (Auckland)","1965-04-13",0]
["Auckland (Auckland)-14-4-1965","Auckland (Auckland)","1965-04-14",0]
["Auckland (Auckland)-15-4-1965","Auckland (Auckland)","1965-04-15",0]
["Auckland (Auckland)-16-4-1965","Auckland (Auckland)","1965-04-16",0.8]
["Auckland (Auckland)-17-4-1965","Auckland (Auckland)","1965-04-17",0]
["Auckland (Auckland)-18-4-1965","Auckland (Auckland)","1965-04-18",0]
["Auckland (Auckland)-19-4-1965","Auckland (Auckland)","1965-04-19",0]
["Auckland (Auckland)-20-4-1965","Auckland (Auckland)","1965-04-20",0]
["Auckland (Auckland)-21-4-1965","Auckland (Auckland)","1965-04-21",0]
["Auckland (Auckland)-22-4-1965","Auckland (Auckland)","1965-04-22",0]
["Auckland (Auckland)-23-4-1965","Auckland (Auckland)","1965-04-23",5.0999999999999996]
["Auckland (Auckland)-24-4-1965","Auckland (Auckland)","1965-04-24",54.9]
["Auckland (Auckland)-25-4-1965","Auckland (Auckland)","1965-04-25",7.6]
["Auckland (Auckland)-26-4-1965","Auckland (Auckland)","1965-04-26",11.4]
["Auckland (Auckland)-27-4-1965","Auckland (Auckland)","1965-04-27",2]
["Auckland (Auckland)-28-4-1965","Auckland (Auckland)","1965-04-28",2.8]
["Auckland (Auckland)-29-4-1965","Auckland (Auckland)","1965-04-29",0.3]
["Auckland (Auckland)-30-4-1965","Auckland (Auckland)","1965-04-30",1.3]
["Auckland (Auckland)-1-5-1965","Auckland (Auckland)","1965-05-01",2]
["Auckland (Auckland)-2-5-1965","Auckland (Auckland)","1965-05-02",5.6]
["Auckland (Auckland)-3-5-1965","Auckland (Auckland)","1965-05-03",0]
["Auckland (Auckland)-4-5-1965","Auckland (Auckland)","1965-05-04",0]
["Auckland (Auckland)-5-5-1965","Auckland (Auckland)","1965-05-05",0]
["Auckland (Auckland)-6-5-1965","Auckland (Auckland)","1965-05-06",0.8]
["Auckland (Auckland)-7-5-1965","Auckland (Auckland)","1965-05-07",1.3]
["Auckland (Auckland)-8-5-1965","Auckland (Auckland)","1965-05-08",0]
["Auckland (Auckland)-9-5-1965","Auckland (Auckland)","1965-05-09",0]
["Auckland (Auckland)-10-5-1965","Auckland (Auckland)","1965-05-10",0.8]
["Auckland (Auckland)-11-5-1965","Auckland (Auckland)","1965-05-11",0]
["Auckland (Auckland)-12-5-1965","Auckland (Auckland)","1965-05-12",2]
["Auckland (Auckland)-13-5-1965","Auckland (Auckland)","1965-05-13",17]
["Auckland (Auckland)-14-5-1965","Auckland (Auckland)","1965-05-14",0]
["Auckland (Auckland)-15-5-1965","Auckland (Auckland)","1965-05-15",0]
["Auckland (Auckland)-16-5-1965","Auckland (Auckland)","1965-05-16",0]
["Auckland (Auckland)-17-5-1965","Auckland (Auckland)","1965-05-17",0]
["Auckland (Auckland)-18-5-1965","Auckland (Auckland)","1965-05-18",19.600000000000001]
["Auckland (Auckland)-19-5-1965","Auckland (Auckland)","1965-05-19",0]
["Auckland (Auckland)-20-5-1965","Auckland (Auckland)","1965-05-20",11.9]
["Auckland (Auckland)-21-5-1965","Auckland (Auckland)","1965-05-21",0]
["Auckland (Auckland)-22-5-1965","Auckland (Auckland)","1965-05-22",0]
["Auckland (Auckland)-23-5-1965","Auckland (Auckland)","1965-05-23",0]
["Auckland (Auckland)-24-5-1965","Auckland (Auckland)","1965-05-24",0]
["Auckland (Auckland)-25-5-1965","Auckland (Auckland)","1965-05-25",10.4]
["Auckland (Auckland)-26-5-1965","Auckland (Auckland)","1965-05-26",0]
["Auckland (Auckland)-27-5-1965","Auckland (Auckland)","1965-05-27",1]
["Auckland (Auckland)-28-5-1965","Auckland (Auckland)","1965-05-28",2.8]
["Auckland (Auckland)-29-5-1965","Auckland (Auckland)","1965-05-29",22.9]
["Auckland (Auckland)-30-5-1965","Auckland (Auckland)","1965-05-30",4.3]
["Auckland (Auckland)-31-5-1965","Auckland (Auckland)","1965-05-31",0]
["Auckland (Auckland)-1-6-1965","Auckland (Auckland)","1965-06-01",23.9]
["Auckland (Auckland)-2-6-1965","Auckland (Auckland)","1965-06-02",0]
["Auckland (Auckland)-3-6-1965","Auckland (Auckland)","1965-06-03",0]
["Auckland (Auckland)-4-6-1965","Auckland (Auckland)","1965-06-04",0]
["Auckland (Auckland)-5-6-1965","Auckland (Auckland)","1965-06-05",0]
["Auckland (Auckland)-6-6-1965","Auckland (Auckland)","1965-06-06",1.5]
["Auckland (Auckland)-7-6-1965","Auckland (Auckland)","1965-06-07",0.5]
[{"$f":"_xlfn.CONCAT(B1987,\"-\",DAY(C1987),\"-\",MONTH(C1987),\"-\",YEAR(C1987))","v":"Auckland (Auckland)-8-6-1965"},"Auckland (Auckland)","1965-06-08",0]
["Auckland (Auckland)-9-6-1965","Auckland (Auckland)","1965-06-09",0]
["Auckland (Auckland)-10-6-1965","Auckland (Auckland)","1965-06-10",1.3]
["Auckland (Auckland)-11-6-1965","Auckland (Auckland)","1965-06-11",12.2]
["Auckland (Auckland)-12-6-1965","Auckland (Auckland)","1965-06-12",10.7]
["Auckland (Auckland)-13-6-1965","Auckland (Auckland)","1965-06-13",8.1]
["Auckland (Auckland)-14-6-1965","Auckland (Auckland)","1965-06-14",1.8]
["Auckland (Auckland)-15-6-1965","Auckland (Auckland)","1965-06-15",0]
["Auckland (Auckland)-16-6-1965","Auckland (Auckland)","1965-06-16",0]
["Auckland (Auckland)-17-6-1965","Auckland (Auckland)","1965-06-17",0]
["Auckland (Auckland)-18-6-1965","Auckland (Auckland)","1965-06-18",0]
["Auckland (Auckland)-19-6-1965","Auckland (Auckland)","1965-06-19",1.5]
["Auckland (Auckland)-20-6-1965","Auckland (Auckland)","1965-06-20",3.3]
["Auckland (Auckland)-21-6-1965","Auckland (Auckland)","1965-06-21",0]
["Auckland (Auckland)-28-5-1966","Auckland (Auckland)","1966-05-28",11.4]
["Auckland (Auckland)-10-4-1967","Auckland (Auckland)","1967-04-10",4.5999999999999996]
["Auckland (Auckland)-12-3-1968","Auckland (Auckland)","1968-03-12",0]
["Auckland (Auckland)-28-2-1969","Auckland (Auckland)","1969-02-28",12.4]
["Auckland (Auckland)-31-1-1970","Auckland (Auckland)","1970-01-31",0]
["Auckland (Auckland)-3-1-1971","Auckland (Auckland)","1971-01-03",18.3]
["Auckland (Auckland)-22-12-1971","Auckland (Auckland)","1971-12-22",0]
["Auckland (Auckland)-23-11-1972","Auckland (Auckland)","1972-11-23",0]
["Auckland (Auckland)-11-11-1973","Auckland (Auckland)","1973-11-11",4.2]
["Auckland (Auckland)-14-10-1974","Auckland (Auckland)","1974-10-14",0]
["Auckland (Auckland)-16-9-1975","Auckland (Auckland)","1975-09-16",0]
["Auckland (Auckland)-9-1-1976","Auckland (Auckland)","1976-01-09",11.1]
["Auckland (Auckland)-5-8-1977","Auckland (Auckland)","1977-08-05",0]
["Auckland (Auckland)-8-7-1978","Auckland (Auckland)","1978-07-08",2.6]
["Auckland (Auckland)-26-6-1979","Auckland (Auckland)","1979-06-26",0.3]
["Auckland (Auckland)-28-5-1980","Auckland (Auckland)","1980-05-28",0]
["Auckland (Auckland)-16-5-1981","Auckland (Auckland)","1981-05-16",0]
["Auckland (Auckland)-18-4-1982","Auckland (Auckland)","1982-04-18",0]
["Auckland (Auckland)-21-3-1983","Auckland (Auckland)","1983-03-21",0]
[{"$f":"_xlfn.CONCAT(B8835,\"-\",DAY(C8835),\"-\",MONTH(C8835),\"-\",YEAR(C8835))","v":"Auckland (Auckland)-8-3-1984"},"Auckland (Auckland)","1984-03-08",0]
["Auckland (Auckland)-8-2-1985","Auckland (Auckland)","1985-02-08",0]
["Auckland (Auckland)-27-1-1986","Auckland (Auckland)","1986-01-27",0]
["Auckland (Auckland)-30-12-1986","Auckland (Auckland)","1986-12-30",0]
["Auckland (Auckland)-24-3-1987","Auckland (Auckland)","1987-03-24",2.5]
["Auckland (Auckland)-18-11-1988","Auckland (Auckland)","1988-11-18",4.8]
["Auckland (Auckland)-21-10-1989","Auckland (Auckland)","1989-10-21",20.7]
["Auckland (Auckland)-23-9-1990","Auckland (Auckland)","1990-09-23",5.8]
["Auckland (Auckland)-11-9-1991","Auckland (Auckland)","1991-09-11",0]
["Auckland (Auckland)-13-8-1992","Auckland (Auckland)","1992-08-13",21.5]
["Auckland (Auckland)-1-8-1993","Auckland (Auckland)","1993-08-01",13]
["Auckland (Auckland)-4-7-1994","Auckland (Auckland)","1994-07-04",0]
["Auckland (Auckland)-6-6-1995","Auckland (Auckland)","1995-06-06",0.8]
["Auckland (Auckland)-24-5-1996","Auckland (Auckland)","1996-05-24",0.4]
["Auckland (Auckland)-26-4-1997","Auckland (Auckland)","1997-04-26",0]
["Auckland (Auckland)-29-3-1998","Auckland (Auckland)","1998-03-29",11.2]
["Auckland (Auckland)-9-12-1998","Auckland (Auckland)","1998-12-09",1.4]
["Auckland (Auckland)-16-2-2000","Auckland (Auckland)","2000-02-16",2.2000000000000002]
["Auckland (Auckland)-3-2-2001","Auckland (Auckland)","2001-02-03",0]
["Auckland (Auckland)-6-1-2002","Auckland (Auckland)","2002-01-06",11.2]
["Auckland (Auckland)-9-12-2002","Auckland (Auckland)","2002-12-09",0]
["Auckland (Auckland)-27-11-2003","Auckland (Auckland)","2003-11-27",1]
["Auckland (Auckland)-29-10-2004","Auckland (Auckland)","2004-10-29",7.4]
["Auckland (Auckland)-17-10-2005","Auckland (Auckland)","2005-10-17",0]
["Auckland (Auckland)-19-9-2006","Auckland (Auckland)","2006-09-19",0]
["Auckland (Auckland)-22-8-2007","Auckland (Auckland)","2007-08-22",0.2]
["Auckland (Auckland)-9-8-2008","Auckland (Auckland)","2008-08-09",5.8]
["Auckland (Auckland)-12-7-2009","Auckland (Auckland)","2009-07-12",0]
["Auckland (Auckland)-21-2-2010","Auckland (Auckland)","2010-02-21",0]
["Auckland (Auckland)-1-6-2011","Auckland (Auckland)","2011-06-01",0]
["Auckland (Auckland)-3-5-2012","Auckland (Auckland)","2012-05-03",0]
["Auckland (Auckland)-21-4-2013","Auckland (Auckland)","2013-04-21",16.8]
["Auckland (Auckland)-24-3-2014","Auckland (Auckland)","2014-03-24",1]
["Auckland (Auckland)-24-2-2015","Auckland (Auckland)","2015-02-24",0]
["Auckland (Auckland)-12-2-2016","Auckland (Auckland)","2016-02-12",0]
["Auckland (Auckland)-14-1-2017","Auckland (Auckland)","2017-01-14",0]
["Auckland (Auckland)-2-1-2018","Auckland (Auckland)","2018-01-02",0]
["Auckland (Auckland)-5-12-2018","Auckland (Auckland)","2018-12-05",11.6]
["Auckland (Auckland)-7-11-2019","Auckland (Auckland)","2019-11-07",0]
["Auckland (Auckland)-25-10-2020","Auckland (Auckland)","2020-10-25",0]
["Auckland (Auckland)-8-11-2021","Auckland (Auckland)","2021-11-08",0]
["Auckland (Auckland)-29-8-2022","Auckland (Auckland)","2022-08-29",0]
["Blenheim (Marlborough)-16-8-1960","Blenheim (Marlborough)","1960-08-16",3.7]
["Blenheim (Marlborough)-19-7-1961","Blenheim (Marlborough)","1961-07-19",0.3]
["Blenheim (Marlborough)-7-7-1962","Blenheim (Marlborough)","1962-07-07",0]
["Blenheim (Marlborough)-9-6-1963","Blenheim (Marlborough)","1963-06-09",0]
["Blenheim (Marlborough)-11-5-1964","Blenheim (Marlborough)","1964-05-11",0]
["Blenheim (Marlborough)-29-4-1965","Blenheim (Marlborough)","1965-04-29",0.3]
["Blenheim (Marlborough)-1-4-1966","Blenheim (Marlborough)","1966-04-01",0]
["Blenheim (Marlborough)-4-3-1967","Blenheim (Marlborough)","1967-03-04",0]
["Blenheim (Marlborough)-20-2-1968","Blenheim (Marlborough)","1968-02-20",0]
["Blenheim (Marlborough)-22-1-1969","Blenheim (Marlborough)","1969-01-22",13.6]
["Blenheim (Marlborough)-17-8-1969","Blenheim (Marlborough)","1969-08-17",0]
[{"$f":"_xlfn.CONCAT(B27011,\"-\",DAY(C27011),\"-\",MONTH(C27011),\"-\",YEAR(C27011))","v":"Blenheim (Marlborough)-12-12-1970"},"Blenheim (Marlborough)","1970-12-12",0]
["Blenheim (Marlborough)-14-11-1971","Blenheim (Marlborough)","1971-11-14",25.5]
["Blenheim (Marlborough)-1-11-1972","Blenheim (Marlborough)","1972-11-01",0]
["Blenheim (Marlborough)-4-10-1973","Blenheim (Marlborough)","1973-10-04",0]
["Blenheim (Marlborough)-22-9-1974","Blenheim (Marlborough)","1974-09-22",0]
["Blenheim (Marlborough)-25-8-1975","Blenheim (Marlborough)","1975-08-25",0]
["Blenheim (Marlborough)-27-7-1976","Blenheim (Marlborough)","1976-07-27",4.3]
["Blenheim (Marlborough)-15-7-1977","Blenheim (Marlborough)","1977-07-15",0]
["Blenheim (Marlborough)-17-6-1978","Blenheim (Marlborough)","1978-06-17",0.5]
["Blenheim (Marlborough)-20-5-1979","Blenheim (Marlborough)","1979-05-20",0]
["Blenheim (Marlborough)-12-8-1980","Blenheim (Marlborough)","1980-08-12",0]
["Blenheim (Marlborough)-8-4-1981","Blenheim (Marlborough)","1981-04-08",0]
["Blenheim (Marlborough)-27-3-1982","Blenheim (Marlborough)","1982-03-27",0]
["Blenheim (Marlborough)-27-2-1983","Blenheim (Marlborough)","1983-02-27",0]
["Blenheim (Marlborough)-30-1-1984","Blenheim (Marlborough)","1984-01-30",0]
["Blenheim (Marlborough)-17-1-1985","Blenheim (Marlborough)","1985-01-17",0]
["Blenheim (Marlborough)-20-12-1985","Blenheim (Marlborough)","1985-12-20",0]
[{"$f":"_xlfn.CONCAT(B32835,\"-\",DAY(C32835),\"-\",MONTH(C32835),\"-\",YEAR(C32835))","v":"Blenheim (Marlborough)-22-11-1986"},"Blenheim (Marlborough)","1986-11-22",0.2]
["Blenheim (Marlborough)-10-11-1987","Blenheim (Marlborough)","1987-11-10",1.6]
["Blenheim (Marlborough)-12-10-1988","Blenheim (Marlborough)","1988-10-12",0]
["Blenheim (Marlborough)-30-9-1989","Blenheim (Marlborough)","1989-09-30",0]
["Blenheim (Marlborough)-2-9-1990","Blenheim (Marlborough)","1990-09-02",0]
["Blenheim (Marlborough)-26-10-1991","Blenheim (Marlborough)","1991-10-26",0]
["Blenheim (Marlborough)-22-7-1992","Blenheim (Marlborough)","1992-07-22",0.4]
["Blenheim (Marlborough)-24-6-1993","Blenheim (Marlborough)","1993-06-24",1]
["Blenheim (Marlborough)-12-6-1994","Blenheim (Marlborough)","1994-06-12",0.2]
["Blenheim (Marlborough)-15-5-1995","Blenheim (Marlborough)","1995-05-15",2.2000000000000002]
["Blenheim (Marlborough)-16-4-1996","Blenheim (Marlborough)","1996-04-16",0]
["Blenheim (Marlborough)-4-4-1997","Blenheim (Marlborough)","1997-04-04",0]
["Blenheim (Marlborough)-7-3-1998","Blenheim (Marlborough)","1998-03-07",0.2]
["Blenheim (Marlborough)-7-2-1999","Blenheim (Marlborough)","1999-02-07",0]
["Blenheim (Marlborough)-26-1-2000","Blenheim (Marlborough)","2000-01-26",0]
["Blenheim (Marlborough)-28-12-2000","Blenheim (Marlborough)","2000-12-28",4.2]
["Blenheim (Marlborough)-16-12-2001","Blenheim (Marlborough)","2001-12-16",0]
["Blenheim (Marlborough)-4-8-2002","Blenheim (Marlborough)","2002-08-04",0]
["Blenheim (Marlborough)-20-10-2003","Blenheim (Marlborough)","2003-10-20",0]
["Blenheim (Marlborough)-7-10-2004","Blenheim (Marlborough)","2004-10-07",1.4]
["Blenheim (Marlborough)-9-9-2005","Blenheim (Marlborough)","2005-09-09",0]
["Blenheim (Marlborough)-28-8-2006","Blenheim (Marlborough)","2006-08-28",0]
["Blenheim (Marlborough)-31-7-2007","Blenheim (Marlborough)","2007-07-31",4]
["Blenheim (Marlborough)-2-7-2008","Blenheim (Marlborough)","2008-07-02",0]
["Blenheim (Marlborough)-20-6-2009","Blenheim (Marlborough)","2009-06-20",0]
["Blenheim (Marlborough)-23-5-2010","Blenheim (Marlborough)","2010-05-23",2.6]
["Blenheim (Marlborough)-25-4-2011","Blenheim (Marlborough)","2011-04-25",0]
["Blenheim (Marlborough)-12-4-2012","Blenheim (Marlborough)","2012-04-12",0]
["Blenheim (Marlborough)-15-3-2013","Blenheim (Marlborough)","2013-03-15",0]
["Blenheim (Marlborough)-21-4-2014","Blenheim (Marlborough)","2014-04-21",2.8]
["Blenheim (Marlborough)-2-2-2015","Blenheim (Marlborough)","2015-02-02",0.6]
["Blenheim (Marlborough)-5-1-2016","Blenheim (Marlborough)","2016-01-05",0]
["Blenheim (Marlborough)-23-12-2016","Blenheim (Marlborough)","2016-12-23",1.2]
["Blenheim (Marlborough)-25-11-2017","Blenheim (Marlborough)","2017-11-25",0]
["Blenheim (Marlborough)-28-10-2018","Blenheim (Marlborough)","2018-10-28",0]
["Blenheim (Marlborough)-16-10-2019","Blenheim (Marlborough)","2019-10-16",0]
["Blenheim (Marlborough)-17-9-2020","Blenheim (Marlborough)","2020-09-17",13.2]
["Blenheim (Marlborough)-5-9-2021","Blenheim (Marlborough)","2021-09-05",0]
["Blenheim (Marlborough)-8-8-2022","Blenheim (Marlborough)","2022-08-08",0]
["Christchurch (Canterbury)-10-7-1960","Christchurch (Canterbury)","1960-07-10",0]
["Christchurch (Canterbury)-28-6-1961","Christchurch (Canterbury)","1961-06-28",0.5]
["Christchurch (Canterbury)-4-7-1962","Christchurch (Canterbury)","1962-07-04",6.6]
["Christchurch (Canterbury)-18-5-1963","Christchurch (Canterbury)","1963-05-18",0]
["Christchurch (Canterbury)-19-4-1964","Christchurch (Canterbury)","1964-04-19",0]
["Christchurch (Canterbury)-22-3-1965","Christchurch (Canterbury)","1965-03-22",0.8]
["Christchurch (Canterbury)-10-3-1966","Christchurch (Canterbury)","1966-03-10",5.6]
["Christchurch (Canterbury)-10-2-1967","Christchurch (Canterbury)","1967-02-10",0]
["Christchurch (Canterbury)-13-1-1968","Christchurch (Canterbury)","1968-01-13",0]
["Christchurch (Canterbury)-31-12-1968","Christchurch (Canterbury)","1968-12-31",0]
["Christchurch (Canterbury)-3-12-1969","Christchurch (Canterbury)","1969-12-03",0]
["Christchurch (Canterbury)-21-11-1970","Christchurch (Canterbury)","1970-11-21",0]
["Christchurch (Canterbury)-24-10-1971","Christchurch (Canterbury)","1971-10-24",0]
["Christchurch (Canterbury)-25-9-1972","Christchurch (Canterbury)","1972-09-25",0]
["Christchurch (Canterbury)-12-4-1973","Christchurch (Canterbury)","1973-04-12",0]
["Christchurch (Canterbury)-15-8-1974","Christchurch (Canterbury)","1974-08-15",0.1]
["Christchurch (Canterbury)-3-8-1975","Christchurch (Canterbury)","1975-08-03",0]
["Christchurch (Canterbury)-5-7-1976","Christchurch (Canterbury)","1976-07-05",0]
["Christchurch (Canterbury)-7-6-1977","Christchurch (Canterbury)","1977-06-07",7]
["Christchurch (Canterbury)-26-5-1978","Christchurch (Canterbury)","1978-05-26",0]
["Christchurch (Canterbury)-28-4-1979","Christchurch (Canterbury)","1979-04-28",0]
["Christchurch (Canterbury)-30-3-1980","Christchurch (Canterbury)","1980-03-30",0]
["Christchurch (Canterbury)-18-3-1981","Christchurch (Canterbury)","1981-03-18",0]
["Christchurch (Canterbury)-18-2-1982","Christchurch (Canterbury)","1982-02-18",0]
["Christchurch (Canterbury)-6-2-1983","Christchurch (Canterbury)","1983-02-06",1.7]
["Christchurch (Canterbury)-7-4-1984","Christchurch (Canterbury)","1984-04-07",0]
["Christchurch (Canterbury)-10-12-1984","Christchurch (Canterbury)","1984-12-10",2.8]
["Christchurch (Canterbury)-28-11-1985","Christchurch (Canterbury)","1985-11-28",0]
["Christchurch (Canterbury)-31-10-1986","Christchurch (Canterbury)","1986-10-31",0]
["Christchurch (Canterbury)-3-10-1987","Christchurch (Canterbury)","1987-10-03",0]
["Christchurch (Canterbury)-20-9-1988","Christchurch (Canterbury)","1988-09-20",0]
["Christchurch (Canterbury)-23-8-1989","Christchurch (Canterbury)","1989-08-23",10.199999999999999]
["Christchurch (Canterbury)-11-8-1990","Christchurch (Canterbury)","1990-08-11",41.2]
["Christchurch (Canterbury)-14-7-1991","Christchurch (Canterbury)","1991-07-14",0]
["Christchurch (Canterbury)-15-6-1992","Christchurch (Canterbury)","1992-06-15",0]
["Christchurch (Canterbury)-3-6-1993","Christchurch (Canterbury)","1993-06-03",0]
["Christchurch (Canterbury)-6-5-1994","Christchurch (Canterbury)","1994-05-06",0]
["Christchurch (Canterbury)-15-1-1995","Christchurch (Canterbury)","1995-01-15",0]
["Christchurch (Canterbury)-25-3-1996","Christchurch (Canterbury)","1996-03-25",0]
["Christchurch (Canterbury)-25-2-1997","Christchurch (Canterbury)","1997-02-25",0.4]
["Christchurch (Canterbury)-13-2-1998","Christchurch (Canterbury)","1998-02-13",0]
["Christchurch (Canterbury)-16-1-1999","Christchurch (Canterbury)","1999-01-16",0.2]
["Christchurch (Canterbury)-19-12-1999","Christchurch (Canterbury)","1999-12-19",0]
["Christchurch (Canterbury)-6-12-2000","Christchurch (Canterbury)","2000-12-06",0]
["Christchurch (Canterbury)-8-11-2001","Christchurch (Canterbury)","2001-11-08",0.2]
["Christchurch (Canterbury)-27-10-2002","Christchurch (Canterbury)","2002-10-27",3.2]
["Christchurch (Canterbury)-29-9-2003","Christchurch (Canterbury)","2003-09-29",6.2]
["Christchurch (Canterbury)-31-8-2004","Christchurch (Canterbury)","2004-08-31",0]
["Christchurch (Canterbury)-19-8-2005","Christchurch (Canterbury)","2005-08-19",0]
["Christchurch (Canterbury)-30-3-2006","Christchurch (Canterbury)","2006-03-30",0]
["Christchurch (Canterbury)-23-6-2007","Christchurch (Canterbury)","2007-06-23",0]
["Christchurch (Canterbury)-10-6-2008","Christchurch (Canterbury)","2008-06-10",0]
["Christchurch (Canterbury)-13-5-2009","Christchurch (Canterbury)","2009-05-13",0]
["Christchurch (Canterbury)-1-5-2010","Christchurch (Canterbury)","2010-05-01",1]
["Christchurch (Canterbury)-3-4-2011","Christchurch (Canterbury)","2011-04-03",0]
["Christchurch (Canterbury)-5-3-2012","Christchurch (Canterbury)","2012-03-05",0]
["Christchurch (Canterbury)-21-2-2013","Christchurch (Canterbury)","2013-02-21",0]
["Christchurch (Canterbury)-24-1-2014","Christchurch (Canterbury)","2014-01-24",0]
["Christchurch (Canterbury)-12-1-2015","Christchurch (Canterbury)","2015-01-12",0]
["Christchurch (Canterbury)-15-12-2015","Christchurch (Canterbury)","2015-12-15",9.1999999999999993]
["Christchurch (Canterbury)-16-11-2016","Christchurch (Canterbury)","2016-11-16",6.4]
["Christchurch (Canterbury)-15-12-2017","Christchurch (Canterbury)","2017-12-15",0]
["Christchurch (Canterbury)-6-10-2018","Christchurch (Canterbury)","2018-10-06",0]
["Christchurch (Canterbury)-8-9-2019","Christchurch (Canterbury)","2019-09-08",0.2]
["Christchurch (Canterbury)-26-8-2020","Christchurch (Canterbury)","2020-08-26",0]
["Christchurch (Canterbury)-29-7-2021","Christchurch (Canterbury)","2021-07-29",0.2]
[{"$f":"_xlfn.CONCAT(B68867,\"-\",DAY(C68867),\"-\",MONTH(C68867),\"-\",YEAR(C68867))","v":"Christchurch (Canterbury)-17-7-2022"},"Christchurch (Canterbury)","2022-07-17",0]
["Dannevirke (Manawatū-Whanganui)-18-6-1960","Dannevirke (Manawatū-Whanganui)","1960-06-18",3.5]
["Dannevirke (Manawatū-Whanganui)-21-5-1961","Dannevirke (Manawatū-Whanganui)","1961-05-21",1.4]
["Dannevirke (Manawatū-Whanganui)-9-5-1962","Dannevirke (Manawatū-Whanganui)","1962-05-09",0]
["Dannevirke (Manawatū-Whanganui)-11-4-1963","Dannevirke (Manawatū-Whanganui)","1963-04-11",2.9]
["Dannevirke (Manawatū-Whanganui)-29-3-1964","Dannevirke (Manawatū-Whanganui)","1964-03-29",0]
["Dannevirke (Manawatū-Whanganui)-1-3-1965","Dannevirke (Manawatū-Whanganui)","1965-03-01",10.5]
["Dannevirke (Manawatū-Whanganui)-27-2-1966","Dannevirke (Manawatū-Whanganui)","1966-02-27",0]
["Dannevirke (Manawatū-Whanganui)-19-1-1967","Dannevirke (Manawatū-Whanganui)","1967-01-19",0]
["Dannevirke (Manawatū-Whanganui)-22-12-1967","Dannevirke (Manawatū-Whanganui)","1967-12-22",0]
["Dannevirke (Manawatū-Whanganui)-23-11-1968","Dannevirke (Manawatū-Whanganui)","1968-11-23",0]
["Dannevirke (Manawatū-Whanganui)-11-11-1969","Dannevirke (Manawatū-Whanganui)","1969-11-11",0]
["Dannevirke (Manawatū-Whanganui)-14-10-1970","Dannevirke (Manawatū-Whanganui)","1970-10-14",7.5]
["Dannevirke (Manawatū-Whanganui)-2-10-1971","Dannevirke (Manawatū-Whanganui)","1971-10-02",0]
["Dannevirke (Manawatū-Whanganui)-3-9-1972","Dannevirke (Manawatū-Whanganui)","1972-09-03",4.7]
["Dannevirke (Manawatū-Whanganui)-6-8-1973","Dannevirke (Manawatū-Whanganui)","1973-08-06",7.9]
["Dannevirke (Manawatū-Whanganui)-25-7-1974","Dannevirke (Manawatū-Whanganui)","1974-07-25",8]
[{"$f":"_xlfn.CONCAT(B74691,\"-\",DAY(C74691),\"-\",MONTH(C74691),\"-\",YEAR(C74691))","v":"Dannevirke (Manawatū-Whanganui)-27-6-1975"},"Dannevirke (Manawatū-Whanganui)","1975-06-27",0.3]
["Dannevirke (Manawatū-Whanganui)-29-5-1976","Dannevirke (Manawatū-Whanganui)","1976-05-29",1.6]
["Dannevirke (Manawatū-Whanganui)-14-11-1977","Dannevirke (Manawatū-Whanganui)","1977-11-14",1.7]
["Dannevirke (Manawatū-Whanganui)-18-4-1978","Dannevirke (Manawatū-Whanganui)","1978-04-18",7.4]
["Dannevirke (Manawatū-Whanganui)-6-4-1979","Dannevirke (Manawatū-Whanganui)","1979-04-06",0.5]
["Dannevirke (Manawatū-Whanganui)-8-3-1980","Dannevirke (Manawatū-Whanganui)","1980-03-08",1.8]
["Dannevirke (Manawatū-Whanganui)-8-2-1981","Dannevirke (Manawatū-Whanganui)","1981-02-08",0]
["Dannevirke (Manawatū-Whanganui)-27-1-1982","Dannevirke (Manawatū-Whanganui)","1982-01-27",1.1000000000000001]
["Dannevirke (Manawatū-Whanganui)-30-12-1982","Dannevirke (Manawatū-Whanganui)","1982-12-30",8.6]
["Dannevirke (Manawatū-Whanganui)-18-12-1983","Dannevirke (Manawatū-Whanganui)","1983-12-18",0]
["Dannevirke (Manawatū-Whanganui)-19-11-1984","Dannevirke (Manawatū-Whanganui)","1984-11-19",0]
["Dannevirke (Manawatū-Whanganui)-22-10-1985","Dannevirke (Manawatū-Whanganui)","1985-10-22",0]
["Dannevirke (Manawatū-Whanganui)-10-10-1986","Dannevirke (Manawatū-Whanganui)","1986-10-10",18.600000000000001]
["Dannevirke (Manawatū-Whanganui)-2-12-1987","Dannevirke (Manawatū-Whanganui)","1987-12-02",0]
["Dannevirke (Manawatū-Whanganui)-13-8-1988","Dannevirke (Manawatū-Whanganui)","1988-08-13",0.2]
["Dannevirke (Manawatū-Whanganui)-1-8-1989","Dannevirke (Manawatū-Whanganui)","1989-08-01",0]
["Dannevirke (Manawatū-Whanganui)-4-7-1990","Dannevirke (Manawatū-Whanganui)","1990-07-04",0]
["Dannevirke (Manawatū-Whanganui)-22-6-1991","Dannevirke (Manawatū-Whanganui)","1991-06-22",2.7]
["Dannevirke (Manawatū-Whanganui)-24-5-1992","Dannevirke (Manawatū-Whanganui)","1992-05-24",3.5]
["Dannevirke (Manawatū-Whanganui)-26-4-1993","Dannevirke (Manawatū-Whanganui)","1993-04-26",4.5]
["Dannevirke (Manawatū-Whanganui)-14-4-1994","Dannevirke (Manawatū-Whanganui)","1994-04-14",0.7]
["Dannevirke (Manawatū-Whanganui)-17-3-1995","Dannevirke (Manawatū-Whanganui)","1995-03-17",2.4]
["Dannevirke (Manawatū-Whanganui)-17-2-1996","Dannevirke (Manawatū-Whanganui)","1996-02-17",0]
["Dannevirke (Manawatū-Whanganui)-4-2-1997","Dannevirke (Manawatū-Whanganui)","1997-02-04",8.1999999999999993]
["Dannevirke (Manawatū-Whanganui)-7-1-1998","Dannevirke (Manawatū-Whanganui)","1998-01-07",0]
["Dannevirke (Manawatū-Whanganui)-10-9-1998","Dannevirke (Manawatū-Whanganui)","1998-09-10",0]
["Dannevirke (Manawatū-Whanganui)-27-11-1999","Dannevirke (Manawatū-Whanganui)","1999-11-27",43.5]
["Dannevirke (Manawatū-Whanganui)-29-10-2000","Dannevirke (Manawatū-Whanganui)","2000-10-29",0]
["Dannevirke (Manawatū-Whanganui)-17-10-2001","Dannevirke (Manawatū-Whanganui)","2001-10-17",0]
["Dannevirke (Manawatū-Whanganui)-19-9-2002","Dannevirke (Manawatū-Whanganui)","2002-09-19",2.1]
["Dannevirke (Manawatū-Whanganui)-7-9-2003","Dannevirke (Manawatū-Whanganui)","2003-09-07",0]
["Dannevirke (Manawatū-Whanganui)-9-8-2004","Dannevirke (Manawatū-Whanganui)","2004-08-09",0]
["Dannevirke (Manawatū-Whanganui)-12-7-2005","Dannevirke (Manawatū-Whanganui)","2005-07-12",0]
["Dannevirke (Manawatū-Whanganui)-30-6-2006","Dannevirke (Manawatū-Whanganui)","2006-06-30",0]
["Dannevirke (Manawatū-Whanganui)-2-6-2007","Dannevirke (Manawatū-Whanganui)","2007-06-02",1.9]
["Dannevirke (Manawatū-Whanganui)-4-5-2008","Dannevirke (Manawatū-Whanganui)","2008-05-04",19.8]
["Dannevirke (Manawatū-Whanganui)-22-4-2009","Dannevirke (Manawatū-Whanganui)","2009-04-22",0]
["Dannevirke (Manawatū-Whanganui)-1-11-2010","Dannevirke (Manawatū-Whanganui)","2010-11-01",0]
["Dannevirke (Manawatū-Whanganui)-12-3-2011","Dannevirke (Manawatū-Whanganui)","2011-03-12",0]
["Dannevirke (Manawatū-Whanganui)-12-2-2012","Dannevirke (Manawatū-Whanganui)","2012-02-12",0]
["Dannevirke (Manawatū-Whanganui)-14-1-2013","Dannevirke (Manawatū-Whanganui)","2013-01-14",0.2]
["Dannevirke (Manawatū-Whanganui)-2-1-2014","Dannevirke (Manawatū-Whanganui)","2014-01-02",0]
["Dannevirke (Manawatū-Whanganui)-5-12-2014","Dannevirke (Manawatū-Whanganui)","2014-12-05",0]
["Dannevirke (Manawatū-Whanganui)-23-11-2015","Dannevirke (Manawatū-Whanganui)","2015-11-23",0]
["Dannevirke (Manawatū-Whanganui)-25-10-2016","Dannevirke (Manawatū-Whanganui)","2016-10-25",1.4]
["Dannevirke (Manawatū-Whanganui)-27-9-2017","Dannevirke (Manawatū-Whanganui)","2017-09-27",2.6]
["Dannevirke (Manawatū-Whanganui)-15-9-2018","Dannevirke (Manawatū-Whanganui)","2018-09-15",0]
["Dannevirke (Manawatū-Whanganui)-18-8-2019","Dannevirke (Manawatū-Whanganui)","2019-08-18",0.6]
["Dannevirke (Manawatū-Whanganui)-20-7-2020","Dannevirke (Manawatū-Whanganui)","2020-07-20",0]
["Dannevirke (Manawatū-Whanganui)-10-8-2021","Dannevirke (Manawatū-Whanganui)","2021-08-10",0]
["Dannevirke (Manawatū-Whanganui)-9-6-2022","Dannevirke (Manawatū-Whanganui)","2022-06-09",10.4]
["Dunedin (Otago)-27-5-1960","Dunedin (Otago)","1960-05-27",0]
["Dunedin (Otago)-29-4-1961","Dunedin (Otago)","1961-04-29",0]
[{"$f":"_xlfn.CONCAT(B92867,\"-\",DAY(C92867),\"-\",MONTH(C92867),\"-\",YEAR(C92867))","v":"Dunedin (Otago)-1-4-1962"},"Dunedin (Otago)","1962-04-01",0]
["Dunedin (Otago)-20-3-1963","Dunedin (Otago)","1963-03-20",0]
["Dunedin (Otago)-20-2-1964","Dunedin (Otago)","1964-02-20",0.2]
["Dunedin (Otago)-22-1-1965","Dunedin (Otago)","1965-01-22",5.8]
["Dunedin (Otago)-10-1-1966","Dunedin (Otago)","1966-01-10",0.2]
["Dunedin (Otago)-13-12-1966","Dunedin (Otago)","1966-12-13",0]
["Dunedin (Otago)-1-12-1967","Dunedin (Otago)","1967-12-01",0.8]
["Dunedin (Otago)-2-11-1968","Dunedin (Otago)","1968-11-02",0]
["Dunedin (Otago)-23-10-1969","Dunedin (Otago)","1969-10-23",3.3]
["Dunedin (Otago)-22-9-1970","Dunedin (Otago)","1970-09-22",0]
["Dunedin (Otago)-25-8-1971","Dunedin (Otago)","1971-08-25",0]
["Dunedin (Otago)-12-8-1972","Dunedin (Otago)","1972-08-12",5.4]
["Dunedin (Otago)-15-7-1973","Dunedin (Otago)","1973-07-15",0]
["Dunedin (Otago)-17-6-1974","Dunedin (Otago)","1974-06-17",1.7]
["Dunedin (Otago)-5-6-1975","Dunedin (Otago)","1975-06-05",0]
["Dunedin (Otago)-7-5-1976","Dunedin (Otago)","1976-05-07",0]
["Dunedin (Otago)-9-4-1977","Dunedin (Otago)","1977-04-09",0.9]
["Dunedin (Otago)-28-3-1978","Dunedin (Otago)","1978-03-28",11.5]
["Dunedin (Otago)-28-2-1979","Dunedin (Otago)","1979-02-28",2.2000000000000002]
["Dunedin (Otago)-16-2-1980","Dunedin (Otago)","1980-02-16",0]
[{"$f":"_xlfn.CONCAT(B99907,\"-\",DAY(C99907),\"-\",MONTH(C99907),\"-\",YEAR(C99907))","v":"Dunedin (Otago)-10-7-1981"},"Dunedin (Otago)","1981-07-10",4]
["Dunedin (Otago)-20-12-1981","Dunedin (Otago)","1981-12-20",1.3]
["Dunedin (Otago)-8-12-1982","Dunedin (Otago)","1982-12-08",0.3]
["Dunedin (Otago)-10-11-1983","Dunedin (Otago)","1983-11-10",0]
["Dunedin (Otago)-28-10-1984","Dunedin (Otago)","1984-10-28",0]
["Dunedin (Otago)-30-9-1985","Dunedin (Otago)","1985-09-30",0]
["Dunedin (Otago)-2-9-1986","Dunedin (Otago)","1986-09-02",2.1]
["Dunedin (Otago)-21-8-1987","Dunedin (Otago)","1987-08-21",9.1]
["Dunedin (Otago)-23-7-1988","Dunedin (Otago)","1988-07-23",7.4]
["Dunedin (Otago)-25-6-1989","Dunedin (Otago)","1989-06-25",1.7]
["Dunedin (Otago)-13-6-1990","Dunedin (Otago)","1990-06-13",0]
["Dunedin (Otago)-28-7-1991","Dunedin (Otago)","1991-07-28",0]
["Dunedin (Otago)-2-5-1992","Dunedin (Otago)","1992-05-02",0]
["Dunedin (Otago)-4-4-1993","Dunedin (Otago)","1993-04-04",0]
["Dunedin (Otago)-7-3-1994","Dunedin (Otago)","1994-03-07",1.2]
["Dunedin (Otago)-23-2-1995","Dunedin (Otago)","1995-02-23",0.4]
["Dunedin (Otago)-26-1-1996","Dunedin (Otago)","1996-01-26",0]
["Dunedin (Otago)-28-12-1996","Dunedin (Otago)","1996-12-28",0]
["Dunedin (Otago)-16-12-1997","Dunedin (Otago)","1997-12-16",17.399999999999999]
["Dunedin (Otago)-18-11-1998","Dunedin (Otago)","1998-11-18",1.6]
["Dunedin (Otago)-6-11-1999","Dunedin (Otago)","1999-11-06",0.4]
["Dunedin (Otago)-8-10-2000","Dunedin (Otago)","2000-10-08",8.6]
["Dunedin (Otago)-10-9-2001","Dunedin (Otago)","2001-09-10",0]
["Dunedin (Otago)-14-4-2003","Dunedin (Otago)","2003-04-14",0]
["Dunedin (Otago)-31-7-2003","Dunedin (Otago)","2003-07-31",0]
["Dunedin (Otago)-18-7-2004","Dunedin (Otago)","2004-07-18",1.4]
["Dunedin (Otago)-20-6-2005","Dunedin (Otago)","2005-06-20",0]
["Dunedin (Otago)-23-5-2006","Dunedin (Otago)","2006-05-23",0]
["Dunedin (Otago)-11-5-2007","Dunedin (Otago)","2007-05-11",0.6]
["Dunedin (Otago)-12-4-2008","Dunedin (Otago)","2008-04-12",0]
["Dunedin (Otago)-15-3-2009","Dunedin (Otago)","2009-03-15",0]
["Dunedin (Otago)-3-3-2010","Dunedin (Otago)","2010-03-03",0]
["Dunedin (Otago)-3-2-2011","Dunedin (Otago)","2011-02-03",2.4]
["Dunedin (Otago)-22-1-2012","Dunedin (Otago)","2012-01-22",8.1999999999999993]
["Dunedin (Otago)-24-12-2012","Dunedin (Otago)","2012-12-24",0]
["Dunedin (Otago)-27-6-2014","Dunedin (Otago)","2014-06-27",0.2]
["Dunedin (Otago)-13-11-2014","Dunedin (Otago)","2014-11-13",0.4]
["Dunedin (Otago)-16-10-2015","Dunedin (Otago)","2015-10-16",22.4]
["Dunedin (Otago)-17-9-2016","Dunedin (Otago)","2016-09-17",0]
["Dunedin (Otago)-5-9-2017","Dunedin (Otago)","2017-09-05",0]
["Dunedin (Otago)-8-8-2018","Dunedin (Otago)","2018-08-08",0]
["Dunedin (Otago)-27-7-2019","Dunedin (Otago)","2019-07-27",0]
["Dunedin (Otago)-28-6-2020","Dunedin (Otago)","2020-06-28",22.8]
["Dunedin (Otago)-31-5-2021","Dunedin (Otago)","2021-05-31",4.4000000000000004]
["Dunedin (Otago)-19-5-2022","Dunedin (Otago)","2022-05-19",0]
["Gisborne (Gisborne)-20-4-1960","Gisborne (Gisborne)","1960-04-20",0]
["Gisborne (Gisborne)-8-4-1961","Gisborne (Gisborne)","1961-04-08",2.4]
["Gisborne (Gisborne)-5-4-1962","Gisborne (Gisborne)","1962-04-05",0]
["Gisborne (Gisborne)-10-2-1963","Gisborne (Gisborne)","1963-02-10",0]
["Gisborne (Gisborne)-29-1-1964","Gisborne (Gisborne)","1964-01-29",0]
["Gisborne (Gisborne)-31-12-1964","Gisborne (Gisborne)","1964-12-31",0.5]
["Gisborne (Gisborne)-3-12-1965","Gisborne (Gisborne)","1965-12-03",0]
["Gisborne (Gisborne)-21-11-1966","Gisborne (Gisborne)","1966-11-21",14.7]
["Gisborne (Gisborne)-24-10-1967","Gisborne (Gisborne)","1967-10-24",1.4]
["Gisborne (Gisborne)-11-10-1968","Gisborne (Gisborne)","1968-10-11",1.4]
["Gisborne (Gisborne)-13-9-1969","Gisborne (Gisborne)","1969-09-13",2.1]
["Gisborne (Gisborne)-16-8-1970","Gisborne (Gisborne)","1970-08-16",17.899999999999999]
["Gisborne (Gisborne)-4-8-1971","Gisborne (Gisborne)","1971-08-04",0.6]
["Gisborne (Gisborne)-6-7-1972","Gisborne (Gisborne)","1972-07-06",0]
["Gisborne (Gisborne)-21-12-1973","Gisborne (Gisborne)","1973-12-21",11.1]
["Gisborne (Gisborne)-26-5-1974","Gisborne (Gisborne)","1974-05-26",0]
["Gisborne (Gisborne)-28-4-1975","Gisborne (Gisborne)","1975-04-28",0]
["Gisborne (Gisborne)-15-4-1976","Gisborne (Gisborne)","1976-04-15",0.3]
["Gisborne (Gisborne)-18-3-1977","Gisborne (Gisborne)","1977-03-18",0]
["Gisborne (Gisborne)-28-1-1979","Gisborne (Gisborne)","1979-01-28",0]
["Gisborne (Gisborne)-6-2-1979","Gisborne (Gisborne)","1979-02-06",0]
["Gisborne (Gisborne)-18-12-1980","Gisborne (Gisborne)","1980-12-18",0]
["Gisborne (Gisborne)-27-12-1980","Gisborne (Gisborne)","1980-12-27",8.1]
["Gisborne (Gisborne)-29-11-1981","Gisborne (Gisborne)","1981-11-29",23.8]
["Gisborne (Gisborne)-11-10-1983","Gisborne (Gisborne)","1983-10-11",1.9]
["Gisborne (Gisborne)-20-10-1983","Gisborne (Gisborne)","1983-10-20",0]
["Gisborne (Gisborne)-5-3-1985","Gisborne (Gisborne)","1985-03-05",0]
["Gisborne (Gisborne)-2-8-1986","Gisborne (Gisborne)","1986-08-02",9.8000000000000007]
["Gisborne (Gisborne)-21-7-1987","Gisborne (Gisborne)","1987-07-21",0]
["Gisborne (Gisborne)-22-6-1988","Gisborne (Gisborne)","1988-06-22",0]
["Gisborne (Gisborne)-1-7-1988","Gisborne (Gisborne)","1988-07-01",2.2999999999999998]
[{"$f":"_xlfn.CONCAT(B126147,\"-\",DAY(C126147),\"-\",MONTH(C126147),\"-\",YEAR(C126147))","v":"Gisborne (Gisborne)-13-5-1990"},"Gisborne (Gisborne)","1990-05-13",0]
["Gisborne (Gisborne)-15-4-1991","Gisborne (Gisborne)","1991-04-15",0]
["Gisborne (Gisborne)-2-4-1992","Gisborne (Gisborne)","1992-04-02",0]
["Gisborne (Gisborne)-5-3-1993","Gisborne (Gisborne)","1993-03-05",27.6]
["Gisborne (Gisborne)-21-2-1994","Gisborne (Gisborne)","1994-02-21",4]
["Gisborne (Gisborne)-24-1-1995","Gisborne (Gisborne)","1995-01-24",0]
["Gisborne (Gisborne)-23-3-1995","Gisborne (Gisborne)","1995-03-23",0]
["Gisborne (Gisborne)-13-12-1996","Gisborne (Gisborne)","1996-12-13",9.1999999999999993]
["Gisborne (Gisborne)-15-11-1997","Gisborne (Gisborne)","1997-11-15",0]
["Gisborne (Gisborne)-18-10-1998","Gisborne (Gisborne)","1998-10-18",0]
["Gisborne (Gisborne)-6-10-1999","Gisborne (Gisborne)","1999-10-06",0]
["Gisborne (Gisborne)-7-9-2000","Gisborne (Gisborne)","2000-09-07",0.8]
["Gisborne (Gisborne)-26-8-2001","Gisborne (Gisborne)","2001-08-26",3.6]
["Gisborne (Gisborne)-29-7-2002","Gisborne (Gisborne)","2002-07-29",27.2]
["Gisborne (Gisborne)-1-7-2003","Gisborne (Gisborne)","2003-07-01",0]
["Gisborne (Gisborne)-18-6-2004","Gisborne (Gisborne)","2004-06-18",26.2]
["Gisborne (Gisborne)-21-5-2005","Gisborne (Gisborne)","2005-05-21",0]
["Gisborne (Gisborne)-9-5-2006","Gisborne (Gisborne)","2006-05-09",0]
["Gisborne (Gisborne)-8-12-2006","Gisborne (Gisborne)","2006-12-08",0.2]
["Gisborne (Gisborne)-12-3-2008","Gisborne (Gisborne)","2008-03-12",8]
["Gisborne (Gisborne)-28-2-2009","Gisborne (Gisborne)","2009-02-28",18]
["Gisborne (Gisborne)-31-1-2010","Gisborne (Gisborne)","2010-01-31",41.6]
["Gisborne (Gisborne)-3-1-2011","Gisborne (Gisborne)","2011-01-03",0]
["Gisborne (Gisborne)-22-12-2011","Gisborne (Gisborne)","2011-12-22",0.2]
["Gisborne (Gisborne)-23-11-2012","Gisborne (Gisborne)","2012-11-23",0]
["Gisborne (Gisborne)-11-11-2013","Gisborne (Gisborne)","2013-11-11",3.2]
["Gisborne (Gisborne)-14-10-2014","Gisborne (Gisborne)","2014-10-14",0]
["Gisborne (Gisborne)-16-9-2015","Gisborne (Gisborne)","2015-09-16",0]
["Gisborne (Gisborne)-3-9-2016","Gisborne (Gisborne)","2016-09-03",8.1999999999999993]
["Gisborne (Gisborne)-6-8-2017","Gisborne (Gisborne)","2017-08-06",1]
["Gisborne (Gisborne)-20-2-2018","Gisborne (Gisborne)","2018-02-20",0]
["Gisborne (Gisborne)-26-6-2019","Gisborne (Gisborne)","2019-06-26",0]
["Gisborne (Gisborne)-28-5-2020","Gisborne (Gisborne)","2020-05-28",0]
["Gisborne (Gisborne)-16-5-2021","Gisborne (Gisborne)","2021-05-16",0.2]
["Gisborne (Gisborne)-18-4-2022","Gisborne (Gisborne)","2022-04-18",1.1000000000000001]
["Gore (Southland)-20-3-1960","Gore (Southland)","1960-03-20",0]
["Gore (Southland)-8-3-1961","Gore (Southland)","1961-03-08",0]
["Gore (Southland)-8-2-1962","Gore (Southland)","1962-02-08",6.8]
["Gore (Southland)-27-1-1963","Gore (Southland)","1963-01-27",8.5]
["Gore (Southland)-30-12-1963","Gore (Southland)","1963-12-30",1.2]
["Gore (Southland)-1-12-1964","Gore (Southland)","1964-12-01",1.9]
["Gore (Southland)-19-11-1965","Gore (Southland)","1965-11-19",9.1]
["Gore (Southland)-7-11-1966","Gore (Southland)","1966-11-07",4.0999999999999996]
["Gore (Southland)-23-9-1967","Gore (Southland)","1967-09-23",2.8]
["Gore (Southland)-10-9-1968","Gore (Southland)","1968-09-10",10.5]
["Gore (Southland)-13-8-1969","Gore (Southland)","1969-08-13",0]
["Gore (Southland)-1-8-1970","Gore (Southland)","1970-08-01",0]
["Gore (Southland)-4-7-1971","Gore (Southland)","1971-07-04",1.2]
["Gore (Southland)-5-6-1972","Gore (Southland)","1972-06-05",5.4]
["Gore (Southland)-24-5-1973","Gore (Southland)","1973-05-24",8.1]
["Gore (Southland)-26-4-1974","Gore (Southland)","1974-04-26",0.6]
["Gore (Southland)-29-3-1975","Gore (Southland)","1975-03-29",1.2]
["Gore (Southland)-16-3-1976","Gore (Southland)","1976-03-16",0]
["Gore (Southland)-16-2-1977","Gore (Southland)","1977-02-16",0]
["Gore (Southland)-16-8-1977","Gore (Southland)","1977-08-16",4.5999999999999996]
["Gore (Southland)-6-1-1979","Gore (Southland)","1979-01-06",17.3]
["Gore (Southland)-9-12-1979","Gore (Southland)","1979-12-09",1.6]
["Gore (Southland)-26-11-1980","Gore (Southland)","1980-11-26",0.4]
["Gore (Southland)-29-10-1981","Gore (Southland)","1981-10-29",0]
["Gore (Southland)-17-10-1982","Gore (Southland)","1982-10-17",3.4]
["Gore (Southland)-19-9-1983","Gore (Southland)","1983-09-19",0.1]
["Gore (Southland)-21-8-1984","Gore (Southland)","1984-08-21",0.7]
["Gore (Southland)-9-8-1985","Gore (Southland)","1985-08-09",0]
["Gore (Southland)-12-7-1986","Gore (Southland)","1986-07-12",2.2999999999999998]
["Gore (Southland)-14-6-1987","Gore (Southland)","1987-06-14",9.1999999999999993]
["Gore (Southland)-1-6-1988","Gore (Southland)","1988-06-01",0.2]
["Gore (Southland)-29-10-1988","Gore (Southland)","1988-10-29",0.6]
["Gore (Southland)-21-4-1990","Gore (Southland)","1990-04-21",1.6]
["Gore (Southland)-24-3-1991","Gore (Southland)","1991-03-24",0]
["Gore (Southland)-24-2-1992","Gore (Southland)","1992-02-24",0]
["Gore (Southland)-11-2-1993","Gore (Southland)","1993-02-11",0]
["Gore (Southland)-14-1-1994","Gore (Southland)","1994-01-14",24.2]
["Gore (Southland)-2-1-1995","Gore (Southland)","1995-01-02",32.799999999999997]
["Gore (Southland)-5-12-1995","Gore (Southland)","1995-12-05",14]
["Gore (Southland)-6-11-1996","Gore (Southland)","1996-11-06",3]
["Gore (Southland)-25-10-1997","Gore (Southland)","1997-10-25",0.8]
["Gore (Southland)-27-9-1998","Gore (Southland)","1998-09-27",1.6]
["Gore (Southland)-25-10-1999","Gore (Southland)","1999-10-25",0]
["Gore (Southland)-16-8-2000","Gore (Southland)","2000-08-16",0]
["Gore (Southland)-19-7-2001","Gore (Southland)","2001-07-19",5.8]
["Gore (Southland)-7-7-2002","Gore (Southland)","2002-07-07",0.4]
["Gore (Southland)-9-6-2003","Gore (Southland)","2003-06-09",0.2]
["Gore (Southland)-11-5-2004","Gore (Southland)","2004-05-11",0]
["Gore (Southland)-29-4-2005","Gore (Southland)","2005-04-29",11.8]
["Gore (Southland)-1-4-2006","Gore (Southland)","2006-04-01",0]
["Gore (Southland)-4-3-2007","Gore (Southland)","2007-03-04",0]
["Gore (Southland)-20-2-2008","Gore (Southland)","2008-02-20",0]
["Gore (Southland)-22-1-2009","Gore (Southland)","2009-01-22",0]
["Gore (Southland)-10-1-2010","Gore (Southland)","2010-01-10",3.8]
["Gore (Southland)-3-8-2010","Gore (Southland)","2010-08-03",0]
["Gore (Southland)-14-11-2011","Gore (Southland)","2011-11-14",0]
["Gore (Southland)-1-11-2012","Gore (Southland)","2012-11-01",0.4]
["Gore (Southland)-4-10-2013","Gore (Southland)","2013-10-04",0.2]
["Gore (Southland)-22-9-2014","Gore (Southland)","2014-09-22",0.2]
["Gore (Southland)-25-8-2015","Gore (Southland)","2015-08-25",1.6]
["Gore (Southland)-27-7-2016","Gore (Southland)","2016-07-27",1.6]
["Gore (Southland)-15-7-2017","Gore (Southland)","2017-07-15",2.6]
["Gore (Southland)-17-6-2018","Gore (Southland)","2018-06-17",0]
["Gore (Southland)-20-5-2019","Gore (Southland)","2019-05-20",0]
["Gore (Southland)-7-5-2020","Gore (Southland)","2020-05-07",6.8]
["Gore (Southland)-9-4-2021","Gore (Southland)","2021-04-09",0]
["Gore (Southland)-20-4-2022","Gore (Southland)","2022-04-20",16.600000000000001]
["Hamilton (Waikato)-27-2-1960","Hamilton (Waikato)","1960-02-27",0]
["Hamilton (Waikato)-29-1-1961","Hamilton (Waikato)","1961-01-29",0]
["Hamilton (Waikato)-17-1-1962","Hamilton (Waikato)","1962-01-17",0]
["Hamilton (Waikato)-20-12-1962","Hamilton (Waikato)","1962-12-20",0]
["Hamilton (Waikato)-22-11-1963","Hamilton (Waikato)","1963-11-22",0]
["Hamilton (Waikato)-9-11-1964","Hamilton (Waikato)","1964-11-09",0.9]
["Hamilton (Waikato)-12-10-1965","Hamilton (Waikato)","1965-10-12",0]
["Hamilton (Waikato)-30-9-1966","Hamilton (Waikato)","1966-09-30",0]
["Hamilton (Waikato)-2-9-1967","Hamilton (Waikato)","1967-09-02",7.4]
["Hamilton (Waikato)-4-8-1968","Hamilton (Waikato)","1968-08-04",4.7]
["Hamilton (Waikato)-23-7-1969","Hamilton (Waikato)","1969-07-23",0]
["Hamilton (Waikato)-3-7-1970","Hamilton (Waikato)","1970-07-03",17.7]
["Hamilton (Waikato)-12-6-1971","Hamilton (Waikato)","1971-06-12",1.4]
["Hamilton (Waikato)-14-5-1972","Hamilton (Waikato)","1972-05-14",35.6]
["Hamilton (Waikato)-16-4-1973","Hamilton (Waikato)","1973-04-16",2.2000000000000002]
["Hamilton (Waikato)-4-4-1974","Hamilton (Waikato)","1974-04-04",0]
["Hamilton (Waikato)-7-3-1975","Hamilton (Waikato)","1975-03-07",0]
["Hamilton (Waikato)-7-2-1976","Hamilton (Waikato)","1976-02-07",7.9]
["Hamilton (Waikato)-25-1-1977","Hamilton (Waikato)","1977-01-25",1.4]
["Hamilton (Waikato)-28-12-1977","Hamilton (Waikato)","1977-12-28",0]
[{"$f":"_xlfn.CONCAT(B168003,\"-\",DAY(C168003),\"-\",MONTH(C168003),\"-\",YEAR(C168003))","v":"Hamilton (Waikato)-16-12-1978"},"Hamilton (Waikato)","1978-12-16",0]
["Hamilton (Waikato)-18-11-1979","Hamilton (Waikato)","1979-11-18",7]
["Hamilton (Waikato)-20-10-1980","Hamilton (Waikato)","1980-10-20",0]
["Hamilton (Waikato)-11-4-1981","Hamilton (Waikato)","1981-04-11",11.5]
["Hamilton (Waikato)-9-9-1982","Hamilton (Waikato)","1982-09-09",0]
["Hamilton (Waikato)-28-8-1983","Hamilton (Waikato)","1983-08-28",0]
["Hamilton (Waikato)-30-7-1984","Hamilton (Waikato)","1984-07-30",10.3]
["Hamilton (Waikato)-2-7-1985","Hamilton (Waikato)","1985-07-02",0]
["Hamilton (Waikato)-20-6-1986","Hamilton (Waikato)","1986-06-20",0.9]
["Hamilton (Waikato)-23-5-1987","Hamilton (Waikato)","1987-05-23",0]
["Hamilton (Waikato)-24-4-1988","Hamilton (Waikato)","1988-04-24",0]
["Hamilton (Waikato)-12-4-1989","Hamilton (Waikato)","1989-04-12",0]
["Hamilton (Waikato)-15-3-1990","Hamilton (Waikato)","1990-03-15",0]
["Hamilton (Waikato)-3-3-1991","Hamilton (Waikato)","1991-03-03",5.4]
["Hamilton (Waikato)-3-2-1992","Hamilton (Waikato)","1992-02-03",0]
["Hamilton (Waikato)-24-6-1992","Hamilton (Waikato)","1992-06-24",0]
["Hamilton (Waikato)-23-12-1993","Hamilton (Waikato)","1993-12-23",0.8]
["Hamilton (Waikato)-25-11-1994","Hamilton (Waikato)","1994-11-25",0]
["Hamilton (Waikato)-28-10-1995","Hamilton (Waikato)","1995-10-28",0.2]
["Hamilton (Waikato)-15-10-1996","Hamilton (Waikato)","1996-10-15",0]
["Hamilton (Waikato)-17-9-1997","Hamilton (Waikato)","1997-09-17",2.8]
["Hamilton (Waikato)-5-9-1998","Hamilton (Waikato)","1998-09-05",0.6]
["Hamilton (Waikato)-8-8-1999","Hamilton (Waikato)","1999-08-08",0]
["Hamilton (Waikato)-10-7-2000","Hamilton (Waikato)","2000-07-10",0]
["Hamilton (Waikato)-28-6-2001","Hamilton (Waikato)","2001-06-28",2.8]
["Hamilton (Waikato)-31-5-2002","Hamilton (Waikato)","2002-05-31",0]
["Hamilton (Waikato)-14-1-2003","Hamilton (Waikato)","2003-01-14",0]
["Hamilton (Waikato)-19-4-2004","Hamilton (Waikato)","2004-04-19",0]
["Hamilton (Waikato)-22-3-2005","Hamilton (Waikato)","2005-03-22",0]
["Hamilton (Waikato)-10-3-2006","Hamilton (Waikato)","2006-03-10",0.8]
["Hamilton (Waikato)-10-2-2007","Hamilton (Waikato)","2007-02-10",3]
["Hamilton (Waikato)-13-1-2008","Hamilton (Waikato)","2008-01-13",0]
["Hamilton (Waikato)-31-12-2008","Hamilton (Waikato)","2008-12-31",2]
["Hamilton (Waikato)-3-12-2009","Hamilton (Waikato)","2009-12-03",17]
["Hamilton (Waikato)-21-11-2010","Hamilton (Waikato)","2010-11-21",0]
["Hamilton (Waikato)-24-10-2011","Hamilton (Waikato)","2011-10-24",0]
["Hamilton (Waikato)-25-9-2012","Hamilton (Waikato)","2012-09-25",0]
["Hamilton (Waikato)-13-9-2013","Hamilton (Waikato)","2013-09-13",6]
["Hamilton (Waikato)-29-3-2014","Hamilton (Waikato)","2014-03-29",0]
["Hamilton (Waikato)-3-8-2015","Hamilton (Waikato)","2015-08-03",1]
["Hamilton (Waikato)-5-7-2016","Hamilton (Waikato)","2016-07-05",0.2]
["Hamilton (Waikato)-7-6-2017","Hamilton (Waikato)","2017-06-07",0.2]
["Hamilton (Waikato)-26-5-2018","Hamilton (Waikato)","2018-05-26",3.2]
["Hamilton (Waikato)-28-4-2019","Hamilton (Waikato)","2019-04-28",1.2]
["Hamilton (Waikato)-30-3-2020","Hamilton (Waikato)","2020-03-30",0]
["Hamilton (Waikato)-18-3-2021","Hamilton (Waikato)","2021-03-18",0]
["Hamilton (Waikato)-18-2-2022","Hamilton (Waikato)","2022-02-18",0.4]
["Hokitika (West Coast)-6-2-1960","Hokitika (West Coast)","1960-02-06",0]
["Hokitika (West Coast)-8-1-1961","Hokitika (West Coast)","1961-01-08",0]
["Hokitika (West Coast)-11-12-1961","Hokitika (West Coast)","1961-12-11",1.5]
["Hokitika (West Coast)-14-12-1962","Hokitika (West Coast)","1962-12-14",5.4]
["Hokitika (West Coast)-31-10-1963","Hokitika (West Coast)","1963-10-31",1.4]
["Hokitika (West Coast)-2-10-1964","Hokitika (West Coast)","1964-10-02",0]
[{"$f":"_xlfn.CONCAT(B186179,\"-\",DAY(C186179),\"-\",MONTH(C186179),\"-\",YEAR(C186179))","v":"Hokitika (West Coast)-20-9-1965"},"Hokitika (West Coast)","1965-09-20",0]
["Hokitika (West Coast)-23-8-1966","Hokitika (West Coast)","1966-08-23",0.3]
["Hokitika (West Coast)-11-8-1967","Hokitika (West Coast)","1967-08-11",30.2]
["Hokitika (West Coast)-13-7-1968","Hokitika (West Coast)","1968-07-13",0]
["Hokitika (West Coast)-15-6-1969","Hokitika (West Coast)","1969-06-15",17.3]
["Hokitika (West Coast)-3-6-1970","Hokitika (West Coast)","1970-06-03",16.3]
["Hokitika (West Coast)-6-5-1971","Hokitika (West Coast)","1971-05-06",54.6]
["Hokitika (West Coast)-23-4-1972","Hokitika (West Coast)","1972-04-23",19.8]
["Hokitika (West Coast)-26-3-1973","Hokitika (West Coast)","1973-03-26",0]
["Hokitika (West Coast)-26-2-1974","Hokitika (West Coast)","1974-02-26",0]
["Hokitika (West Coast)-13-2-1975","Hokitika (West Coast)","1975-02-13",55.2]
["Hokitika (West Coast)-16-1-1976","Hokitika (West Coast)","1976-01-16",35.5]
["Hokitika (West Coast)-18-12-1976","Hokitika (West Coast)","1976-12-18",0]
["Hokitika (West Coast)-6-12-1977","Hokitika (West Coast)","1977-12-06",2.4]
["Hokitika (West Coast)-8-11-1978","Hokitika (West Coast)","1978-11-08",0]
["Hokitika (West Coast)-27-10-1979","Hokitika (West Coast)","1979-10-27",25.6]
["Hokitika (West Coast)-28-9-1980","Hokitika (West Coast)","1980-09-28",4.4000000000000004]
[{"$f":"_xlfn.CONCAT(B192003,\"-\",DAY(C192003),\"-\",MONTH(C192003),\"-\",YEAR(C192003))","v":"Hokitika (West Coast)-31-8-1981"},"Hokitika (West Coast)","1981-08-31",0]
["Hokitika (West Coast)-19-8-1982","Hokitika (West Coast)","1982-08-19",0.6]
["Hokitika (West Coast)-22-7-1983","Hokitika (West Coast)","1983-07-22",24.7]
["Hokitika (West Coast)-23-6-1984","Hokitika (West Coast)","1984-06-23",0]
["Hokitika (West Coast)-13-11-1985","Hokitika (West Coast)","1985-11-13",0]
["Hokitika (West Coast)-13-5-1986","Hokitika (West Coast)","1986-05-13",0]
["Hokitika (West Coast)-1-5-1987","Hokitika (West Coast)","1987-05-01",0]
["Hokitika (West Coast)-2-4-1988","Hokitika (West Coast)","1988-04-02",0]
["Hokitika (West Coast)-5-3-1989","Hokitika (West Coast)","1989-03-05",0]
["Hokitika (West Coast)-21-2-1990","Hokitika (West Coast)","1990-02-21",0]
["Hokitika (West Coast)-24-1-1991","Hokitika (West Coast)","1991-01-24",22.7]
["Hokitika (West Coast)-12-1-1992","Hokitika (West Coast)","1992-01-12",82]
["Hokitika (West Coast)-14-12-1992","Hokitika (West Coast)","1992-12-14",0]
["Hokitika (West Coast)-16-11-1993","Hokitika (West Coast)","1993-11-16",0.1]
["Hokitika (West Coast)-4-11-1994","Hokitika (West Coast)","1994-11-04",21]
["Hokitika (West Coast)-7-10-1995","Hokitika (West Coast)","1995-10-07",0.6]
["Hokitika (West Coast)-26-1-1997","Hokitika (West Coast)","1997-01-26",0]
["Hokitika (West Coast)-26-8-1997","Hokitika (West Coast)","1997-08-26",38.4]
["Hokitika (West Coast)-29-7-1998","Hokitika (West Coast)","1998-07-29",75.5]
["Hokitika (West Coast)-17-7-1999","Hokitika (West Coast)","1999-07-17",0.8]
["Hokitika (West Coast)-18-6-2000","Hokitika (West Coast)","2000-06-18",8.1]
["Hokitika (West Coast)-21-5-2001","Hokitika (West Coast)","2001-05-21",13.7]
["Hokitika (West Coast)-9-5-2002","Hokitika (West Coast)","2002-05-09",0.9]
["Hokitika (West Coast)-11-4-2003","Hokitika (West Coast)","2003-04-11",0]
["Hokitika (West Coast)-29-3-2004","Hokitika (West Coast)","2004-03-29",0]
["Hokitika (West Coast)-1-3-2005","Hokitika (West Coast)","2005-03-01",0]
["Hokitika (West Coast)-1-2-2006","Hokitika (West Coast)","2006-02-01",0]
["Hokitika (West Coast)-9-9-2006","Hokitika (West Coast)","2006-09-09",0]
["Hokitika (West Coast)-22-12-2007","Hokitika (West Coast)","2007-12-22",0]
["Hokitika (West Coast)-23-11-2008","Hokitika (West Coast)","2008-11-23",54]
["Hokitika (West Coast)-11-11-2009","Hokitika (West Coast)","2009-11-11",5.7]
["Hokitika (West Coast)-14-10-2010","Hokitika (West Coast)","2010-10-14",0]
["Hokitika (West Coast)-2-10-2011","Hokitika (West Coast)","2011-10-02",14.4]
["Hokitika (West Coast)-3-9-2012","Hokitika (West Coast)","2012-09-03",15.7]
["Hokitika (West Coast)-6-8-2013","Hokitika (West Coast)","2013-08-06",12.5]
["Hokitika (West Coast)-25-7-2014","Hokitika (West Coast)","2014-07-25",0]
["Hokitika (West Coast)-27-6-2015","Hokitika (West Coast)","2015-06-27",0.5]
["Hokitika (West Coast)-29-5-2016","Hokitika (West Coast)","2016-05-29",5]
["Hokitika (West Coast)-17-5-2017","Hokitika (West Coast)","2017-05-17",43.1]
["Hokitika (West Coast)-31-10-2018","Hokitika (West Coast)","2018-10-31",5.6]
["Hokitika (West Coast)-6-4-2019","Hokitika (West Coast)","2019-04-06",0]
["Hokitika (West Coast)-8-3-2020","Hokitika (West Coast)","2020-03-08",23.1]
["Hokitika (West Coast)-8-2-2021","Hokitika (West Coast)","2021-02-08",5.3]
["Hokitika (West Coast)-27-1-2022","Hokitika (West Coast)","2022-01-27",0]
["Hokitika (West Coast)-30-12-2022","Hokitika (West Coast)","2022-12-30",0]
["Invercargill (Southland)-17-12-1960","Invercargill (Southland)","1960-12-17",0.5]
["Invercargill (Southland)-19-11-1961","Invercargill (Southland)","1961-11-19",0]
["Invercargill (Southland)-22-10-1962","Invercargill (Southland)","1962-10-22",0]
["Invercargill (Southland)-10-10-1963","Invercargill (Southland)","1963-10-10",0.5]
["Invercargill (Southland)-11-9-1964","Invercargill (Southland)","1964-09-11",0]
["Invercargill (Southland)-14-8-1965","Invercargill (Southland)","1965-08-14",0]
["Invercargill (Southland)-9-8-1966","Invercargill (Southland)","1966-08-09",0]
["Invercargill (Southland)-4-7-1967","Invercargill (Southland)","1967-07-04",0]
["Invercargill (Southland)-21-6-1968","Invercargill (Southland)","1968-06-21",0]
["Invercargill (Southland)-24-5-1969","Invercargill (Southland)","1969-05-24",0.3]
["Invercargill (Southland)-26-4-1970","Invercargill (Southland)","1970-04-26",0.5]
["Invercargill (Southland)-14-4-1971","Invercargill (Southland)","1971-04-14",0.5]
["Invercargill (Southland)-16-3-1972","Invercargill (Southland)","1972-03-16",22.2]
["Invercargill (Southland)-16-2-1973","Invercargill (Southland)","1973-02-16",0.1]
["Invercargill (Southland)-4-2-1974","Invercargill (Southland)","1974-02-04",0]
["Invercargill (Southland)-7-1-1975","Invercargill (Southland)","1975-01-07",0]
["Invercargill (Southland)-26-12-1975","Invercargill (Southland)","1975-12-26",4.3]
["Invercargill (Southland)-27-11-1976","Invercargill (Southland)","1976-11-27",0]
["Invercargill (Southland)-22-10-1977","Invercargill (Southland)","1977-10-22",8.5]
["Invercargill (Southland)-17-10-1978","Invercargill (Southland)","1978-10-17",0.2]
["Invercargill (Southland)-19-9-1979","Invercargill (Southland)","1979-09-19",1.2]
["Invercargill (Southland)-6-9-1980","Invercargill (Southland)","1980-09-06",1]
["Invercargill (Southland)-9-8-1981","Invercargill (Southland)","1981-08-09",9.6]
["Invercargill (Southland)-12-7-1982","Invercargill (Southland)","1982-07-12",13.9]
["Invercargill (Southland)-30-6-1983","Invercargill (Southland)","1983-06-30",5.2]
["Invercargill (Southland)-1-6-1984","Invercargill (Southland)","1984-06-01",0.5]
["Invercargill (Southland)-4-5-1985","Invercargill (Southland)","1985-05-04",0]
["Invercargill (Southland)-22-4-1986","Invercargill (Southland)","1986-04-22",0]
["Invercargill (Southland)-25-3-1987","Invercargill (Southland)","1987-03-25",2.2000000000000002]
["Invercargill (Southland)-12-3-1988","Invercargill (Southland)","1988-03-12",2.2000000000000002]
["Invercargill (Southland)-9-7-1989","Invercargill (Southland)","1989-07-09",0.6]
["Invercargill (Southland)-14-1-1990","Invercargill (Southland)","1990-01-14",0]
["Invercargill (Southland)-2-1-1991","Invercargill (Southland)","1991-01-02",0.9]
["Invercargill (Southland)-5-12-1991","Invercargill (Southland)","1991-12-05",0]
["Invercargill (Southland)-22-11-1992","Invercargill (Southland)","1992-11-22",0]
["Invercargill (Southland)-25-10-1993","Invercargill (Southland)","1993-10-25",0]
["Invercargill (Southland)-27-9-1994","Invercargill (Southland)","1994-09-27",0]
["Invercargill (Southland)-15-9-1995","Invercargill (Southland)","1995-09-15",13.4]
["Invercargill (Southland)-17-8-1996","Invercargill (Southland)","1996-08-17",0]
["Invercargill (Southland)-20-7-1997","Invercargill (Southland)","1997-07-20",13.6]
["Invercargill (Southland)-8-7-1998","Invercargill (Southland)","1998-07-08",0]
["Invercargill (Southland)-10-6-1999","Invercargill (Southland)","1999-06-10",0.4]
["Invercargill (Southland)-17-4-2000","Invercargill (Southland)","2000-04-17",13.4]
["Invercargill (Southland)-29-4-2001","Invercargill (Southland)","2001-04-29",1.2]
["Invercargill (Southland)-1-4-2002","Invercargill (Southland)","2002-04-01",2.9]
["Invercargill (Southland)-20-3-2003","Invercargill (Southland)","2003-03-20",0]
["Invercargill (Southland)-20-2-2004","Invercargill (Southland)","2004-02-20",12.4]
["Invercargill (Southland)-22-1-2005","Invercargill (Southland)","2005-01-22",1.4]
["Invercargill (Southland)-10-1-2006","Invercargill (Southland)","2006-01-10",10.4]
["Invercargill (Southland)-13-12-2006","Invercargill (Southland)","2006-12-13",0]
["Invercargill (Southland)-1-12-2007","Invercargill (Southland)","2007-12-01",0]
["Invercargill (Southland)-2-11-2008","Invercargill (Southland)","2008-11-02",0]
["Invercargill (Southland)-5-10-2009","Invercargill (Southland)","2009-10-05",0]
["Invercargill (Southland)-13-4-2011","Invercargill (Southland)","2011-04-13",21.1]
["Invercargill (Southland)-25-8-2011","Invercargill (Southland)","2011-08-25",0]
["Invercargill (Southland)-12-8-2012","Invercargill (Southland)","2012-08-12",1.1000000000000001]
["Invercargill (Southland)-15-7-2013","Invercargill (Southland)","2013-07-15",0]
["Invercargill (Southland)-17-6-2014","Invercargill (Southland)","2014-06-17",9.3000000000000007]
["Invercargill (Southland)-5-6-2015","Invercargill (Southland)","2015-06-05",1.7]
["Invercargill (Southland)-7-5-2016","Invercargill (Southland)","2016-05-07",0]
["Invercargill (Southland)-9-4-2017","Invercargill (Southland)","2017-04-09",0]
["Invercargill (Southland)-28-3-2018","Invercargill (Southland)","2018-03-28",5.4]
["Invercargill (Southland)-28-2-2019","Invercargill (Southland)","2019-02-28",1.2]
["Invercargill (Southland)-16-2-2020","Invercargill (Southland)","2020-02-16",0]
["Invercargill (Southland)-18-1-2021","Invercargill (Southland)","2021-01-18",13]
["Invercargill (Southland)-26-6-2022","Invercargill (Southland)","2022-06-26",8.6999999999999993]
["Invercargill (Southland)-8-12-2022","Invercargill (Southland)","2022-12-08",0.2]
["Kerikeri (Northland)-9-11-1960","Kerikeri (Northland)","1960-11-09",0]
["Kerikeri (Northland)-28-10-1961","Kerikeri (Northland)","1961-10-28",5.2]
["Kerikeri (Northland)-30-9-1962","Kerikeri (Northland)","1962-09-30",0]
["Kerikeri (Northland)-2-9-1963","Kerikeri (Northland)","1963-09-02",0]
["Kerikeri (Northland)-20-8-1964","Kerikeri (Northland)","1964-08-20",0]
["Kerikeri (Northland)-23-7-1965","Kerikeri (Northland)","1965-07-23",77.8]
["Kerikeri (Northland)-25-6-1966","Kerikeri (Northland)","1966-06-25",0]
["Kerikeri (Northland)-13-6-1967","Kerikeri (Northland)","1967-06-13",0]
["Kerikeri (Northland)-15-5-1968","Kerikeri (Northland)","1968-05-15",0]
["Kerikeri (Northland)-3-5-1969","Kerikeri (Northland)","1969-05-03",0]
["Kerikeri (Northland)-4-4-1970","Kerikeri (Northland)","1970-04-04",0]
["Kerikeri (Northland)-7-3-1971","Kerikeri (Northland)","1971-03-07",2.4]
["Kerikeri (Northland)-23-2-1972","Kerikeri (Northland)","1972-02-23",2]
["Kerikeri (Northland)-25-1-1973","Kerikeri (Northland)","1973-01-25",0]
["Kerikeri (Northland)-28-12-1973","Kerikeri (Northland)","1973-12-28",0]
["Kerikeri (Northland)-16-12-1974","Kerikeri (Northland)","1974-12-16",0]
["Kerikeri (Northland)-18-11-1975","Kerikeri (Northland)","1975-11-18",0]
["Kerikeri (Northland)-5-11-1976","Kerikeri (Northland)","1976-11-05",4.3]
["Kerikeri (Northland)-8-10-1977","Kerikeri (Northland)","1977-10-08",0]
["Kerikeri (Northland)-10-9-1978","Kerikeri (Northland)","1978-09-10",1.8]
["Kerikeri (Northland)-29-8-1979","Kerikeri (Northland)","1979-08-29",0]
["Kerikeri (Northland)-31-7-1980","Kerikeri (Northland)","1980-07-31",4.8]
["Kerikeri (Northland)-20-12-1981","Kerikeri (Northland)","1981-12-20",0]
["Kerikeri (Northland)-20-6-1982","Kerikeri (Northland)","1982-06-20",12.5]
["Kerikeri (Northland)-23-5-1983","Kerikeri (Northland)","1983-05-23",0]
["Kerikeri (Northland)-10-5-1984","Kerikeri (Northland)","1984-05-10",2.6]
["Kerikeri (Northland)-12-4-1985","Kerikeri (Northland)","1985-04-12",1.6]
["Kerikeri (Northland)-15-3-1986","Kerikeri (Northland)","1986-03-15",0.1]
["Kerikeri (Northland)-3-3-1987","Kerikeri (Northland)","1987-03-03",0.3]
["Kerikeri (Northland)-3-2-1988","Kerikeri (Northland)","1988-02-03",0.1]
["Kerikeri (Northland)-21-1-1989","Kerikeri (Northland)","1989-01-21",87.8]
["Kerikeri (Northland)-24-12-1989","Kerikeri (Northland)","1989-12-24",0.4]
["Kerikeri (Northland)-26-11-1990","Kerikeri (Northland)","1990-11-26",0]
["Kerikeri (Northland)-14-11-1991","Kerikeri (Northland)","1991-11-14",4.7]
["Kerikeri (Northland)-4-3-1993","Kerikeri (Northland)","1993-03-04",0.8]
["Kerikeri (Northland)-17-9-1993","Kerikeri (Northland)","1993-09-17",0.5]
["Kerikeri (Northland)-5-9-1994","Kerikeri (Northland)","1994-09-05",0.1]
["Kerikeri (Northland)-8-8-1995","Kerikeri (Northland)","1995-08-08",72.5]
["Kerikeri (Northland)-26-7-1996","Kerikeri (Northland)","1996-07-26",5.8]
["Kerikeri (Northland)-28-6-1997","Kerikeri (Northland)","1997-06-28",0]
["Kerikeri (Northland)-31-5-1998","Kerikeri (Northland)","1998-05-31",0]
["Kerikeri (Northland)-19-5-1999","Kerikeri (Northland)","1999-05-19",0.1]
["Kerikeri (Northland)-20-4-2000","Kerikeri (Northland)","2000-04-20",6.3]
["Kerikeri (Northland)-8-4-2001","Kerikeri (Northland)","2001-04-08",0]
["Kerikeri (Northland)-11-3-2002","Kerikeri (Northland)","2002-03-11",0.1]
["Kerikeri (Northland)-11-2-2003","Kerikeri (Northland)","2003-02-11",0]
["Kerikeri (Northland)-19-11-2004","Kerikeri (Northland)","2004-11-19",0]
["Kerikeri (Northland)-31-12-2004","Kerikeri (Northland)","2004-12-31",0]
["Kerikeri (Northland)-3-12-2005","Kerikeri (Northland)","2005-12-03",0]
["Kerikeri (Northland)-21-11-2006","Kerikeri (Northland)","2006-11-21",0]
["Kerikeri (Northland)-24-10-2007","Kerikeri (Northland)","2007-10-24",0]
["Kerikeri (Northland)-11-10-2008","Kerikeri (Northland)","2008-10-11",0]
["Kerikeri (Northland)-13-9-2009","Kerikeri (Northland)","2009-09-13",0]
["Kerikeri (Northland)-16-8-2010","Kerikeri (Northland)","2010-08-16",0.2]
["Kerikeri (Northland)-4-8-2011","Kerikeri (Northland)","2011-08-04",0.4]
["Kerikeri (Northland)-6-7-2012","Kerikeri (Northland)","2012-07-06",9.4]
["Kerikeri (Northland)-24-6-2013","Kerikeri (Northland)","2013-06-24",0]
["Kerikeri (Northland)-7-12-2014","Kerikeri (Northland)","2014-12-07",0]
["Kerikeri (Northland)-28-4-2015","Kerikeri (Northland)","2015-04-28",0.2]
["Kerikeri (Northland)-15-4-2016","Kerikeri (Northland)","2016-04-15",0]
["Kerikeri (Northland)-18-3-2017","Kerikeri (Northland)","2017-03-18",0]
["Kerikeri (Northland)-18-2-2018","Kerikeri (Northland)","2018-02-18",0]
["Kerikeri (Northland)-6-2-2019","Kerikeri (Northland)","2019-02-06",1.8]
[{"$f":"_xlfn.CONCAT(B252035,\"-\",DAY(C252035),\"-\",MONTH(C252035),\"-\",YEAR(C252035))","v":"Kerikeri (Northland)-9-1-2020"},"Kerikeri (Northland)","2020-01-09",0]
["Kerikeri (Northland)-27-12-2020","Kerikeri (Northland)","2020-12-27",0]
["Kerikeri (Northland)-29-11-2021","Kerikeri (Northland)","2021-11-29",0]
["Kerikeri (Northland)-1-11-2022","Kerikeri (Northland)","2022-11-01",0]
["Lake Tekapo (Canterbury)-19-10-1960","Lake Tekapo (Canterbury)","1960-10-19",0]
["Lake Tekapo (Canterbury)-21-9-1961","Lake Tekapo (Canterbury)","1961-09-21",11.2]
["Lake Tekapo (Canterbury)-19-2-1963","Lake Tekapo (Canterbury)","1963-02-19",6.6]
["Lake Tekapo (Canterbury)-11-8-1963","Lake Tekapo (Canterbury)","1963-08-11",0]
["Lake Tekapo (Canterbury)-13-7-1964","Lake Tekapo (Canterbury)","1964-07-13",5.6]
["Lake Tekapo (Canterbury)-1-7-1965","Lake Tekapo (Canterbury)","1965-07-01",0]
["Lake Tekapo (Canterbury)-3-6-1966","Lake Tekapo (Canterbury)","1966-06-03",0]
["Lake Tekapo (Canterbury)-14-4-1968","Lake Tekapo (Canterbury)","1968-04-14",0]
["Lake Tekapo (Canterbury)-23-4-1968","Lake Tekapo (Canterbury)","1968-04-23",3]
["Lake Tekapo (Canterbury)-5-3-1970","Lake Tekapo (Canterbury)","1970-03-05",0]
["Lake Tekapo (Canterbury)-14-3-1970","Lake Tekapo (Canterbury)","1970-03-14",22.6]
["Lake Tekapo (Canterbury)-24-1-1972","Lake Tekapo (Canterbury)","1972-01-24",0]
["Lake Tekapo (Canterbury)-26-12-1972","Lake Tekapo (Canterbury)","1972-12-26",0]
["Lake Tekapo (Canterbury)-4-1-1973","Lake Tekapo (Canterbury)","1973-01-04",0.7]
["Lake Tekapo (Canterbury)-6-11-1974","Lake Tekapo (Canterbury)","1974-11-06",0]
["Lake Tekapo (Canterbury)-18-10-1975","Lake Tekapo (Canterbury)","1975-10-18",3.8]
["Lake Tekapo (Canterbury)-5-10-1976","Lake Tekapo (Canterbury)","1976-10-05",0]
["Lake Tekapo (Canterbury)-7-9-1977","Lake Tekapo (Canterbury)","1977-09-07",2]
["Lake Tekapo (Canterbury)-26-8-1978","Lake Tekapo (Canterbury)","1978-08-26",0]
["Lake Tekapo (Canterbury)-29-7-1979","Lake Tekapo (Canterbury)","1979-07-29",6.1]
["Lake Tekapo (Canterbury)-30-6-1980","Lake Tekapo (Canterbury)","1980-06-30",0]
["Lake Tekapo (Canterbury)-18-6-1981","Lake Tekapo (Canterbury)","1981-06-18",0.1]
["Lake Tekapo (Canterbury)-21-5-1982","Lake Tekapo (Canterbury)","1982-05-21",13]
["Lake Tekapo (Canterbury)-9-5-1983","Lake Tekapo (Canterbury)","1983-05-09",21]
["Lake Tekapo (Canterbury)-10-4-1984","Lake Tekapo (Canterbury)","1984-04-10",0]
["Lake Tekapo (Canterbury)-13-3-1985","Lake Tekapo (Canterbury)","1985-03-13",8.6999999999999993]
["Lake Tekapo (Canterbury)-15-8-1985","Lake Tekapo (Canterbury)","1985-08-15",0]
["Lake Tekapo (Canterbury)-31-1-1987","Lake Tekapo (Canterbury)","1987-01-31",0]
["Lake Tekapo (Canterbury)-3-1-1988","Lake Tekapo (Canterbury)","1988-01-03",0]
["Lake Tekapo (Canterbury)-21-12-1988","Lake Tekapo (Canterbury)","1988-12-21",4]
["Lake Tekapo (Canterbury)-23-11-1989","Lake Tekapo (Canterbury)","1989-11-23",0]
["Lake Tekapo (Canterbury)-11-11-1990","Lake Tekapo (Canterbury)","1990-11-11",2]
["Lake Tekapo (Canterbury)-14-10-1991","Lake Tekapo (Canterbury)","1991-10-14",0]
["Lake Tekapo (Canterbury)-15-9-1992","Lake Tekapo (Canterbury)","1992-09-15",0]
["Lake Tekapo (Canterbury)-3-9-1993","Lake Tekapo (Canterbury)","1993-09-03",4.9000000000000004]
["Lake Tekapo (Canterbury)-6-8-1994","Lake Tekapo (Canterbury)","1994-08-06",0]
["Lake Tekapo (Canterbury)-9-7-1995","Lake Tekapo (Canterbury)","1995-07-09",2]
["Lake Tekapo (Canterbury)-26-6-1996","Lake Tekapo (Canterbury)","1996-06-26",0]
["Lake Tekapo (Canterbury)-28-10-1996","Lake Tekapo (Canterbury)","1996-10-28",0.6]
["Lake Tekapo (Canterbury)-16-5-1998","Lake Tekapo (Canterbury)","1998-05-16",0]
["Lake Tekapo (Canterbury)-18-4-1999","Lake Tekapo (Canterbury)","1999-04-18",0]
["Lake Tekapo (Canterbury)-20-3-2000","Lake Tekapo (Canterbury)","2000-03-20",0]
["Lake Tekapo (Canterbury)-8-3-2001","Lake Tekapo (Canterbury)","2001-03-08",0]
["Lake Tekapo (Canterbury)-8-2-2002","Lake Tekapo (Canterbury)","2002-02-08",0]
["Lake Tekapo (Canterbury)-27-1-2003","Lake Tekapo (Canterbury)","2003-01-27",0]
["Lake Tekapo (Canterbury)-30-12-2003","Lake Tekapo (Canterbury)","2003-12-30",0]
["Lake Tekapo (Canterbury)-1-12-2004","Lake Tekapo (Canterbury)","2004-12-01",0]
["Lake Tekapo (Canterbury)-19-11-2005","Lake Tekapo (Canterbury)","2005-11-19",0]
["Lake Tekapo (Canterbury)-22-10-2006","Lake Tekapo (Canterbury)","2006-10-22",0]
["Lake Tekapo (Canterbury)-24-9-2007","Lake Tekapo (Canterbury)","2007-09-24",0.2]
[{"$f":"_xlfn.CONCAT(B270851,\"-\",DAY(C270851),\"-\",MONTH(C270851),\"-\",YEAR(C270851))","v":"Lake Tekapo (Canterbury)-15-7-2008"},"Lake Tekapo (Canterbury)","2008-07-15",0]
["Lake Tekapo (Canterbury)-13-8-2009","Lake Tekapo (Canterbury)","2009-08-13",0.3]
["Lake Tekapo (Canterbury)-1-8-2010","Lake Tekapo (Canterbury)","2010-08-01",12.4]
["Lake Tekapo (Canterbury)-4-7-2011","Lake Tekapo (Canterbury)","2011-07-04",0]
["Lake Tekapo (Canterbury)-5-6-2012","Lake Tekapo (Canterbury)","2012-06-05",4.4000000000000004]
["Lake Tekapo (Canterbury)-24-5-2013","Lake Tekapo (Canterbury)","2013-05-24",0]
["Lake Tekapo (Canterbury)-26-4-2014","Lake Tekapo (Canterbury)","2014-04-26",0]
["Lake Tekapo (Canterbury)-29-3-2015","Lake Tekapo (Canterbury)","2015-03-29",0]
["Lake Tekapo (Canterbury)-16-3-2016","Lake Tekapo (Canterbury)","2016-03-16",0.2]
["Lake Tekapo (Canterbury)-16-2-2017","Lake Tekapo (Canterbury)","2017-02-16",0]
["Lake Tekapo (Canterbury)-4-2-2018","Lake Tekapo (Canterbury)","2018-02-04",0]
["Lake Tekapo (Canterbury)-2-8-2018","Lake Tekapo (Canterbury)","2018-08-02",1]
["Lake Tekapo (Canterbury)-9-12-2019","Lake Tekapo (Canterbury)","2019-12-09",0]
["Lake Tekapo (Canterbury)-26-11-2020","Lake Tekapo (Canterbury)","2020-11-26",0]
["Lake Tekapo (Canterbury)-29-10-2021","Lake Tekapo (Canterbury)","2021-10-29",9.8000000000000007]
["Lake Tekapo (Canterbury)-17-10-2022","Lake Tekapo (Canterbury)","2022-10-17",0]
["Masterton (Wellington)-18-9-1960","Masterton (Wellington)","1960-09-18",0]
["Masterton (Wellington)-21-8-1961","Masterton (Wellington)","1961-08-21",0]
["Masterton (Wellington)-9-8-1962","Masterton (Wellington)","1962-08-09",0]
["Masterton (Wellington)-12-7-1963","Masterton (Wellington)","1963-07-12",3.4]
["Masterton (Wellington)-13-6-1964","Masterton (Wellington)","1964-06-13",47]
["Masterton (Wellington)-1-6-1965","Masterton (Wellington)","1965-06-01",2.2000000000000002]
["Masterton (Wellington)-4-5-1966","Masterton (Wellington)","1966-05-04",0]
["Masterton (Wellington)-19-4-1967","Masterton (Wellington)","1967-04-19",0]
["Masterton (Wellington)-23-3-1968","Masterton (Wellington)","1968-03-23",0]
["Masterton (Wellington)-23-2-1969","Masterton (Wellington)","1969-02-23",0]
["Masterton (Wellington)-11-2-1970","Masterton (Wellington)","1970-02-11",2.5]
["Masterton (Wellington)-14-1-1971","Masterton (Wellington)","1971-01-14",0]
["Masterton (Wellington)-2-1-1972","Masterton (Wellington)","1972-01-02",7.6]
["Masterton (Wellington)-4-12-1972","Masterton (Wellington)","1972-12-04",0]
["Masterton (Wellington)-6-11-1973","Masterton (Wellington)","1973-11-06",0]
["Masterton (Wellington)-25-10-1974","Masterton (Wellington)","1974-10-25",3.7]
["Masterton (Wellington)-27-9-1975","Masterton (Wellington)","1975-09-27",0]
["Masterton (Wellington)-29-8-1976","Masterton (Wellington)","1976-08-29",13.8]
["Masterton (Wellington)-17-8-1977","Masterton (Wellington)","1977-08-17",12]
["Masterton (Wellington)-2-7-1978","Masterton (Wellington)","1978-07-02",0]
["Masterton (Wellington)-7-7-1979","Masterton (Wellington)","1979-07-07",0]
["Masterton (Wellington)-8-6-1980","Masterton (Wellington)","1980-06-08",0]
["Masterton (Wellington)-11-5-1981","Masterton (Wellington)","1981-05-11",0]
["Masterton (Wellington)-29-4-1982","Masterton (Wellington)","1982-04-29",0]
["Masterton (Wellington)-1-4-1983","Masterton (Wellington)","1983-04-01",3.6]
["Masterton (Wellington)-3-3-1984","Masterton (Wellington)","1984-03-03",2]
[{"$f":"_xlfn.CONCAT(B285315,\"-\",DAY(C285315),\"-\",MONTH(C285315),\"-\",YEAR(C285315))","v":"Masterton (Wellington)-19-2-1985"},"Masterton (Wellington)","1985-02-19",2.2999999999999998]
["Masterton (Wellington)-22-1-1986","Masterton (Wellington)","1986-01-22",0]
["Masterton (Wellington)-10-1-1987","Masterton (Wellington)","1987-01-10",0]
["Masterton (Wellington)-13-12-1987","Masterton (Wellington)","1987-12-13",0]
["Masterton (Wellington)-14-11-1988","Masterton (Wellington)","1988-11-14",0]
["Masterton (Wellington)-10-4-1989","Masterton (Wellington)","1989-04-10",4.9000000000000004]
["Masterton (Wellington)-4-10-1990","Masterton (Wellington)","1990-10-04",0]
["Masterton (Wellington)-22-9-1991","Masterton (Wellington)","1991-09-22",0]
["Masterton (Wellington)-24-8-1992","Masterton (Wellington)","1992-08-24",0]
["Masterton (Wellington)-27-7-1993","Masterton (Wellington)","1993-07-27",0]
["Masterton (Wellington)-15-7-1994","Masterton (Wellington)","1994-07-15",0]
["Masterton (Wellington)-17-6-1995","Masterton (Wellington)","1995-06-17",3]
["Masterton (Wellington)-19-5-1996","Masterton (Wellington)","1996-05-19",0]
["Masterton (Wellington)-7-5-1997","Masterton (Wellington)","1997-05-07",0.4]
["Masterton (Wellington)-9-4-1998","Masterton (Wellington)","1998-04-09",0]
["Masterton (Wellington)-28-3-1999","Masterton (Wellington)","1999-03-28",0]
["Masterton (Wellington)-28-2-2000","Masterton (Wellington)","2000-02-28",0]
["Masterton (Wellington)-23-6-2000","Masterton (Wellington)","2000-06-23",0]
["Masterton (Wellington)-17-1-2002","Masterton (Wellington)","2002-01-17",0]
["Masterton (Wellington)-20-12-2002","Masterton (Wellington)","2002-12-20",0]
["Masterton (Wellington)-22-11-2003","Masterton (Wellington)","2003-11-22",0]
["Masterton (Wellington)-9-11-2004","Masterton (Wellington)","2004-11-09",0]
["Masterton (Wellington)-12-10-2005","Masterton (Wellington)","2005-10-12",0]
["Masterton (Wellington)-30-9-2006","Masterton (Wellington)","2006-09-30",0]
["Masterton (Wellington)-2-9-2007","Masterton (Wellington)","2007-09-02",0]
["Masterton (Wellington)-4-8-2008","Masterton (Wellington)","2008-08-04",13.1]
["Masterton (Wellington)-23-7-2009","Masterton (Wellington)","2009-07-23",25.2]
["Masterton (Wellington)-25-6-2010","Masterton (Wellington)","2010-06-25",16.399999999999999]
["Masterton (Wellington)-13-6-2011","Masterton (Wellington)","2011-06-13",0]
["Masterton (Wellington)-10-3-2012","Masterton (Wellington)","2012-03-10",0]
["Masterton (Wellington)-16-4-2013","Masterton (Wellington)","2013-04-16",13.4]
["Masterton (Wellington)-4-4-2014","Masterton (Wellington)","2014-04-04",0]
["Masterton (Wellington)-7-3-2015","Masterton (Wellington)","2015-03-07",13.6]
["Masterton (Wellington)-7-2-2016","Masterton (Wellington)","2016-02-07",0]
["Masterton (Wellington)-25-1-2017","Masterton (Wellington)","2017-01-25",2]
["Masterton (Wellington)-28-12-2017","Masterton (Wellington)","2017-12-28",0.2]
["Masterton (Wellington)-16-12-2018","Masterton (Wellington)","2018-12-16",0]
["Masterton (Wellington)-18-11-2019","Masterton (Wellington)","2019-11-18",0]
["Masterton (Wellington)-20-10-2020","Masterton (Wellington)","2020-10-20",0]
["Masterton (Wellington)-8-10-2021","Masterton (Wellington)","2021-10-08",0.2]
["Masterton (Wellington)-28-3-2022","Masterton (Wellington)","2022-03-28",0.6]
["Milford Sound (Southland)-27-8-1960","Milford Sound (Southland)","1960-08-27",0]
["Milford Sound (Southland)-30-7-1961","Milford Sound (Southland)","1961-07-30",35.5]
["Milford Sound (Southland)-2-7-1962","Milford Sound (Southland)","1962-07-02",22.2]
["Milford Sound (Southland)-20-6-1963","Milford Sound (Southland)","1963-06-20",24.5]
["Milford Sound (Southland)-22-5-1964","Milford Sound (Southland)","1964-05-22",0]
["Milford Sound (Southland)-24-4-1965","Milford Sound (Southland)","1965-04-24",0]
["Milford Sound (Southland)-12-4-1966","Milford Sound (Southland)","1966-04-12",0]
["Milford Sound (Southland)-15-3-1967","Milford Sound (Southland)","1967-03-15",0]
["Milford Sound (Southland)-2-3-1968","Milford Sound (Southland)","1968-03-02",136.9]
["Milford Sound (Southland)-2-2-1969","Milford Sound (Southland)","1969-02-02",0]
["Milford Sound (Southland)-5-1-1970","Milford Sound (Southland)","1970-01-05",70.3]
["Milford Sound (Southland)-13-12-1970","Milford Sound (Southland)","1970-12-13",13.6]
[{"$f":"_xlfn.CONCAT(B303491,\"-\",DAY(C303491),\"-\",MONTH(C303491),\"-\",YEAR(C303491))","v":"Milford Sound (Southland)-25-11-1971"},"Milford Sound (Southland)","1971-11-25",15.3]
["Milford Sound (Southland)-27-10-1972","Milford Sound (Southland)","1972-10-27",0]
["Milford Sound (Southland)-15-10-1973","Milford Sound (Southland)","1973-10-15",30.1]
["Milford Sound (Southland)-17-9-1974","Milford Sound (Southland)","1974-09-17",0.6]
["Milford Sound (Southland)-5-9-1975","Milford Sound (Southland)","1975-09-05",14.4]
["Milford Sound (Southland)-7-8-1976","Milford Sound (Southland)","1976-08-07",0]
["Milford Sound (Southland)-10-7-1977","Milford Sound (Southland)","1977-07-10",0]
["Milford Sound (Southland)-28-6-1978","Milford Sound (Southland)","1978-06-28",0]
["Milford Sound (Southland)-31-5-1979","Milford Sound (Southland)","1979-05-31",2.1]
["Milford Sound (Southland)-18-5-1980","Milford Sound (Southland)","1980-05-18",53]
["Milford Sound (Southland)-20-4-1981","Milford Sound (Southland)","1981-04-20",27.2]
["Milford Sound (Southland)-25-2-1982","Milford Sound (Southland)","1982-02-25",0]
["Milford Sound (Southland)-10-3-1983","Milford Sound (Southland)","1983-03-10",8]
["Milford Sound (Southland)-10-2-1984","Milford Sound (Southland)","1984-02-10",22.1]
["Milford Sound (Southland)-12-1-1985","Milford Sound (Southland)","1985-01-12",17.100000000000001]
["Milford Sound (Southland)-31-12-1985","Milford Sound (Southland)","1985-12-31",176.2]
["Milford Sound (Southland)-3-12-1986","Milford Sound (Southland)","1986-12-03",0]
["Milford Sound (Southland)-21-11-1987","Milford Sound (Southland)","1987-11-21",0]
["Milford Sound (Southland)-23-10-1988","Milford Sound (Southland)","1988-10-23",34]
["Milford Sound (Southland)-25-9-1989","Milford Sound (Southland)","1989-09-25",0.8]
["Milford Sound (Southland)-13-9-1990","Milford Sound (Southland)","1990-09-13",52.4]
["Milford Sound (Southland)-16-8-1991","Milford Sound (Southland)","1991-08-16",70.8]
["Milford Sound (Southland)-3-8-1992","Milford Sound (Southland)","1992-08-03",31.1]
["Milford Sound (Southland)-12-11-1993","Milford Sound (Southland)","1993-11-12",0]
["Milford Sound (Southland)-7-6-1994","Milford Sound (Southland)","1994-06-07",13.8]
["Milford Sound (Southland)-26-5-1995","Milford Sound (Southland)","1995-05-26",28.9]
["Milford Sound (Southland)-27-4-1996","Milford Sound (Southland)","1996-04-27",46.5]
["Milford Sound (Southland)-30-3-1997","Milford Sound (Southland)","1997-03-30",11.8]
["Milford Sound (Southland)-18-3-1998","Milford Sound (Southland)","1998-03-18",25.5]
["Milford Sound (Southland)-18-2-1999","Milford Sound (Southland)","1999-02-18",4.0999999999999996]
["Milford Sound (Southland)-6-2-2000","Milford Sound (Southland)","2000-02-06",22.8]
["Milford Sound (Southland)-8-1-2001","Milford Sound (Southland)","2001-01-08",13.4]
["Milford Sound (Southland)-11-12-2001","Milford Sound (Southland)","2001-12-11",77.099999999999994]
["Milford Sound (Southland)-29-11-2002","Milford Sound (Southland)","2002-11-29",4]
["Milford Sound (Southland)-1-11-2003","Milford Sound (Southland)","2003-11-01",29.4]
["Milford Sound (Southland)-25-1-2005","Milford Sound (Southland)","2005-01-25",0]
["Milford Sound (Southland)-20-9-2005","Milford Sound (Southland)","2005-09-20",0]
["Milford Sound (Southland)-23-8-2006","Milford Sound (Southland)","2006-08-23",0]
["Milford Sound (Southland)-11-8-2007","Milford Sound (Southland)","2007-08-11",75.8]
["Milford Sound (Southland)-13-7-2008","Milford Sound (Southland)","2008-07-13",38]
["Milford Sound (Southland)-15-6-2009","Milford Sound (Southland)","2009-06-15",0]
["Milford Sound (Southland)-3-6-2010","Milford Sound (Southland)","2010-06-03",0.2]
["Milford Sound (Southland)-6-5-2011","Milford Sound (Southland)","2011-05-06",2.2000000000000002]
["Milford Sound (Southland)-23-4-2012","Milford Sound (Southland)","2012-04-23",0]
["Milford Sound (Southland)-26-3-2013","Milford Sound (Southland)","2013-03-26",0]
["Milford Sound (Southland)-26-2-2014","Milford Sound (Southland)","2014-02-26",0]
["Milford Sound (Southland)-14-2-2015","Milford Sound (Southland)","2015-02-14",0]
["Milford Sound (Southland)-4-11-2015","Milford Sound (Southland)","2015-11-04",0.2]
["Milford Sound (Southland)-18-12-2016","Milford Sound (Southland)","2016-12-18",95.4]
["Milford Sound (Southland)-6-12-2017","Milford Sound (Southland)","2017-12-06",0]
["Milford Sound (Southland)-8-11-2018","Milford Sound (Southland)","2018-11-08",10.8]
["Milford Sound (Southland)-27-10-2019","Milford Sound (Southland)","2019-10-27",71.599999999999994]
["Milford Sound (Southland)-28-9-2020","Milford Sound (Southland)","2020-09-28",5.4]
["Milford Sound (Southland)-31-8-2021","Milford Sound (Southland)","2021-08-31",0.2]
["Milford Sound (Southland)-19-8-2022","Milford Sound (Southland)","2022-08-19",0]
["Napier (Hawke's Bay)-21-7-1960","Napier (Hawke's Bay)","1960-07-21",0]
["Napier (Hawke's Bay)-23-6-1961","Napier (Hawke's Bay)","1961-06-23",0]
["Napier (Hawke's Bay)-11-6-1962","Napier (Hawke's Bay)","1962-06-11",0]
["Napier (Hawke's Bay)-30-10-1963","Napier (Hawke's Bay)","1963-10-30",6]
["Napier (Hawke's Bay)-30-4-1964","Napier (Hawke's Bay)","1964-04-30",0]
["Napier (Hawke's Bay)-2-4-1965","Napier (Hawke's Bay)","1965-04-02",0]
["Napier (Hawke's Bay)-5-3-1966","Napier (Hawke's Bay)","1966-03-05",0]
["Napier (Hawke's Bay)-21-2-1967","Napier (Hawke's Bay)","1967-02-21",0]
["Napier (Hawke's Bay)-24-1-1968","Napier (Hawke's Bay)","1968-01-24",0]
["Napier (Hawke's Bay)-11-1-1969","Napier (Hawke's Bay)","1969-01-11",0]
["Napier (Hawke's Bay)-14-12-1969","Napier (Hawke's Bay)","1969-12-14",11.3]
["Napier (Hawke's Bay)-16-11-1970","Napier (Hawke's Bay)","1970-11-16",0]
["Napier (Hawke's Bay)-4-11-1971","Napier (Hawke's Bay)","1971-11-04",0.1]
["Napier (Hawke's Bay)-6-10-1972","Napier (Hawke's Bay)","1972-10-06",0]
["Napier (Hawke's Bay)-8-9-1973","Napier (Hawke's Bay)","1973-09-08",0]
["Napier (Hawke's Bay)-8-8-1974","Napier (Hawke's Bay)","1974-08-08",4]
["Napier (Hawke's Bay)-29-7-1975","Napier (Hawke's Bay)","1975-07-29",0]
["Napier (Hawke's Bay)-16-7-1976","Napier (Hawke's Bay)","1976-07-16",8.8000000000000007]
["Napier (Hawke's Bay)-18-6-1977","Napier (Hawke's Bay)","1977-06-18",11.9]
["Napier (Hawke's Bay)-21-5-1978","Napier (Hawke's Bay)","1978-05-21",0]
["Napier (Hawke's Bay)-9-5-1979","Napier (Hawke's Bay)","1979-05-09",5.2]
["Napier (Hawke's Bay)-10-4-1980","Napier (Hawke's Bay)","1980-04-10",60]
["Napier (Hawke's Bay)-29-3-1981","Napier (Hawke's Bay)","1981-03-29",0]
["Napier (Hawke's Bay)-1-3-1982","Napier (Hawke's Bay)","1982-03-01",0]
["Napier (Hawke's Bay)-1-2-1983","Napier (Hawke's Bay)","1983-02-01",0]
["Napier (Hawke's Bay)-20-1-1984","Napier (Hawke's Bay)","1984-01-20",0]
["Napier (Hawke's Bay)-22-12-1984","Napier (Hawke's Bay)","1984-12-22",2.4]
["Napier (Hawke's Bay)-21-10-1985","Napier (Hawke's Bay)","1985-10-21",2.9]
["Napier (Hawke's Bay)-11-11-1986","Napier (Hawke's Bay)","1986-11-11",0]
["Napier (Hawke's Bay)-14-10-1987","Napier (Hawke's Bay)","1987-10-14",1.2]
["Napier (Hawke's Bay)-1-10-1988","Napier (Hawke's Bay)","1988-10-01",0]
["Napier (Hawke's Bay)-3-9-1989","Napier (Hawke's Bay)","1989-09-03",0]
["Napier (Hawke's Bay)-6-8-1990","Napier (Hawke's Bay)","1990-08-06",6.7]
["Napier (Hawke's Bay)-25-7-1991","Napier (Hawke's Bay)","1991-07-25",3.3]
["Napier (Hawke's Bay)-26-6-1992","Napier (Hawke's Bay)","1992-06-26",0]
["Napier (Hawke's Bay)-29-5-1993","Napier (Hawke's Bay)","1993-05-29",0]
["Napier (Hawke's Bay)-17-5-1994","Napier (Hawke's Bay)","1994-05-17",0]
["Napier (Hawke's Bay)-19-4-1995","Napier (Hawke's Bay)","1995-04-19",0]
["Napier (Hawke's Bay)-6-4-1996","Napier (Hawke's Bay)","1996-04-06",7]
["Napier (Hawke's Bay)-8-7-1997","Napier (Hawke's Bay)","1997-07-08",0]
["Napier (Hawke's Bay)-8-2-1998","Napier (Hawke's Bay)","1998-02-08",0]
["Napier (Hawke's Bay)-27-1-1999","Napier (Hawke's Bay)","1999-01-27",0]
["Napier (Hawke's Bay)-30-12-1999","Napier (Hawke's Bay)","1999-12-30",0]
["Napier (Hawke's Bay)-17-12-2000","Napier (Hawke's Bay)","2000-12-17",0]
["Napier (Hawke's Bay)-19-11-2001","Napier (Hawke's Bay)","2001-11-19",0]
["Napier (Hawke's Bay)-22-10-2002","Napier (Hawke's Bay)","2002-10-22",0]
["Napier (Hawke's Bay)-10-10-2003","Napier (Hawke's Bay)","2003-10-10",0]
["Napier (Hawke's Bay)-11-9-2004","Napier (Hawke's Bay)","2004-09-11",0]
["Napier (Hawke's Bay)-14-8-2005","Napier (Hawke's Bay)","2005-08-14",0]
["Napier (Hawke's Bay)-2-8-2006","Napier (Hawke's Bay)","2006-08-02",0.4]
["Napier (Hawke's Bay)-5-7-2007","Napier (Hawke's Bay)","2007-07-05",6.7]
["Napier (Hawke's Bay)-16-4-2008","Napier (Hawke's Bay)","2008-04-16",14.9]
["Napier (Hawke's Bay)-24-5-2009","Napier (Hawke's Bay)","2009-05-24",11.8]
["Napier (Hawke's Bay)-26-4-2010","Napier (Hawke's Bay)","2010-04-26",0]
["Napier (Hawke's Bay)-14-4-2011","Napier (Hawke's Bay)","2011-04-14",0]
["Napier (Hawke's Bay)-16-3-2012","Napier (Hawke's Bay)","2012-03-16",0]
["Napier (Hawke's Bay)-4-3-2013","Napier (Hawke's Bay)","2013-03-04",1.3]
["Napier (Hawke's Bay)-4-2-2014","Napier (Hawke's Bay)","2014-02-04",0]
["Napier (Hawke's Bay)-7-1-2015","Napier (Hawke's Bay)","2015-01-07",0]
["Napier (Hawke's Bay)-26-12-2015","Napier (Hawke's Bay)","2015-12-26",0]
["Napier (Hawke's Bay)-27-11-2016","Napier (Hawke's Bay)","2016-11-27",0]
["Napier (Hawke's Bay)-30-10-2017","Napier (Hawke's Bay)","2017-10-30",0]
["Napier (Hawke's Bay)-18-10-2018","Napier (Hawke's Bay)","2018-10-18",0]
["Napier (Hawke's Bay)-30-6-2019","Napier (Hawke's Bay)","2019-06-30",0]
["Napier (Hawke's Bay)-6-9-2020","Napier (Hawke's Bay)","2020-09-06",9.8000000000000007]
["Napier (Hawke's Bay)-9-8-2021","Napier (Hawke's Bay)","2021-08-09",1]
["Napier (Hawke's Bay)-12-7-2022","Napier (Hawke's Bay)","2022-07-12",9.1999999999999993]
[{"$f":"_xlfn.CONCAT(B345347,\"-\",DAY(C345347),\"-\",MONTH(C345347),\"-\",YEAR(C345347))","v":"Nelson (Nelson)-29-6-1960"},"Nelson (Nelson)","1960-06-29",0]
["Nelson (Nelson)-1-6-1961","Nelson (Nelson)","1961-06-01",0]
["Nelson (Nelson)-4-5-1962","Nelson (Nelson)","1962-05-04",14.3]
["Nelson (Nelson)-22-4-1963","Nelson (Nelson)","1963-04-22",0]
["Nelson (Nelson)-24-3-1964","Nelson (Nelson)","1964-03-24",0]
["Nelson (Nelson)-12-3-1965","Nelson (Nelson)","1965-03-12",0]
["Nelson (Nelson)-12-2-1966","Nelson (Nelson)","1966-02-12",0]
["Nelson (Nelson)-25-6-1967","Nelson (Nelson)","1967-06-25",0]
["Nelson (Nelson)-2-1-1968","Nelson (Nelson)","1968-01-02",1.9]
["Nelson (Nelson)-4-12-1968","Nelson (Nelson)","1968-12-04",14.4]
["Nelson (Nelson)-22-11-1969","Nelson (Nelson)","1969-11-22",7.7]
["Nelson (Nelson)-25-10-1970","Nelson (Nelson)","1970-10-25",0]
["Nelson (Nelson)-27-9-1971","Nelson (Nelson)","1971-09-27",1.2]
["Nelson (Nelson)-14-9-1972","Nelson (Nelson)","1972-09-14",0.9]
["Nelson (Nelson)-17-8-1973","Nelson (Nelson)","1973-08-17",0]
["Nelson (Nelson)-20-7-1974","Nelson (Nelson)","1974-07-20",0.2]
["Nelson (Nelson)-8-7-1975","Nelson (Nelson)","1975-07-08",0]
[{"$f":"_xlfn.CONCAT(B351171,\"-\",DAY(C351171),\"-\",MONTH(C351171),\"-\",YEAR(C351171))","v":"Nelson (Nelson)-9-6-1976"},"Nelson (Nelson)","1976-06-09",4.8]
["Nelson (Nelson)-28-5-1977","Nelson (Nelson)","1977-05-28",0]
["Nelson (Nelson)-3-4-1978","Nelson (Nelson)","1978-04-03",0]
["Nelson (Nelson)-1-4-1979","Nelson (Nelson)","1979-04-01",0]
["Nelson (Nelson)-19-3-1980","Nelson (Nelson)","1980-03-19",0]
["Nelson (Nelson)-19-2-1981","Nelson (Nelson)","1981-02-19",0]
["Nelson (Nelson)-22-1-1982","Nelson (Nelson)","1982-01-22",7.7]
["Nelson (Nelson)-10-1-1983","Nelson (Nelson)","1983-01-10",0]
["Nelson (Nelson)-13-12-1983","Nelson (Nelson)","1983-12-13",0.4]
["Nelson (Nelson)-30-11-1984","Nelson (Nelson)","1984-11-30",0]
["Nelson (Nelson)-2-11-1985","Nelson (Nelson)","1985-11-02",0]
["Nelson (Nelson)-5-10-1986","Nelson (Nelson)","1986-10-05",17]
["Nelson (Nelson)-23-9-1987","Nelson (Nelson)","1987-09-23",0]
["Nelson (Nelson)-25-8-1988","Nelson (Nelson)","1988-08-25",0]
["Nelson (Nelson)-19-12-1989","Nelson (Nelson)","1989-12-19",0]
["Nelson (Nelson)-15-7-1990","Nelson (Nelson)","1990-07-15",0]
["Nelson (Nelson)-17-6-1991","Nelson (Nelson)","1991-06-17",2.2000000000000002]
["Nelson (Nelson)-4-6-1992","Nelson (Nelson)","1992-06-04",0]
["Nelson (Nelson)-7-5-1993","Nelson (Nelson)","1993-05-07",0]
["Nelson (Nelson)-9-4-1994","Nelson (Nelson)","1994-04-09",0]
["Nelson (Nelson)-28-3-1995","Nelson (Nelson)","1995-03-28",0]
["Nelson (Nelson)-28-2-1996","Nelson (Nelson)","1996-02-28",0]
["Nelson (Nelson)-15-2-1997","Nelson (Nelson)","1997-02-15",0]
["Nelson (Nelson)-18-1-1998","Nelson (Nelson)","1998-01-18",0]
["Nelson (Nelson)-21-12-1998","Nelson (Nelson)","1998-12-21",0]
["Nelson (Nelson)-9-12-1999","Nelson (Nelson)","1999-12-09",0]
["Nelson (Nelson)-3-3-2001","Nelson (Nelson)","2001-03-03",0]
["Nelson (Nelson)-28-10-2001","Nelson (Nelson)","2001-10-28",2.4]
["Nelson (Nelson)-30-9-2002","Nelson (Nelson)","2002-09-30",0]
["Nelson (Nelson)-2-9-2003","Nelson (Nelson)","2003-09-02",0]
["Nelson (Nelson)-20-8-2004","Nelson (Nelson)","2004-08-20",7.6]
["Nelson (Nelson)-23-7-2005","Nelson (Nelson)","2005-07-23",0]
["Nelson (Nelson)-25-6-2006","Nelson (Nelson)","2006-06-25",0]
["Nelson (Nelson)-13-6-2007","Nelson (Nelson)","2007-06-13",0]
["Nelson (Nelson)-15-5-2008","Nelson (Nelson)","2008-05-15",0]
["Nelson (Nelson)-3-5-2009","Nelson (Nelson)","2009-05-03",0]
["Nelson (Nelson)-5-4-2010","Nelson (Nelson)","2010-04-05",1.2]
["Nelson (Nelson)-8-3-2011","Nelson (Nelson)","2011-03-08",0.4]
["Nelson (Nelson)-18-11-2012","Nelson (Nelson)","2012-11-18",1.6]
["Nelson (Nelson)-25-1-2013","Nelson (Nelson)","2013-01-25",0]
["Nelson (Nelson)-28-12-2013","Nelson (Nelson)","2013-12-28",0.4]
["Nelson (Nelson)-16-12-2014","Nelson (Nelson)","2014-12-16",0]
["Nelson (Nelson)-18-11-2015","Nelson (Nelson)","2015-11-18",0]
["Nelson (Nelson)-5-11-2016","Nelson (Nelson)","2016-11-05",0]
["Nelson (Nelson)-8-10-2017","Nelson (Nelson)","2017-10-08",12.2]
["Nelson (Nelson)-10-9-2018","Nelson (Nelson)","2018-09-10",0]
["Nelson (Nelson)-29-8-2019","Nelson (Nelson)","2019-08-29",0]
["Nelson (Nelson)-31-7-2020","Nelson (Nelson)","2020-07-31",0.2]
["Nelson (Nelson)-19-7-2021","Nelson (Nelson)","2021-07-19",0.2]
["Nelson (Nelson)-21-6-2022","Nelson (Nelson)","2022-06-21",0.2]
["New Plymouth (Taranaki)-31-1-1961","New Plymouth (Taranaki)","1961-01-31",0]
["New Plymouth (Taranaki)-10-5-1961","New Plymouth (Taranaki)","1961-05-10",0.4]
["New Plymouth (Taranaki)-12-4-1962","New Plymouth (Taranaki)","1962-04-12",0]
[{"$f":"_xlfn.CONCAT(B369347,\"-\",DAY(C369347),\"-\",MONTH(C369347),\"-\",YEAR(C369347))","v":"New Plymouth (Taranaki)-15-3-1963"},"New Plymouth (Taranaki)","1963-03-15",2.1]
["New Plymouth (Taranaki)-2-3-1964","New Plymouth (Taranaki)","1964-03-02",0]
["New Plymouth (Taranaki)-2-2-1965","New Plymouth (Taranaki)","1965-02-02",0]
["New Plymouth (Taranaki)-21-1-1966","New Plymouth (Taranaki)","1966-01-21",69.2]
["New Plymouth (Taranaki)-24-12-1966","New Plymouth (Taranaki)","1966-12-24",1.9]
["New Plymouth (Taranaki)-26-11-1967","New Plymouth (Taranaki)","1967-11-26",0]
["New Plymouth (Taranaki)-13-11-1968","New Plymouth (Taranaki)","1968-11-13",0]
["New Plymouth (Taranaki)-16-10-1969","New Plymouth (Taranaki)","1969-10-16",11.4]
["New Plymouth (Taranaki)-18-2-1971","New Plymouth (Taranaki)","1971-02-18",5.9]
["New Plymouth (Taranaki)-5-9-1971","New Plymouth (Taranaki)","1971-09-05",5]
["New Plymouth (Taranaki)-7-8-1972","New Plymouth (Taranaki)","1972-08-07",0]
["New Plymouth (Taranaki)-26-7-1973","New Plymouth (Taranaki)","1973-07-26",0]
["New Plymouth (Taranaki)-28-6-1974","New Plymouth (Taranaki)","1974-06-28",0]
["New Plymouth (Taranaki)-31-5-1975","New Plymouth (Taranaki)","1975-05-31",6.3]
["New Plymouth (Taranaki)-18-5-1976","New Plymouth (Taranaki)","1976-05-18",1.5]
["New Plymouth (Taranaki)-20-4-1977","New Plymouth (Taranaki)","1977-04-20",0]
["New Plymouth (Taranaki)-8-4-1978","New Plymouth (Taranaki)","1978-04-08",0]
["New Plymouth (Taranaki)-11-3-1979","New Plymouth (Taranaki)","1979-03-11",0.9]
["New Plymouth (Taranaki)-11-2-1980","New Plymouth (Taranaki)","1980-02-11",0]
["New Plymouth (Taranaki)-29-1-1981","New Plymouth (Taranaki)","1981-01-29",0]
["New Plymouth (Taranaki)-5-11-1982","New Plymouth (Taranaki)","1982-11-05",0]
["New Plymouth (Taranaki)-3-12-1982","New Plymouth (Taranaki)","1982-12-03",0.8]
["New Plymouth (Taranaki)-21-11-1983","New Plymouth (Taranaki)","1983-11-21",0]
["New Plymouth (Taranaki)-23-10-1984","New Plymouth (Taranaki)","1984-10-23",0]
["New Plymouth (Taranaki)-11-10-1985","New Plymouth (Taranaki)","1985-10-11",0]
["New Plymouth (Taranaki)-13-9-1986","New Plymouth (Taranaki)","1986-09-13",0]
["New Plymouth (Taranaki)-16-8-1987","New Plymouth (Taranaki)","1987-08-16",0]
["New Plymouth (Taranaki)-3-8-1988","New Plymouth (Taranaki)","1988-08-03",0]
["New Plymouth (Taranaki)-6-7-1989","New Plymouth (Taranaki)","1989-07-06",0]
["New Plymouth (Taranaki)-24-6-1990","New Plymouth (Taranaki)","1990-06-24",0]
["New Plymouth (Taranaki)-27-5-1991","New Plymouth (Taranaki)","1991-05-27",14.3]
["New Plymouth (Taranaki)-28-4-1992","New Plymouth (Taranaki)","1992-04-28",0]
["New Plymouth (Taranaki)-14-8-1993","New Plymouth (Taranaki)","1993-08-14",9.4]
["New Plymouth (Taranaki)-18-3-1994","New Plymouth (Taranaki)","1994-03-18",8.6]
["New Plymouth (Taranaki)-18-2-1995","New Plymouth (Taranaki)","1995-02-18",0]
["New Plymouth (Taranaki)-6-2-1996","New Plymouth (Taranaki)","1996-02-06",16.399999999999999]
["New Plymouth (Taranaki)-8-1-1997","New Plymouth (Taranaki)","1997-01-08",0]
["New Plymouth (Taranaki)-27-12-1997","New Plymouth (Taranaki)","1997-12-27",0]
["New Plymouth (Taranaki)-29-11-1998","New Plymouth (Taranaki)","1998-11-29",14.2]
["New Plymouth (Taranaki)-1-11-1999","New Plymouth (Taranaki)","1999-11-01",0]
["New Plymouth (Taranaki)-19-10-2000","New Plymouth (Taranaki)","2000-10-19",0]
["New Plymouth (Taranaki)-21-9-2001","New Plymouth (Taranaki)","2001-09-21",3]
["New Plymouth (Taranaki)-24-8-2002","New Plymouth (Taranaki)","2002-08-24",24.2]
["New Plymouth (Taranaki)-12-8-2003","New Plymouth (Taranaki)","2003-08-12",0]
["New Plymouth (Taranaki)-27-10-2004","New Plymouth (Taranaki)","2004-10-27",0]
["New Plymouth (Taranaki)-1-7-2005","New Plymouth (Taranaki)","2005-07-01",0.2]
["New Plymouth (Taranaki)-3-6-2006","New Plymouth (Taranaki)","2006-06-03",2.6]
["New Plymouth (Taranaki)-6-5-2007","New Plymouth (Taranaki)","2007-05-06",0.2]
["New Plymouth (Taranaki)-23-4-2008","New Plymouth (Taranaki)","2008-04-23",0]
["New Plymouth (Taranaki)-26-3-2009","New Plymouth (Taranaki)","2009-03-26",0]
["New Plymouth (Taranaki)-14-3-2010","New Plymouth (Taranaki)","2010-03-14",0]
["New Plymouth (Taranaki)-14-2-2011","New Plymouth (Taranaki)","2011-02-14",0]
["New Plymouth (Taranaki)-17-1-2012","New Plymouth (Taranaki)","2012-01-17",0.2]
["New Plymouth (Taranaki)-4-1-2013","New Plymouth (Taranaki)","2013-01-04",0]
["New Plymouth (Taranaki)-7-12-2013","New Plymouth (Taranaki)","2013-12-07",4.8]
["New Plymouth (Taranaki)-19-10-2015","New Plymouth (Taranaki)","2015-10-19",0]
["New Plymouth (Taranaki)-14-7-2016","New Plymouth (Taranaki)","2016-07-14",1.8]
["New Plymouth (Taranaki)-7-9-2017","New Plymouth (Taranaki)","2017-09-07",8]
["New Plymouth (Taranaki)-16-9-2017","New Plymouth (Taranaki)","2017-09-16",3.6]
["New Plymouth (Taranaki)-19-8-2018","New Plymouth (Taranaki)","2018-08-19",5]
["New Plymouth (Taranaki)-30-6-2020","New Plymouth (Taranaki)","2020-06-30",0]
["New Plymouth (Taranaki)-9-7-2020","New Plymouth (Taranaki)","2020-07-09",0]
["New Plymouth (Taranaki)-21-5-2022","New Plymouth (Taranaki)","2022-05-21",1.8]
["New Plymouth (Taranaki)-30-5-2022","New Plymouth (Taranaki)","2022-05-30",31]
["Queenstown (Otago)-10-4-1961","Queenstown (Otago)","1961-04-10",3.8]
["Queenstown (Otago)-13-3-1962","Queenstown (Otago)","1962-03-13",4.4000000000000004]
["Queenstown (Otago)-1-3-1963","Queenstown (Otago)","1963-03-01",0]
["Queenstown (Otago)-1-2-1964","Queenstown (Otago)","1964-02-01",2.5]
["Queenstown (Otago)-26-9-1964","Queenstown (Otago)","1964-09-26",0]
["Queenstown (Otago)-21-12-1965","Queenstown (Otago)","1965-12-21",0]
["Queenstown (Otago)-23-11-1966","Queenstown (Otago)","1966-11-23",9.3000000000000007]
["Queenstown (Otago)-11-11-1967","Queenstown (Otago)","1967-11-11",5.0999999999999996]
["Queenstown (Otago)-13-10-1968","Queenstown (Otago)","1968-10-13",3.3]
["Queenstown (Otago)-15-9-1969","Queenstown (Otago)","1969-09-15",2.8]
["Queenstown (Otago)-3-9-1970","Queenstown (Otago)","1970-09-03",0]
["Queenstown (Otago)-6-8-1971","Queenstown (Otago)","1971-08-06",0.3]
["Queenstown (Otago)-8-7-1972","Queenstown (Otago)","1972-07-08",0]
["Queenstown (Otago)-26-6-1973","Queenstown (Otago)","1973-06-26",1.2]
["Queenstown (Otago)-29-5-1974","Queenstown (Otago)","1974-05-29",0]
["Queenstown (Otago)-18-4-1975","Queenstown (Otago)","1975-04-18",0]
["Queenstown (Otago)-17-4-1976","Queenstown (Otago)","1976-04-17",0]
["Queenstown (Otago)-20-3-1977","Queenstown (Otago)","1977-03-20",0]
["Queenstown (Otago)-8-3-1978","Queenstown (Otago)","1978-03-08",0]
["Queenstown (Otago)-8-2-1979","Queenstown (Otago)","1979-02-08",0]
["Queenstown (Otago)-27-1-1980","Queenstown (Otago)","1980-01-27",0]
["Queenstown (Otago)-29-12-1980","Queenstown (Otago)","1980-12-29",0]
["Queenstown (Otago)-1-12-1981","Queenstown (Otago)","1981-12-01",1.1000000000000001]
["Queenstown (Otago)-19-11-1982","Queenstown (Otago)","1982-11-19",13.3]
["Queenstown (Otago)-22-10-1983","Queenstown (Otago)","1983-10-22",0]
["Queenstown (Otago)-23-9-1984","Queenstown (Otago)","1984-09-23",0]
["Queenstown (Otago)-11-9-1985","Queenstown (Otago)","1985-09-11",0]
["Queenstown (Otago)-1-7-1986","Queenstown (Otago)","1986-07-01",2.4]
["Queenstown (Otago)-1-8-1987","Queenstown (Otago)","1987-08-01",0.5]
["Queenstown (Otago)-3-7-1988","Queenstown (Otago)","1988-07-03",0]
["Queenstown (Otago)-5-6-1989","Queenstown (Otago)","1989-06-05",0]
["Queenstown (Otago)-24-5-1990","Queenstown (Otago)","1990-05-24",0]
[{"$f":"_xlfn.CONCAT(B402627,\"-\",DAY(C402627),\"-\",MONTH(C402627),\"-\",YEAR(C402627))","v":"Queenstown (Otago)-26-4-1991"},"Queenstown (Otago)","1991-04-26",0]
["Queenstown (Otago)-28-3-1992","Queenstown (Otago)","1992-03-28",7.1]
["Queenstown (Otago)-16-3-1993","Queenstown (Otago)","1993-03-16",0.8]
["Queenstown (Otago)-16-2-1994","Queenstown (Otago)","1994-02-16",0]
["Queenstown (Otago)-4-2-1995","Queenstown (Otago)","1995-02-04",5.4]
["Queenstown (Otago)-7-1-1996","Queenstown (Otago)","1996-01-07",0]
["Queenstown (Otago)-9-12-1996","Queenstown (Otago)","1996-12-09",0]
["Queenstown (Otago)-9-4-1997","Queenstown (Otago)","1997-04-09",1]
["Queenstown (Otago)-29-10-1998","Queenstown (Otago)","1998-10-29",1.4]
["Queenstown (Otago)-17-10-1999","Queenstown (Otago)","1999-10-17",0]
["Queenstown (Otago)-18-9-2000","Queenstown (Otago)","2000-09-18",0]
["Queenstown (Otago)-21-8-2001","Queenstown (Otago)","2001-08-21",28.2]
["Queenstown (Otago)-9-8-2002","Queenstown (Otago)","2002-08-09",0]
["Queenstown (Otago)-12-7-2003","Queenstown (Otago)","2003-07-12",0]
["Queenstown (Otago)-13-6-2004","Queenstown (Otago)","2004-06-13",0]
["Queenstown (Otago)-1-6-2005","Queenstown (Otago)","2005-06-01",0.2]
["Queenstown (Otago)-4-5-2006","Queenstown (Otago)","2006-05-04",0]
["Queenstown (Otago)-22-4-2007","Queenstown (Otago)","2007-04-22",0]
["Queenstown (Otago)-24-3-2008","Queenstown (Otago)","2008-03-24",0]
["Queenstown (Otago)-22-6-2008","Queenstown (Otago)","2008-06-22",0.8]
["Queenstown (Otago)-11-2-2010","Queenstown (Otago)","2010-02-11",0]
["Queenstown (Otago)-14-1-2011","Queenstown (Otago)","2011-01-14",0]
["Queenstown (Otago)-2-1-2012","Queenstown (Otago)","2012-01-02",0]
["Queenstown (Otago)-4-12-2012","Queenstown (Otago)","2012-12-04",1.8]
["Queenstown (Otago)-6-11-2013","Queenstown (Otago)","2013-11-06",0]
["Queenstown (Otago)-25-10-2014","Queenstown (Otago)","2014-10-25",0]
["Queenstown (Otago)-27-9-2015","Queenstown (Otago)","2015-09-27",0]
["Queenstown (Otago)-29-8-2016","Queenstown (Otago)","2016-08-29",0]
["Queenstown (Otago)-17-8-2017","Queenstown (Otago)","2017-08-17",4]
["Queenstown (Otago)-20-7-2018","Queenstown (Otago)","2018-07-20",0.2]
["Queenstown (Otago)-8-7-2019","Queenstown (Otago)","2019-07-08",0]
["Queenstown (Otago)-9-3-2020","Queenstown (Otago)","2020-03-09",3.6]
["Queenstown (Otago)-11-5-2021","Queenstown (Otago)","2021-05-11",11.2]
["Queenstown (Otago)-29-4-2022","Queenstown (Otago)","2022-04-29",0]
["Reefton (West Coast)-31-3-1960","Reefton (West Coast)","1960-03-31",2]
["Reefton (West Coast)-3-3-1961","Reefton (West Coast)","1961-03-03",0.5]
["Reefton (West Coast)-19-2-1962","Reefton (West Coast)","1962-02-19",0]
["Reefton (West Coast)-22-1-1963","Reefton (West Coast)","1963-01-22",0]
["Reefton (West Coast)-10-1-1964","Reefton (West Coast)","1964-01-10",31.8]
["Reefton (West Coast)-12-12-1964","Reefton (West Coast)","1964-12-12",4.5999999999999996]
["Reefton (West Coast)-14-11-1965","Reefton (West Coast)","1965-11-14",4.0999999999999996]
["Reefton (West Coast)-2-11-1966","Reefton (West Coast)","1966-11-02",15.2]
["Reefton (West Coast)-5-10-1967","Reefton (West Coast)","1967-10-05",2.2999999999999998]
["Reefton (West Coast)-17-12-1967","Reefton (West Coast)","1967-12-17",0]
["Reefton (West Coast)-24-8-1969","Reefton (West Coast)","1969-08-24",0]
["Reefton (West Coast)-27-7-1970","Reefton (West Coast)","1970-07-27",9.4]
["Reefton (West Coast)-15-7-1971","Reefton (West Coast)","1971-07-15",0]
["Reefton (West Coast)-16-6-1972","Reefton (West Coast)","1972-06-16",5.3]
["Reefton (West Coast)-19-5-1973","Reefton (West Coast)","1973-05-19",11.2]
["Reefton (West Coast)-7-5-1974","Reefton (West Coast)","1974-05-07",18.100000000000001]
["Reefton (West Coast)-9-4-1975","Reefton (West Coast)","1975-04-09",0]
["Reefton (West Coast)-27-3-1976","Reefton (West Coast)","1976-03-27",2]
["Reefton (West Coast)-27-2-1977","Reefton (West Coast)","1977-02-27",0]
["Reefton (West Coast)-30-1-1978","Reefton (West Coast)","1978-01-30",0.1]
["Reefton (West Coast)-12-12-1978","Reefton (West Coast)","1978-12-12",10.1]
["Reefton (West Coast)-20-12-1979","Reefton (West Coast)","1979-12-20",8.6]
["Reefton (West Coast)-21-11-1980","Reefton (West Coast)","1980-11-21",10.4]
["Reefton (West Coast)-9-11-1981","Reefton (West Coast)","1981-11-09",6.2]
["Reefton (West Coast)-12-10-1982","Reefton (West Coast)","1982-10-12",2.6]
["Reefton (West Coast)-30-9-1983","Reefton (West Coast)","1983-09-30",9.6]
["Reefton (West Coast)-1-9-1984","Reefton (West Coast)","1984-09-01",0]
["Reefton (West Coast)-4-8-1985","Reefton (West Coast)","1985-08-04",0]
["Reefton (West Coast)-23-7-1986","Reefton (West Coast)","1986-07-23",0.2]
["Reefton (West Coast)-25-6-1987","Reefton (West Coast)","1987-06-25",0]
["Reefton (West Coast)-12-6-1988","Reefton (West Coast)","1988-06-12",0]
["Reefton (West Coast)-15-5-1989","Reefton (West Coast)","1989-05-15",2.4]
["Reefton (West Coast)-24-2-1990","Reefton (West Coast)","1990-02-24",3.6]
["Reefton (West Coast)-4-4-1991","Reefton (West Coast)","1991-04-04",15.6]
["Reefton (West Coast)-6-3-1992","Reefton (West Coast)","1992-03-06",0]
["Reefton (West Coast)-6-2-1993","Reefton (West Coast)","1993-02-06",0]
["Reefton (West Coast)-25-1-1994","Reefton (West Coast)","1994-01-25",0]
["Reefton (West Coast)-28-12-1994","Reefton (West Coast)","1994-12-28",3.4]
["Reefton (West Coast)-16-12-1995","Reefton (West Coast)","1995-12-16",0]
["Reefton (West Coast)-17-11-1996","Reefton (West Coast)","1996-11-17",0]
["Reefton (West Coast)-20-10-1997","Reefton (West Coast)","1997-10-20",6.4]
["Reefton (West Coast)-8-10-1998","Reefton (West Coast)","1998-10-08",38.4]
["Reefton (West Coast)-10-9-1999","Reefton (West Coast)","1999-09-10",0]
["Reefton (West Coast)-28-8-2000","Reefton (West Coast)","2000-08-28",1.6]
["Reefton (West Coast)-3-12-2000","Reefton (West Coast)","2000-12-03",0]
["Reefton (West Coast)-2-7-2002","Reefton (West Coast)","2002-07-02",6]
["Reefton (West Coast)-20-6-2003","Reefton (West Coast)","2003-06-20",4.5999999999999996]
["Reefton (West Coast)-22-5-2004","Reefton (West Coast)","2004-05-22",0]
["Reefton (West Coast)-24-4-2005","Reefton (West Coast)","2005-04-24",0]
["Reefton (West Coast)-12-4-2006","Reefton (West Coast)","2006-04-12",1.2]
["Reefton (West Coast)-15-3-2007","Reefton (West Coast)","2007-03-15",5]
["Reefton (West Coast)-2-3-2008","Reefton (West Coast)","2008-03-02",3.4]
["Reefton (West Coast)-2-2-2009","Reefton (West Coast)","2009-02-02",0]
["Reefton (West Coast)-5-1-2010","Reefton (West Coast)","2010-01-05",0]
["Reefton (West Coast)-24-12-2010","Reefton (West Coast)","2010-12-24",6.8]
["Reefton (West Coast)-26-11-2011","Reefton (West Coast)","2011-11-26",0]
["Reefton (West Coast)-24-1-2013","Reefton (West Coast)","2013-01-24",0]
["Reefton (West Coast)-15-10-2013","Reefton (West Coast)","2013-10-15",14.8]
["Reefton (West Coast)-17-9-2014","Reefton (West Coast)","2014-09-17",0.2]
["Reefton (West Coast)-5-9-2015","Reefton (West Coast)","2015-09-05",16.8]
["Reefton (West Coast)-7-8-2016","Reefton (West Coast)","2016-08-07",0]
["Reefton (West Coast)-10-7-2017","Reefton (West Coast)","2017-07-10",0.8]
["Reefton (West Coast)-28-6-2018","Reefton (West Coast)","2018-06-28",0]
["Reefton (West Coast)-31-5-2019","Reefton (West Coast)","2019-05-31",32]
["Reefton (West Coast)-18-5-2020","Reefton (West Coast)","2020-05-18",0]
["Reefton (West Coast)-20-4-2021","Reefton (West Coast)","2021-04-20",1.8]
["Reefton (West Coast)-23-3-2022","Reefton (West Coast)","2022-03-23",1]
["Rotorua (Bay of Plenty)-10-3-1960","Rotorua (Bay of Plenty)","1960-03-10",5.8]
["Rotorua (Bay of Plenty)-2-11-1960","Rotorua (Bay of Plenty)","1960-11-02",0]
["Rotorua (Bay of Plenty)-12-1-1962","Rotorua (Bay of Plenty)","1962-01-12",0]
["Rotorua (Bay of Plenty)-31-12-1962","Rotorua (Bay of Plenty)","1962-12-31",0]
["Rotorua (Bay of Plenty)-3-12-1963","Rotorua (Bay of Plenty)","1963-12-03",1.8]
["Rotorua (Bay of Plenty)-20-11-1964","Rotorua (Bay of Plenty)","1964-11-20",0]
["Rotorua (Bay of Plenty)-23-10-1965","Rotorua (Bay of Plenty)","1965-10-23",0]
["Rotorua (Bay of Plenty)-25-9-1966","Rotorua (Bay of Plenty)","1966-09-25",0]
["Rotorua (Bay of Plenty)-13-9-1967","Rotorua (Bay of Plenty)","1967-09-13",15.9]
["Rotorua (Bay of Plenty)-15-8-1968","Rotorua (Bay of Plenty)","1968-08-15",0.4]
["Rotorua (Bay of Plenty)-3-8-1969","Rotorua (Bay of Plenty)","1969-08-03",0]
["Rotorua (Bay of Plenty)-6-7-1970","Rotorua (Bay of Plenty)","1970-07-06",0.6]
["Rotorua (Bay of Plenty)-8-6-1971","Rotorua (Bay of Plenty)","1971-06-08",2.8]
[{"$f":"_xlfn.CONCAT(B441795,\"-\",DAY(C441795),\"-\",MONTH(C441795),\"-\",YEAR(C441795))","v":"Rotorua (Bay of Plenty)-20-7-1972"},"Rotorua (Bay of Plenty)","1972-07-20",0.3]
["Rotorua (Bay of Plenty)-27-4-1973","Rotorua (Bay of Plenty)","1973-04-27",0]
["Rotorua (Bay of Plenty)-30-3-1974","Rotorua (Bay of Plenty)","1974-03-30",0]
["Rotorua (Bay of Plenty)-18-3-1975","Rotorua (Bay of Plenty)","1975-03-18",0]
["Rotorua (Bay of Plenty)-18-2-1976","Rotorua (Bay of Plenty)","1976-02-18",0]
["Rotorua (Bay of Plenty)-5-2-1977","Rotorua (Bay of Plenty)","1977-02-05",0]
["Rotorua (Bay of Plenty)-8-1-1978","Rotorua (Bay of Plenty)","1978-01-08",3.5]
["Rotorua (Bay of Plenty)-11-12-1978","Rotorua (Bay of Plenty)","1978-12-11",0.4]
[{"$f":"_xlfn.CONCAT(B444483,\"-\",DAY(C444483),\"-\",MONTH(C444483),\"-\",YEAR(C444483))","v":"Rotorua (Bay of Plenty)-29-11-1979"},"Rotorua (Bay of Plenty)","1979-11-29",7.5]
["Rotorua (Bay of Plenty)-31-10-1980","Rotorua (Bay of Plenty)","1980-10-31",0]
["Rotorua (Bay of Plenty)-3-10-1981","Rotorua (Bay of Plenty)","1981-10-03",0]
["Rotorua (Bay of Plenty)-7-8-1982","Rotorua (Bay of Plenty)","1982-08-07",0]
["Rotorua (Bay of Plenty)-23-8-1983","Rotorua (Bay of Plenty)","1983-08-23",0]
["Rotorua (Bay of Plenty)-10-8-1984","Rotorua (Bay of Plenty)","1984-08-10",0]
["Rotorua (Bay of Plenty)-13-7-1985","Rotorua (Bay of Plenty)","1985-07-13",9.4]
["Rotorua (Bay of Plenty)-15-6-1986","Rotorua (Bay of Plenty)","1986-06-15",0]
["Rotorua (Bay of Plenty)-3-6-1987","Rotorua (Bay of Plenty)","1987-06-03",0]
["Rotorua (Bay of Plenty)-5-5-1988","Rotorua (Bay of Plenty)","1988-05-05",0]
["Rotorua (Bay of Plenty)-23-4-1989","Rotorua (Bay of Plenty)","1989-04-23",0]
["Rotorua (Bay of Plenty)-26-3-1990","Rotorua (Bay of Plenty)","1990-03-26",0]
["Rotorua (Bay of Plenty)-26-2-1991","Rotorua (Bay of Plenty)","1991-02-26",0]
["Rotorua (Bay of Plenty)-14-2-1992","Rotorua (Bay of Plenty)","1992-02-14",8.4]
["Rotorua (Bay of Plenty)-16-1-1993","Rotorua (Bay of Plenty)","1993-01-16",0]
["Rotorua (Bay of Plenty)-20-10-1993","Rotorua (Bay of Plenty)","1993-10-20",0]
["Rotorua (Bay of Plenty)-6-12-1994","Rotorua (Bay of Plenty)","1994-12-06",0]
["Rotorua (Bay of Plenty)-8-11-1995","Rotorua (Bay of Plenty)","1995-11-08",0]
["Rotorua (Bay of Plenty)-26-10-1996","Rotorua (Bay of Plenty)","1996-10-26",4]
["Rotorua (Bay of Plenty)-28-9-1997","Rotorua (Bay of Plenty)","1997-09-28",0]
["Rotorua (Bay of Plenty)-31-8-1998","Rotorua (Bay of Plenty)","1998-08-31",0]
["Rotorua (Bay of Plenty)-19-8-1999","Rotorua (Bay of Plenty)","1999-08-19",0]
["Rotorua (Bay of Plenty)-21-7-2000","Rotorua (Bay of Plenty)","2000-07-21",15.6]
["Rotorua (Bay of Plenty)-23-6-2001","Rotorua (Bay of Plenty)","2001-06-23",1.2]
["Rotorua (Bay of Plenty)-11-6-2002","Rotorua (Bay of Plenty)","2002-06-11",2.2000000000000002]
["Rotorua (Bay of Plenty)-14-5-2003","Rotorua (Bay of Plenty)","2003-05-14",0]
["Rotorua (Bay of Plenty)-1-5-2004","Rotorua (Bay of Plenty)","2004-05-01",23]
["Rotorua (Bay of Plenty)-7-7-2005","Rotorua (Bay of Plenty)","2005-07-07",19]
["Rotorua (Bay of Plenty)-5-3-2006","Rotorua (Bay of Plenty)","2006-03-05",0]
["Rotorua (Bay of Plenty)-21-2-2007","Rotorua (Bay of Plenty)","2007-02-21",0]
["Rotorua (Bay of Plenty)-24-1-2008","Rotorua (Bay of Plenty)","2008-01-24",0]
["Rotorua (Bay of Plenty)-11-1-2009","Rotorua (Bay of Plenty)","2009-01-11",0]
["Rotorua (Bay of Plenty)-14-12-2009","Rotorua (Bay of Plenty)","2009-12-14",2.2000000000000002]
["Rotorua (Bay of Plenty)-16-11-2010","Rotorua (Bay of Plenty)","2010-11-16",0]
["Rotorua (Bay of Plenty)-4-11-2011","Rotorua (Bay of Plenty)","2011-11-04",0]
["Rotorua (Bay of Plenty)-6-10-2012","Rotorua (Bay of Plenty)","2012-10-06",0.4]
["Rotorua (Bay of Plenty)-8-9-2013","Rotorua (Bay of Plenty)","2013-09-08",1]
["Rotorua (Bay of Plenty)-27-8-2014","Rotorua (Bay of Plenty)","2014-08-27",0]
["Rotorua (Bay of Plenty)-30-7-2015","Rotorua (Bay of Plenty)","2015-07-30",0.2]
["Rotorua (Bay of Plenty)-15-4-2016","Rotorua (Bay of Plenty)","2016-04-15",0]
["Rotorua (Bay of Plenty)-18-6-2017","Rotorua (Bay of Plenty)","2017-06-18",0.8]
["Rotorua (Bay of Plenty)-21-5-2018","Rotorua (Bay of Plenty)","2018-05-21",1.4]
["Rotorua (Bay of Plenty)-9-5-2019","Rotorua (Bay of Plenty)","2019-05-09",1.8]
["Rotorua (Bay of Plenty)-10-4-2020","Rotorua (Bay of Plenty)","2020-04-10",0]
["Rotorua (Bay of Plenty)-29-3-2021","Rotorua (Bay of Plenty)","2021-03-29",17.600000000000001]
["Rotorua (Bay of Plenty)-1-3-2022","Rotorua (Bay of Plenty)","2022-03-01",0.1]
["Tara Hills (Canterbury)-1-2-1960","Tara Hills (Canterbury)","1960-02-01",0]
["Tara Hills (Canterbury)-19-1-1961","Tara Hills (Canterbury)","1961-01-19",88.1]
["Tara Hills (Canterbury)-22-12-1961","Tara Hills (Canterbury)","1961-12-22",1.5]
["Tara Hills (Canterbury)-24-11-1962","Tara Hills (Canterbury)","1962-11-24",0]
["Tara Hills (Canterbury)-12-11-1963","Tara Hills (Canterbury)","1963-11-12",0]
["Tara Hills (Canterbury)-28-6-1964","Tara Hills (Canterbury)","1964-06-28",0]
["Tara Hills (Canterbury)-1-10-1965","Tara Hills (Canterbury)","1965-10-01",21.6]
[{"$f":"_xlfn.CONCAT(B462659,\"-\",DAY(C462659),\"-\",MONTH(C462659),\"-\",YEAR(C462659))","v":"Tara Hills (Canterbury)-3-9-1966"},"Tara Hills (Canterbury)","1966-09-03",0]
["Tara Hills (Canterbury)-6-8-1967","Tara Hills (Canterbury)","1967-08-06",0]
["Tara Hills (Canterbury)-24-7-1968","Tara Hills (Canterbury)","1968-07-24",1.8]
["Tara Hills (Canterbury)-26-6-1969","Tara Hills (Canterbury)","1969-06-26",4.3]
["Tara Hills (Canterbury)-29-5-1970","Tara Hills (Canterbury)","1970-05-29",0]
["Tara Hills (Canterbury)-17-5-1971","Tara Hills (Canterbury)","1971-05-17",0]
["Tara Hills (Canterbury)-18-4-1972","Tara Hills (Canterbury)","1972-04-18",0.5]
["Tara Hills (Canterbury)-6-4-1973","Tara Hills (Canterbury)","1973-04-06",0]
["Tara Hills (Canterbury)-9-3-1974","Tara Hills (Canterbury)","1974-03-09",0]
["Tara Hills (Canterbury)-9-2-1975","Tara Hills (Canterbury)","1975-02-09",0]
["Tara Hills (Canterbury)-15-3-1976","Tara Hills (Canterbury)","1976-03-15",0]
["Tara Hills (Canterbury)-29-12-1976","Tara Hills (Canterbury)","1976-12-29",5.8]
["Tara Hills (Canterbury)-17-12-1977","Tara Hills (Canterbury)","1977-12-17",0]
["Tara Hills (Canterbury)-19-11-1978","Tara Hills (Canterbury)","1978-11-19",0]
["Tara Hills (Canterbury)-22-10-1979","Tara Hills (Canterbury)","1979-10-22",0.1]
["Tara Hills (Canterbury)-9-10-1980","Tara Hills (Canterbury)","1980-10-09",3.9]
["Tara Hills (Canterbury)-11-9-1981","Tara Hills (Canterbury)","1981-09-11",0]
[{"$f":"_xlfn.CONCAT(B468483,\"-\",DAY(C468483),\"-\",MONTH(C468483),\"-\",YEAR(C468483))","v":"Tara Hills (Canterbury)-14-8-1982"},"Tara Hills (Canterbury)","1982-08-14",0.1]
["Tara Hills (Canterbury)-2-8-1983","Tara Hills (Canterbury)","1983-08-02",2.1]
["Tara Hills (Canterbury)-4-7-1984","Tara Hills (Canterbury)","1984-07-04",0]
["Tara Hills (Canterbury)-22-6-1985","Tara Hills (Canterbury)","1985-06-22",0]
["Tara Hills (Canterbury)-2-4-1986","Tara Hills (Canterbury)","1986-04-02",0.6]
["Tara Hills (Canterbury)-26-4-1987","Tara Hills (Canterbury)","1987-04-26",0]
["Tara Hills (Canterbury)-13-4-1988","Tara Hills (Canterbury)","1988-04-13",0]
["Tara Hills (Canterbury)-16-3-1989","Tara Hills (Canterbury)","1989-03-16",0.6]
["Tara Hills (Canterbury)-4-3-1990","Tara Hills (Canterbury)","1990-03-04",0]
["Tara Hills (Canterbury)-4-2-1991","Tara Hills (Canterbury)","1991-02-04",0]
["Tara Hills (Canterbury)-7-1-1992","Tara Hills (Canterbury)","1992-01-07",0]
["Tara Hills (Canterbury)-25-12-1992","Tara Hills (Canterbury)","1992-12-25",0.8]
["Tara Hills (Canterbury)-27-11-1993","Tara Hills (Canterbury)","1993-11-27",0]
["Tara Hills (Canterbury)-30-10-1994","Tara Hills (Canterbury)","1994-10-30",0]
["Tara Hills (Canterbury)-18-10-1995","Tara Hills (Canterbury)","1995-10-18",8]
["Tara Hills (Canterbury)-19-9-1996","Tara Hills (Canterbury)","1996-09-19",0]
["Tara Hills (Canterbury)-18-12-1997","Tara Hills (Canterbury)","1997-12-18",0]
["Tara Hills (Canterbury)-9-8-1998","Tara Hills (Canterbury)","1998-08-09",0]
["Tara Hills (Canterbury)-12-7-1999","Tara Hills (Canterbury)","1999-07-12",0]
["Tara Hills (Canterbury)-29-6-2000","Tara Hills (Canterbury)","2000-06-29",0.6]
["Tara Hills (Canterbury)-1-6-2001","Tara Hills (Canterbury)","2001-06-01",0]
["Tara Hills (Canterbury)-4-5-2002","Tara Hills (Canterbury)","2002-05-04",0]
["Tara Hills (Canterbury)-22-4-2003","Tara Hills (Canterbury)","2003-04-22",0]
["Tara Hills (Canterbury)-24-3-2004","Tara Hills (Canterbury)","2004-03-24",0]
["Tara Hills (Canterbury)-12-3-2005","Tara Hills (Canterbury)","2005-03-12",0]
["Tara Hills (Canterbury)-12-2-2006","Tara Hills (Canterbury)","2006-02-12",0]
["Tara Hills (Canterbury)-15-1-2007","Tara Hills (Canterbury)","2007-01-15",0]
["Tara Hills (Canterbury)-3-1-2008","Tara Hills (Canterbury)","2008-01-03",0]
["Tara Hills (Canterbury)-2-3-2009","Tara Hills (Canterbury)","2009-03-02",0]
["Tara Hills (Canterbury)-22-11-2009","Tara Hills (Canterbury)","2009-11-22",0.6]
["Tara Hills (Canterbury)-25-10-2010","Tara Hills (Canterbury)","2010-10-25",0]
["Tara Hills (Canterbury)-27-9-2011","Tara Hills (Canterbury)","2011-09-27",0]
["Tara Hills (Canterbury)-14-9-2012","Tara Hills (Canterbury)","2012-09-14",0]
["Tara Hills (Canterbury)-17-8-2013","Tara Hills (Canterbury)","2013-08-17",0]
["Tara Hills (Canterbury)-20-7-2014","Tara Hills (Canterbury)","2014-07-20",0]
["Tara Hills (Canterbury)-8-7-2015","Tara Hills (Canterbury)","2015-07-08",0]
["Tara Hills (Canterbury)-9-6-2016","Tara Hills (Canterbury)","2016-06-09",0.4]
["Tara Hills (Canterbury)-28-5-2017","Tara Hills (Canterbury)","2017-05-28",0]
["Tara Hills (Canterbury)-30-4-2018","Tara Hills (Canterbury)","2018-04-30",0]
["Tara Hills (Canterbury)-2-4-2019","Tara Hills (Canterbury)","2019-04-02",0]
[{"$f":"_xlfn.CONCAT(B482115,\"-\",DAY(C482115),\"-\",MONTH(C482115),\"-\",YEAR(C482115))","v":"Tara Hills (Canterbury)-10-12-2019"},"Tara Hills (Canterbury)","2019-12-10",0]
["Tara Hills (Canterbury)-19-2-2021","Tara Hills (Canterbury)","2021-02-19",0]
["Tara Hills (Canterbury)-22-1-2022","Tara Hills (Canterbury)","2022-01-22",0]
["Taumarunui (Manawatū-Whanganui)-10-1-1960","Taumarunui (Manawatū-Whanganui)","1960-01-10",0]
["Taumarunui (Manawatū-Whanganui)-12-12-1960","Taumarunui (Manawatū-Whanganui)","1960-12-12",0]
["Taumarunui (Manawatū-Whanganui)-30-11-1961","Taumarunui (Manawatū-Whanganui)","1961-11-30",11.9]
["Taumarunui (Manawatū-Whanganui)-2-11-1962","Taumarunui (Manawatū-Whanganui)","1962-11-02",11.9]
["Taumarunui (Manawatū-Whanganui)-5-10-1963","Taumarunui (Manawatū-Whanganui)","1963-10-05",0]
["Taumarunui (Manawatū-Whanganui)-22-9-1964","Taumarunui (Manawatū-Whanganui)","1964-09-22",3.1]
["Taumarunui (Manawatū-Whanganui)-25-8-1965","Taumarunui (Manawatū-Whanganui)","1965-08-25",0]
["Taumarunui (Manawatū-Whanganui)-13-8-1966","Taumarunui (Manawatū-Whanganui)","1966-08-13",0]
["Taumarunui (Manawatū-Whanganui)-16-7-1967","Taumarunui (Manawatū-Whanganui)","1967-07-16",0]
["Taumarunui (Manawatū-Whanganui)-30-1-1969","Taumarunui (Manawatū-Whanganui)","1969-01-30",9.6999999999999993]
["Taumarunui (Manawatū-Whanganui)-4-6-1969","Taumarunui (Manawatū-Whanganui)","1969-06-04",0]
["Taumarunui (Manawatū-Whanganui)-7-5-1970","Taumarunui (Manawatū-Whanganui)","1970-05-07",1.8]
["Taumarunui (Manawatū-Whanganui)-9-4-1971","Taumarunui (Manawatū-Whanganui)","1971-04-09",1.6]
["Taumarunui (Manawatū-Whanganui)-27-3-1972","Taumarunui (Manawatū-Whanganui)","1972-03-27",0]
["Taumarunui (Manawatū-Whanganui)-27-2-1973","Taumarunui (Manawatū-Whanganui)","1973-02-27",0]
["Taumarunui (Manawatū-Whanganui)-15-2-1974","Taumarunui (Manawatū-Whanganui)","1974-02-15",1.6]
["Taumarunui (Manawatū-Whanganui)-18-1-1975","Taumarunui (Manawatū-Whanganui)","1975-01-18",0]
["Taumarunui (Manawatū-Whanganui)-21-12-1975","Taumarunui (Manawatū-Whanganui)","1975-12-21",0.9]
["Taumarunui (Manawatū-Whanganui)-8-12-1976","Taumarunui (Manawatū-Whanganui)","1976-12-08",0]
["Taumarunui (Manawatū-Whanganui)-10-11-1977","Taumarunui (Manawatū-Whanganui)","1977-11-10",1.6]
["Taumarunui (Manawatū-Whanganui)-29-10-1978","Taumarunui (Manawatū-Whanganui)","1978-10-29",0]
["Taumarunui (Manawatū-Whanganui)-9-11-1979","Taumarunui (Manawatū-Whanganui)","1979-11-09",0]
["Taumarunui (Manawatū-Whanganui)-1-9-1980","Taumarunui (Manawatū-Whanganui)","1980-09-01",3.9]
["Taumarunui (Manawatū-Whanganui)-20-8-1981","Taumarunui (Manawatū-Whanganui)","1981-08-20",2.7]
["Taumarunui (Manawatū-Whanganui)-23-7-1982","Taumarunui (Manawatū-Whanganui)","1982-07-23",0]
["Taumarunui (Manawatū-Whanganui)-25-6-1983","Taumarunui (Manawatū-Whanganui)","1983-06-25",0.7]
["Taumarunui (Manawatū-Whanganui)-12-6-1984","Taumarunui (Manawatū-Whanganui)","1984-06-12",0]
["Taumarunui (Manawatū-Whanganui)-15-5-1985","Taumarunui (Manawatū-Whanganui)","1985-05-15",0.6]
["Taumarunui (Manawatū-Whanganui)-3-5-1986","Taumarunui (Manawatū-Whanganui)","1986-05-03",1.3]
["Taumarunui (Manawatū-Whanganui)-5-4-1987","Taumarunui (Manawatū-Whanganui)","1987-04-05",0]
["Taumarunui (Manawatū-Whanganui)-7-3-1988","Taumarunui (Manawatū-Whanganui)","1988-03-07",3.7]
["Taumarunui (Manawatū-Whanganui)-23-2-1989","Taumarunui (Manawatū-Whanganui)","1989-02-23",8.1999999999999993]
["Taumarunui (Manawatū-Whanganui)-26-11-1989","Taumarunui (Manawatū-Whanganui)","1989-11-26",0]
["Taumarunui (Manawatū-Whanganui)-28-12-1990","Taumarunui (Manawatū-Whanganui)","1990-12-28",1.1000000000000001]
["Taumarunui (Manawatū-Whanganui)-16-12-1991","Taumarunui (Manawatū-Whanganui)","1991-12-16",0]
["Taumarunui (Manawatū-Whanganui)-17-11-1992","Taumarunui (Manawatū-Whanganui)","1992-11-17",0]
["Taumarunui (Manawatū-Whanganui)-5-11-1993","Taumarunui (Manawatū-Whanganui)","1993-11-05",3.1]
["Taumarunui (Manawatū-Whanganui)-8-10-1994","Taumarunui (Manawatū-Whanganui)","1994-10-08",0]
["Taumarunui (Manawatū-Whanganui)-10-9-1995","Taumarunui (Manawatū-Whanganui)","1995-09-10",0]
["Taumarunui (Manawatū-Whanganui)-28-8-1996","Taumarunui (Manawatū-Whanganui)","1996-08-28",3.9]
["Taumarunui (Manawatū-Whanganui)-31-7-1997","Taumarunui (Manawatū-Whanganui)","1997-07-31",4.9000000000000004]
["Taumarunui (Manawatū-Whanganui)-19-7-1998","Taumarunui (Manawatū-Whanganui)","1998-07-19",0.8]
["Taumarunui (Manawatū-Whanganui)-21-6-1999","Taumarunui (Manawatū-Whanganui)","1999-06-21",0.7]
["Taumarunui (Manawatū-Whanganui)-23-5-2000","Taumarunui (Manawatū-Whanganui)","2000-05-23",0]
["Taumarunui (Manawatū-Whanganui)-13-8-2001","Taumarunui (Manawatū-Whanganui)","2001-08-13",3.1]
["Taumarunui (Manawatū-Whanganui)-12-4-2002","Taumarunui (Manawatū-Whanganui)","2002-04-12",0]
["Taumarunui (Manawatū-Whanganui)-15-3-2003","Taumarunui (Manawatū-Whanganui)","2003-03-15",0]
["Taumarunui (Manawatū-Whanganui)-2-3-2004","Taumarunui (Manawatū-Whanganui)","2004-03-02",8.9]
["Taumarunui (Manawatū-Whanganui)-2-2-2005","Taumarunui (Manawatū-Whanganui)","2005-02-02",6.2]
["Taumarunui (Manawatū-Whanganui)-21-1-2006","Taumarunui (Manawatū-Whanganui)","2006-01-21",0]
["Taumarunui (Manawatū-Whanganui)-24-12-2006","Taumarunui (Manawatū-Whanganui)","2006-12-24",2.2999999999999998]
["Taumarunui (Manawatū-Whanganui)-26-11-2007","Taumarunui (Manawatū-Whanganui)","2007-11-26",0]
["Taumarunui (Manawatū-Whanganui)-13-11-2008","Taumarunui (Manawatū-Whanganui)","2008-11-13",0]
["Taumarunui (Manawatū-Whanganui)-16-10-2009","Taumarunui (Manawatū-Whanganui)","2009-10-16",7.2]
["Taumarunui (Manawatū-Whanganui)-18-9-2010","Taumarunui (Manawatū-Whanganui)","2010-09-18",26.6]
["Taumarunui (Manawatū-Whanganui)-6-9-2011","Taumarunui (Manawatū-Whanganui)","2011-09-06",0]
["Taumarunui (Manawatū-Whanganui)-26-10-2012","Taumarunui (Manawatū-Whanganui)","2012-10-26",0]
["Taumarunui (Manawatū-Whanganui)-26-7-2013","Taumarunui (Manawatū-Whanganui)","2013-07-26",0]
["Taumarunui (Manawatū-Whanganui)-28-6-2014","Taumarunui (Manawatū-Whanganui)","2014-06-28",0.2]
["Taumarunui (Manawatū-Whanganui)-31-5-2015","Taumarunui (Manawatū-Whanganui)","2015-05-31",1]
["Taumarunui (Manawatū-Whanganui)-18-5-2016","Taumarunui (Manawatū-Whanganui)","2016-05-18",17.2]
["Taumarunui (Manawatū-Whanganui)-20-4-2017","Taumarunui (Manawatū-Whanganui)","2017-04-20",0]
[{"$f":"_xlfn.CONCAT(B504515,\"-\",DAY(C504515),\"-\",MONTH(C504515),\"-\",YEAR(C504515))","v":"Taumarunui (Manawatū-Whanganui)-8-4-2018"},"Taumarunui (Manawatū-Whanganui)","2018-04-08",1]
["Taumarunui (Manawatū-Whanganui)-11-3-2019","Taumarunui (Manawatū-Whanganui)","2019-03-11",0]
["Taumarunui (Manawatū-Whanganui)-11-2-2020","Taumarunui (Manawatū-Whanganui)","2020-02-11",0]
["Taumarunui (Manawatū-Whanganui)-29-1-2021","Taumarunui (Manawatū-Whanganui)","2021-01-29",0.2]
["Taumarunui (Manawatū-Whanganui)-1-1-2022","Taumarunui (Manawatū-Whanganui)","2022-01-01",0]
["Taumarunui (Manawatū-Whanganui)-4-12-2022","Taumarunui (Manawatū-Whanganui)","2022-12-04",0]
["Taupō (Waikato)-13-7-1961","Taupō (Waikato)","1961-07-13",6.1]
["Taupō (Waikato)-23-10-1961","Taupō (Waikato)","1961-10-23",0]
["Taupō (Waikato)-11-10-1962","Taupō (Waikato)","1962-10-11",7]
["Taupō (Waikato)-13-9-1963","Taupō (Waikato)","1963-09-13",30.8]
["Taupō (Waikato)-15-8-1964","Taupō (Waikato)","1964-08-15",0]
["Taupō (Waikato)-3-8-1965","Taupō (Waikato)","1965-08-03",0]
["Taupō (Waikato)-6-7-1966","Taupō (Waikato)","1966-07-06",1.5]
["Taupō (Waikato)-24-6-1967","Taupō (Waikato)","1967-06-24",0]
["Taupō (Waikato)-26-5-1968","Taupō (Waikato)","1968-05-26",0]
["Taupō (Waikato)-28-4-1969","Taupō (Waikato)","1969-04-28",4.5999999999999996]
["Taupō (Waikato)-16-4-1970","Taupō (Waikato)","1970-04-16",0]
[{"$f":"_xlfn.CONCAT(B510339,\"-\",DAY(C510339),\"-\",MONTH(C510339),\"-\",YEAR(C510339))","v":"Taupō (Waikato)-19-3-1971"},"Taupō (Waikato)","1971-03-19",0]
["Taupō (Waikato)-25-9-1972","Taupō (Waikato)","1972-09-25",0]
["Taupō (Waikato)-5-2-1973","Taupō (Waikato)","1973-02-05",0]
["Taupō (Waikato)-8-1-1974","Taupō (Waikato)","1974-01-08",0]
["Taupō (Waikato)-27-12-1974","Taupō (Waikato)","1974-12-27",0]
["Taupō (Waikato)-29-11-1975","Taupō (Waikato)","1975-11-29",0]
["Taupō (Waikato)-31-10-1976","Taupō (Waikato)","1976-10-31",1.7]
["Taupō (Waikato)-19-10-1977","Taupō (Waikato)","1977-10-19",0]
["Taupō (Waikato)-21-9-1978","Taupō (Waikato)","1978-09-21",0]
["Taupō (Waikato)-24-8-1979","Taupō (Waikato)","1979-08-24",4.2]
["Taupō (Waikato)-11-8-1980","Taupō (Waikato)","1980-08-11",0]
["Taupō (Waikato)-14-7-1981","Taupō (Waikato)","1981-07-14",0]
["Taupō (Waikato)-2-7-1982","Taupō (Waikato)","1982-07-02",0]
["Taupō (Waikato)-5-7-1983","Taupō (Waikato)","1983-07-05",0]
["Taupō (Waikato)-5-5-1984","Taupō (Waikato)","1984-05-05",0]
["Taupō (Waikato)-23-4-1985","Taupō (Waikato)","1985-04-23",0]
["Taupō (Waikato)-26-3-1986","Taupō (Waikato)","1986-03-26",0]
["Taupō (Waikato)-14-3-1987","Taupō (Waikato)","1987-03-14",0]
["Taupō (Waikato)-14-2-1988","Taupō (Waikato)","1988-02-14",4.9000000000000004]
["Taupō (Waikato)-16-1-1989","Taupō (Waikato)","1989-01-16",0]
["Taupō (Waikato)-4-1-1990","Taupō (Waikato)","1990-01-04",2.4]
["Taupō (Waikato)-7-12-1990","Taupō (Waikato)","1990-12-07",0]
["Taupō (Waikato)-9-11-1991","Taupō (Waikato)","1991-11-09",8.8000000000000007]
["Taupō (Waikato)-27-10-1992","Taupō (Waikato)","1992-10-27",0.2]
["Taupō (Waikato)-30-6-1994","Taupō (Waikato)","1994-06-30",0.2]
["Taupō (Waikato)-16-9-1994","Taupō (Waikato)","1994-09-16",2.8]
["Taupō (Waikato)-19-8-1995","Taupō (Waikato)","1995-08-19",0]
["Taupō (Waikato)-21-7-1996","Taupō (Waikato)","1996-07-21",7]
["Taupō (Waikato)-9-7-1997","Taupō (Waikato)","1997-07-09",0.4]
["Taupō (Waikato)-11-6-1998","Taupō (Waikato)","1998-06-11",0]
["Taupō (Waikato)-30-5-1999","Taupō (Waikato)","1999-05-30",3.4]
["Taupō (Waikato)-1-5-2000","Taupō (Waikato)","2000-05-01",0]
["Taupō (Waikato)-13-3-2002","Taupō (Waikato)","2002-03-13",0]
["Taupō (Waikato)-22-3-2002","Taupō (Waikato)","2002-03-22",0]
["Taupō (Waikato)-22-2-2003","Taupō (Waikato)","2003-02-22",0]
["Taupō (Waikato)-3-1-2005","Taupō (Waikato)","2005-01-03",0]
["Taupō (Waikato)-8-4-2005","Taupō (Waikato)","2005-04-08",0]
["Taupō (Waikato)-23-11-2006","Taupō (Waikato)","2006-11-23",0]
["Taupō (Waikato)-2-12-2006","Taupō (Waikato)","2006-12-02",0]
["Taupō (Waikato)-13-10-2008","Taupō (Waikato)","2008-10-13",0]
["Taupō (Waikato)-15-9-2009","Taupō (Waikato)","2009-09-15",0]
["Taupō (Waikato)-24-9-2009","Taupō (Waikato)","2009-09-24",35]
["Taupō (Waikato)-6-8-2011","Taupō (Waikato)","2011-08-06",0.4]
["Taupō (Waikato)-8-7-2012","Taupō (Waikato)","2012-07-08",0.2]
["Taupō (Waikato)-26-6-2013","Taupō (Waikato)","2013-06-26",0]
["Taupō (Waikato)-29-5-2014","Taupō (Waikato)","2014-05-29",3.2]
["Taupō (Waikato)-17-5-2015","Taupō (Waikato)","2015-05-17",0]
["Taupō (Waikato)-18-4-2016","Taupō (Waikato)","2016-04-18",0]
["Taupō (Waikato)-21-6-2016","Taupō (Waikato)","2016-06-21",6.4]
["Taupō (Waikato)-8-3-2018","Taupō (Waikato)","2018-03-08",6.4]
["Taupō (Waikato)-8-2-2019","Taupō (Waikato)","2019-02-08",0]
["Taupō (Waikato)-27-1-2020","Taupō (Waikato)","2020-01-27",0]
["Taupō (Waikato)-29-12-2020","Taupō (Waikato)","2020-12-29",0]
["Taupō (Waikato)-1-12-2021","Taupō (Waikato)","2021-12-01",0]
["Taupō (Waikato)-19-11-2022","Taupō (Waikato)","2022-11-19",7.4]
["Tauranga (Bay of Plenty)-21-10-1960","Tauranga (Bay of Plenty)","1960-10-21",0]
["Tauranga (Bay of Plenty)-23-9-1961","Tauranga (Bay of Plenty)","1961-09-23",7.7]
["Tauranga (Bay of Plenty)-11-9-1962","Tauranga (Bay of Plenty)","1962-09-11",0]
["Tauranga (Bay of Plenty)-14-8-1963","Tauranga (Bay of Plenty)","1963-08-14",0]
["Tauranga (Bay of Plenty)-1-8-1964","Tauranga (Bay of Plenty)","1964-08-01",0]
["Tauranga (Bay of Plenty)-8-3-1965","Tauranga (Bay of Plenty)","1965-03-08",0]
["Tauranga (Bay of Plenty)-5-6-1966","Tauranga (Bay of Plenty)","1966-06-05",16.100000000000001]
["Tauranga (Bay of Plenty)-24-5-1967","Tauranga (Bay of Plenty)","1967-05-24",15.6]
["Tauranga (Bay of Plenty)-25-4-1968","Tauranga (Bay of Plenty)","1968-04-25",0.5]
["Tauranga (Bay of Plenty)-28-3-1969","Tauranga (Bay of Plenty)","1969-03-28",0]
["Tauranga (Bay of Plenty)-16-3-1970","Tauranga (Bay of Plenty)","1970-03-16",0]
["Tauranga (Bay of Plenty)-16-2-1971","Tauranga (Bay of Plenty)","1971-02-16",13.6]
["Tauranga (Bay of Plenty)-4-2-1972","Tauranga (Bay of Plenty)","1972-02-04",0]
["Tauranga (Bay of Plenty)-6-1-1973","Tauranga (Bay of Plenty)","1973-01-06",0]
["Tauranga (Bay of Plenty)-9-12-1973","Tauranga (Bay of Plenty)","1973-12-09",0]
["Tauranga (Bay of Plenty)-27-11-1974","Tauranga (Bay of Plenty)","1974-11-27",0]
["Tauranga (Bay of Plenty)-30-10-1975","Tauranga (Bay of Plenty)","1975-10-30",0]
["Tauranga (Bay of Plenty)-16-12-1975","Tauranga (Bay of Plenty)","1975-12-16",0.8]
["Tauranga (Bay of Plenty)-18-9-1977","Tauranga (Bay of Plenty)","1977-09-18",0]
["Tauranga (Bay of Plenty)-21-8-1978","Tauranga (Bay of Plenty)","1978-08-21",9.3000000000000007]
["Tauranga (Bay of Plenty)-9-8-1979","Tauranga (Bay of Plenty)","1979-08-09",0.6]
["Tauranga (Bay of Plenty)-11-7-1980","Tauranga (Bay of Plenty)","1980-07-11",4.7]
["Tauranga (Bay of Plenty)-13-6-1981","Tauranga (Bay of Plenty)","1981-06-13",24.2]
["Tauranga (Bay of Plenty)-1-6-1982","Tauranga (Bay of Plenty)","1982-06-01",0]
["Tauranga (Bay of Plenty)-4-5-1983","Tauranga (Bay of Plenty)","1983-05-04",0]
["Tauranga (Bay of Plenty)-21-4-1984","Tauranga (Bay of Plenty)","1984-04-21",0]
["Tauranga (Bay of Plenty)-24-3-1985","Tauranga (Bay of Plenty)","1985-03-24",0]
["Tauranga (Bay of Plenty)-24-2-1986","Tauranga (Bay of Plenty)","1986-02-24",18.7]
["Tauranga (Bay of Plenty)-12-2-1987","Tauranga (Bay of Plenty)","1987-02-12",0]
["Tauranga (Bay of Plenty)-6-2-1988","Tauranga (Bay of Plenty)","1988-02-06",4.5999999999999996]
["Tauranga (Bay of Plenty)-1-1-1989","Tauranga (Bay of Plenty)","1989-01-01",10.199999999999999]
["Tauranga (Bay of Plenty)-4-12-1989","Tauranga (Bay of Plenty)","1989-12-04",0]
["Tauranga (Bay of Plenty)-6-11-1990","Tauranga (Bay of Plenty)","1990-11-06",0]
["Tauranga (Bay of Plenty)-25-10-1991","Tauranga (Bay of Plenty)","1991-10-25",0.8]
["Tauranga (Bay of Plenty)-26-9-1992","Tauranga (Bay of Plenty)","1992-09-26",0]
["Tauranga (Bay of Plenty)-29-8-1993","Tauranga (Bay of Plenty)","1993-08-29",0]
["Tauranga (Bay of Plenty)-17-8-1994","Tauranga (Bay of Plenty)","1994-08-17",0]
["Tauranga (Bay of Plenty)-20-7-1995","Tauranga (Bay of Plenty)","1995-07-20",3.4]
["Tauranga (Bay of Plenty)-7-7-1996","Tauranga (Bay of Plenty)","1996-07-07",0]
["Tauranga (Bay of Plenty)-9-6-1997","Tauranga (Bay of Plenty)","1997-06-09",4.2]
["Tauranga (Bay of Plenty)-23-2-1998","Tauranga (Bay of Plenty)","1998-02-23",32]
["Tauranga (Bay of Plenty)-29-4-1999","Tauranga (Bay of Plenty)","1999-04-29",1.2]
["Tauranga (Bay of Plenty)-31-3-2000","Tauranga (Bay of Plenty)","2000-03-31",0]
["Tauranga (Bay of Plenty)-3-3-2001","Tauranga (Bay of Plenty)","2001-03-03",3]
["Tauranga (Bay of Plenty)-19-2-2002","Tauranga (Bay of Plenty)","2002-02-19",0]
["Tauranga (Bay of Plenty)-22-1-2003","Tauranga (Bay of Plenty)","2003-01-22",0]
["Tauranga (Bay of Plenty)-10-1-2004","Tauranga (Bay of Plenty)","2004-01-10",0]
["Tauranga (Bay of Plenty)-12-12-2004","Tauranga (Bay of Plenty)","2004-12-12",0]
["Tauranga (Bay of Plenty)-14-11-2005","Tauranga (Bay of Plenty)","2005-11-14",1.6]
["Tauranga (Bay of Plenty)-2-11-2006","Tauranga (Bay of Plenty)","2006-11-02",0]
["Tauranga (Bay of Plenty)-5-10-2007","Tauranga (Bay of Plenty)","2007-10-05",0]
["Tauranga (Bay of Plenty)-22-9-2008","Tauranga (Bay of Plenty)","2008-09-22",0]
["Tauranga (Bay of Plenty)-2-12-2008","Tauranga (Bay of Plenty)","2008-12-02",0]
["Tauranga (Bay of Plenty)-27-7-2010","Tauranga (Bay of Plenty)","2010-07-27",3.2]
["Tauranga (Bay of Plenty)-15-7-2011","Tauranga (Bay of Plenty)","2011-07-15",0.2]
["Tauranga (Bay of Plenty)-16-6-2012","Tauranga (Bay of Plenty)","2012-06-16",0]
["Tauranga (Bay of Plenty)-19-5-2013","Tauranga (Bay of Plenty)","2013-05-19",4]
["Tauranga (Bay of Plenty)-7-5-2014","Tauranga (Bay of Plenty)","2014-05-07",0.2]
["Tauranga (Bay of Plenty)-9-4-2015","Tauranga (Bay of Plenty)","2015-04-09",0.4]
["Tauranga (Bay of Plenty)-27-3-2016","Tauranga (Bay of Plenty)","2016-03-27",0]
["Tauranga (Bay of Plenty)-27-2-2017","Tauranga (Bay of Plenty)","2017-02-27",2.4]
["Tauranga (Bay of Plenty)-30-1-2018","Tauranga (Bay of Plenty)","2018-01-30",0]
["Tauranga (Bay of Plenty)-18-1-2019","Tauranga (Bay of Plenty)","2019-01-18",0]
["Tauranga (Bay of Plenty)-21-12-2019","Tauranga (Bay of Plenty)","2019-12-21",0]
["Tauranga (Bay of Plenty)-23-1-2021","Tauranga (Bay of Plenty)","2021-01-23",0]
["Tauranga (Bay of Plenty)-9-11-2021","Tauranga (Bay of Plenty)","2021-11-09",0]
["Tauranga (Bay of Plenty)-12-10-2022","Tauranga (Bay of Plenty)","2022-10-12",1.2]
["Timaru (Canterbury)-29-9-1960","Timaru (Canterbury)","1960-09-29",0]
["Timaru (Canterbury)-1-9-1961","Timaru (Canterbury)","1961-09-01",0]
["Timaru (Canterbury)-4-8-1962","Timaru (Canterbury)","1962-08-04",1]
["Timaru (Canterbury)-23-7-1963","Timaru (Canterbury)","1963-07-23",0]
["Timaru (Canterbury)-24-6-1964","Timaru (Canterbury)","1964-06-24",0.3]
["Timaru (Canterbury)-12-6-1965","Timaru (Canterbury)","1965-06-12",1.4]
["Timaru (Canterbury)-15-5-1966","Timaru (Canterbury)","1966-05-15",0.5]
["Timaru (Canterbury)-17-4-1967","Timaru (Canterbury)","1967-04-17",0]
["Timaru (Canterbury)-4-4-1968","Timaru (Canterbury)","1968-04-04",1.7]
["Timaru (Canterbury)-1-11-1968","Timaru (Canterbury)","1968-11-01",0]
["Timaru (Canterbury)-6-2-1970","Timaru (Canterbury)","1970-02-06",1]
["Timaru (Canterbury)-25-1-1971","Timaru (Canterbury)","1971-01-25",0]
["Timaru (Canterbury)-28-12-1971","Timaru (Canterbury)","1971-12-28",0.2]
["Timaru (Canterbury)-15-12-1972","Timaru (Canterbury)","1972-12-15",0]
["Timaru (Canterbury)-17-11-1973","Timaru (Canterbury)","1973-11-17",0]
["Timaru (Canterbury)-20-10-1974","Timaru (Canterbury)","1974-10-20",0]
["Timaru (Canterbury)-8-10-1975","Timaru (Canterbury)","1975-10-08",1.3]
["Timaru (Canterbury)-9-9-1976","Timaru (Canterbury)","1976-09-09",2.9]
["Timaru (Canterbury)-28-8-1977","Timaru (Canterbury)","1977-08-28",2.4]
["Timaru (Canterbury)-31-7-1978","Timaru (Canterbury)","1978-07-31",0.2]
["Timaru (Canterbury)-3-7-1979","Timaru (Canterbury)","1979-07-03",1.4]
["Timaru (Canterbury)-19-7-1980","Timaru (Canterbury)","1980-07-19",0]
["Timaru (Canterbury)-22-5-1981","Timaru (Canterbury)","1981-05-22",0]
["Timaru (Canterbury)-24-4-1982","Timaru (Canterbury)","1982-04-24",0]
["Timaru (Canterbury)-12-4-1983","Timaru (Canterbury)","1983-04-12",0]
["Timaru (Canterbury)-14-3-1984","Timaru (Canterbury)","1984-03-14",0]
["Timaru (Canterbury)-2-3-1985","Timaru (Canterbury)","1985-03-02",0]
[{"$f":"_xlfn.CONCAT(B561795,\"-\",DAY(C561795),\"-\",MONTH(C561795),\"-\",YEAR(C561795))","v":"Timaru (Canterbury)-2-2-1986"},"Timaru (Canterbury)","1986-02-02",0]
["Timaru (Canterbury)-5-1-1987","Timaru (Canterbury)","1987-01-05",0]
["Timaru (Canterbury)-24-12-1987","Timaru (Canterbury)","1987-12-24",0]
["Timaru (Canterbury)-25-11-1988","Timaru (Canterbury)","1988-11-25",0]
["Timaru (Canterbury)-28-10-1989","Timaru (Canterbury)","1989-10-28",0]
["Timaru (Canterbury)-16-10-1990","Timaru (Canterbury)","1990-10-16",0]
["Timaru (Canterbury)-2-10-1991","Timaru (Canterbury)","1991-10-02",0.6]
["Timaru (Canterbury)-4-9-1992","Timaru (Canterbury)","1992-09-04",0.4]
["Timaru (Canterbury)-7-8-1993","Timaru (Canterbury)","1993-08-07",0.4]
["Timaru (Canterbury)-10-7-1994","Timaru (Canterbury)","1994-07-10",0]
["Timaru (Canterbury)-28-6-1995","Timaru (Canterbury)","1995-06-28",19.600000000000001]
["Timaru (Canterbury)-30-5-1996","Timaru (Canterbury)","1996-05-30",0]
["Timaru (Canterbury)-18-5-1997","Timaru (Canterbury)","1997-05-18",0]
["Timaru (Canterbury)-20-4-1998","Timaru (Canterbury)","1998-04-20",5]
["Timaru (Canterbury)-23-3-1999","Timaru (Canterbury)","1999-03-23",25.4]
["Timaru (Canterbury)-10-3-2000","Timaru (Canterbury)","2000-03-10",0]
["Timaru (Canterbury)-10-2-2001","Timaru (Canterbury)","2001-02-10",0]
["Timaru (Canterbury)-19-10-2001","Timaru (Canterbury)","2001-10-19",1.6]
["Timaru (Canterbury)-31-12-2002","Timaru (Canterbury)","2002-12-31",0]
["Timaru (Canterbury)-3-12-2003","Timaru (Canterbury)","2003-12-03",0.6]
["Timaru (Canterbury)-20-11-2004","Timaru (Canterbury)","2004-11-20",0.2]
["Timaru (Canterbury)-23-10-2005","Timaru (Canterbury)","2005-10-23",0]
["Timaru (Canterbury)-25-9-2006","Timaru (Canterbury)","2006-09-25",3.4]
["Timaru (Canterbury)-13-9-2007","Timaru (Canterbury)","2007-09-13",0]
["Timaru (Canterbury)-15-8-2008","Timaru (Canterbury)","2008-08-15",0]
["Timaru (Canterbury)-3-8-2009","Timaru (Canterbury)","2009-08-03",0]
["Timaru (Canterbury)-6-7-2010","Timaru (Canterbury)","2010-07-06",0]
["Timaru (Canterbury)-8-6-2011","Timaru (Canterbury)","2011-06-08",0.2]
["Timaru (Canterbury)-26-5-2012","Timaru (Canterbury)","2012-05-26",0]
["Timaru (Canterbury)-6-7-2013","Timaru (Canterbury)","2013-07-06",0.6]
["Timaru (Canterbury)-30-3-2014","Timaru (Canterbury)","2014-03-30",0.2]
["Timaru (Canterbury)-18-3-2015","Timaru (Canterbury)","2015-03-18",0]
["Timaru (Canterbury)-18-2-2016","Timaru (Canterbury)","2016-02-18",0]
["Timaru (Canterbury)-5-2-2017","Timaru (Canterbury)","2017-02-05",0]
["Timaru (Canterbury)-8-1-2018","Timaru (Canterbury)","2018-01-08",0]
["Timaru (Canterbury)-11-12-2018","Timaru (Canterbury)","2018-12-11",7.2]
["Timaru (Canterbury)-29-11-2019","Timaru (Canterbury)","2019-11-29",2.4]
["Timaru (Canterbury)-31-10-2020","Timaru (Canterbury)","2020-10-31",6.8]
["Timaru (Canterbury)-3-10-2021","Timaru (Canterbury)","2021-10-03",0]
["Timaru (Canterbury)-21-9-2022","Timaru (Canterbury)","2022-09-21",4]
["Waiouru (Manawatū-Whanganui)-23-8-1960","Waiouru (Manawatū-Whanganui)","1960-08-23",0]
["Waiouru (Manawatū-Whanganui)-14-4-1961","Waiouru (Manawatū-Whanganui)","1961-04-14",0]
["Waiouru (Manawatū-Whanganui)-13-7-1962","Waiouru (Manawatū-Whanganui)","1962-07-13",0]
["Waiouru (Manawatū-Whanganui)-15-6-1963","Waiouru (Manawatū-Whanganui)","1963-06-15",0]
["Waiouru (Manawatū-Whanganui)-2-6-1964","Waiouru (Manawatū-Whanganui)","1964-06-02",6.7]
["Waiouru (Manawatū-Whanganui)-5-5-1965","Waiouru (Manawatū-Whanganui)","1965-05-05",0]
["Waiouru (Manawatū-Whanganui)-23-4-1966","Waiouru (Manawatū-Whanganui)","1966-04-23",0]
["Waiouru (Manawatū-Whanganui)-26-3-1967","Waiouru (Manawatū-Whanganui)","1967-03-26",0]
["Waiouru (Manawatū-Whanganui)-26-2-1968","Waiouru (Manawatū-Whanganui)","1968-02-26",0]
["Waiouru (Manawatū-Whanganui)-13-2-1969","Waiouru (Manawatū-Whanganui)","1969-02-13",0]
["Waiouru (Manawatū-Whanganui)-16-1-1970","Waiouru (Manawatū-Whanganui)","1970-01-16",0]
["Waiouru (Manawatū-Whanganui)-19-12-1970","Waiouru (Manawatū-Whanganui)","1970-12-19",0]
["Waiouru (Manawatū-Whanganui)-7-12-1971","Waiouru (Manawatū-Whanganui)","1971-12-07",4.7]
["Waiouru (Manawatū-Whanganui)-27-6-1972","Waiouru (Manawatū-Whanganui)","1972-06-27",0]
["Waiouru (Manawatū-Whanganui)-26-10-1973","Waiouru (Manawatū-Whanganui)","1973-10-26",0]
["Waiouru (Manawatū-Whanganui)-28-9-1974","Waiouru (Manawatū-Whanganui)","1974-09-28",1.7]
["Waiouru (Manawatū-Whanganui)-31-8-1975","Waiouru (Manawatū-Whanganui)","1975-08-31",2.6]
["Waiouru (Manawatū-Whanganui)-18-8-1976","Waiouru (Manawatū-Whanganui)","1976-08-18",0]
["Waiouru (Manawatū-Whanganui)-21-7-1977","Waiouru (Manawatū-Whanganui)","1977-07-21",2.9]
["Waiouru (Manawatū-Whanganui)-23-6-1978","Waiouru (Manawatū-Whanganui)","1978-06-23",7.1]
["Waiouru (Manawatū-Whanganui)-11-6-1979","Waiouru (Manawatū-Whanganui)","1979-06-11",0]
["Waiouru (Manawatū-Whanganui)-13-5-1980","Waiouru (Manawatū-Whanganui)","1980-05-13",0]
["Waiouru (Manawatū-Whanganui)-1-5-1981","Waiouru (Manawatū-Whanganui)","1981-05-01",0]
["Waiouru (Manawatū-Whanganui)-3-4-1982","Waiouru (Manawatū-Whanganui)","1982-04-03",0]
["Waiouru (Manawatū-Whanganui)-6-3-1983","Waiouru (Manawatū-Whanganui)","1983-03-06",0]
["Waiouru (Manawatū-Whanganui)-14-3-1984","Waiouru (Manawatū-Whanganui)","1984-03-14",5.4]
["Waiouru (Manawatū-Whanganui)-23-1-1985","Waiouru (Manawatū-Whanganui)","1985-01-23",3.1]
["Waiouru (Manawatū-Whanganui)-11-1-1986","Waiouru (Manawatū-Whanganui)","1986-01-11",0]
["Waiouru (Manawatū-Whanganui)-14-12-1986","Waiouru (Manawatū-Whanganui)","1986-12-14",0]
["Waiouru (Manawatū-Whanganui)-16-11-1987","Waiouru (Manawatū-Whanganui)","1987-11-16",0.3]
["Waiouru (Manawatū-Whanganui)-3-11-1988","Waiouru (Manawatū-Whanganui)","1988-11-03",0]
["Waiouru (Manawatū-Whanganui)-6-10-1989","Waiouru (Manawatū-Whanganui)","1989-10-06",0]
["Waiouru (Manawatū-Whanganui)-8-9-1990","Waiouru (Manawatū-Whanganui)","1990-09-08",6.8]
["Waiouru (Manawatū-Whanganui)-27-8-1991","Waiouru (Manawatū-Whanganui)","1991-08-27",0]
["Waiouru (Manawatū-Whanganui)-29-7-1992","Waiouru (Manawatū-Whanganui)","1992-07-29",0.4]
["Waiouru (Manawatū-Whanganui)-17-7-1993","Waiouru (Manawatū-Whanganui)","1993-07-17",0]
["Waiouru (Manawatū-Whanganui)-19-6-1994","Waiouru (Manawatū-Whanganui)","1994-06-19",0.3]
["Waiouru (Manawatū-Whanganui)-28-5-1995","Waiouru (Manawatū-Whanganui)","1995-05-28",42.4]
["Waiouru (Manawatū-Whanganui)-8-5-1996","Waiouru (Manawatū-Whanganui)","1996-05-08",9.9]
["Waiouru (Manawatū-Whanganui)-10-4-1997","Waiouru (Manawatū-Whanganui)","1997-04-10",1.1000000000000001]
["Waiouru (Manawatū-Whanganui)-29-3-1998","Waiouru (Manawatū-Whanganui)","1998-03-29",10.3]
["Waiouru (Manawatū-Whanganui)-1-3-1999","Waiouru (Manawatū-Whanganui)","1999-03-01",0]
["Waiouru (Manawatū-Whanganui)-1-2-2000","Waiouru (Manawatū-Whanganui)","2000-02-01",1]
["Waiouru (Manawatū-Whanganui)-19-1-2001","Waiouru (Manawatū-Whanganui)","2001-01-19",0]
["Waiouru (Manawatū-Whanganui)-22-12-2001","Waiouru (Manawatū-Whanganui)","2001-12-22",5.9]
["Waiouru (Manawatū-Whanganui)-24-11-2002","Waiouru (Manawatū-Whanganui)","2002-11-24",0]
["Waiouru (Manawatū-Whanganui)-12-11-2003","Waiouru (Manawatū-Whanganui)","2003-11-12",6]
["Waiouru (Manawatū-Whanganui)-14-10-2004","Waiouru (Manawatū-Whanganui)","2004-10-14",0]
["Waiouru (Manawatū-Whanganui)-17-12-2005","Waiouru (Manawatū-Whanganui)","2005-12-17",18.399999999999999]
["Waiouru (Manawatū-Whanganui)-3-9-2006","Waiouru (Manawatū-Whanganui)","2006-09-03",0]
["Waiouru (Manawatū-Whanganui)-6-8-2007","Waiouru (Manawatū-Whanganui)","2007-08-06",13.4]
["Waiouru (Manawatū-Whanganui)-24-7-2008","Waiouru (Manawatū-Whanganui)","2008-07-24",13.7]
["Waiouru (Manawatū-Whanganui)-26-6-2009","Waiouru (Manawatū-Whanganui)","2009-06-26",1.9]
["Waiouru (Manawatū-Whanganui)-29-5-2010","Waiouru (Manawatū-Whanganui)","2010-05-29",25.8]
["Waiouru (Manawatū-Whanganui)-17-5-2011","Waiouru (Manawatū-Whanganui)","2011-05-17",13.9]
["Waiouru (Manawatū-Whanganui)-18-4-2012","Waiouru (Manawatū-Whanganui)","2012-04-18",0]
["Waiouru (Manawatū-Whanganui)-6-4-2013","Waiouru (Manawatū-Whanganui)","2013-04-06",0]
["Waiouru (Manawatū-Whanganui)-9-3-2014","Waiouru (Manawatū-Whanganui)","2014-03-09",0]
["Waiouru (Manawatū-Whanganui)-9-2-2015","Waiouru (Manawatū-Whanganui)","2015-02-09",18.3]
["Waiouru (Manawatū-Whanganui)-28-1-2016","Waiouru (Manawatū-Whanganui)","2016-01-28",0]
["Waiouru (Manawatū-Whanganui)-1-3-2017","Waiouru (Manawatū-Whanganui)","2017-03-01",0]
["Waiouru (Manawatū-Whanganui)-17-12-2017","Waiouru (Manawatū-Whanganui)","2017-12-17",2]
["Waiouru (Manawatū-Whanganui)-19-11-2018","Waiouru (Manawatū-Whanganui)","2018-11-19",10.8]
["Waiouru (Manawatū-Whanganui)-22-10-2019","Waiouru (Manawatū-Whanganui)","2019-10-22",18.8]
["Waiouru (Manawatū-Whanganui)-9-10-2020","Waiouru (Manawatū-Whanganui)","2020-10-09",0]
["Waiouru (Manawatū-Whanganui)-11-9-2021","Waiouru (Manawatū-Whanganui)","2021-09-11",0.8]
["Waiouru (Manawatū-Whanganui)-14-8-2022","Waiouru (Manawatū-Whanganui)","2022-08-14",0]
["Wellington (Wellington)-1-8-1960","Wellington (Wellington)","1960-08-01",0.5]
["Wellington (Wellington)-4-7-1961","Wellington (Wellington)","1961-07-04",0]
["Wellington (Wellington)-22-6-1962","Wellington (Wellington)","1962-06-22",4.5999999999999996]
["Wellington (Wellington)-25-5-1963","Wellington (Wellington)","1963-05-25",20.3]
["Wellington (Wellington)-26-4-1964","Wellington (Wellington)","1964-04-26",12.9]
["Wellington (Wellington)-8-12-1964","Wellington (Wellington)","1964-12-08",1.9]
["Wellington (Wellington)-16-3-1966","Wellington (Wellington)","1966-03-16",0]
["Wellington (Wellington)-4-3-1967","Wellington (Wellington)","1967-03-04",0]
["Wellington (Wellington)-4-2-1968","Wellington (Wellington)","1968-02-04",0]
["Wellington (Wellington)-6-1-1969","Wellington (Wellington)","1969-01-06",38.299999999999997]
["Wellington (Wellington)-25-12-1969","Wellington (Wellington)","1969-12-25",4]
["Wellington (Wellington)-27-11-1970","Wellington (Wellington)","1970-11-27",0]
["Wellington (Wellington)-30-10-1971","Wellington (Wellington)","1971-10-30",0]
["Wellington (Wellington)-17-10-1972","Wellington (Wellington)","1972-10-17",1.1000000000000001]
["Wellington (Wellington)-19-9-1973","Wellington (Wellington)","1973-09-19",11.1]
[{"$f":"_xlfn.CONCAT(B603651,\"-\",DAY(C603651),\"-\",MONTH(C603651),\"-\",YEAR(C603651))","v":"Wellington (Wellington)-7-9-1974"},"Wellington (Wellington)","1974-09-07",0]
["Wellington (Wellington)-10-8-1975","Wellington (Wellington)","1975-08-10",0]
["Wellington (Wellington)-29-1-1977","Wellington (Wellington)","1977-01-29",0]
["Wellington (Wellington)-29-6-1977","Wellington (Wellington)","1977-06-29",0.2]
["Wellington (Wellington)-1-6-1978","Wellington (Wellington)","1978-06-01",15.3]
["Wellington (Wellington)-4-5-1979","Wellington (Wellington)","1979-05-04",0]
["Wellington (Wellington)-21-4-1980","Wellington (Wellington)","1980-04-21",0]
["Wellington (Wellington)-24-3-1981","Wellington (Wellington)","1981-03-24",0]
["Wellington (Wellington)-12-3-1982","Wellington (Wellington)","1982-03-12",0.1]
["Wellington (Wellington)-12-2-1983","Wellington (Wellington)","1983-02-12",0.4]
["Wellington (Wellington)-15-1-1984","Wellington (Wellington)","1984-01-15",4.5999999999999996]
["Wellington (Wellington)-2-1-1985","Wellington (Wellington)","1985-01-02",2.5]
["Wellington (Wellington)-5-12-1985","Wellington (Wellington)","1985-12-05",0]
["Wellington (Wellington)-23-11-1986","Wellington (Wellington)","1986-11-23",10.4]
["Wellington (Wellington)-8-11-1987","Wellington (Wellington)","1987-11-08",20.6]
["Wellington (Wellington)-26-9-1988","Wellington (Wellington)","1988-09-26",0.4]
["Wellington (Wellington)-14-9-1989","Wellington (Wellington)","1989-09-14",0.5]
["Wellington (Wellington)-17-8-1990","Wellington (Wellington)","1990-08-17",19.100000000000001]
["Wellington (Wellington)-20-7-1991","Wellington (Wellington)","1991-07-20",0]
["Wellington (Wellington)-7-7-1992","Wellington (Wellington)","1992-07-07",27.2]
["Wellington (Wellington)-9-6-1993","Wellington (Wellington)","1993-06-09",0]
["Wellington (Wellington)-28-5-1994","Wellington (Wellington)","1994-05-28",0.7]
["Wellington (Wellington)-30-4-1995","Wellington (Wellington)","1995-04-30",16.899999999999999]
["Wellington (Wellington)-1-4-1996","Wellington (Wellington)","1996-04-01",1.4]
["Wellington (Wellington)-20-3-1997","Wellington (Wellington)","1997-03-20",0.9]
["Wellington (Wellington)-20-2-1998","Wellington (Wellington)","1998-02-20",0]
["Wellington (Wellington)-21-1-1999","Wellington (Wellington)","1999-01-21",0]
["Wellington (Wellington)-10-1-2000","Wellington (Wellington)","2000-01-10",0]
["Wellington (Wellington)-12-12-2000","Wellington (Wellington)","2000-12-12",0]
["Wellington (Wellington)-30-11-2001","Wellington (Wellington)","2001-11-30",0]
["Wellington (Wellington)-2-11-2002","Wellington (Wellington)","2002-11-02",0]
["Wellington (Wellington)-5-10-2003","Wellington (Wellington)","2003-10-05",3.1]
["Wellington (Wellington)-22-9-2004","Wellington (Wellington)","2004-09-22",0]
["Wellington (Wellington)-25-8-2005","Wellington (Wellington)","2005-08-25",0]
["Wellington (Wellington)-13-8-2006","Wellington (Wellington)","2006-08-13",1.8]
["Wellington (Wellington)-16-7-2007","Wellington (Wellington)","2007-07-16",0.4]
["Wellington (Wellington)-17-6-2008","Wellington (Wellington)","2008-06-17",0]
["Wellington (Wellington)-12-8-2009","Wellington (Wellington)","2009-08-12",0]
["Wellington (Wellington)-7-5-2010","Wellington (Wellington)","2010-05-07",0]
["Wellington (Wellington)-9-4-2011","Wellington (Wellington)","2011-04-09",0]
["Wellington (Wellington)-27-3-2012","Wellington (Wellington)","2012-03-27",0]
["Wellington (Wellington)-27-2-2013","Wellington (Wellington)","2013-02-27",0]
["Wellington (Wellington)-15-2-2014","Wellington (Wellington)","2014-02-15",0]
["Wellington (Wellington)-18-1-2015","Wellington (Wellington)","2015-01-18",0]
["Wellington (Wellington)-21-12-2015","Wellington (Wellington)","2015-12-21",0]
["Wellington (Wellington)-8-12-2016","Wellington (Wellington)","2016-12-08",10.199999999999999]
["Wellington (Wellington)-10-11-2017","Wellington (Wellington)","2017-11-10",0]
["Wellington (Wellington)-29-10-2018","Wellington (Wellington)","2018-10-29",34.6]
["Wellington (Wellington)-1-10-2019","Wellington (Wellington)","2019-10-01",5.2]
["Wellington (Wellington)-25-10-2020","Wellington (Wellington)","2020-10-25",1.4]
["Wellington (Wellington)-20-8-2021","Wellington (Wellington)","2021-08-20",3.2]
["Wellington (Wellington)-23-7-2022","Wellington (Wellington)","2022-07-23",0]
["Whanganui (Manawatū-Whanganui)-24-6-1960","Whanganui (Manawatū-Whanganui)","1960-06-24",0.8]
[{"$f":"_xlfn.CONCAT(B621827,\"-\",DAY(C621827),\"-\",MONTH(C621827),\"-\",YEAR(C621827))","v":"Whanganui (Manawatū-Whanganui)-12-6-1961"},"Whanganui (Manawatū-Whanganui)","1961-06-12",0]
["Whanganui (Manawatū-Whanganui)-15-5-1962","Whanganui (Manawatū-Whanganui)","1962-05-15",0]
["Whanganui (Manawatū-Whanganui)-3-5-1963","Whanganui (Manawatū-Whanganui)","1963-05-03",1.5]
["Whanganui (Manawatū-Whanganui)-4-4-1964","Whanganui (Manawatū-Whanganui)","1964-04-04",0]
["Whanganui (Manawatū-Whanganui)-7-3-1965","Whanganui (Manawatū-Whanganui)","1965-03-07",0]
["Whanganui (Manawatū-Whanganui)-23-2-1966","Whanganui (Manawatū-Whanganui)","1966-02-23",5.8]
["Whanganui (Manawatū-Whanganui)-26-1-1967","Whanganui (Manawatū-Whanganui)","1967-01-26",0]
["Whanganui (Manawatū-Whanganui)-29-12-1967","Whanganui (Manawatū-Whanganui)","1967-12-29",0]
["Whanganui (Manawatū-Whanganui)-12-7-1969","Whanganui (Manawatū-Whanganui)","1969-07-12",0]
["Whanganui (Manawatū-Whanganui)-17-11-1969","Whanganui (Manawatū-Whanganui)","1969-11-17",0]
["Whanganui (Manawatū-Whanganui)-5-11-1970","Whanganui (Manawatū-Whanganui)","1970-11-05",0]
["Whanganui (Manawatū-Whanganui)-8-10-1971","Whanganui (Manawatū-Whanganui)","1971-10-08",3.7]
["Whanganui (Manawatū-Whanganui)-9-9-1972","Whanganui (Manawatū-Whanganui)","1972-09-09",8.1999999999999993]
["Whanganui (Manawatū-Whanganui)-28-8-1973","Whanganui (Manawatū-Whanganui)","1973-08-28",0]
["Whanganui (Manawatū-Whanganui)-31-7-1974","Whanganui (Manawatū-Whanganui)","1974-07-31",0.2]
["Whanganui (Manawatū-Whanganui)-19-7-1975","Whanganui (Manawatū-Whanganui)","1975-07-19",2.2000000000000002]
["Whanganui (Manawatū-Whanganui)-20-6-1976","Whanganui (Manawatū-Whanganui)","1976-06-20",6]
[{"$f":"_xlfn.CONCAT(B627651,\"-\",DAY(C627651),\"-\",MONTH(C627651),\"-\",YEAR(C627651))","v":"Whanganui (Manawatū-Whanganui)-23-5-1977"},"Whanganui (Manawatū-Whanganui)","1977-05-23",0]
["Whanganui (Manawatū-Whanganui)-11-5-1978","Whanganui (Manawatū-Whanganui)","1978-05-11",0]
["Whanganui (Manawatū-Whanganui)-13-4-1979","Whanganui (Manawatū-Whanganui)","1979-04-13",0]
["Whanganui (Manawatū-Whanganui)-24-9-1980","Whanganui (Manawatū-Whanganui)","1980-09-24",0]
["Whanganui (Manawatū-Whanganui)-2-3-1981","Whanganui (Manawatū-Whanganui)","1981-03-02",0.4]
["Whanganui (Manawatū-Whanganui)-2-2-1982","Whanganui (Manawatū-Whanganui)","1982-02-02",0]
["Whanganui (Manawatū-Whanganui)-21-1-1983","Whanganui (Manawatū-Whanganui)","1983-01-21",0]
["Whanganui (Manawatū-Whanganui)-24-12-1983","Whanganui (Manawatū-Whanganui)","1983-12-24",0]
["Whanganui (Manawatū-Whanganui)-25-11-1984","Whanganui (Manawatū-Whanganui)","1984-11-25",4.5999999999999996]
["Whanganui (Manawatū-Whanganui)-13-11-1985","Whanganui (Manawatū-Whanganui)","1985-11-13",0]
["Whanganui (Manawatū-Whanganui)-16-10-1986","Whanganui (Manawatū-Whanganui)","1986-10-16",0.4]
["Whanganui (Manawatū-Whanganui)-18-9-1987","Whanganui (Manawatū-Whanganui)","1987-09-18",0.7]
["Whanganui (Manawatū-Whanganui)-5-9-1988","Whanganui (Manawatū-Whanganui)","1988-09-05",12.7]
["Whanganui (Manawatū-Whanganui)-8-8-1989","Whanganui (Manawatū-Whanganui)","1989-08-08",0]
["Whanganui (Manawatū-Whanganui)-27-7-1990","Whanganui (Manawatū-Whanganui)","1990-07-27",2.4]
["Whanganui (Manawatū-Whanganui)-4-7-1991","Whanganui (Manawatū-Whanganui)","1991-07-04",0]
["Whanganui (Manawatū-Whanganui)-30-5-1992","Whanganui (Manawatū-Whanganui)","1992-05-30",0]
["Whanganui (Manawatū-Whanganui)-18-5-1993","Whanganui (Manawatū-Whanganui)","1993-05-18",0.4]
["Whanganui (Manawatū-Whanganui)-20-4-1994","Whanganui (Manawatū-Whanganui)","1994-04-20",40.299999999999997]
["Whanganui (Manawatū-Whanganui)-8-4-1995","Whanganui (Manawatū-Whanganui)","1995-04-08",0.2]
["Whanganui (Manawatū-Whanganui)-10-3-1996","Whanganui (Manawatū-Whanganui)","1996-03-10",10]
["Whanganui (Manawatū-Whanganui)-10-2-1997","Whanganui (Manawatū-Whanganui)","1997-02-10",0]
["Whanganui (Manawatū-Whanganui)-29-1-1998","Whanganui (Manawatū-Whanganui)","1998-01-29",10]
["Whanganui (Manawatū-Whanganui)-1-1-1999","Whanganui (Manawatū-Whanganui)","1999-01-01",0]
["Whanganui (Manawatū-Whanganui)-4-12-1999","Whanganui (Manawatū-Whanganui)","1999-12-04",0]
["Whanganui (Manawatū-Whanganui)-21-11-2000","Whanganui (Manawatū-Whanganui)","2000-11-21",0.4]
["Whanganui (Manawatū-Whanganui)-24-10-2001","Whanganui (Manawatū-Whanganui)","2001-10-24",0]
["Whanganui (Manawatū-Whanganui)-21-3-2003","Whanganui (Manawatū-Whanganui)","2003-03-21",0]
["Whanganui (Manawatū-Whanganui)-13-9-2003","Whanganui (Manawatū-Whanganui)","2003-09-13",0]
["Whanganui (Manawatū-Whanganui)-15-8-2004","Whanganui (Manawatū-Whanganui)","2004-08-15",7.4]
["Whanganui (Manawatū-Whanganui)-3-8-2005","Whanganui (Manawatū-Whanganui)","2005-08-03",0.2]
["Whanganui (Manawatū-Whanganui)-6-7-2006","Whanganui (Manawatū-Whanganui)","2006-07-06",45.2]
["Whanganui (Manawatū-Whanganui)-24-6-2007","Whanganui (Manawatū-Whanganui)","2007-06-24",0]
["Whanganui (Manawatū-Whanganui)-26-5-2008","Whanganui (Manawatū-Whanganui)","2008-05-26",0]
["Whanganui (Manawatū-Whanganui)-28-4-2009","Whanganui (Manawatū-Whanganui)","2009-04-28",19.600000000000001]
["Whanganui (Manawatū-Whanganui)-16-4-2010","Whanganui (Manawatū-Whanganui)","2010-04-16",0]
["Whanganui (Manawatū-Whanganui)-19-3-2011","Whanganui (Manawatū-Whanganui)","2011-03-19",0]
["Whanganui (Manawatū-Whanganui)-19-2-2012","Whanganui (Manawatū-Whanganui)","2012-02-19",0]
["Whanganui (Manawatū-Whanganui)-7-4-2013","Whanganui (Manawatū-Whanganui)","2013-04-07",0.2]
["Whanganui (Manawatū-Whanganui)-8-1-2014","Whanganui (Manawatū-Whanganui)","2014-01-08",10.6]
["Whanganui (Manawatū-Whanganui)-27-12-2014","Whanganui (Manawatū-Whanganui)","2014-12-27",0]
["Whanganui (Manawatū-Whanganui)-29-11-2015","Whanganui (Manawatū-Whanganui)","2015-11-29",0]
["Whanganui (Manawatū-Whanganui)-31-10-2016","Whanganui (Manawatū-Whanganui)","2016-10-31",0]
["Whanganui (Manawatū-Whanganui)-19-10-2017","Whanganui (Manawatū-Whanganui)","2017-10-19",0]
["Whanganui (Manawatū-Whanganui)-21-9-2018","Whanganui (Manawatū-Whanganui)","2018-09-21",0]
["Whanganui (Manawatū-Whanganui)-24-8-2019","Whanganui (Manawatū-Whanganui)","2019-08-24",0]
["Whanganui (Manawatū-Whanganui)-11-8-2020","Whanganui (Manawatū-Whanganui)","2020-08-11",1.6]
["Whanganui (Manawatū-Whanganui)-14-7-2021","Whanganui (Manawatū-Whanganui)","2021-07-14",0]
["Whanganui (Manawatū-Whanganui)-2-7-2022","Whanganui (Manawatū-Whanganui)","2022-07-02",0]
["Whangaparāoa (Auckland)-3-6-1960","Whangaparāoa (Auckland)","1960-06-03",0]
["Whangaparāoa (Auckland)-20-6-1961","Whangaparāoa (Auckland)","1961-06-20",2.5]
["Whangaparāoa (Auckland)-23-4-1962","Whangaparāoa (Auckland)","1962-04-23",0]
["Whangaparāoa (Auckland)-26-3-1963","Whangaparāoa (Auckland)","1963-03-26",0]
["Whangaparāoa (Auckland)-13-3-1964","Whangaparāoa (Auckland)","1964-03-13",0]
["Whangaparāoa (Auckland)-13-2-1965","Whangaparāoa (Auckland)","1965-02-13",1.4]
["Whangaparāoa (Auckland)-16-1-1966","Whangaparāoa (Auckland)","1966-01-16",0]
["Whangaparāoa (Auckland)-4-1-1967","Whangaparāoa (Auckland)","1967-01-04",6.6]
["Whangaparāoa (Auckland)-7-12-1967","Whangaparāoa (Auckland)","1967-12-07",6.3]
["Whangaparāoa (Auckland)-8-11-1968","Whangaparāoa (Auckland)","1968-11-08",3.9]
["Whangaparāoa (Auckland)-27-10-1969","Whangaparāoa (Auckland)","1969-10-27",7.1]
["Whangaparāoa (Auckland)-29-9-1970","Whangaparāoa (Auckland)","1970-09-29",5.0999999999999996]
["Whangaparāoa (Auckland)-17-9-1971","Whangaparāoa (Auckland)","1971-09-17",0]
["Whangaparāoa (Auckland)-7-3-1973","Whangaparāoa (Auckland)","1973-03-07",0]
["Whangaparāoa (Auckland)-21-7-1973","Whangaparāoa (Auckland)","1973-07-21",2]
["Whangaparāoa (Auckland)-9-7-1974","Whangaparāoa (Auckland)","1974-07-09",7.2]
["Whangaparāoa (Auckland)-11-6-1975","Whangaparāoa (Auckland)","1975-06-11",0]
["Whangaparāoa (Auckland)-29-5-1976","Whangaparāoa (Auckland)","1976-05-29",0]
["Whangaparāoa (Auckland)-1-5-1977","Whangaparāoa (Auckland)","1977-05-01",9.4]
["Whangaparāoa (Auckland)-3-4-1978","Whangaparāoa (Auckland)","1978-04-03",2.1]
["Whangaparāoa (Auckland)-22-3-1979","Whangaparāoa (Auckland)","1979-03-22",7.1]
["Whangaparāoa (Auckland)-22-2-1980","Whangaparāoa (Auckland)","1980-02-22",6.3]
["Whangaparāoa (Auckland)-24-1-1981","Whangaparāoa (Auckland)","1981-01-24",0]
["Whangaparāoa (Auckland)-12-1-1982","Whangaparāoa (Auckland)","1982-01-12",0]
["Whangaparāoa (Auckland)-15-12-1982","Whangaparāoa (Auckland)","1982-12-15",0]
[{"$f":"_xlfn.CONCAT(B653059,\"-\",DAY(C653059),\"-\",MONTH(C653059),\"-\",YEAR(C653059))","v":"Whangaparāoa (Auckland)-15-12-1983"},"Whangaparāoa (Auckland)","1983-12-15",0]
["Whangaparāoa (Auckland)-3-11-1984","Whangaparāoa (Auckland)","1984-11-03",3.7]
["Whangaparāoa (Auckland)-6-10-1985","Whangaparāoa (Auckland)","1985-10-06",0]
["Whangaparāoa (Auckland)-24-9-1986","Whangaparāoa (Auckland)","1986-09-24",0]
["Whangaparāoa (Auckland)-27-8-1987","Whangaparāoa (Auckland)","1987-08-27",0.4]
["Whangaparāoa (Auckland)-8-7-1989","Whangaparāoa (Auckland)","1989-07-08",0]
["Whangaparāoa (Auckland)-17-7-1989","Whangaparāoa (Auckland)","1989-07-17",0.4]
["Whangaparāoa (Auckland)-29-5-1991","Whangaparāoa (Auckland)","1991-05-29",0]
["Whangaparāoa (Auckland)-7-6-1991","Whangaparāoa (Auckland)","1991-06-07",0]
["Whangaparāoa (Auckland)-18-4-1993","Whangaparāoa (Auckland)","1993-04-18",0]
["Whangaparāoa (Auckland)-21-3-1994","Whangaparāoa (Auckland)","1994-03-21",0]
["Whangaparāoa (Auckland)-30-3-1994","Whangaparāoa (Auckland)","1994-03-30",0.8]
["Whangaparāoa (Auckland)-5-2-1996","Whangaparāoa (Auckland)","1996-02-05",0]
["Whangaparāoa (Auckland)-17-2-1996","Whangaparāoa (Auckland)","1996-02-17",0]
["Whangaparāoa (Auckland)-29-12-1997","Whangaparāoa (Auckland)","1997-12-29",0]
["Whangaparāoa (Auckland)-1-12-1998","Whangaparāoa (Auckland)","1998-12-01",0]
["Whangaparāoa (Auckland)-19-11-1999","Whangaparāoa (Auckland)","1999-11-19",5.8]
["Whangaparāoa (Auckland)-21-10-2000","Whangaparāoa (Auckland)","2000-10-21",0]
["Whangaparāoa (Auckland)-23-9-2001","Whangaparāoa (Auckland)","2001-09-23",0]
["Whangaparāoa (Auckland)-11-9-2002","Whangaparāoa (Auckland)","2002-09-11",26.8]
["Whangaparāoa (Auckland)-14-8-2003","Whangaparāoa (Auckland)","2003-08-14",1.2]
["Whangaparāoa (Auckland)-1-8-2004","Whangaparāoa (Auckland)","2004-08-01",0.2]
[{"$f":"_xlfn.CONCAT(B660931,\"-\",DAY(C660931),\"-\",MONTH(C660931),\"-\",YEAR(C660931))","v":"Whangaparāoa (Auckland)-4-7-2005"},"Whangaparāoa (Auckland)","2005-07-04",1.8]
["Whangaparāoa (Auckland)-6-6-2006","Whangaparāoa (Auckland)","2006-06-06",0]
["Whangaparāoa (Auckland)-14-11-2006","Whangaparāoa (Auckland)","2006-11-14",3.8]
["Whangaparāoa (Auckland)-25-4-2008","Whangaparāoa (Auckland)","2008-04-25",0]
["Whangaparāoa (Auckland)-28-3-2009","Whangaparāoa (Auckland)","2009-03-28",0]
["Whangaparāoa (Auckland)-16-3-2010","Whangaparāoa (Auckland)","2010-03-16",0]
["Whangaparāoa (Auckland)-16-2-2011","Whangaparāoa (Auckland)","2011-02-16",0.8]
["Whangaparāoa (Auckland)-4-2-2012","Whangaparāoa (Auckland)","2012-02-04",0]
["Whangaparāoa (Auckland)-6-1-2013","Whangaparāoa (Auckland)","2013-01-06",0]
["Whangaparāoa (Auckland)-9-12-2013","Whangaparāoa (Auckland)","2013-12-09",0]
["Whangaparāoa (Auckland)-27-11-2014","Whangaparāoa (Auckland)","2014-11-27",0.6]
["Whangaparāoa (Auckland)-30-10-2015","Whangaparāoa (Auckland)","2015-10-30",2.2000000000000002]
["Whangaparāoa (Auckland)-17-10-2016","Whangaparāoa (Auckland)","2016-10-17",0]
["Whangaparāoa (Auckland)-1-12-2016","Whangaparāoa (Auckland)","2016-12-01",0]
["Whangaparāoa (Auckland)-21-8-2018","Whangaparāoa (Auckland)","2018-08-21",1.2]
["Whangaparāoa (Auckland)-9-8-2019","Whangaparāoa (Auckland)","2019-08-09",7]
["Whangaparāoa (Auckland)-11-7-2020","Whangaparāoa (Auckland)","2020-07-11",0]
["Whangaparāoa (Auckland)-13-6-2021","Whangaparāoa (Auckland)","2021-06-13",0.2]
["Whangaparāoa (Auckland)-1-6-2022","Whangaparāoa (Auckland)","2022-06-01",0.2]
["Whangārei (Northland)-3-5-1960","Whangārei (Northland)","1960-05-03",8.5]
["Whangārei (Northland)-21-4-1961","Whangārei (Northland)","1961-04-21",0]
["Whangārei (Northland)-24-3-1962","Whangārei (Northland)","1962-03-24",0]
["Whangārei (Northland)-24-2-1963","Whangārei (Northland)","1963-02-24",0]
["Whangārei (Northland)-12-2-1964","Whangārei (Northland)","1964-02-12",4.5]
["Whangārei (Northland)-14-1-1965","Whangārei (Northland)","1965-01-14",14.7]
["Whangārei (Northland)-18-8-1965","Whangārei (Northland)","1965-08-18",3.3]
["Whangārei (Northland)-4-12-1966","Whangārei (Northland)","1966-12-04",0]
["Whangārei (Northland)-6-11-1967","Whangārei (Northland)","1967-11-06",1.3]
["Whangārei (Northland)-24-10-1968","Whangārei (Northland)","1968-10-24",1]
["Whangārei (Northland)-26-9-1969","Whangārei (Northland)","1969-09-26",0]
["Whangārei (Northland)-29-8-1970","Whangārei (Northland)","1970-08-29",0]
["Whangārei (Northland)-17-8-1971","Whangārei (Northland)","1971-08-17",0]
["Whangārei (Northland)-19-7-1972","Whangārei (Northland)","1972-07-19",0]
["Whangārei (Northland)-7-7-1973","Whangārei (Northland)","1973-07-07",0]
["Whangārei (Northland)-9-6-1974","Whangārei (Northland)","1974-06-09",127.2]
["Whangārei (Northland)-12-5-1975","Whangārei (Northland)","1975-05-12",0]
["Whangārei (Northland)-29-4-1976","Whangārei (Northland)","1976-04-29",14.5]
["Whangārei (Northland)-31-10-1976","Whangārei (Northland)","1976-10-31",9]
["Whangārei (Northland)-3-3-1978","Whangārei (Northland)","1978-03-03",18.899999999999999]
["Whangārei (Northland)-19-2-1979","Whangārei (Northland)","1979-02-19",0.6]
["Whangārei (Northland)-22-1-1980","Whangārei (Northland)","1980-01-22",20.5]
["Whangārei (Northland)-9-1-1981","Whangārei (Northland)","1981-01-09",0]
["Whangārei (Northland)-12-12-1981","Whangārei (Northland)","1981-12-12",0]
["Whangārei (Northland)-14-11-1982","Whangārei (Northland)","1982-11-14",0]
["Whangārei (Northland)-2-11-1983","Whangārei (Northland)","1983-11-02",0]
["Whangārei (Northland)-4-10-1984","Whangārei (Northland)","1984-10-04",0]
["Whangārei (Northland)-22-9-1985","Whangārei (Northland)","1985-09-22",1.6]
["Whangārei (Northland)-25-8-1986","Whangārei (Northland)","1986-08-25",0]
["Whangārei (Northland)-28-7-1987","Whangārei (Northland)","1987-07-28",0.7]
["Whangārei (Northland)-18-7-1988","Whangārei (Northland)","1988-07-18",0]
["Whangārei (Northland)-16-6-1989","Whangārei (Northland)","1989-06-16",1.4]
["Whangārei (Northland)-19-5-1990","Whangārei (Northland)","1990-05-19",22.6]
["Whangārei (Northland)-7-5-1991","Whangārei (Northland)","1991-05-07",0.2]
[{"$f":"_xlfn.CONCAT(B679107,\"-\",DAY(C679107),\"-\",MONTH(C679107),\"-\",YEAR(C679107))","v":"Whangārei (Northland)-8-4-1992"},"Whangārei (Northland)","1992-04-08",0]
["Whangārei (Northland)-27-3-1993","Whangārei (Northland)","1993-03-27",0]
["Whangārei (Northland)-27-2-1994","Whangārei (Northland)","1994-02-27",1.4]
["Whangārei (Northland)-30-1-1995","Whangārei (Northland)","1995-01-30",0]
["Whangārei (Northland)-18-1-1996","Whangārei (Northland)","1996-01-18",0.2]
["Whangārei (Northland)-20-12-1996","Whangārei (Northland)","1996-12-20",6]
["Whangārei (Northland)-8-12-1997","Whangārei (Northland)","1997-12-08",1.2]
["Whangārei (Northland)-10-11-1998","Whangārei (Northland)","1998-11-10",0]
["Whangārei (Northland)-1-10-1999","Whangārei (Northland)","1999-10-01",0]
["Whangārei (Northland)-29-9-2000","Whangārei (Northland)","2000-09-29",0.2]
["Whangārei (Northland)-1-9-2001","Whangārei (Northland)","2001-09-01",20.2]
["Whangārei (Northland)-4-8-2002","Whangārei (Northland)","2002-08-04",1]
["Whangārei (Northland)-23-7-2003","Whangārei (Northland)","2003-07-23",0]
["Whangārei (Northland)-24-6-2004","Whangārei (Northland)","2004-06-24",0]
["Whangārei (Northland)-12-6-2005","Whangārei (Northland)","2005-06-12",22]
["Whangārei (Northland)-15-5-2006","Whangārei (Northland)","2006-05-15",3.6]
["Whangārei (Northland)-17-4-2007","Whangārei (Northland)","2007-04-17",1.6]
["Whangārei (Northland)-4-4-2008","Whangārei (Northland)","2008-04-04",0]
["Whangārei (Northland)-7-3-2009","Whangārei (Northland)","2009-03-07",0]
["Whangārei (Northland)-7-2-2010","Whangārei (Northland)","2010-02-07",0]
["Whangārei (Northland)-10-7-2010","Whangārei (Northland)","2010-07-10",0]
["Whangārei (Northland)-28-12-2011","Whangārei (Northland)","2011-12-28",1.2]
["Whangārei (Northland)-15-12-2012","Whangārei (Northland)","2012-12-15",0]
["Whangārei (Northland)-17-11-2013","Whangārei (Northland)","2013-11-17",0]
["Whangārei (Northland)-20-10-2014","Whangārei (Northland)","2014-10-20",0]
["Whangārei (Northland)-8-10-2015","Whangārei (Northland)","2015-10-08",0]
["Whangārei (Northland)-9-9-2016","Whangārei (Northland)","2016-09-09",0]
["Whangārei (Northland)-28-8-2017","Whangārei (Northland)","2017-08-28",8.6]
["Whangārei (Northland)-31-7-2018","Whangārei (Northland)","2018-07-31",0]
["Whangārei (Northland)-3-7-2019","Whangārei (Northland)","2019-07-03",4]
["Whangārei (Northland)-20-6-2020","Whangārei (Northland)","2020-06-20",4.8]
["Whangārei (Northland)-23-5-2021","Whangārei (Northland)","2021-05-23",5.4]
["Whangārei (Northland)-19-8-2021","Whangārei (Northland)","2021-08-19",0.2]
["Whangārei (Northland)-20-8-2021","Whangārei (Northland)","2021-08-20",0]
["Whangārei (Northland)-21-8-2021","Whangārei (Northland)","2021-08-21",7.2]
["Whangārei (Northland)-22-8-2021","Whangārei (Northland)","2021-08-22",0.6]
["Whangārei (Northland)-23-8-2021","Whangārei (Northland)","2021-08-23",0.4]
["Whangārei (Northland)-24-8-2021","Whangārei (Northland)","2021-08-24",1.8]
["Whangārei (Northland)-25-8-2021","Whangārei (Northland)","2021-08-25",0]
["Whangārei (Northland)-26-8-2021","Whangārei (Northland)","2021-08-26",0]
["Whangārei (Northland)-27-8-2021","Whangārei (Northland)","2021-08-27",6.2]
["Whangārei (Northland)-28-8-2021","Whangārei (Northland)","2021-08-28",28.4]
["Whangārei (Northland)-29-8-2021","Whangārei (Northland)","2021-08-29",4.5999999999999996]
["Whangārei (Northland)-30-8-2021","Whangārei (Northland)","2021-08-30",1.4]
["Whangārei (Northland)-31-8-2021","Whangārei (Northland)","2021-08-31",111]
["Whangārei (Northland)-1-9-2021","Whangārei (Northland)","2021-09-01",9]
["Whangārei (Northland)-2-9-2021","Whangārei (Northland)","2021-09-02",0.4]
["Whangārei (Northland)-3-9-2021","Whangārei (Northland)","2021-09-03",0.4]
["Whangārei (Northland)-4-9-2021","Whangārei (Northland)","2021-09-04",0.4]
["Whangārei (Northland)-5-9-2021","Whangārei (Northland)","2021-09-05",0.8]
["Whangārei (Northland)-6-9-2021","Whangārei (Northland)","2021-09-06",1.6]
["Whangārei (Northland)-7-9-2021","Whangārei (Northland)","2021-09-07",7]
["Whangārei (Northland)-8-9-2021","Whangārei (Northland)","2021-09-08",6]
["Whangārei (Northland)-9-9-2021","Whangārei (Northland)","2021-09-09",1]
["Whangārei (Northland)-10-9-2021","Whangārei (Northland)","2021-09-10",8.1999999999999993]
["Whangārei (Northland)-11-9-2021","Whangārei (Northland)","2021-09-11",0.6]
["Whangārei (Northland)-12-9-2021","Whangārei (Northland)","2021-09-12",0]
["Whangārei (Northland)-13-9-2021","Whangārei (Northland)","2021-09-13",2.4]
["Whangārei (Northland)-14-9-2021","Whangārei (Northland)","2021-09-14",6.2]
[{"$f":"_xlfn.CONCAT(B689859,\"-\",DAY(C689859),\"-\",MONTH(C689859),\"-\",YEAR(C689859))","v":"Whangārei (Northland)-15-9-2021"},"Whangārei (Northland)","2021-09-15",42.8]
["Whangārei (Northland)-16-9-2021","Whangārei (Northland)","2021-09-16",11.8]
["Whangārei (Northland)-17-9-2021","Whangārei (Northland)","2021-09-17",2]
["Whangārei (Northland)-18-9-2021","Whangārei (Northland)","2021-09-18",0]
["Whangārei (Northland)-19-9-2021","Whangārei (Northland)","2021-09-19",0.4]
["Whangārei (Northland)-20-9-2021","Whangārei (Northland)","2021-09-20",0]
["Whangārei (Northland)-21-9-2021","Whangārei (Northland)","2021-09-21",0]
["Whangārei (Northland)-22-9-2021","Whangārei (Northland)","2021-09-22",46.6]
["Whangārei (Northland)-23-9-2021","Whangārei (Northland)","2021-09-23",2.6]
["Whangārei (Northland)-24-9-2021","Whangārei (Northland)","2021-09-24",0]
["Whangārei (Northland)-25-9-2021","Whangārei (Northland)","2021-09-25",0]
["Whangārei (Northland)-26-9-2021","Whangārei (Northland)","2021-09-26",0]
["Whangārei (Northland)-27-9-2021","Whangārei (Northland)","2021-09-27",0.2]
["Whangārei (Northland)-28-9-2021","Whangārei (Northland)","2021-09-28",1.6]
["Whangārei (Northland)-29-9-2021","Whangārei (Northland)","2021-09-29",0]
["Whangārei (Northland)-30-9-2021","Whangārei (Northland)","2021-09-30",1.6]
["Whangārei (Northland)-1-10-2021","Whangārei (Northland)","2021-10-01",0]
["Whangārei (Northland)-2-10-2021","Whangārei (Northland)","2021-10-02",0]
["Whangārei (Northland)-3-10-2021","Whangārei (Northland)","2021-10-03",16.399999999999999]
["Whangārei (Northland)-4-10-2021","Whangārei (Northland)","2021-10-04",6.8]
["Whangārei (Northland)-5-10-2021","Whangārei (Northland)","2021-10-05",0]
["Whangārei (Northland)-6-10-2021","Whangārei (Northland)","2021-10-06",3.2]
["Whangārei (Northland)-7-10-2021","Whangārei (Northland)","2021-10-07",60]
["Whangārei (Northland)-8-10-2021","Whangārei (Northland)","2021-10-08",0]
["Whangārei (Northland)-9-10-2021","Whangārei (Northland)","2021-10-09",0]
["Whangārei (Northland)-10-10-2021","Whangārei (Northland)","2021-10-10",0.2]
["Whangārei (Northland)-11-10-2021","Whangārei (Northland)","2021-10-11",9]
["Whangārei (Northland)-12-10-2021","Whangārei (Northland)","2021-10-12",2]
["Whangārei (Northland)-13-10-2021","Whangārei (Northland)","2021-10-13",0.6]
["Whangārei (Northland)-14-10-2021","Whangārei (Northland)","2021-10-14",0]
["Whangārei (Northland)-15-10-2021","Whangārei (Northland)","2021-10-15",0]
["Whangārei (Northland)-16-10-2021","Whangārei (Northland)","2021-10-16",0]
["Whangārei (Northland)-17-10-2021","Whangārei (Northland)","2021-10-17",18.600000000000001]
["Whangārei (Northland)-18-10-2021","Whangārei (Northland)","2021-10-18",0]
["Whangārei (Northland)-19-10-2021","Whangārei (Northland)","2021-10-19",0]
["Whangārei (Northland)-20-10-2021","Whangārei (Northland)","2021-10-20",2.8]
["Whangārei (Northland)-21-10-2021","Whangārei (Northland)","2021-10-21",36.799999999999997]
["Whangārei (Northland)-22-10-2021","Whangārei (Northland)","2021-10-22",24.2]
["Whangārei (Northland)-23-10-2021","Whangārei (Northland)","2021-10-23",35.200000000000003]
["Whangārei (Northland)-24-10-2021","Whangārei (Northland)","2021-10-24",9.6]
["Whangārei (Northland)-25-10-2021","Whangārei (Northland)","2021-10-25",0.6]
["Whangārei (Northland)-26-10-2021","Whangārei (Northland)","2021-10-26",0]
["Whangārei (Northland)-27-10-2021","Whangārei (Northland)","2021-10-27",5.8]
["Whangārei (Northland)-28-10-2021","Whangārei (Northland)","2021-10-28",5.4]
["Whangārei (Northland)-29-10-2021","Whangārei (Northland)","2021-10-29",0]
["Whangārei (Northland)-30-10-2021","Whangārei (Northland)","2021-10-30",4.8]
["Whangārei (Northland)-31-10-2021","Whangārei (Northland)","2021-10-31",0.4]
["Whangārei (Northland)-1-11-2021","Whangārei (Northland)","2021-11-01",0]
["Whangārei (Northland)-2-11-2021","Whangārei (Northland)","2021-11-02",15]
["Whangārei (Northland)-3-11-2021","Whangārei (Northland)","2021-11-03",3.4]
["Whangārei (Northland)-4-11-2021","Whangārei (Northland)","2021-11-04",5]
["Whangārei (Northland)-5-11-2021","Whangārei (Northland)","2021-11-05",3.6]
["Whangārei (Northland)-6-11-2021","Whangārei (Northland)","2021-11-06",0]
["Whangārei (Northland)-7-11-2021","Whangārei (Northland)","2021-11-07",0]
["Whangārei (Northland)-8-11-2021","Whangārei (Northland)","2021-11-08",0]
["Whangārei (Northland)-9-11-2021","Whangārei (Northland)","2021-11-09",0]
["Whangārei (Northland)-10-11-2021","Whangārei (Northland)","2021-11-10",0]
["Whangārei (Northland)-11-11-2021","Whangārei (Northland)","2021-11-11",0]
["Whangārei (Northland)-12-11-2021","Whangārei (Northland)","2021-11-12",5]
["Whangārei (Northland)-13-11-2021","Whangārei (Northland)","2021-11-13",8.1999999999999993]
["Whangārei (Northland)-14-11-2021","Whangārei (Northland)","2021-11-14",6.4]
["Whangārei (Northland)-15-11-2021","Whangārei (Northland)","2021-11-15",0.4]
["Whangārei (Northland)-16-11-2021","Whangārei (Northland)","2021-11-16",0]
["Whangārei (Northland)-17-11-2021","Whangārei (Northland)","2021-11-17",0]
[{"$f":"_xlfn.CONCAT(B689923,\"-\",DAY(C689923),\"-\",MONTH(C689923),\"-\",YEAR(C689923))","v":"Whangārei (Northland)-18-11-2021"},"Whangārei (Northland)","2021-11-18",0]
["Whangārei (Northland)-19-11-2021","Whangārei (Northland)","2021-11-19",0]
["Whangārei (Northland)-20-11-2021","Whangārei (Northland)","2021-11-20",0]
["Whangārei (Northland)-21-11-2021","Whangārei (Northland)","2021-11-21",1.6]
["Whangārei (Northland)-22-11-2021","Whangārei (Northland)","2021-11-22",0.2]
["Whangārei (Northland)-23-11-2021","Whangārei (Northland)","2021-11-23",0.6]
["Whangārei (Northland)-24-11-2021","Whangārei (Northland)","2021-11-24",0.2]
["Whangārei (Northland)-25-11-2021","Whangārei (Northland)","2021-11-25",0]
["Whangārei (Northland)-26-11-2021","Whangārei (Northland)","2021-11-26",0]
["Whangārei (Northland)-27-11-2021","Whangārei (Northland)","2021-11-27",0]
["Whangārei (Northland)-28-11-2021","Whangārei (Northland)","2021-11-28",0]
["Whangārei (Northland)-29-11-2021","Whangārei (Northland)","2021-11-29",0]
["Whangārei (Northland)-30-11-2021","Whangārei (Northland)","2021-11-30",0]
["Whangārei (Northland)-1-12-2021","Whangārei (Northland)","2021-12-01",0]
["Whangārei (Northland)-2-12-2021","Whangārei (Northland)","2021-12-02",0]
["Whangārei (Northland)-3-12-2021","Whangārei (Northland)","2021-12-03",2]
["Whangārei (Northland)-4-12-2021","Whangārei (Northland)","2021-12-04",0.4]
["Whangārei (Northland)-5-12-2021","Whangārei (Northland)","2021-12-05",0.6]
["Whangārei (Northland)-6-12-2021","Whangārei (Northland)","2021-12-06",0.2]
["Whangārei (Northland)-7-12-2021","Whangārei (Northland)","2021-12-07",0]
["Whangārei (Northland)-8-12-2021","Whangārei (Northland)","2021-12-08",0]
["Whangārei (Northland)-9-12-2021","Whangārei (Northland)","2021-12-09",0]
["Whangārei (Northland)-10-12-2021","Whangārei (Northland)","2021-12-10",0]
["Whangārei (Northland)-11-12-2021","Whangārei (Northland)","2021-12-11",1.2]
["Whangārei (Northland)-12-12-2021","Whangārei (Northland)","2021-12-12",8.8000000000000007]
["Whangārei (Northland)-13-12-2021","Whangārei (Northland)","2021-12-13",6.8]
["Whangārei (Northland)-14-12-2021","Whangārei (Northland)","2021-12-14",27.2]
["Whangārei (Northland)-15-12-2021","Whangārei (Northland)","2021-12-15",0]
["Whangārei (Northland)-16-12-2021","Whangārei (Northland)","2021-12-16",1.2]
["Whangārei (Northland)-17-12-2021","Whangārei (Northland)","2021-12-17",0.2]
["Whangārei (Northland)-18-12-2021","Whangārei (Northland)","2021-12-18",0]
["Whangārei (Northland)-19-12-2021","Whangārei (Northland)","2021-12-19",0]
["Whangārei (Northland)-20-12-2021","Whangārei (Northland)","2021-12-20",0]
["Whangārei (Northland)-21-12-2021","Whangārei (Northland)","2021-12-21",0]
["Whangārei (Northland)-22-12-2021","Whangārei (Northland)","2021-12-22",0]
["Whangārei (Northland)-23-12-2021","Whangārei (Northland)","2021-12-23",0]
["Whangārei (Northland)-24-12-2021","Whangārei (Northland)","2021-12-24",0]
["Whangārei (Northland)-25-12-2021","Whangārei (Northland)","2021-12-25",0]
["Whangārei (Northland)-26-12-2021","Whangārei (Northland)","2021-12-26",0]
["Whangārei (Northland)-27-12-2021","Whangārei (Northland)","2021-12-27",0.2]
["Whangārei (Northland)-28-12-2021","Whangārei (Northland)","2021-12-28",5.8]
["Whangārei (Northland)-29-12-2021","Whangārei (Northland)","2021-12-29",0.2]
["Whangārei (Northland)-30-12-2021","Whangārei (Northland)","2021-12-30",0]
["Whangārei (Northland)-31-12-2021","Whangārei (Northland)","2021-12-31",0]
["Whangārei (Northland)-1-1-2022","Whangārei (Northland)","2022-01-01",0]
["Whangārei (Northland)-2-1-2022","Whangārei (Northland)","2022-01-02",0]
["Whangārei (Northland)-3-1-2022","Whangārei (Northland)","2022-01-03",0]
["Whangārei (Northland)-4-1-2022","Whangārei (Northland)","2022-01-04",0]
["Whangārei (Northland)-5-1-2022","Whangārei (Northland)","2022-01-05",0]
["Whangārei (Northland)-6-1-2022","Whangārei (Northland)","2022-01-06",0]
["Whangārei (Northland)-7-1-2022","Whangārei (Northland)","2022-01-07",9.6]
["Whangārei (Northland)-8-1-2022","Whangārei (Northland)","2022-01-08",2.2000000000000002]
["Whangārei (Northland)-9-1-2022","Whangārei (Northland)","2022-01-09",0.6]
["Whangārei (Northland)-10-1-2022","Whangārei (Northland)","2022-01-10",0]
["Whangārei (Northland)-11-1-2022","Whangārei (Northland)","2022-01-11",0]
["Whangārei (Northland)-12-1-2022","Whangārei (Northland)","2022-01-12",0]
["Whangārei (Northland)-13-1-2022","Whangārei (Northland)","2022-01-13",0.8]
["Whangārei (Northland)-14-1-2022","Whangārei (Northland)","2022-01-14",0]
["Whangārei (Northland)-15-1-2022","Whangārei (Northland)","2022-01-15",0]
["Whangārei (Northland)-16-1-2022","Whangārei (Northland)","2022-01-16",0]
["Whangārei (Northland)-17-1-2022","Whangārei (Northland)","2022-01-17",0]
["Whangārei (Northland)-18-1-2022","Whangārei (Northland)","2022-01-18",0]
["Whangārei (Northland)-19-1-2022","Whangārei (Northland)","2022-01-19",0]
["Whangārei (Northland)-20-1-2022","Whangārei (Northland)","2022-01-20",0]
[{"$f":"_xlfn.CONCAT(B689987,\"-\",DAY(C689987),\"-\",MONTH(C689987),\"-\",YEAR(C689987))","v":"Whangārei (Northland)-21-1-2022"},"Whangārei (Northland)","2022-01-21",0]
["Whangārei (Northland)-22-1-2022","Whangārei (Northland)","2022-01-22",0]
["Whangārei (Northland)-23-1-2022","Whangārei (Northland)","2022-01-23",1.4]
["Whangārei (Northland)-24-1-2022","Whangārei (Northland)","2022-01-24",2.2000000000000002]
["Whangārei (Northland)-25-1-2022","Whangārei (Northland)","2022-01-25",8.1999999999999993]
["Whangārei (Northland)-26-1-2022","Whangārei (Northland)","2022-01-26",0.2]
["Whangārei (Northland)-27-1-2022","Whangārei (Northland)","2022-01-27",0.2]
["Whangārei (Northland)-28-1-2022","Whangārei (Northland)","2022-01-28",0]
["Whangārei (Northland)-29-1-2022","Whangārei (Northland)","2022-01-29",0]
["Whangārei (Northland)-30-1-2022","Whangārei (Northland)","2022-01-30",0]
["Whangārei (Northland)-31-1-2022","Whangārei (Northland)","2022-01-31",8.6]
["Whangārei (Northland)-1-2-2022","Whangārei (Northland)","2022-02-01",0]
["Whangārei (Northland)-2-2-2022","Whangārei (Northland)","2022-02-02",0.2]
["Whangārei (Northland)-3-2-2022","Whangārei (Northland)","2022-02-03",0.2]
["Whangārei (Northland)-4-2-2022","Whangārei (Northland)","2022-02-04",0]
["Whangārei (Northland)-5-2-2022","Whangārei (Northland)","2022-02-05",1.8]
["Whangārei (Northland)-6-2-2022","Whangārei (Northland)","2022-02-06",80]
["Whangārei (Northland)-7-2-2022","Whangārei (Northland)","2022-02-07",1.6]
["Whangārei (Northland)-8-2-2022","Whangārei (Northland)","2022-02-08",2]
["Whangārei (Northland)-9-2-2022","Whangārei (Northland)","2022-02-09",0]
["Whangārei (Northland)-10-2-2022","Whangārei (Northland)","2022-02-10",0.4]
["Whangārei (Northland)-11-2-2022","Whangārei (Northland)","2022-02-11",1]
["Whangārei (Northland)-12-2-2022","Whangārei (Northland)","2022-02-12",0.8]
["Whangārei (Northland)-13-2-2022","Whangārei (Northland)","2022-02-13",0]
["Whangārei (Northland)-14-2-2022","Whangārei (Northland)","2022-02-14",0]
["Whangārei (Northland)-15-2-2022","Whangārei (Northland)","2022-02-15",0]
["Whangārei (Northland)-16-2-2022","Whangārei (Northland)","2022-02-16",0]
["Whangārei (Northland)-17-2-2022","Whangārei (Northland)","2022-02-17",0]
["Whangārei (Northland)-18-2-2022","Whangārei (Northland)","2022-02-18",0]
["Whangārei (Northland)-19-2-2022","Whangārei (Northland)","2022-02-19",0]
["Whangārei (Northland)-20-2-2022","Whangārei (Northland)","2022-02-20",12.6]
["Whangārei (Northland)-21-2-2022","Whangārei (Northland)","2022-02-21",0]
["Whangārei (Northland)-22-2-2022","Whangārei (Northland)","2022-02-22",0]
["Whangārei (Northland)-23-2-2022","Whangārei (Northland)","2022-02-23",2]
["Whangārei (Northland)-24-2-2022","Whangārei (Northland)","2022-02-24",0.2]
["Whangārei (Northland)-25-2-2022","Whangārei (Northland)","2022-02-25",0]
["Whangārei (Northland)-26-2-2022","Whangārei (Northland)","2022-02-26",0]
["Whangārei (Northland)-27-2-2022","Whangārei (Northland)","2022-02-27",11.8]
["Whangārei (Northland)-28-2-2022","Whangārei (Northland)","2022-02-28",2.8]
["Whangārei (Northland)-1-3-2022","Whangārei (Northland)","2022-03-01",0]
["Whangārei (Northland)-2-3-2022","Whangārei (Northland)","2022-03-02",2.4]
["Whangārei (Northland)-3-3-2022","Whangārei (Northland)","2022-03-03",0.2]
["Whangārei (Northland)-4-3-2022","Whangārei (Northland)","2022-03-04",0]
["Whangārei (Northland)-5-3-2022","Whangārei (Northland)","2022-03-05",0]
["Whangārei (Northland)-6-3-2022","Whangārei (Northland)","2022-03-06",0.8]
["Whangārei (Northland)-7-3-2022","Whangārei (Northland)","2022-03-07",1]
["Whangārei (Northland)-8-3-2022","Whangārei (Northland)","2022-03-08",2.4]
["Whangārei (Northland)-9-3-2022","Whangārei (Northland)","2022-03-09",0]
["Whangārei (Northland)-10-3-2022","Whangārei (Northland)","2022-03-10",0.2]
["Whangārei (Northland)-11-3-2022","Whangārei (Northland)","2022-03-11",0]
["Whangārei (Northland)-12-3-2022","Whangārei (Northland)","2022-03-12",0]
["Whangārei (Northland)-13-3-2022","Whangārei (Northland)","2022-03-13",0]
["Whangārei (Northland)-14-3-2022","Whangārei (Northland)","2022-03-14",0]
["Whangārei (Northland)-15-3-2022","Whangārei (Northland)","2022-03-15",0]
["Whangārei (Northland)-16-3-2022","Whangārei (Northland)","2022-03-16",0]
["Whangārei (Northland)-17-3-2022","Whangārei (Northland)","2022-03-17",0]
["Whangārei (Northland)-18-3-2022","Whangārei (Northland)","2022-03-18",5.8]
["Whangārei (Northland)-19-3-2022","Whangārei (Northland)","2022-03-19",1.8]
["Whangārei (Northland)-20-3-2022","Whangārei (Northland)","2022-03-20",112.8]
["Whangārei (Northland)-21-3-2022","Whangārei (Northland)","2022-03-21",5.6]
["Whangārei (Northland)-22-3-2022","Whangārei (Northland)","2022-03-22",4.4000000000000004]
["Whangārei (Northland)-23-3-2022","Whangārei (Northland)","2022-03-23",0.4]
["Whangārei (Northland)-24-3-2022","Whangārei (Northland)","2022-03-24",0.4]
["Whangārei (Northland)-25-3-2022","Whangārei (Northland)","2022-03-25",0.8]
[{"$f":"_xlfn.CONCAT(B690051,\"-\",DAY(C690051),\"-\",MONTH(C690051),\"-\",YEAR(C690051))","v":"Whangārei (Northland)-26-3-2022"},"Whangārei (Northland)","2022-03-26",0]
["Whangārei (Northland)-27-3-2022","Whangārei (Northland)","2022-03-27",0]
["Whangārei (Northland)-28-3-2022","Whangārei (Northland)","2022-03-28",0]
["Whangārei (Northland)-29-3-2022","Whangārei (Northland)","2022-03-29",0]
["Whangārei (Northland)-30-3-2022","Whangārei (Northland)","2022-03-30",0]
["Whangārei (Northland)-31-3-2022","Whangārei (Northland)","2022-03-31",0]
["Whangārei (Northland)-1-4-2022","Whangārei (Northland)","2022-04-01",0.2]
["Whangārei (Northland)-2-4-2022","Whangārei (Northland)","2022-04-02",0]
["Whangārei (Northland)-3-4-2022","Whangārei (Northland)","2022-04-03",2.2000000000000002]
["Whangārei (Northland)-4-4-2022","Whangārei (Northland)","2022-04-04",0]
["Whangārei (Northland)-5-4-2022","Whangārei (Northland)","2022-04-05",0.2]
["Whangārei (Northland)-6-4-2022","Whangārei (Northland)","2022-04-06",5.2]
["Whangārei (Northland)-7-4-2022","Whangārei (Northland)","2022-04-07",0]
["Whangārei (Northland)-8-4-2022","Whangārei (Northland)","2022-04-08",0]
["Whangārei (Northland)-9-4-2022","Whangārei (Northland)","2022-04-09",2.2000000000000002]
["Whangārei (Northland)-10-4-2022","Whangārei (Northland)","2022-04-10",0]
["Whangārei (Northland)-11-4-2022","Whangārei (Northland)","2022-04-11",1.6]
["Whangārei (Northland)-12-4-2022","Whangārei (Northland)","2022-04-12",31.4]
["Whangārei (Northland)-13-4-2022","Whangārei (Northland)","2022-04-13",0]
["Whangārei (Northland)-14-4-2022","Whangārei (Northland)","2022-04-14",0]
["Whangārei (Northland)-15-4-2022","Whangārei (Northland)","2022-04-15",0]
["Whangārei (Northland)-16-4-2022","Whangārei (Northland)","2022-04-16",3.4]
["Whangārei (Northland)-17-4-2022","Whangārei (Northland)","2022-04-17",76.8]
["Whangārei (Northland)-18-4-2022","Whangārei (Northland)","2022-04-18",72]
["Whangārei (Northland)-19-4-2022","Whangārei (Northland)","2022-04-19",6.6]
["Whangārei (Northland)-20-4-2022","Whangārei (Northland)","2022-04-20",11.8]
["Whangārei (Northland)-21-4-2022","Whangārei (Northland)","2022-04-21",5.6]
["Whangārei (Northland)-22-4-2022","Whangārei (Northland)","2022-04-22",0.4]
["Whangārei (Northland)-23-4-2022","Whangārei (Northland)","2022-04-23",0.4]
["Whangārei (Northland)-24-4-2022","Whangārei (Northland)","2022-04-24",2.4]
["Whangārei (Northland)-25-4-2022","Whangārei (Northland)","2022-04-25",1.6]
["Whangārei (Northland)-26-4-2022","Whangārei (Northland)","2022-04-26",0.2]
["Whangārei (Northland)-27-4-2022","Whangārei (Northland)","2022-04-27",4]
["Whangārei (Northland)-28-4-2022","Whangārei (Northland)","2022-04-28",27.8]
["Whangārei (Northland)-29-4-2022","Whangārei (Northland)","2022-04-29",0.8]
["Whangārei (Northland)-30-4-2022","Whangārei (Northland)","2022-04-30",3.6]
["Whangārei (Northland)-1-5-2022","Whangārei (Northland)","2022-05-01",0.4]
["Whangārei (Northland)-2-5-2022","Whangārei (Northland)","2022-05-02",0.8]
["Whangārei (Northland)-3-5-2022","Whangārei (Northland)","2022-05-03",0.4]
["Whangārei (Northland)-4-5-2022","Whangārei (Northland)","2022-05-04",4.2]
["Whangārei (Northland)-5-5-2022","Whangārei (Northland)","2022-05-05",2]
["Whangārei (Northland)-6-5-2022","Whangārei (Northland)","2022-05-06",0.2]
["Whangārei (Northland)-7-5-2022","Whangārei (Northland)","2022-05-07",0.2]
["Whangārei (Northland)-8-5-2022","Whangārei (Northland)","2022-05-08",0]
["Whangārei (Northland)-9-5-2022","Whangārei (Northland)","2022-05-09",6.4]
["Whangārei (Northland)-10-5-2022","Whangārei (Northland)","2022-05-10",0.4]
["Whangārei (Northland)-11-5-2022","Whangārei (Northland)","2022-05-11",0]
["Whangārei (Northland)-12-5-2022","Whangārei (Northland)","2022-05-12",0.2]
["Whangārei (Northland)-13-5-2022","Whangārei (Northland)","2022-05-13",0.2]
["Whangārei (Northland)-14-5-2022","Whangārei (Northland)","2022-05-14",0]
["Whangārei (Northland)-15-5-2022","Whangārei (Northland)","2022-05-15",0]
["Whangārei (Northland)-16-5-2022","Whangārei (Northland)","2022-05-16",0.4]
["Whangārei (Northland)-17-5-2022","Whangārei (Northland)","2022-05-17",0]
["Whangārei (Northland)-18-5-2022","Whangārei (Northland)","2022-05-18",26.8]
["Whangārei (Northland)-19-5-2022","Whangārei (Northland)","2022-05-19",2.6]
["Whangārei (Northland)-20-5-2022","Whangārei (Northland)","2022-05-20",1.6]
["Whangārei (Northland)-21-5-2022","Whangārei (Northland)","2022-05-21",0.2]
["Whangārei (Northland)-22-5-2022","Whangārei (Northland)","2022-05-22",0]
["Whangārei (Northland)-23-5-2022","Whangārei (Northland)","2022-05-23",0.8]
["Whangārei (Northland)-24-5-2022","Whangārei (Northland)","2022-05-24",0.2]
["Whangārei (Northland)-25-5-2022","Whangārei (Northland)","2022-05-25",0]
["Whangārei (Northland)-26-5-2022","Whangārei (Northland)","2022-05-26",2]
["Whangārei (Northland)-27-5-2022","Whangārei (Northland)","2022-05-27",10.4]
["Whangārei (Northland)-28-5-2022","Whangārei (Northland)","2022-05-28",0]
[{"$f":"_xlfn.CONCAT(B690115,\"-\",DAY(C690115),\"-\",MONTH(C690115),\"-\",YEAR(C690115))","v":"Whangārei (Northland)-29-5-2022"},"Whangārei (Northland)","2022-05-29",50.2]
["Whangārei (Northland)-30-5-2022","Whangārei (Northland)","2022-05-30",1.2]
["Whangārei (Northland)-31-5-2022","Whangārei (Northland)","2022-05-31",34.200000000000003]
["Whangārei (Northland)-1-6-2022","Whangārei (Northland)","2022-06-01",6.2]
["Whangārei (Northland)-2-6-2022","Whangārei (Northland)","2022-06-02",3]
["Whangārei (Northland)-3-6-2022","Whangārei (Northland)","2022-06-03",0.8]
["Whangārei (Northland)-4-6-2022","Whangārei (Northland)","2022-06-04",8.6]
["Whangārei (Northland)-5-6-2022","Whangārei (Northland)","2022-06-05",4.8]
["Whangārei (Northland)-6-6-2022","Whangārei (Northland)","2022-06-06",0.4]
["Whangārei (Northland)-7-6-2022","Whangārei (Northland)","2022-06-07",5.2]
["Whangārei (Northland)-8-6-2022","Whangārei (Northland)","2022-06-08",0]
["Whangārei (Northland)-9-6-2022","Whangārei (Northland)","2022-06-09",0.6]
["Whangārei (Northland)-10-6-2022","Whangārei (Northland)","2022-06-10",6.4]
["Whangārei (Northland)-11-6-2022","Whangārei (Northland)","2022-06-11",0.6]
["Whangārei (Northland)-12-6-2022","Whangārei (Northland)","2022-06-12",6.8]
["Whangārei (Northland)-13-6-2022","Whangārei (Northland)","2022-06-13",5.2]
["Whangārei (Northland)-14-6-2022","Whangārei (Northland)","2022-06-14",0.4]
["Whangārei (Northland)-15-6-2022","Whangārei (Northland)","2022-06-15",1.4]
["Whangārei (Northland)-16-6-2022","Whangārei (Northland)","2022-06-16",0]
["Whangārei (Northland)-17-6-2022","Whangārei (Northland)","2022-06-17",0.6]
["Whangārei (Northland)-18-6-2022","Whangārei (Northland)","2022-06-18",12.8]
["Whangārei (Northland)-19-6-2022","Whangārei (Northland)","2022-06-19",35.799999999999997]
["Whangārei (Northland)-20-6-2022","Whangārei (Northland)","2022-06-20",6]
["Whangārei (Northland)-21-6-2022","Whangārei (Northland)","2022-06-21",0.2]
["Whangārei (Northland)-22-6-2022","Whangārei (Northland)","2022-06-22",0.2]
["Whangārei (Northland)-23-6-2022","Whangārei (Northland)","2022-06-23",2.8]
["Whangārei (Northland)-24-6-2022","Whangārei (Northland)","2022-06-24",27]
["Whangārei (Northland)-25-6-2022","Whangārei (Northland)","2022-06-25",0.4]
["Whangārei (Northland)-26-6-2022","Whangārei (Northland)","2022-06-26",2]
["Whangārei (Northland)-27-6-2022","Whangārei (Northland)","2022-06-27",0]
["Whangārei (Northland)-28-6-2022","Whangārei (Northland)","2022-06-28",9.6]
["Whangārei (Northland)-29-6-2022","Whangārei (Northland)","2022-06-29",15.6]
["Whangārei (Northland)-30-6-2022","Whangārei (Northland)","2022-06-30",0]
["Whangārei (Northland)-1-7-2022","Whangārei (Northland)","2022-07-01",1.2]
["Whangārei (Northland)-2-7-2022","Whangārei (Northland)","2022-07-02",0]
["Whangārei (Northland)-3-7-2022","Whangārei (Northland)","2022-07-03",0.4]
["Whangārei (Northland)-4-7-2022","Whangārei (Northland)","2022-07-04",0]
["Whangārei (Northland)-5-7-2022","Whangārei (Northland)","2022-07-05",20.8]
["Whangārei (Northland)-6-7-2022","Whangārei (Northland)","2022-07-06",1.6]
["Whangārei (Northland)-7-7-2022","Whangārei (Northland)","2022-07-07",29.4]
["Whangārei (Northland)-8-7-2022","Whangārei (Northland)","2022-07-08",10.199999999999999]
["Whangārei (Northland)-9-7-2022","Whangārei (Northland)","2022-07-09",0.4]
["Whangārei (Northland)-10-7-2022","Whangārei (Northland)","2022-07-10",0.2]
["Whangārei (Northland)-11-7-2022","Whangārei (Northland)","2022-07-11",53.6]
["Whangārei (Northland)-12-7-2022","Whangārei (Northland)","2022-07-12",0.2]
["Whangārei (Northland)-13-7-2022","Whangārei (Northland)","2022-07-13",0.2]
["Whangārei (Northland)-14-7-2022","Whangārei (Northland)","2022-07-14",26.4]
["Whangārei (Northland)-15-7-2022","Whangārei (Northland)","2022-07-15",0.4]
["Whangārei (Northland)-16-7-2022","Whangārei (Northland)","2022-07-16",2.2000000000000002]
["Whangārei (Northland)-17-7-2022","Whangārei (Northland)","2022-07-17",0]
["Whangārei (Northland)-18-7-2022","Whangārei (Northland)","2022-07-18",2.4]
["Whangārei (Northland)-19-7-2022","Whangārei (Northland)","2022-07-19",84.2]
["Whangārei (Northland)-20-7-2022","Whangārei (Northland)","2022-07-20",2.6]
["Whangārei (Northland)-21-7-2022","Whangārei (Northland)","2022-07-21",8]
["Whangārei (Northland)-22-7-2022","Whangārei (Northland)","2022-07-22",0.2]
["Whangārei (Northland)-23-7-2022","Whangārei (Northland)","2022-07-23",10.199999999999999]
["Whangārei (Northland)-24-7-2022","Whangārei (Northland)","2022-07-24",63.2]
["Whangārei (Northland)-25-7-2022","Whangārei (Northland)","2022-07-25",44.6]
["Whangārei (Northland)-26-7-2022","Whangārei (Northland)","2022-07-26",0.8]
["Whangārei (Northland)-27-7-2022","Whangārei (Northland)","2022-07-27",5.8]
["Whangārei (Northland)-28-7-2022","Whangārei (Northland)","2022-07-28",0.8]
["Whangārei (Northland)-29-7-2022","Whangārei (Northland)","2022-07-29",0.4]
["Whangārei (Northland)-30-7-2022","Whangārei (Northland)","2022-07-30",1]
["Whangārei (Northland)-31-7-2022","Whangārei (Northland)","2022-07-31",1.8]
[{"$f":"_xlfn.CONCAT(B690179,\"-\",DAY(C690179),\"-\",MONTH(C690179),\"-\",YEAR(C690179))","v":"Whangārei (Northland)-1-8-2022"},"Whangārei (Northland)","2022-08-01",0.2]
["Whangārei (Northland)-2-8-2022","Whangārei (Northland)","2022-08-02",0]
["Whangārei (Northland)-3-8-2022","Whangārei (Northland)","2022-08-03",0.2]
["Whangārei (Northland)-4-8-2022","Whangārei (Northland)","2022-08-04",0.4]
["Whangārei (Northland)-5-8-2022","Whangārei (Northland)","2022-08-05",0]
["Whangārei (Northland)-6-8-2022","Whangārei (Northland)","2022-08-06",0.6]
["Whangārei (Northland)-7-8-2022","Whangārei (Northland)","2022-08-07",16.2]
["Whangārei (Northland)-8-8-2022","Whangārei (Northland)","2022-08-08",1]
["Whangārei (Northland)-9-8-2022","Whangārei (Northland)","2022-08-09",3]
["Whangārei (Northland)-10-8-2022","Whangārei (Northland)","2022-08-10",0.2]
["Whangārei (Northland)-11-8-2022","Whangārei (Northland)","2022-08-11",0]
["Whangārei (Northland)-12-8-2022","Whangārei (Northland)","2022-08-12",0.2]
["Whangārei (Northland)-13-8-2022","Whangārei (Northland)","2022-08-13",0.6]
["Whangārei (Northland)-14-8-2022","Whangārei (Northland)","2022-08-14",0]
["Whangārei (Northland)-15-8-2022","Whangārei (Northland)","2022-08-15",2.6]
["Whangārei (Northland)-16-8-2022","Whangārei (Northland)","2022-08-16",1]
["Whangārei (Northland)-17-8-2022","Whangārei (Northland)","2022-08-17",20]
["Whangārei (Northland)-18-8-2022","Whangārei (Northland)","2022-08-18",16.600000000000001]
["Whangārei (Northland)-19-8-2022","Whangārei (Northland)","2022-08-19",11.2]
["Whangārei (Northland)-20-8-2022","Whangārei (Northland)","2022-08-20",0.2]
["Whangārei (Northland)-21-8-2022","Whangārei (Northland)","2022-08-21",0.2]
["Whangārei (Northland)-22-8-2022","Whangārei (Northland)","2022-08-22",1.8]
["Whangārei (Northland)-23-8-2022","Whangārei (Northland)","2022-08-23",0.2]
["Whangārei (Northland)-24-8-2022","Whangārei (Northland)","2022-08-24",0]
["Whangārei (Northland)-25-8-2022","Whangārei (Northland)","2022-08-25",6.4]
["Whangārei (Northland)-26-8-2022","Whangārei (Northland)","2022-08-26",0.8]
["Whangārei (Northland)-27-8-2022","Whangārei (Northland)","2022-08-27",0]
["Whangārei (Northland)-28-8-2022","Whangārei (Northland)","2022-08-28",0]
["Whangārei (Northland)-29-8-2022","Whangārei (Northland)","2022-08-29",1.6]
["Whangārei (Northland)-30-8-2022","Whangārei (Northland)","2022-08-30",0.6]
["Whangārei (Northland)-31-8-2022","Whangārei (Northland)","2022-08-31",0.4]
["Whangārei (Northland)-1-9-2022","Whangārei (Northland)","2022-09-01",0.2]
["Whangārei (Northland)-2-9-2022","Whangārei (Northland)","2022-09-02",0]
["Whangārei (Northland)-3-9-2022","Whangārei (Northland)","2022-09-03",0.6]
["Whangārei (Northland)-4-9-2022","Whangārei (Northland)","2022-09-04",2]
["Whangārei (Northland)-5-9-2022","Whangārei (Northland)","2022-09-05",26]
["Whangārei (Northland)-6-9-2022","Whangārei (Northland)","2022-09-06",0]
["Whangārei (Northland)-7-9-2022","Whangārei (Northland)","2022-09-07",0.4]
["Whangārei (Northland)-8-9-2022","Whangārei (Northland)","2022-09-08",0]
["Whangārei (Northland)-9-9-2022","Whangārei (Northland)","2022-09-09",0]
["Whangārei (Northland)-10-9-2022","Whangārei (Northland)","2022-09-10",0.2]
["Whangārei (Northland)-11-9-2022","Whangārei (Northland)","2022-09-11",10.4]
["Whangārei (Northland)-12-9-2022","Whangārei (Northland)","2022-09-12",0.4]
["Whangārei (Northland)-13-9-2022","Whangārei (Northland)","2022-09-13",0.6]
["Whangārei (Northland)-14-9-2022","Whangārei (Northland)","2022-09-14",0.4]
["Whangārei (Northland)-15-9-2022","Whangārei (Northland)","2022-09-15",0]
["Whangārei (Northland)-16-9-2022","Whangārei (Northland)","2022-09-16",0.2]
["Whangārei (Northland)-17-9-2022","Whangārei (Northland)","2022-09-17",0]
["Whangārei (Northland)-18-9-2022","Whangārei (Northland)","2022-09-18",0]
["Whangārei (Northland)-19-9-2022","Whangārei (Northland)","2022-09-19",12.4]
["Whangārei (Northland)-20-9-2022","Whangārei (Northland)","2022-09-20",5.8]
["Whangārei (Northland)-21-9-2022","Whangārei (Northland)","2022-09-21",0.2]
["Whangārei (Northland)-22-9-2022","Whangārei (Northland)","2022-09-22",0]
["Whangārei (Northland)-23-9-2022","Whangārei (Northland)","2022-09-23",2.8]
["Whangārei (Northland)-24-9-2022","Whangārei (Northland)","2022-09-24",1]
["Whangārei (Northland)-25-9-2022","Whangārei (Northland)","2022-09-25",7.4]
["Whangārei (Northland)-26-9-2022","Whangārei (Northland)","2022-09-26",0.6]
["Whangārei (Northland)-27-9-2022","Whangārei (Northland)","2022-09-27",1.2]
["Whangārei (Northland)-28-9-2022","Whangārei (Northland)","2022-09-28",0]
["Whangārei (Northland)-29-9-2022","Whangārei (Northland)","2022-09-29",4.2]
["Whangārei (Northland)-30-9-2022","Whangārei (Northland)","2022-09-30",14.6]
["Whangārei (Northland)-1-10-2022","Whangārei (Northland)","2022-10-01",34.4]
["Whangārei (Northland)-2-10-2022","Whangārei (Northland)","2022-10-02",11.6]
["Whangārei (Northland)-3-10-2022","Whangārei (Northland)","2022-10-03",0.4]
[{"$f":"_xlfn.CONCAT(B690243,\"-\",DAY(C690243),\"-\",MONTH(C690243),\"-\",YEAR(C690243))","v":"Whangārei (Northland)-4-10-2022"},"Whangārei (Northland)","2022-10-04",0]
["Whangārei (Northland)-5-10-2022","Whangārei (Northland)","2022-10-05",3.2]
["Whangārei (Northland)-6-10-2022","Whangārei (Northland)","2022-10-06",0.4]
["Whangārei (Northland)-7-10-2022","Whangārei (Northland)","2022-10-07",0.2]
["Whangārei (Northland)-8-10-2022","Whangārei (Northland)","2022-10-08",0.8]
["Whangārei (Northland)-9-10-2022","Whangārei (Northland)","2022-10-09",0.2]
["Whangārei (Northland)-10-10-2022","Whangārei (Northland)","2022-10-10",0.6]
["Whangārei (Northland)-11-10-2022","Whangārei (Northland)","2022-10-11",0.2]
["Whangārei (Northland)-12-10-2022","Whangārei (Northland)","2022-10-12",1.8]
["Whangārei (Northland)-13-10-2022","Whangārei (Northland)","2022-10-13",5.4]
["Whangārei (Northland)-14-10-2022","Whangārei (Northland)","2022-10-14",8.8000000000000007]
["Whangārei (Northland)-15-10-2022","Whangārei (Northland)","2022-10-15",0.4]
["Whangārei (Northland)-16-10-2022","Whangārei (Northland)","2022-10-16",0.2]
["Whangārei (Northland)-17-10-2022","Whangārei (Northland)","2022-10-17",12.4]
["Whangārei (Northland)-18-10-2022","Whangārei (Northland)","2022-10-18",0.2]
["Whangārei (Northland)-19-10-2022","Whangārei (Northland)","2022-10-19",0]
["Whangārei (Northland)-20-10-2022","Whangārei (Northland)","2022-10-20",2]
["Whangārei (Northland)-21-10-2022","Whangārei (Northland)","2022-10-21",14]
["Whangārei (Northland)-22-10-2022","Whangārei (Northland)","2022-10-22",0.2]
["Whangārei (Northland)-23-10-2022","Whangārei (Northland)","2022-10-23",0]
["Whangārei (Northland)-24-10-2022","Whangārei (Northland)","2022-10-24",0]
["Whangārei (Northland)-25-10-2022","Whangārei (Northland)","2022-10-25",0.2]
["Whangārei (Northland)-26-10-2022","Whangārei (Northland)","2022-10-26",0]
["Whangārei (Northland)-27-10-2022","Whangārei (Northland)","2022-10-27",0]
["Whangārei (Northland)-28-10-2022","Whangārei (Northland)","2022-10-28",1.6]
["Whangārei (Northland)-29-10-2022","Whangārei (Northland)","2022-10-29",47]
["Whangārei (Northland)-30-10-2022","Whangārei (Northland)","2022-10-30",15.6]
["Whangārei (Northland)-31-10-2022","Whangārei (Northland)","2022-10-31",0.2]
["Whangārei (Northland)-1-11-2022","Whangārei (Northland)","2022-11-01",3]
["Whangārei (Northland)-2-11-2022","Whangārei (Northland)","2022-11-02",0]
["Whangārei (Northland)-3-11-2022","Whangārei (Northland)","2022-11-03",0.4]
["Whangārei (Northland)-4-11-2022","Whangārei (Northland)","2022-11-04",0]
["Whangārei (Northland)-5-11-2022","Whangārei (Northland)","2022-11-05",0]
["Whangārei (Northland)-6-11-2022","Whangārei (Northland)","2022-11-06",0]
["Whangārei (Northland)-7-11-2022","Whangārei (Northland)","2022-11-07",17.2]
["Whangārei (Northland)-8-11-2022","Whangārei (Northland)","2022-11-08",85.4]
["Whangārei (Northland)-9-11-2022","Whangārei (Northland)","2022-11-09",5]
["Whangārei (Northland)-10-11-2022","Whangārei (Northland)","2022-11-10",145.4]
["Whangārei (Northland)-11-11-2022","Whangārei (Northland)","2022-11-11",6.8]
["Whangārei (Northland)-12-11-2022","Whangārei (Northland)","2022-11-12",1.4]
["Whangārei (Northland)-13-11-2022","Whangārei (Northland)","2022-11-13",0]
["Whangārei (Northland)-14-11-2022","Whangārei (Northland)","2022-11-14",1.2]
["Whangārei (Northland)-15-11-2022","Whangārei (Northland)","2022-11-15",0.8]
["Whangārei (Northland)-16-11-2022","Whangārei (Northland)","2022-11-16",0.2]
["Whangārei (Northland)-17-11-2022","Whangārei (Northland)","2022-11-17",5.2]
["Whangārei (Northland)-18-11-2022","Whangārei (Northland)","2022-11-18",19]
["Whangārei (Northland)-19-11-2022","Whangārei (Northland)","2022-11-19",6.2]
["Whangārei (Northland)-20-11-2022","Whangārei (Northland)","2022-11-20",6.6]
["Whangārei (Northland)-21-11-2022","Whangārei (Northland)","2022-11-21",1.4]
["Whangārei (Northland)-22-11-2022","Whangārei (Northland)","2022-11-22",27.4]
["Whangārei (Northland)-23-11-2022","Whangārei (Northland)","2022-11-23",1.2]
["Whangārei (Northland)-24-11-2022","Whangārei (Northland)","2022-11-24",6]
["Whangārei (Northland)-25-11-2022","Whangārei (Northland)","2022-11-25",0.4]
["Whangārei (Northland)-26-11-2022","Whangārei (Northland)","2022-11-26",6.4]
["Whangārei (Northland)-27-11-2022","Whangārei (Northland)","2022-11-27",13.6]
["Whangārei (Northland)-28-11-2022","Whangārei (Northland)","2022-11-28",0.2]
["Whangārei (Northland)-29-11-2022","Whangārei (Northland)","2022-11-29",1.8]
["Whangārei (Northland)-30-11-2022","Whangārei (Northland)","2022-11-30",4.8]
["Whangārei (Northland)-1-12-2022","Whangārei (Northland)","2022-12-01",0.2]
["Whangārei (Northland)-2-12-2022","Whangārei (Northland)","2022-12-02",0]
["Whangārei (Northland)-3-12-2022","Whangārei (Northland)","2022-12-03",1]
["Whangārei (Northland)-4-12-2022","Whangārei (Northland)","2022-12-04",0]
["Whangārei (Northland)-5-12-2022","Whangārei (Northland)","2022-12-05",0]
["Whangārei (Northland)-6-12-2022","Whangārei (Northland)","2022-12-06",27.6]
[{"$f":"_xlfn.CONCAT(B690307,\"-\",DAY(C690307),\"-\",MONTH(C690307),\"-\",YEAR(C690307))","v":"Whangārei (Northland)-7-12-2022"},"Whangārei (Northland)","2022-12-07",33.799999999999997]
["Whangārei (Northland)-8-12-2022","Whangārei (Northland)","2022-12-08",17.8]
["Whangārei (Northland)-9-12-2022","Whangārei (Northland)","2022-12-09",0.4]
["Whangārei (Northland)-10-12-2022","Whangārei (Northland)","2022-12-10",1.1000000000000001]
["Whangārei (Northland)-11-12-2022","Whangārei (Northland)","2022-12-11",34.1]
["Whangārei (Northland)-12-12-2022","Whangārei (Northland)","2022-12-12",0]
["Whangārei (Northland)-13-12-2022","Whangārei (Northland)","2022-12-13",4.8]
["Whangārei (Northland)-14-12-2022","Whangārei (Northland)","2022-12-14",17.899999999999999]
["Whangārei (Northland)-15-12-2022","Whangārei (Northland)","2022-12-15",0]
["Whangārei (Northland)-16-12-2022","Whangārei (Northland)","2022-12-16",1.5]
["Whangārei (Northland)-17-12-2022","Whangārei (Northland)","2022-12-17",4.8]
["Whangārei (Northland)-18-12-2022","Whangārei (Northland)","2022-12-18",0]
["Whangārei (Northland)-19-12-2022","Whangārei (Northland)","2022-12-19",10.7]
["Whangārei (Northland)-20-12-2022","Whangārei (Northland)","2022-12-20",19.600000000000001]
["Whangārei (Northland)-21-12-2022","Whangārei (Northland)","2022-12-21",0]
["Whangārei (Northland)-22-12-2022","Whangārei (Northland)","2022-12-22",0]
["Whangārei (Northland)-23-12-2022","Whangārei (Northland)","2022-12-23",0]
["Whangārei (Northland)-24-12-2022","Whangārei (Northland)","2022-12-24",0]
["Whangārei (Northland)-25-12-2022","Whangārei (Northland)","2022-12-25",0.6]
["Whangārei (Northland)-26-12-2022","Whangārei (Northland)","2022-12-26",0.1]
["Whangārei (Northland)-27-12-2022","Whangārei (Northland)","2022-12-27",0]
["Whangārei (Northland)-28-12-2022","Whangārei (Northland)","2022-12-28",0]
["Whangārei (Northland)-29-12-2022","Whangārei (Northland)","2022-12-29",0]
["Whangārei (Northland)-30-12-2022","Whangārei (Northland)","2022-12-30",0]
["Whangārei (Northland)-31-12-2022","Whangārei (Northland)","2022-12-31",1.9]

{"sheet":"RAINFALL DATA","index":4,"n_rows":369,"n_cols":19,"rows_kept":369,"cut":false,"hidden":false,"merged":[]}
[]
[null,"Location:"]
[null,null,null,null,null,null,"Year",2011,2012,2013,2014,2015,2016,2017,2018,2019,2020,2021,2022]
[null,null,"Auckland (Auckland)",null,"Day","Month"]
[null,null,"Blenheim (Marlborough)",null,1,1,null,{"$f":"_xlfn.IFNA(VLOOKUP(_xlfn.CONCAT($C$2,\"-\",$E5,\"-\",$F5,\"-\",H$3),'Raw Data'!$A$2:$D$690331,4,FALSE),\"N/A\")","v":"N/A"},{"$f":"_xlfn.IFNA(VLOOKUP(_xlfn.CONCAT($C$2,\"-\",$E5,\"-\",$F5,\"-\",I$3),'Raw Data'!$A$2:$D$690331,4,FALSE),\"N/A\")","v":"N/A"},{"$f":"_xlfn.IFNA(VLOOKUP(_xlfn.CONCAT($C$2,\"-\",$E5,\"-\",$F5,\"-\",J$3),'Raw Data'!$A$2:$D$690331,4,FALSE),\"N/A\")","v":"N/A"},{"$f":"_xlfn.IFNA(VLOOKUP(_xlfn.CONCAT($C$2,\"-\",$E5,\"-\",$F5,\"-\",K$3),'Raw Data'!$A$2:$D$690331,4,FALSE),\"N/A\")","v":"N/A"},{"$f":"_xlfn.IFNA(VLOOKUP(_xlfn.CONCAT($C$2,\"-\",$E5,\"-\",$F5,\"-\",L$3),'Raw Data'!$A$2:$D$690331,4,FALSE),\"N/A\")","v":"N/A"},{"$f":"_xlfn.IFNA(VLOOKUP(_xlfn.CONCAT($C$2,\"-\",$E5,\"-\",$F5,\"-\",M$3),'Raw Data'!$A$2:$D$690331,4,FALSE),\"N/A\")","v":"N/A"},{"$f":"_xlfn.IFNA(VLOOKUP(_xlfn.CONCAT($C$2,\"-\",$E5,\"-\",$F5,\"-\",N$3),'Raw Data'!$A$2:$D$690331,4,FALSE),\"N/A\")","v":"N/A"},{"$f":"_xlfn.IFNA(VLOOKUP(_xlfn.CONCAT($C$2,\"-\",$E5,\"-\",$F5,\"-\",O$3),'Raw Data'!$A$2:$D$690331,4,FALSE),\"N/A\")","v":"N/A"},{"$f":"_xlfn.IFNA(VLOOKUP(_xlfn.CONCAT($C$2,\"-\",$E5,\"-\",$F5,\"-\",P$3),'Raw Data'!$A$2:$D$690331,4,FALSE),\"N/A\")","v":"N/A"},{"$f":"_xlfn.IFNA(VLOOKUP(_xlfn.CONCAT($C$2,\"-\",$E5,\"-\",$F5,\"-\",Q$3),'Raw Data'!$A$2:$D$690331,4,FALSE),\"N/A\")","v":"N/A"},{"$f":"_xlfn.IFNA(VLOOKUP(_xlfn.CONCAT($C$2,\"-\",$E5,\"-\",$F5,\"-\",R$3),'Raw Data'!$A$2:$D$690331,4,FALSE),\"N/A\")","v":"N/A"},{"$f":"_xlfn.IFNA(VLOOKUP(_xlfn.CONCAT($C$2,\"-\",$E5,\"-\",$F5,\"-\",S$3),'Raw Data'!$A$2:$D$690331,4,FALSE),\"N/A\")","v":"N/A"}]
[null,null,"Christchurch (Canterbury)",null,2,1,null,{"$f":"_xlfn.IFNA(VLOOKUP(_xlfn.CONCAT($C$2,\"-\",$E6,\"-\",$F6,\"-\",H$3),'Raw Data'!$A$2:$D$690331,4,FALSE),\"N/A\")","v":"N/A"},{"$f":"_xlfn.IFNA(VLOOKUP(_xlfn.CONCAT($C$2,\"-\",$E6,\"-\",$F6,\"-\",I$3),'Raw Data'!$A$2:$D$690331,4,FALSE),\"N/A\")","v":"N/A"},{"$f":"_xlfn.IFNA(VLOOKUP(_xlfn.CONCAT($C$2,\"-\",$E6,\"-\",$F6,\"-\",J$3),'Raw Data'!$A$2:$D$690331,4,FALSE),\"N/A\")","v":"N/A"},{"$f":"_xlfn.IFNA(VLOOKUP(_xlfn.CONCAT($C$2,\"-\",$E6,\"-\",$F6,\"-\",K$3),'Raw Data'!$A$2:$D$690331,4,FALSE),\"N/A\")","v":"N/A"},{"$f":"_xlfn.IFNA(VLOOKUP(_xlfn.CONCAT($C$2,\"-\",$E6,\"-\",$F6,\"-\",L$3),'Raw Data'!$A$2:$D$690331,4,FALSE),\"N/A\")","v":"N/A"},{"$f":"_xlfn.IFNA(VLOOKUP(_xlfn.CONCAT($C$2,\"-\",$E6,\"-\",$F6,\"-\",M$3),'Raw Data'!$A$2:$D$690331,4,FALSE),\"N/A\")","v":"N/A"},{"$f":"_xlfn.IFNA(VLOOKUP(_xlfn.CONCAT($C$2,\"-\",$E6,\"-\",$F6,\"-\",N$3),'Raw Data'!$A$2:$D$690331,4,FALSE),\"N/A\")","v":"N/A"},{"$f":"_xlfn.IFNA(VLOOKUP(_xlfn.CONCAT($C$2,\"-\",$E6,\"-\",$F6,\"-\",O$3),'Raw Data'!$A$2:$D$690331,4,FALSE),\"N/A\")","v":"N/A"},{"$f":"_xlfn.IFNA(VLOOKUP(_xlfn.CONCAT($C$2,\"-\",$E6,\"-\",$F6,\"-\",P$3),'Raw Data'!$A$2:$D$690331,4,FALSE),\"N/A\")","v":"N/A"},{"$f":"_xlfn.IFNA(VLOOKUP(_xlfn.CONCAT($C$2,\"-\",$E6,\"-\",$F6,\"-\",Q$3),'Raw Data'!$A$2:$D$690331,4,FALSE),\"N/A\")","v":"N/A"},{"$f":"_xlfn.IFNA(VLOOKUP(_xlfn.CONCAT($C$2,\"-\",$E6,\"-\",$F6,\"-\",R$3),'Raw Data'!$A$2:$D$690331,4,FALSE),\"N/A\")","v":"N/A"},{"$f":"_xlfn.IFNA(VLOOKUP(_xlfn.CONCAT($C$2,\"-\",$E6,\"-\",$F6,\"-\",S$3),'Raw Data'!$A$2:$D$690331,4,FALSE),\"N/A\")","v":"N/A"}]
[null,null,"Dannevirke (Manawatū-Whanganui)",null,3,1,null,{"$f":"_xlfn.IFNA(VLOOKUP(_xlfn.CONCAT($C$2,\"-\",$E7,\"-\",$F7,\"-\",H$3),'Raw Data'!$A$2:$D$690331,4,FALSE),\"N/A\")","v":"N/A"},{"$f":"_xlfn.IFNA(VLOOKUP(_xlfn.CONCAT($C$2,\"-\",$E7,\"-\",$F7,\"-\",I$3),'Raw Data'!$A$2:$D$690331,4,FALSE),\"N/A\")","v":"N/A"},{"$f":"_xlfn.IFNA(VLOOKUP(_xlfn.CONCAT($C$2,\"-\",$E7,\"-\",$F7,\"-\",J$3),'Raw Data'!$A$2:$D$690331,4,FALSE),\"N/A\")","v":"N/A"},{"$f":"_xlfn.IFNA(VLOOKUP(_xlfn.CONCAT($C$2,\"-\",$E7,\"-\",$F7,\"-\",K$3),'Raw Data'!$A$2:$D$690331,4,FALSE),\"N/A\")","v":"N/A"},{"$f":"_xlfn.IFNA(VLOOKUP(_xlfn.CONCAT($C$2,\"-\",$E7,\"-\",$F7,\"-\",L$3),'Raw Data'!$A$2:$D$690331,4,FALSE),\"N/A\")","v":"N/A"},{"$f":"_xlfn.IFNA(VLOOKUP(_xlfn.CONCAT($C$2,\"-\",$E7,\"-\",$F7,\"-\",M$3),'Raw Data'!$A$2:$D$690331,4,FALSE),\"N/A\")","v":"N/A"},{"$f":"_xlfn.IFNA(VLOOKUP(_xlfn.CONCAT($C$2,\"-\",$E7,\"-\",$F7,\"-\",N$3),'Raw Data'!$A$2:$D$690331,4,FALSE),\"N/A\")","v":"N/A"},{"$f":"_xlfn.IFNA(VLOOKUP(_xlfn.CONCAT($C$2,\"-\",$E7,\"-\",$F7,\"-\",O$3),'Raw Data'!$A$2:$D$690331,4,FALSE),\"N/A\")","v":"N/A"},{"$f":"_xlfn.IFNA(VLOOKUP(_xlfn.CONCAT($C$2,\"-\",$E7,\"-\",$F7,\"-\",P$3),'Raw Data'!$A$2:$D$690331,4,FALSE),\"N/A\")","v":"N/A"},{"$f":"_xlfn.IFNA(VLOOKUP(_xlfn.CONCAT($C$2,\"-\",$E7,\"-\",$F7,\"-\",Q$3),'Raw Data'!$A$2:$D$690331,4,FALSE),\"N/A\")","v":"N/A"},{"$f":"_xlfn.IFNA(VLOOKUP(_xlfn.CONCAT($C$2,\"-\",$E7,\"-\",$F7,\"-\",R$3),'Raw Data'!$A$2:$D$690331,4,FALSE),\"N/A\")","v":"N/A"},{"$f":"_xlfn.IFNA(VLOOKUP(_xlfn.CONCAT($C$2,\"-\",$E7,\"-\",$F7,\"-\",S$3),'Raw Data'!$A$2:$D$690331,4,FALSE),\"N/A\")","v":"N/A"}]
[null,null,"Dunedin (Otago)",null,4,1,null,{"$f":"_xlfn.IFNA(VLOOKUP(_xlfn.CONCAT($C$2,\"-\",$E8,\"-\",$F8,\"-\",H$3),'Raw Data'!$A$2:$D$690331,4,FALSE),\"N/A\")","v":"N/A"},{"$f":"_xlfn.IFNA(VLOOKUP(_xlfn.CONCAT($C$2,\"-\",$E8,\"-\",$F8,\"-\",I$3),'Raw Data'!$A$2:$D$690331,4,FALSE),\"N/A\")","v":"N/A"},{"$f":"_xlfn.IFNA(VLOOKUP(_xlfn.CONCAT($C$2,\"-\",$E8,\"-\",$F8,\"-\",J$3),'Raw Data'!$A$2:$D$690331,4,FALSE),\"N/A\")","v":"N/A"},{"$f":"_xlfn.IFNA(VLOOKUP(_xlfn.CONCAT($C$2,\"-\",$E8,\"-\",$F8,\"-\",K$3),'Raw Data'!$A$2:$D$690331,4,FALSE),\"N/A\")","v":"N/A"},{"$f":"_xlfn.IFNA(VLOOKUP(_xlfn.CONCAT($C$2,\"-\",$E8,\"-\",$F8,\"-\",L$3),'Raw Data'!$A$2:$D$690331,4,FALSE),\"N/A\")","v":"N/A"},{"$f":"_xlfn.IFNA(VLOOKUP(_xlfn.CONCAT($C$2,\"-\",$E8,\"-\",$F8,\"-\",M$3),'Raw Data'!$A$2:$D$690331,4,FALSE),\"N/A\")","v":"N/A"},{"$f":"_xlfn.IFNA(VLOOKUP(_xlfn.CONCAT($C$2,\"-\",$E8,\"-\",$F8,\"-\",N$3),'Raw Data'!$A$2:$D$690331,4,FALSE),\"N/A\")","v":"N/A"},{"$f":"_xlfn.IFNA(VLOOKUP(_xlfn.CONCAT($C$2,\"-\",$E8,\"-\",$F8,\"-\",O$3),'Raw Data'!$A$2:$D$690331,4,FALSE),\"N/A\")","v":"N/A"},{"$f":"_xlfn.IFNA(VLOOKUP(_xlfn.CONCAT($C$2,\"-\",$E8,\"-\",$F8,\"-\",P$3),'Raw Data'!$A$2:$D$690331,4,FALSE),\"N/A\")","v":"N/A"},{"$f":"_xlfn.IFNA(VLOOKUP(_xlfn.CONCAT($C$2,\"-\",$E8,\"-\",$F8,\"-\",Q$3),'Raw Data'!$A$2:$D$690331,4,FALSE),\"N/A\")","v":"N/A"},{"$f":"_xlfn.IFNA(VLOOKUP(_xlfn.CONCAT($C$2,\"-\",$E8,\"-\",$F8,\"-\",R$3),'Raw Data'!$A$2:$D$690331,4,FALSE),\"N/A\")","v":"N/A"},{"$f":"_xlfn.IFNA(VLOOKUP(_xlfn.CONCAT($C$2,\"-\",$E8,\"-\",$F8,\"-\",S$3),'Raw Data'!$A$2:$D$690331,4,FALSE),\"N/A\")","v":"N/A"}]
[null,null,"Gisborne (Gisborne)",null,5,1,null,{"$f":"_xlfn.IFNA(VLOOKUP(_xlfn.CONCAT($C$2,\"-\",$E9,\"-\",$F9,\"-\",H$3),'Raw Data'!$A$2:$D$690331,4,FALSE),\"N/A\")","v":"N/A"},{"$f":"_xlfn.IFNA(VLOOKUP(_xlfn.CONCAT($C$2,\"-\",$E9,\"-\",$F9,\"-\",I$3),'Raw Data'!$A$2:$D$690331,4,FALSE),\"N/A\")","v":"N/A"},{"$f":"_xlfn.IFNA(VLOOKUP(_xlfn.CONCAT($C$2,\"-\",$E9,\"-\",$F9,\"-\",J$3),'Raw Data'!$A$2:$D$690331,4,FALSE),\"N/A\")","v":"N/A"},{"$f":"_xlfn.IFNA(VLOOKUP(_xlfn.CONCAT($C$2,\"-\",$E9,\"-\",$F9,\"-\",K$3),'Raw Data'!$A$2:$D$690331,4,FALSE),\"N/A\")","v":"N/A"},{"$f":"_xlfn.IFNA(VLOOKUP(_xlfn.CONCAT($C$2,\"-\",$E9,\"-\",$F9,\"-\",L$3),'Raw Data'!$A$2:$D$690331,4,FALSE),\"N/A\")","v":"N/A"},{"$f":"_xlfn.IFNA(VLOOKUP(_xlfn.CONCAT($C$2,\"-\",$E9,\"-\",$F9,\"-\",M$3),'Raw Data'!$A$2:$D$690331,4,FALSE),\"N/A\")","v":"N/A"},{"$f":"_xlfn.IFNA(VLOOKUP(_xlfn.CONCAT($C$2,\"-\",$E9,\"-\",$F9,\"-\",N$3),'Raw Data'!$A$2:$D$690331,4,FALSE),\"N/A\")","v":"N/A"},{"$f":"_xlfn.IFNA(VLOOKUP(_xlfn.CONCAT($C$2,\"-\",$E9,\"-\",$F9,\"-\",O$3),'Raw Data'!$A$2:$D$690331,4,FALSE),\"N/A\")","v":"N/A"},{"$f":"_xlfn.IFNA(VLOOKUP(_xlfn.CONCAT($C$2,\"-\",$E9,\"-\",$F9,\"-\",P$3),'Raw Data'!$A$2:$D$690331,4,FALSE),\"N/A\")","v":"N/A"},{"$f":"_xlfn.IFNA(VLOOKUP(_xlfn.CONCAT($C$2,\"-\",$E9,\"-\",$F9,\"-\",Q$3),'Raw Data'!$A$2:$D$690331,4,FALSE),\"N/A\")","v":"N/A"},{"$f":"_xlfn.IFNA(VLOOKUP(_xlfn.CONCAT($C$2,\"-\",$E9,\"-\",$F9,\"-\",R$3),'Raw Data'!$A$2:$D$690331,4,FALSE),\"N/A\")","v":"N/A"},{"$f":"_xlfn.IFNA(VLOOKUP(_xlfn.CONCAT($C$2,\"-\",$E9,\"-\",$F9,\"-\",S$3),'Raw Data'!$A$2:$D$690331,4,FALSE),\"N/A\")","v":"N/A"}]
[null,null,"Gore (Southland)",null,6,1,null,{"$f":"_xlfn.IFNA(VLOOKUP(_xlfn.CONCAT($C$2,\"-\",$E10,\"-\",$F10,\"-\",H$3),'Raw Data'!$A$2:$D$690331,4,FALSE),\"N/A\")","v":"N/A"},{"$f":"_xlfn.IFNA(VLOOKUP(_xlfn.CONCAT($C$2,\"-\",$E10,\"-\",$F10,\"-\",I$3),'Raw Data'!$A$2:$D$690331,4,FALSE),\"N/A\")","v":"N/A"},{"$f":"_xlfn.IFNA(VLOOKUP(_xlfn.CONCAT($C$2,\"-\",$E10,\"-\",$F10,\"-\",J$3),'Raw Data'!$A$2:$D$690331,4,FALSE),\"N/A\")","v":"N/A"},{"$f":"_xlfn.IFNA(VLOOKUP(_xlfn.CONCAT($C$2,\"-\",$E10,\"-\",$F10,\"-\",K$3),'Raw Data'!$A$2:$D$690331,4,FALSE),\"N/A\")","v":"N/A"},{"$f":"_xlfn.IFNA(VLOOKUP(_xlfn.CONCAT($C$2,\"-\",$E10,\"-\",$F10,\"-\",L$3),'Raw Data'!$A$2:$D$690331,4,FALSE),\"N/A\")","v":"N/A"},{"$f":"_xlfn.IFNA(VLOOKUP(_xlfn.CONCAT($C$2,\"-\",$E10,\"-\",$F10,\"-\",M$3),'Raw Data'!$A$2:$D$690331,4,FALSE),\"N/A\")","v":"N/A"},{"$f":"_xlfn.IFNA(VLOOKUP(_xlfn.CONCAT($C$2,\"-\",$E10,\"-\",$F10,\"-\",N$3),'Raw Data'!$A$2:$D$690331,4,FALSE),\"N/A\")","v":"N/A"},{"$f":"_xlfn.IFNA(VLOOKUP(_xlfn.CONCAT($C$2,\"-\",$E10,\"-\",$F10,\"-\",O$3),'Raw Data'!$A$2:$D$690331,4,FALSE),\"N/A\")","v":"N/A"},{"$f":"_xlfn.IFNA(VLOOKUP(_xlfn.CONCAT($C$2,\"-\",$E10,\"-\",$F10,\"-\",P$3),'Raw Data'!$A$2:$D$690331,4,FALSE),\"N/A\")","v":"N/A"},{"$f":"_xlfn.IFNA(VLOOKUP(_xlfn.CONCAT($C$2,\"-\",$E10,\"-\",$F10,\"-\",Q$3),'Raw Data'!$A$2:$D$690331,4,FALSE),\"N/A\")","v":"N/A"},{"$f":"_xlfn.IFNA(VLOOKUP(_xlfn.CONCAT($C$2,\"-\",$E10,\"-\",$F10,\"-\",R$3),'Raw Data'!$A$2:$D$690331,4,FALSE),\"N/A\")","v":"N/A"},{"$f":"_xlfn.IFNA(VLOOKUP(_xlfn.CONCAT($C$2,\"-\",$E10,\"-\",$F10,\"-\",S$3),'Raw Data'!$A$2:$D$690331,4,FALSE),\"N/A\")","v":"N/A"}]
[null,null,"Hamilton (Waikato)",null,7,1,null,{"$f":"_xlfn.IFNA(VLOOKUP(_xlfn.CONCAT($C$2,\"-\",$E11,\"-\",$F11,\"-\",H$3),'Raw Data'!$A$2:$D$690331,4,FALSE),\"N/A\")","v":"N/A"},{"$f":"_xlfn.IFNA(VLOOKUP(_xlfn.CONCAT($C$2,\"-\",$E11,\"-\",$F11,\"-\",I$3),'Raw Data'!$A$2:$D$690331,4,FALSE),\"N/A\")","v":"N/A"},{"$f":"_xlfn.IFNA(VLOOKUP(_xlfn.CONCAT($C$2,\"-\",$E11,\"-\",$F11,\"-\",J$3),'Raw Data'!$A$2:$D$690331,4,FALSE),\"N/A\")","v":"N/A"},{"$f":"_xlfn.IFNA(VLOOKUP(_xlfn.CONCAT($C$2,\"-\",$E11,\"-\",$F11,\"-\",K$3),'Raw Data'!$A$2:$D$690331,4,FALSE),\"N/A\")","v":"N/A"},{"$f":"_xlfn.IFNA(VLOOKUP(_xlfn.CONCAT($C$2,\"-\",$E11,\"-\",$F11,\"-\",L$3),'Raw Data'!$A$2:$D$690331,4,FALSE),\"N/A\")","v":"N/A"},{"$f":"_xlfn.IFNA(VLOOKUP(_xlfn.CONCAT($C$2,\"-\",$E11,\"-\",$F11,\"-\",M$3),'Raw Data'!$A$2:$D$690331,4,FALSE),\"N/A\")","v":"N/A"},{"$f":"_xlfn.IFNA(VLOOKUP(_xlfn.CONCAT($C$2,\"-\",$E11,\"-\",$F11,\"-\",N$3),'Raw Data'!$A$2:$D$690331,4,FALSE),\"N/A\")","v":"N/A"},{"$f":"_xlfn.IFNA(VLOOKUP(_xlfn.CONCAT($C$2,\"-\",$E11,\"-\",$F11,\"-\",O$3),'Raw Data'!$A$2:$D$690331,4,FALSE),\"N/A\")","v":"N/A"},{"$f":"_xlfn.IFNA(VLOOKUP(_xlfn.CONCAT($C$2,\"-\",$E11,\"-\",$F11,\"-\",P$3),'Raw Data'!$A$2:$D$690331,4,FALSE),\"N/A\")","v":"N/A"},{"$f":"_xlfn.IFNA(VLOOKUP(_xlfn.CONCAT($C$2,\"-\",$E11,\"-\",$F11,\"-\",Q$3),'Raw Data'!$A$2:$D$690331,4,FALSE),\"N/A\")","v":"N/A"},{"$f":"_xlfn.IFNA(VLOOKUP(_xlfn.CONCAT($C$2,\"-\",$E11,\"-\",$F11,\"-\",R$3),'Raw Data'!$A$2:$D$690331,4,FALSE),\"N/A\")","v":"N/A"},{"$f":"_xlfn.IFNA(VLOOKUP(_xlfn.CONCAT($C$2,\"-\",$E11,\"-\",$F11,\"-\",S$3),'Raw Data'!$A$2:$D$690331,4,FALSE),\"N/A\")","v":"N/A"}]
[null,null,"Hokitika (West Coast)",null,8,1,null,{"$f":"_xlfn.IFNA(VLOOKUP(_xlfn.CONCAT($C$2,\"-\",$E12,\"-\",$F12,\"-\",H$3),'Raw Data'!$A$2:$D$690331,4,FALSE),\"N/A\")","v":"N/A"},{"$f":"_xlfn.IFNA(VLOOKUP(_xlfn.CONCAT($C$2,\"-\",$E12,\"-\",$F12,\"-\",I$3),'Raw Data'!$A$2:$D$690331,4,FALSE),\"N/A\")","v":"N/A"},{"$f":"_xlfn.IFNA(VLOOKUP(_xlfn.CONCAT($C$2,\"-\",$E12,\"-\",$F12,\"-\",J$3),'Raw Data'!$A$2:$D$690331,4,FALSE),\"N/A\")","v":"N/A"},{"$f":"_xlfn.IFNA(VLOOKUP(_xlfn.CONCAT($C$2,\"-\",$E12,\"-\",$F12,\"-\",K$3),'Raw Data'!$A$2:$D$690331,4,FALSE),\"N/A\")","v":"N/A"},{"$f":"_xlfn.IFNA(VLOOKUP(_xlfn.CONCAT($C$2,\"-\",$E12,\"-\",$F12,\"-\",L$3),'Raw Data'!$A$2:$D$690331,4,FALSE),\"N/A\")","v":"N/A"},{"$f":"_xlfn.IFNA(VLOOKUP(_xlfn.CONCAT($C$2,\"-\",$E12,\"-\",$F12,\"-\",M$3),'Raw Data'!$A$2:$D$690331,4,FALSE),\"N/A\")","v":"N/A"},{"$f":"_xlfn.IFNA(VLOOKUP(_xlfn.CONCAT($C$2,\"-\",$E12,\"-\",$F12,\"-\",N$3),'Raw Data'!$A$2:$D$690331,4,FALSE),\"N/A\")","v":"N/A"},{"$f":"_xlfn.IFNA(VLOOKUP(_xlfn.CONCAT($C$2,\"-\",$E12,\"-\",$F12,\"-\",O$3),'Raw Data'!$A$2:$D$690331,4,FALSE),\"N/A\")","v":"N/A"},{"$f":"_xlfn.IFNA(VLOOKUP(_xlfn.CONCAT($C$2,\"-\",$E12,\"-\",$F12,\"-\",P$3),'Raw Data'!$A$2:$D$690331,4,FALSE),\"N/A\")","v":"N/A"},{"$f":"_xlfn.IFNA(VLOOKUP(_xlfn.CONCAT($C$2,\"-\",$E12,\"-\",$F12,\"-\",Q$3),'Raw Data'!$A$2:$D$690331,4,FALSE),\"N/A\")","v":"N/A"},{"$f":"_xlfn.IFNA(VLOOKUP(_xlfn.CONCAT($C$2,\"-\",$E12,\"-\",$F12,\"-\",R$3),'Raw Data'!$A$2:$D$690331,4,FALSE),\"N/A\")","v":"N/A"},{"$f":"_xlfn.IFNA(VLOOKUP(_xlfn.CONCAT($C$2,\"-\",$E12,\"-\",$F12,\"-\",S$3),'Raw Data'!$A$2:$D$690331,4,FALSE),\"N/A\")","v":"N/A"}]
[null,null,"Invercargill (Southland)",null,9,1,null,{"$f":"_xlfn.IFNA(VLOOKUP(_xlfn.CONCAT($C$2,\"-\",$E13,\"-\",$F13,\"-\",H$3),'Raw Data'!$A$2:$D$690331,4,FALSE),\"N/A\")","v":"N/A"},{"$f":"_xlfn.IFNA(VLOOKUP(_xlfn.CONCAT($C$2,\"-\",$E13,\"-\",$F13,\"-\",I$3),'Raw Data'!$A$2:$D$690331,4,FALSE),\"N/A\")","v":"N/A"},{"$f":"_xlfn.IFNA(VLOOKUP(_xlfn.CONCAT($C$2,\"-\",$E13,\"-\",$F13,\"-\",J$3),'Raw Data'!$A$2:$D$690331,4,FALSE),\"N/A\")","v":"N/A"},{"$f":"_xlfn.IFNA(VLOOKUP(_xlfn.CONCAT($C$2,\"-\",$E13,\"-\",$F13,\"-\",K$3),'Raw Data'!$A$2:$D$690331,4,FALSE),\"N/A\")","v":"N/A"},{"$f":"_xlfn.IFNA(VLOOKUP(_xlfn.CONCAT($C$2,\"-\",$E13,\"-\",$F13,\"-\",L$3),'Raw Data'!$A$2:$D$690331,4,FALSE),\"N/A\")","v":"N/A"},{"$f":"_xlfn.IFNA(VLOOKUP(_xlfn.CONCAT($C$2,\"-\",$E13,\"-\",$F13,\"-\",M$3),'Raw Data'!$A$2:$D$690331,4,FALSE),\"N/A\")","v":"N/A"},{"$f":"_xlfn.IFNA(VLOOKUP(_xlfn.CONCAT($C$2,\"-\",$E13,\"-\",$F13,\"-\",N$3),'Raw Data'!$A$2:$D$690331,4,FALSE),\"N/A\")","v":"N/A"},{"$f":"_xlfn.IFNA(VLOOKUP(_xlfn.CONCAT($C$2,\"-\",$E13,\"-\",$F13,\"-\",O$3),'Raw Data'!$A$2:$D$690331,4,FALSE),\"N/A\")","v":"N/A"},{"$f":"_xlfn.IFNA(VLOOKUP(_xlfn.CONCAT($C$2,\"-\",$E13,\"-\",$F13,\"-\",P$3),'Raw Data'!$A$2:$D$690331,4,FALSE),\"N/A\")","v":"N/A"},{"$f":"_xlfn.IFNA(VLOOKUP(_xlfn.CONCAT($C$2,\"-\",$E13,\"-\",$F13,\"-\",Q$3),'Raw Data'!$A$2:$D$690331,4,FALSE),\"N/A\")","v":"N/A"},{"$f":"_xlfn.IFNA(VLOOKUP(_xlfn.CONCAT($C$2,\"-\",$E13,\"-\",$F13,\"-\",R$3),'Raw Data'!$A$2:$D$690331,4,FALSE),\"N/A\")","v":"N/A"},{"$f":"_xlfn.IFNA(VLOOKUP(_xlfn.CONCAT($C$2,\"-\",$E13,\"-\",$F13,\"-\",S$3),'Raw Data'!$A$2:$D$690331,4,FALSE),\"N/A\")","v":"N/A"}]
[null,null,"Kerikeri (Northland)",null,10,1,null,{"$f":"_xlfn.IFNA(VLOOKUP(_xlfn.CONCAT($C$2,\"-\",$E14,\"-\",$F14,\"-\",H$3),'Raw Data'!$A$2:$D$690331,4,FALSE),\"N/A\")","v":"N/A"},{"$f":"_xlfn.IFNA(VLOOKUP(_xlfn.CONCAT($C$2,\"-\",$E14,\"-\",$F14,\"-\",I$3),'Raw Data'!$A$2:$D$690331,4,FALSE),\"N/A\")","v":"N/A"},{"$f":"_xlfn.IFNA(VLOOKUP(_xlfn.CONCAT($C$2,\"-\",$E14,\"-\",$F14,\"-\",J$3),'Raw Data'!$A$2:$D$690331,4,FALSE),\"N/A\")","v":"N/A"},{"$f":"_xlfn.IFNA(VLOOKUP(_xlfn.CONCAT($C$2,\"-\",$E14,\"-\",$F14,\"-\",K$3),'Raw Data'!$A$2:$D$690331,4,FALSE),\"N/A\")","v":"N/A"},{"$f":"_xlfn.IFNA(VLOOKUP(_xlfn.CONCAT($C$2,\"-\",$E14,\"-\",$F14,\"-\",L$3),'Raw Data'!$A$2:$D$690331,4,FALSE),\"N/A\")","v":"N/A"},{"$f":"_xlfn.IFNA(VLOOKUP(_xlfn.CONCAT($C$2,\"-\",$E14,\"-\",$F14,\"-\",M$3),'Raw Data'!$A$2:$D$690331,4,FALSE),\"N/A\")","v":"N/A"},{"$f":"_xlfn.IFNA(VLOOKUP(_xlfn.CONCAT($C$2,\"-\",$E14,\"-\",$F14,\"-\",N$3),'Raw Data'!$A$2:$D$690331,4,FALSE),\"N/A\")","v":"N/A"},{"$f":"_xlfn.IFNA(VLOOKUP(_xlfn.CONCAT($C$2,\"-\",$E14,\"-\",$F14,\"-\",O$3),'Raw Data'!$A$2:$D$690331,4,FALSE),\"N/A\")","v":"N/A"},{"$f":"_xlfn.IFNA(VLOOKUP(_xlfn.CONCAT($C$2,\"-\",$E14,\"-\",$F14,\"-\",P$3),'Raw Data'!$A$2:$D$690331,4,FALSE),\"N/A\")","v":"N/A"},{"$f":"_xlfn.IFNA(VLOOKUP(_xlfn.CONCAT($C$2,\"-\",$E14,\"-\",$F14,\"-\",Q$3),'Raw Data'!$A$2:$D$690331,4,FALSE),\"N/A\")","v":"N/A"},{"$f":"_xlfn.IFNA(VLOOKUP(_xlfn.CONCAT($C$2,\"-\",$E14,\"-\",$F14,\"-\",R$3),'Raw Data'!$A$2:$D$690331,4,FALSE),\"N/A\")","v":"N/A"},{"$f":"_xlfn.IFNA(VLOOKUP(_xlfn.CONCAT($C$2,\"-\",$E14,\"-\",$F14,\"-\",S$3),'Raw Data'!$A$2:$D$690331,4,FALSE),\"N/A\")","v":"N/A"}]
[null,null,"Lake Tekapo (Canterbury)",null,11,1,null,{"$f":"_xlfn.IFNA(VLOOKUP(_xlfn.CONCAT($C$2,\"-\",$E15,\"-\",$F15,\"-\",H$3),'Raw Data'!$A$2:$D$690331,4,FALSE),\"N/A\")","v":"N/A"},{"$f":"_xlfn.IFNA(VLOOKUP(_xlfn.CONCAT($C$2,\"-\",$E15,\"-\",$F15,\"-\",I$3),'Raw Data'!$A$2:$D$690331,4,FALSE),\"N/A\")","v":"N/A"},{"$f":"_xlfn.IFNA(VLOOKUP(_xlfn.CONCAT($C$2,\"-\",$E15,\"-\",$F15,\"-\",J$3),'Raw Data'!$A$2:$D$690331,4,FALSE),\"N/A\")","v":"N/A"},{"$f":"_xlfn.IFNA(VLOOKUP(_xlfn.CONCAT($C$2,\"-\",$E15,\"-\",$F15,\"-\",K$3),'Raw Data'!$A$2:$D$690331,4,FALSE),\"N/A\")","v":"N/A"},{"$f":"_xlfn.IFNA(VLOOKUP(_xlfn.CONCAT($C$2,\"-\",$E15,\"-\",$F15,\"-\",L$3),'Raw Data'!$A$2:$D$690331,4,FALSE),\"N/A\")","v":"N/A"},{"$f":"_xlfn.IFNA(VLOOKUP(_xlfn.CONCAT($C$2,\"-\",$E15,\"-\",$F15,\"-\",M$3),'Raw Data'!$A$2:$D$690331,4,FALSE),\"N/A\")","v":"N/A"},{"$f":"_xlfn.IFNA(VLOOKUP(_xlfn.CONCAT($C$2,\"-\",$E15,\"-\",$F15,\"-\",N$3),'Raw Data'!$A$2:$D$690331,4,FALSE),\"N/A\")","v":"N/A"},{"$f":"_xlfn.IFNA(VLOOKUP(_xlfn.CONCAT($C$2,\"-\",$E15,\"-\",$F15,\"-\",O$3),'Raw Data'!$A$2:$D$690331,4,FALSE),\"N/A\")","v":"N/A"},{"$f":"_xlfn.IFNA(VLOOKUP(_xlfn.CONCAT($C$2,\"-\",$E15,\"-\",$F15,\"-\",P$3),'Raw Data'!$A$2:$D$690331,4,FALSE),\"N/A\")","v":"N/A"},{"$f":"_xlfn.IFNA(VLOOKUP(_xlfn.CONCAT($C$2,\"-\",$E15,\"-\",$F15,\"-\",Q$3),'Raw Data'!$A$2:$D$690331,4,FALSE),\"N/A\")","v":"N/A"},{"$f":"_xlfn.IFNA(VLOOKUP(_xlfn.CONCAT($C$2,\"-\",$E15,\"-\",$F15,\"-\",R$3),'Raw Data'!$A$2:$D$690331,4,FALSE),\"N/A\")","v":"N/A"},{"$f":"_xlfn.IFNA(VLOOKUP(_xlfn.CONCAT($C$2,\"-\",$E15,\"-\",$F15,\"-\",S$3),'Raw Data'!$A$2:$D$690331,4,FALSE),\"N/A\")","v":"N/A"}]
[null,null,"Masterton (Wellington)",null,12,1,null,{"$f":"_xlfn.IFNA(VLOOKUP(_xlfn.CONCAT($C$2,\"-\",$E16,\"-\",$F16,\"-\",H$3),'Raw Data'!$A$2:$D$690331,4,FALSE),\"N/A\")","v":"N/A"},{"$f":"_xlfn.IFNA(VLOOKUP(_xlfn.CONCAT($C$2,\"-\",$E16,\"-\",$F16,\"-\",I$3),'Raw Data'!$A$2:$D$690331,4,FALSE),\"N/A\")","v":"N/A"},{"$f":"_xlfn.IFNA(VLOOKUP(_xlfn.CONCAT($C$2,\"-\",$E16,\"-\",$F16,\"-\",J$3),'Raw Data'!$A$2:$D$690331,4,FALSE),\"N/A\")","v":"N/A"},{"$f":"_xlfn.IFNA(VLOOKUP(_xlfn.CONCAT($C$2,\"-\",$E16,\"-\",$F16,\"-\",K$3),'Raw Data'!$A$2:$D$690331,4,FALSE),\"N/A\")","v":"N/A"},{"$f":"_xlfn.IFNA(VLOOKUP(_xlfn.CONCAT($C$2,\"-\",$E16,\"-\",$F16,\"-\",L$3),'Raw Data'!$A$2:$D$690331,4,FALSE),\"N/A\")","v":"N/A"},{"$f":"_xlfn.IFNA(VLOOKUP(_xlfn.CONCAT($C$2,\"-\",$E16,\"-\",$F16,\"-\",M$3),'Raw Data'!$A$2:$D$690331,4,FALSE),\"N/A\")","v":"N/A"},{"$f":"_xlfn.IFNA(VLOOKUP(_xlfn.CONCAT($C$2,\"-\",$E16,\"-\",$F16,\"-\",N$3),'Raw Data'!$A$2:$D$690331,4,FALSE),\"N/A\")","v":"N/A"},{"$f":"_xlfn.IFNA(VLOOKUP(_xlfn.CONCAT($C$2,\"-\",$E16,\"-\",$F16,\"-\",O$3),'Raw Data'!$A$2:$D$690331,4,FALSE),\"N/A\")","v":"N/A"},{"$f":"_xlfn.IFNA(VLOOKUP(_xlfn.CONCAT($C$2,\"-\",$E16,\"-\",$F16,\"-\",P$3),'Raw Data'!$A$2:$D$690331,4,FALSE),\"N/A\")","v":"N/A"},{"$f":"_xlfn.IFNA(VLOOKUP(_xlfn.CONCAT($C$2,\"-\",$E16,\"-\",$F16,\"-\",Q$3),'Raw Data'!$A$2:$D$690331,4,FALSE),\"N/A\")","v":"N/A"},{"$f":"_xlfn.IFNA(VLOOKUP(_xlfn.CONCAT($C$2,\"-\",$E16,\"-\",$F16,\"-\",R$3),'Raw Data'!$A$2:$D$690331,4,FALSE),\"N/A\")","v":"N/A"},{"$f":"_xlfn.IFNA(VLOOKUP(_xlfn.CONCAT($C$2,\"-\",$E16,\"-\",$F16,\"-\",S$3),'Raw Data'!$A$2:$D$690331,4,FALSE),\"N/A\")","v":"N/A"}]
[null,null,"Milford Sound (Southland)",null,13,1,null,{"$f":"_xlfn.IFNA(VLOOKUP(_xlfn.CONCAT($C$2,\"-\",$E17,\"-\",$F17,\"-\",H$3),'Raw Data'!$A$2:$D$690331,4,FALSE),\"N/A\")","v":"N/A"},{"$f":"_xlfn.IFNA(VLOOKUP(_xlfn.CONCAT($C$2,\"-\",$E17,\"-\",$F17,\"-\",I$3),'Raw Data'!$A$2:$D$690331,4,FALSE),\"N/A\")","v":"N/A"},{"$f":"_xlfn.IFNA(VLOOKUP(_xlfn.CONCAT($C$2,\"-\",$E17,\"-\",$F17,\"-\",J$3),'Raw Data'!$A$2:$D$690331,4,FALSE),\"N/A\")","v":"N/A"},{"$f":"_xlfn.IFNA(VLOOKUP(_xlfn.CONCAT($C$2,\"-\",$E17,\"-\",$F17,\"-\",K$3),'Raw Data'!$A$2:$D$690331,4,FALSE),\"N/A\")","v":"N/A"},{"$f":"_xlfn.IFNA(VLOOKUP(_xlfn.CONCAT($C$2,\"-\",$E17,\"-\",$F17,\"-\",L$3),'Raw Data'!$A$2:$D$690331,4,FALSE),\"N/A\")","v":"N/A"},{"$f":"_xlfn.IFNA(VLOOKUP(_xlfn.CONCAT($C$2,\"-\",$E17,\"-\",$F17,\"-\",M$3),'Raw Data'!$A$2:$D$690331,4,FALSE),\"N/A\")","v":"N/A"},{"$f":"_xlfn.IFNA(VLOOKUP(_xlfn.CONCAT($C$2,\"-\",$E17,\"-\",$F17,\"-\",N$3),'Raw Data'!$A$2:$D$690331,4,FALSE),\"N/A\")","v":"N/A"},{"$f":"_xlfn.IFNA(VLOOKUP(_xlfn.CONCAT($C$2,\"-\",$E17,\"-\",$F17,\"-\",O$3),'Raw Data'!$A$2:$D$690331,4,FALSE),\"N/A\")","v":"N/A"},{"$f":"_xlfn.IFNA(VLOOKUP(_xlfn.CONCAT($C$2,\"-\",$E17,\"-\",$F17,\"-\",P$3),'Raw Data'!$A$2:$D$690331,4,FALSE),\"N/A\")","v":"N/A"},{"$f":"_xlfn.IFNA(VLOOKUP(_xlfn.CONCAT($C$2,\"-\",$E17,\"-\",$F17,\"-\",Q$3),'Raw Data'!$A$2:$D$690331,4,FALSE),\"N/A\")","v":"N/A"},{"$f":"_xlfn.IFNA(VLOOKUP(_xlfn.CONCAT($C$2,\"-\",$E17,\"-\",$F17,\"-\",R$3),'Raw Data'!$A$2:$D$690331,4,FALSE),\"N/A\")","v":"N/A"},{"$f":"_xlfn.IFNA(VLOOKUP(_xlfn.CONCAT($C$2,\"-\",$E17,\"-\",$F17,\"-\",S$3),'Raw Data'!$A$2:$D$690331,4,FALSE),\"N/A\")","v":"N/A"}]
[null,null,"Napier (Hawke's Bay)",null,14,1,null,{"$f":"_xlfn.IFNA(VLOOKUP(_xlfn.CONCAT($C$2,\"-\",$E18,\"-\",$F18,\"-\",H$3),'Raw Data'!$A$2:$D$690331,4,FALSE),\"N/A\")","v":"N/A"},{"$f":"_xlfn.IFNA(VLOOKUP(_xlfn.CONCAT($C$2,\"-\",$E18,\"-\",$F18,\"-\",I$3),'Raw Data'!$A$2:$D$690331,4,FALSE),\"N/A\")","v":"N/A"},{"$f":"_xlfn.IFNA(VLOOKUP(_xlfn.CONCAT($C$2,\"-\",$E18,\"-\",$F18,\"-\",J$3),'Raw Data'!$A$2:$D$690331,4,FALSE),\"N/A\")","v":"N/A"},{"$f":"_xlfn.IFNA(VLOOKUP(_xlfn.CONCAT($C$2,\"-\",$E18,\"-\",$F18,\"-\",K$3),'Raw Data'!$A$2:$D$690331,4,FALSE),\"N/A\")","v":"N/A"},{"$f":"_xlfn.IFNA(VLOOKUP(_xlfn.CONCAT($C$2,\"-\",$E18,\"-\",$F18,\"-\",L$3),'Raw Data'!$A$2:$D$690331,4,FALSE),\"N/A\")","v":"N/A"},{"$f":"_xlfn.IFNA(VLOOKUP(_xlfn.CONCAT($C$2,\"-\",$E18,\"-\",$F18,\"-\",M$3),'Raw Data'!$A$2:$D$690331,4,FALSE),\"N/A\")","v":"N/A"},{"$f":"_xlfn.IFNA(VLOOKUP(_xlfn.CONCAT($C$2,\"-\",$E18,\"-\",$F18,\"-\",N$3),'Raw Data'!$A$2:$D$690331,4,FALSE),\"N/A\")","v":"N/A"},{"$f":"_xlfn.IFNA(VLOOKUP(_xlfn.CONCAT($C$2,\"-\",$E18,\"-\",$F18,\"-\",O$3),'Raw Data'!$A$2:$D$690331,4,FALSE),\"N/A\")","v":"N/A"},{"$f":"_xlfn.IFNA(VLOOKUP(_xlfn.CONCAT($C$2,\"-\",$E18,\"-\",$F18,\"-\",P$3),'Raw Data'!$A$2:$D$690331,4,FALSE),\"N/A\")","v":"N/A"},{"$f":"_xlfn.IFNA(VLOOKUP(_xlfn.CONCAT($C$2,\"-\",$E18,\"-\",$F18,\"-\",Q$3),'Raw Data'!$A$2:$D$690331,4,FALSE),\"N/A\")","v":"N/A"},{"$f":"_xlfn.IFNA(VLOOKUP(_xlfn.CONCAT($C$2,\"-\",$E18,\"-\",$F18,\"-\",R$3),'Raw Data'!$A$2:$D$690331,4,FALSE),\"N/A\")","v":"N/A"},{"$f":"_xlfn.IFNA(VLOOKUP(_xlfn.CONCAT($C$2,\"-\",$E18,\"-\",$F18,\"-\",S$3),'Raw Data'!$A$2:$D$690331,4,FALSE),\"N/A\")","v":"N/A"}]
[null,null,"Nelson (Nelson)",null,15,1,null,{"$f":"_xlfn.IFNA(VLOOKUP(_xlfn.CONCAT($C$2,\"-\",$E19,\"-\",$F19,\"-\",H$3),'Raw Data'!$A$2:$D$690331,4,FALSE),\"N/A\")","v":"N/A"},{"$f":"_xlfn.IFNA(VLOOKUP(_xlfn.CONCAT($C$2,\"-\",$E19,\"-\",$F19,\"-\",I$3),'Raw Data'!$A$2:$D$690331,4,FALSE),\"N/A\")","v":"N/A"},{"$f":"_xlfn.IFNA(VLOOKUP(_xlfn.CONCAT($C$2,\"-\",$E19,\"-\",$F19,\"-\",J$3),'Raw Data'!$A$2:$D$690331,4,FALSE),\"N/A\")","v":"N/A"},{"$f":"_xlfn.IFNA(VLOOKUP(_xlfn.CONCAT($C$2,\"-\",$E19,\"-\",$F19,\"-\",K$3),'Raw Data'!$A$2:$D$690331,4,FALSE),\"N/A\")","v":"N/A"},{"$f":"_xlfn.IFNA(VLOOKUP(_xlfn.CONCAT($C$2,\"-\",$E19,\"-\",$F19,\"-\",L$3),'Raw Data'!$A$2:$D$690331,4,FALSE),\"N/A\")","v":"N/A"},{"$f":"_xlfn.IFNA(VLOOKUP(_xlfn.CONCAT($C$2,\"-\",$E19,\"-\",$F19,\"-\",M$3),'Raw Data'!$A$2:$D$690331,4,FALSE),\"N/A\")","v":"N/A"},{"$f":"_xlfn.IFNA(VLOOKUP(_xlfn.CONCAT($C$2,\"-\",$E19,\"-\",$F19,\"-\",N$3),'Raw Data'!$A$2:$D$690331,4,FALSE),\"N/A\")","v":"N/A"},{"$f":"_xlfn.IFNA(VLOOKUP(_xlfn.CONCAT($C$2,\"-\",$E19,\"-\",$F19,\"-\",O$3),'Raw Data'!$A$2:$D$690331,4,FALSE),\"N/A\")","v":"N/A"},{"$f":"_xlfn.IFNA(VLOOKUP(_xlfn.CONCAT($C$2,\"-\",$E19,\"-\",$F19,\"-\",P$3),'Raw Data'!$A$2:$D$690331,4,FALSE),\"N/A\")","v":"N/A"},{"$f":"_xlfn.IFNA(VLOOKUP(_xlfn.CONCAT($C$2,\"-\",$E19,\"-\",$F19,\"-\",Q$3),'Raw Data'!$A$2:$D$690331,4,FALSE),\"N/A\")","v":"N/A"},{"$f":"_xlfn.IFNA(VLOOKUP(_xlfn.CONCAT($C$2,\"-\",$E19,\"-\",$F19,\"-\",R$3),'Raw Data'!$A$2:$D$690331,4,FALSE),\"N/A\")","v":"N/A"},{"$f":"_xlfn.IFNA(VLOOKUP(_xlfn.CONCAT($C$2,\"-\",$E19,\"-\",$F19,\"-\",S$3),'Raw Data'!$A$2:$D$690331,4,FALSE),\"N/A\")","v":"N/A"}]
[null,null,"New Plymouth (Taranaki)",null,16,1,null,{"$f":"_xlfn.IFNA(VLOOKUP(_xlfn.CONCAT($C$2,\"-\",$E20,\"-\",$F20,\"-\",H$3),'Raw Data'!$A$2:$D$690331,4,FALSE),\"N/A\")","v":"N/A"},{"$f":"_xlfn.IFNA(VLOOKUP(_xlfn.CONCAT($C$2,\"-\",$E20,\"-\",$F20,\"-\",I$3),'Raw Data'!$A$2:$D$690331,4,FALSE),\"N/A\")","v":"N/A"},{"$f":"_xlfn.IFNA(VLOOKUP(_xlfn.CONCAT($C$2,\"-\",$E20,\"-\",$F20,\"-\",J$3),'Raw Data'!$A$2:$D$690331,4,FALSE),\"N/A\")","v":"N/A"},{"$f":"_xlfn.IFNA(VLOOKUP(_xlfn.CONCAT($C$2,\"-\",$E20,\"-\",$F20,\"-\",K$3),'Raw Data'!$A$2:$D$690331,4,FALSE),\"N/A\")","v":"N/A"},{"$f":"_xlfn.IFNA(VLOOKUP(_xlfn.CONCAT($C$2,\"-\",$E20,\"-\",$F20,\"-\",L$3),'Raw Data'!$A$2:$D$690331,4,FALSE),\"N/A\")","v":"N/A"},{"$f":"_xlfn.IFNA(VLOOKUP(_xlfn.CONCAT($C$2,\"-\",$E20,\"-\",$F20,\"-\",M$3),'Raw Data'!$A$2:$D$690331,4,FALSE),\"N/A\")","v":"N/A"},{"$f":"_xlfn.IFNA(VLOOKUP(_xlfn.CONCAT($C$2,\"-\",$E20,\"-\",$F20,\"-\",N$3),'Raw Data'!$A$2:$D$690331,4,FALSE),\"N/A\")","v":"N/A"},{"$f":"_xlfn.IFNA(VLOOKUP(_xlfn.CONCAT($C$2,\"-\",$E20,\"-\",$F20,\"-\",O$3),'Raw Data'!$A$2:$D$690331,4,FALSE),\"N/A\")","v":"N/A"},{"$f":"_xlfn.IFNA(VLOOKUP(_xlfn.CONCAT($C$2,\"-\",$E20,\"-\",$F20,\"-\",P$3),'Raw Data'!$A$2:$D$690331,4,FALSE),\"N/A\")","v":"N/A"},{"$f":"_xlfn.IFNA(VLOOKUP(_xlfn.CONCAT($C$2,\"-\",$E20,\"-\",$F20,\"-\",Q$3),'Raw Data'!$A$2:$D$690331,4,FALSE),\"N/A\")","v":"N/A"},{"$f":"_xlfn.IFNA(VLOOKUP(_xlfn.CONCAT($C$2,\"-\",$E20,\"-\",$F20,\"-\",R$3),'Raw Data'!$A$2:$D$690331,4,FALSE),\"N/A\")","v":"N/A"},{"$f":"_xlfn.IFNA(VLOOKUP(_xlfn.CONCAT($C$2,\"-\",$E20,\"-\",$F20,\"-\",S$3),'Raw Data'!$A$2:$D$690331,4,FALSE),\"N/A\")","v":"N/A"}]
[null,null,"Queenstown (Otago)",null,17,1,null,{"$f":"_xlfn.IFNA(VLOOKUP(_xlfn.CONCAT($C$2,\"-\",$E21,\"-\",$F21,\"-\",H$3),'Raw Data'!$A$2:$D$690331,4,FALSE),\"N/A\")","v":"N/A"},{"$f":"_xlfn.IFNA(VLOOKUP(_xlfn.CONCAT($C$2,\"-\",$E21,\"-\",$F21,\"-\",I$3),'Raw Data'!$A$2:$D$690331,4,FALSE),\"N/A\")","v":"N/A"},{"$f":"_xlfn.IFNA(VLOOKUP(_xlfn.CONCAT($C$2,\"-\",$E21,\"-\",$F21,\"-\",J$3),'Raw Data'!$A$2:$D$690331,4,FALSE),\"N/A\")","v":"N/A"},{"$f":"_xlfn.IFNA(VLOOKUP(_xlfn.CONCAT($C$2,\"-\",$E21,\"-\",$F21,\"-\",K$3),'Raw Data'!$A$2:$D$690331,4,FALSE),\"N/A\")","v":"N/A"},{"$f":"_xlfn.IFNA(VLOOKUP(_xlfn.CONCAT($C$2,\"-\",$E21,\"-\",$F21,\"-\",L$3),'Raw Data'!$A$2:$D$690331,4,FALSE),\"N/A\")","v":"N/A"},{"$f":"_xlfn.IFNA(VLOOKUP(_xlfn.CONCAT($C$2,\"-\",$E21,\"-\",$F21,\"-\",M$3),'Raw Data'!$A$2:$D$690331,4,FALSE),\"N/A\")","v":"N/A"},{"$f":"_xlfn.IFNA(VLOOKUP(_xlfn.CONCAT($C$2,\"-\",$E21,\"-\",$F21,\"-\",N$3),'Raw Data'!$A$2:$D$690331,4,FALSE),\"N/A\")","v":"N/A"},{"$f":"_xlfn.IFNA(VLOOKUP(_xlfn.CONCAT($C$2,\"-\",$E21,\"-\",$F21,\"-\",O$3),'Raw Data'!$A$2:$D$690331,4,FALSE),\"N/A\")","v":"N/A"},{"$f":"_xlfn.IFNA(VLOOKUP(_xlfn.CONCAT($C$2,\"-\",$E21,\"-\",$F21,\"-\",P$3),'Raw Data'!$A$2:$D$690331,4,FALSE),\"N/A\")","v":"N/A"},{"$f":"_xlfn.IFNA(VLOOKUP(_xlfn.CONCAT($C$2,\"-\",$E21,\"-\",$F21,\"-\",Q$3),'Raw Data'!$A$2:$D$690331,4,FALSE),\"N/A\")","v":"N/A"},{"$f":"_xlfn.IFNA(VLOOKUP(_xlfn.CONCAT($C$2,\"-\",$E21,\"-\",$F21,\"-\",R$3),'Raw Data'!$A$2:$D$690331,4,FALSE),\"N/A\")","v":"N/A"},{"$f":"_xlfn.IFNA(VLOOKUP(_xlfn.CONCAT($C$2,\"-\",$E21,\"-\",$F21,\"-\",S$3),'Raw Data'!$A$2:$D$690331,4,FALSE),\"N/A\")","v":"N/A"}]
[null,null,"Reefton (West Coast)",null,18,1,null,{"$f":"_xlfn.IFNA(VLOOKUP(_xlfn.CONCAT($C$2,\"-\",$E22,\"-\",$F22,\"-\",H$3),'Raw Data'!$A$2:$D$690331,4,FALSE),\"N/A\")","v":"N/A"},{"$f":"_xlfn.IFNA(VLOOKUP(_xlfn.CONCAT($C$2,\"-\",$E22,\"-\",$F22,\"-\",I$3),'Raw Data'!$A$2:$D$690331,4,FALSE),\"N/A\")","v":"N/A"},{"$f":"_xlfn.IFNA(VLOOKUP(_xlfn.CONCAT($C$2,\"-\",$E22,\"-\",$F22,\"-\",J$3),'Raw Data'!$A$2:$D$690331,4,FALSE),\"N/A\")","v":"N/A"},{"$f":"_xlfn.IFNA(VLOOKUP(_xlfn.CONCAT($C$2,\"-\",$E22,\"-\",$F22,\"-\",K$3),'Raw Data'!$A$2:$D$690331,4,FALSE),\"N/A\")","v":"N/A"},{"$f":"_xlfn.IFNA(VLOOKUP(_xlfn.CONCAT($C$2,\"-\",$E22,\"-\",$F22,\"-\",L$3),'Raw Data'!$A$2:$D$690331,4,FALSE),\"N/A\")","v":"N/A"},{"$f":"_xlfn.IFNA(VLOOKUP(_xlfn.CONCAT($C$2,\"-\",$E22,\"-\",$F22,\"-\",M$3),'Raw Data'!$A$2:$D$690331,4,FALSE),\"N/A\")","v":"N/A"},{"$f":"_xlfn.IFNA(VLOOKUP(_xlfn.CONCAT($C$2,\"-\",$E22,\"-\",$F22,\"-\",N$3),'Raw Data'!$A$2:$D$690331,4,FALSE),\"N/A\")","v":"N/A"},{"$f":"_xlfn.IFNA(VLOOKUP(_xlfn.CONCAT($C$2,\"-\",$E22,\"-\",$F22,\"-\",O$3),'Raw Data'!$A$2:$D$690331,4,FALSE),\"N/A\")","v":"N/A"},{"$f":"_xlfn.IFNA(VLOOKUP(_xlfn.CONCAT($C$2,\"-\",$E22,\"-\",$F22,\"-\",P$3),'Raw Data'!$A$2:$D$690331,4,FALSE),\"N/A\")","v":"N/A"},{"$f":"_xlfn.IFNA(VLOOKUP(_xlfn.CONCAT($C$2,\"-\",$E22,\"-\",$F22,\"-\",Q$3),'Raw Data'!$A$2:$D$690331,4,FALSE),\"N/A\")","v":"N/A"},{"$f":"_xlfn.IFNA(VLOOKUP(_xlfn.CONCAT($C$2,\"-\",$E22,\"-\",$F22,\"-\",R$3),'Raw Data'!$A$2:$D$690331,4,FALSE),\"N/A\")","v":"N/A"},{"$f":"_xlfn.IFNA(VLOOKUP(_xlfn.CONCAT($C$2,\"-\",$E22,\"-\",$F22,\"-\",S$3),'Raw Data'!$A$2:$D$690331,4,FALSE),\"N/A\")","v":"N/A"}]
[null,null,"Rotorua (Bay of Plenty)",null,19,1,null,{"$f":"_xlfn.IFNA(VLOOKUP(_xlfn.CONCAT($C$2,\"-\",$E23,\"-\",$F23,\"-\",H$3),'Raw Data'!$A$2:$D$690331,4,FALSE),\"N/A\")","v":"N/A"},{"$f":"_xlfn.IFNA(VLOOKUP(_xlfn.CONCAT($C$2,\"-\",$E23,\"-\",$F23,\"-\",I$3),'Raw Data'!$A$2:$D$690331,4,FALSE),\"N/A\")","v":"N/A"},{"$f":"_xlfn.IFNA(VLOOKUP(_xlfn.CONCAT($C$2,\"-\",$E23,\"-\",$F23,\"-\",J$3),'Raw Data'!$A$2:$D$690331,4,FALSE),\"N/A\")","v":"N/A"},{"$f":"_xlfn.IFNA(VLOOKUP(_xlfn.CONCAT($C$2,\"-\",$E23,\"-\",$F23,\"-\",K$3),'Raw Data'!$A$2:$D$690331,4,FALSE),\"N/A\")","v":"N/A"},{"$f":"_xlfn.IFNA(VLOOKUP(_xlfn.CONCAT($C$2,\"-\",$E23,\"-\",$F23,\"-\",L$3),'Raw Data'!$A$2:$D$690331,4,FALSE),\"N/A\")","v":"N/A"},{"$f":"_xlfn.IFNA(VLOOKUP(_xlfn.CONCAT($C$2,\"-\",$E23,\"-\",$F23,\"-\",M$3),'Raw Data'!$A$2:$D$690331,4,FALSE),\"N/A\")","v":"N/A"},{"$f":"_xlfn.IFNA(VLOOKUP(_xlfn.CONCAT($C$2,\"-\",$E23,\"-\",$F23,\"-\",N$3),'Raw Data'!$A$2:$D$690331,4,FALSE),\"N/A\")","v":"N/A"},{"$f":"_xlfn.IFNA(VLOOKUP(_xlfn.CONCAT($C$2,\"-\",$E23,\"-\",$F23,\"-\",O$3),'Raw Data'!$A$2:$D$690331,4,FALSE),\"N/A\")","v":"N/A"},{"$f":"_xlfn.IFNA(VLOOKUP(_xlfn.CONCAT($C$2,\"-\",$E23,\"-\",$F23,\"-\",P$3),'Raw Data'!$A$2:$D$690331,4,FALSE),\"N/A\")","v":"N/A"},{"$f":"_xlfn.IFNA(VLOOKUP(_xlfn.CONCAT($C$2,\"-\",$E23,\"-\",$F23,\"-\",Q$3),'Raw Data'!$A$2:$D$690331,4,FALSE),\"N/A\")","v":"N/A"},{"$f":"_xlfn.IFNA(VLOOKUP(_xlfn.CONCAT($C$2,\"-\",$E23,\"-\",$F23,\"-\",R$3),'Raw Data'!$A$2:$D$690331,4,FALSE),\"N/A\")","v":"N/A"},{"$f":"_xlfn.IFNA(VLOOKUP(_xlfn.CONCAT($C$2,\"-\",$E23,\"-\",$F23,\"-\",S$3),'Raw Data'!$A$2:$D$690331,4,FALSE),\"N/A\")","v":"N/A"}]
[null,null,"Tara Hills (Canterbury)",null,20,1,null,{"$f":"_xlfn.IFNA(VLOOKUP(_xlfn.CONCAT($C$2,\"-\",$E24,\"-\",$F24,\"-\",H$3),'Raw Data'!$A$2:$D$690331,4,FALSE),\"N/A\")","v":"N/A"},{"$f":"_xlfn.IFNA(VLOOKUP(_xlfn.CONCAT($C$2,\"-\",$E24,\"-\",$F24,\"-\",I$3),'Raw Data'!$A$2:$D$690331,4,FALSE),\"N/A\")","v":"N/A"},{"$f":"_xlfn.IFNA(VLOOKUP(_xlfn.CONCAT($C$2,\"-\",$E24,\"-\",$F24,\"-\",J$3),'Raw Data'!$A$2:$D$690331,4,FALSE),\"N/A\")","v":"N/A"},{"$f":"_xlfn.IFNA(VLOOKUP(_xlfn.CONCAT($C$2,\"-\",$E24,\"-\",$F24,\"-\",K$3),'Raw Data'!$A$2:$D$690331,4,FALSE),\"N/A\")","v":"N/A"},{"$f":"_xlfn.IFNA(VLOOKUP(_xlfn.CONCAT($C$2,\"-\",$E24,\"-\",$F24,\"-\",L$3),'Raw Data'!$A$2:$D$690331,4,FALSE),\"N/A\")","v":"N/A"},{"$f":"_xlfn.IFNA(VLOOKUP(_xlfn.CONCAT($C$2,\"-\",$E24,\"-\",$F24,\"-\",M$3),'Raw Data'!$A$2:$D$690331,4,FALSE),\"N/A\")","v":"N/A"},{"$f":"_xlfn.IFNA(VLOOKUP(_xlfn.CONCAT($C$2,\"-\",$E24,\"-\",$F24,\"-\",N$3),'Raw Data'!$A$2:$D$690331,4,FALSE),\"N/A\")","v":"N/A"},{"$f":"_xlfn.IFNA(VLOOKUP(_xlfn.CONCAT($C$2,\"-\",$E24,\"-\",$F24,\"-\",O$3),'Raw Data'!$A$2:$D$690331,4,FALSE),\"N/A\")","v":"N/A"},{"$f":"_xlfn.IFNA(VLOOKUP(_xlfn.CONCAT($C$2,\"-\",$E24,\"-\",$F24,\"-\",P$3),'Raw Data'!$A$2:$D$690331,4,FALSE),\"N/A\")","v":"N/A"},{"$f":"_xlfn.IFNA(VLOOKUP(_xlfn.CONCAT($C$2,\"-\",$E24,\"-\",$F24,\"-\",Q$3),'Raw Data'!$A$2:$D$690331,4,FALSE),\"N/A\")","v":"N/A"},{"$f":"_xlfn.IFNA(VLOOKUP(_xlfn.CONCAT($C$2,\"-\",$E24,\"-\",$F24,\"-\",R$3),'Raw Data'!$A$2:$D$690331,4,FALSE),\"N/A\")","v":"N/A"},{"$f":"_xlfn.IFNA(VLOOKUP(_xlfn.CONCAT($C$2,\"-\",$E24,\"-\",$F24,\"-\",S$3),'Raw Data'!$A$2:$D$690331,4,FALSE),\"N/A\")","v":"N/A"}]
[null,null,"Taumarunui (Manawatū-Whanganui)",null,21,1,null,{"$f":"_xlfn.IFNA(VLOOKUP(_xlfn.CONCAT($C$2,\"-\",$E25,\"-\",$F25,\"-\",H$3),'Raw Data'!$A$2:$D$690331,4,FALSE),\"N/A\")","v":"N/A"},{"$f":"_xlfn.IFNA(VLOOKUP(_xlfn.CONCAT($C$2,\"-\",$E25,\"-\",$F25,\"-\",I$3),'Raw Data'!$A$2:$D$690331,4,FALSE),\"N/A\")","v":"N/A"},{"$f":"_xlfn.IFNA(VLOOKUP(_xlfn.CONCAT($C$2,\"-\",$E25,\"-\",$F25,\"-\",J$3),'Raw Data'!$A$2:$D$690331,4,FALSE),\"N/A\")","v":"N/A"},{"$f":"_xlfn.IFNA(VLOOKUP(_xlfn.CONCAT($C$2,\"-\",$E25,\"-\",$F25,\"-\",K$3),'Raw Data'!$A$2:$D$690331,4,FALSE),\"N/A\")","v":"N/A"},{"$f":"_xlfn.IFNA(VLOOKUP(_xlfn.CONCAT($C$2,\"-\",$E25,\"-\",$F25,\"-\",L$3),'Raw Data'!$A$2:$D$690331,4,FALSE),\"N/A\")","v":"N/A"},{"$f":"_xlfn.IFNA(VLOOKUP(_xlfn.CONCAT($C$2,\"-\",$E25,\"-\",$F25,\"-\",M$3),'Raw Data'!$A$2:$D$690331,4,FALSE),\"N/A\")","v":"N/A"},{"$f":"_xlfn.IFNA(VLOOKUP(_xlfn.CONCAT($C$2,\"-\",$E25,\"-\",$F25,\"-\",N$3),'Raw Data'!$A$2:$D$690331,4,FALSE),\"N/A\")","v":"N/A"},{"$f":"_xlfn.IFNA(VLOOKUP(_xlfn.CONCAT($C$2,\"-\",$E25,\"-\",$F25,\"-\",O$3),'Raw Data'!$A$2:$D$690331,4,FALSE),\"N/A\")","v":"N/A"},{"$f":"_xlfn.IFNA(VLOOKUP(_xlfn.CONCAT($C$2,\"-\",$E25,\"-\",$F25,\"-\",P$3),'Raw Data'!$A$2:$D$690331,4,FALSE),\"N/A\")","v":"N/A"},{"$f":"_xlfn.IFNA(VLOOKUP(_xlfn.CONCAT($C$2,\"-\",$E25,\"-\",$F25,\"-\",Q$3),'Raw Data'!$A$2:$D$690331,4,FALSE),\"N/A\")","v":"N/A"},{"$f":"_xlfn.IFNA(VLOOKUP(_xlfn.CONCAT($C$2,\"-\",$E25,\"-\",$F25,\"-\",R$3),'Raw Data'!$A$2:$D$690331,4,FALSE),\"N/A\")","v":"N/A"},{"$f":"_xlfn.IFNA(VLOOKUP(_xlfn.CONCAT($C$2,\"-\",$E25,\"-\",$F25,\"-\",S$3),'Raw Data'!$A$2:$D$690331,4,FALSE),\"N/A\")","v":"N/A"}]
[null,null,"Taupō (Waikato)",null,22,1,null,{"$f":"_xlfn.IFNA(VLOOKUP(_xlfn.CONCAT($C$2,\"-\",$E26,\"-\",$F26,\"-\",H$3),'Raw Data'!$A$2:$D$690331,4,FALSE),\"N/A\")","v":"N/A"},{"$f":"_xlfn.IFNA(VLOOKUP(_xlfn.CONCAT($C$2,\"-\",$E26,\"-\",$F26,\"-\",I$3),'Raw Data'!$A$2:$D$690331,4,FALSE),\"N/A\")","v":"N/A"},{"$f":"_xlfn.IFNA(VLOOKUP(_xlfn.CONCAT($C$2,\"-\",$E26,\"-\",$F26,\"-\",J$3),'Raw Data'!$A$2:$D$690331,4,FALSE),\"N/A\")","v":"N/A"},{"$f":"_xlfn.IFNA(VLOOKUP(_xlfn.CONCAT($C$2,\"-\",$E26,\"-\",$F26,\"-\",K$3),'Raw Data'!$A$2:$D$690331,4,FALSE),\"N/A\")","v":"N/A"},{"$f":"_xlfn.IFNA(VLOOKUP(_xlfn.CONCAT($C$2,\"-\",$E26,\"-\",$F26,\"-\",L$3),'Raw Data'!$A$2:$D$690331,4,FALSE),\"N/A\")","v":"N/A"},{"$f":"_xlfn.IFNA(VLOOKUP(_xlfn.CONCAT($C$2,\"-\",$E26,\"-\",$F26,\"-\",M$3),'Raw Data'!$A$2:$D$690331,4,FALSE),\"N/A\")","v":"N/A"},{"$f":"_xlfn.IFNA(VLOOKUP(_xlfn.CONCAT($C$2,\"-\",$E26,\"-\",$F26,\"-\",N$3),'Raw Data'!$A$2:$D$690331,4,FALSE),\"N/A\")","v":"N/A"},{"$f":"_xlfn.IFNA(VLOOKUP(_xlfn.CONCAT($C$2,\"-\",$E26,\"-\",$F26,\"-\",O$3),'Raw Data'!$A$2:$D$690331,4,FALSE),\"N/A\")","v":"N/A"},{"$f":"_xlfn.IFNA(VLOOKUP(_xlfn.CONCAT($C$2,\"-\",$E26,\"-\",$F26,\"-\",P$3),'Raw Data'!$A$2:$D$690331,4,FALSE),\"N/A\")","v":"N/A"},{"$f":"_xlfn.IFNA(VLOOKUP(_xlfn.CONCAT($C$2,\"-\",$E26,\"-\",$F26,\"-\",Q$3),'Raw Data'!$A$2:$D$690331,4,FALSE),\"N/A\")","v":"N/A"},{"$f":"_xlfn.IFNA(VLOOKUP(_xlfn.CONCAT($C$2,\"-\",$E26,\"-\",$F26,\"-\",R$3),'Raw Data'!$A$2:$D$690331,4,FALSE),\"N/A\")","v":"N/A"},{"$f":"_xlfn.IFNA(VLOOKUP(_xlfn.CONCAT($C$2,\"-\",$E26,\"-\",$F26,\"-\",S$3),'Raw Data'!$A$2:$D$690331,4,FALSE),\"N/A\")","v":"N/A"}]
[null,null,"Tauranga (Bay of Plenty)",null,23,1,null,{"$f":"_xlfn.IFNA(VLOOKUP(_xlfn.CONCAT($C$2,\"-\",$E27,\"-\",$F27,\"-\",H$3),'Raw Data'!$A$2:$D$690331,4,FALSE),\"N/A\")","v":"N/A"},{"$f":"_xlfn.IFNA(VLOOKUP(_xlfn.CONCAT($C$2,\"-\",$E27,\"-\",$F27,\"-\",I$3),'Raw Data'!$A$2:$D$690331,4,FALSE),\"N/A\")","v":"N/A"},{"$f":"_xlfn.IFNA(VLOOKUP(_xlfn.CONCAT($C$2,\"-\",$E27,\"-\",$F27,\"-\",J$3),'Raw Data'!$A$2:$D$690331,4,FALSE),\"N/A\")","v":"N/A"},{"$f":"_xlfn.IFNA(VLOOKUP(_xlfn.CONCAT($C$2,\"-\",$E27,\"-\",$F27,\"-\",K$3),'Raw Data'!$A$2:$D$690331,4,FALSE),\"N/A\")","v":"N/A"},{"$f":"_xlfn.IFNA(VLOOKUP(_xlfn.CONCAT($C$2,\"-\",$E27,\"-\",$F27,\"-\",L$3),'Raw Data'!$A$2:$D$690331,4,FALSE),\"N/A\")","v":"N/A"},{"$f":"_xlfn.IFNA(VLOOKUP(_xlfn.CONCAT($C$2,\"-\",$E27,\"-\",$F27,\"-\",M$3),'Raw Data'!$A$2:$D$690331,4,FALSE),\"N/A\")","v":"N/A"},{"$f":"_xlfn.IFNA(VLOOKUP(_xlfn.CONCAT($C$2,\"-\",$E27,\"-\",$F27,\"-\",N$3),'Raw Data'!$A$2:$D$690331,4,FALSE),\"N/A\")","v":"N/A"},{"$f":"_xlfn.IFNA(VLOOKUP(_xlfn.CONCAT($C$2,\"-\",$E27,\"-\",$F27,\"-\",O$3),'Raw Data'!$A$2:$D$690331,4,FALSE),\"N/A\")","v":"N/A"},{"$f":"_xlfn.IFNA(VLOOKUP(_xlfn.CONCAT($C$2,\"-\",$E27,\"-\",$F27,\"-\",P$3),'Raw Data'!$A$2:$D$690331,4,FALSE),\"N/A\")","v":"N/A"},{"$f":"_xlfn.IFNA(VLOOKUP(_xlfn.CONCAT($C$2,\"-\",$E27,\"-\",$F27,\"-\",Q$3),'Raw Data'!$A$2:$D$690331,4,FALSE),\"N/A\")","v":"N/A"},{"$f":"_xlfn.IFNA(VLOOKUP(_xlfn.CONCAT($C$2,\"-\",$E27,\"-\",$F27,\"-\",R$3),'Raw Data'!$A$2:$D$690331,4,FALSE),\"N/A\")","v":"N/A"},{"$f":"_xlfn.IFNA(VLOOKUP(_xlfn.CONCAT($C$2,\"-\",$E27,\"-\",$F27,\"-\",S$3),'Raw Data'!$A$2:$D$690331,4,FALSE),\"N/A\")","v":"N/A"}]
[null,null,"Timaru (Canterbury)",null,24,1,null,{"$f":"_xlfn.IFNA(VLOOKUP(_xlfn.CONCAT($C$2,\"-\",$E28,\"-\",$F28,\"-\",H$3),'Raw Data'!$A$2:$D$690331,4,FALSE),\"N/A\")","v":"N/A"},{"$f":"_xlfn.IFNA(VLOOKUP(_xlfn.CONCAT($C$2,\"-\",$E28,\"-\",$F28,\"-\",I$3),'Raw Data'!$A$2:$D$690331,4,FALSE),\"N/A\")","v":"N/A"},{"$f":"_xlfn.IFNA(VLOOKUP(_xlfn.CONCAT($C$2,\"-\",$E28,\"-\",$F28,\"-\",J$3),'Raw Data'!$A$2:$D$690331,4,FALSE),\"N/A\")","v":"N/A"},{"$f":"_xlfn.IFNA(VLOOKUP(_xlfn.CONCAT($C$2,\"-\",$E28,\"-\",$F28,\"-\",K$3),'Raw Data'!$A$2:$D$690331,4,FALSE),\"N/A\")","v":"N/A"},{"$f":"_xlfn.IFNA(VLOOKUP(_xlfn.CONCAT($C$2,\"-\",$E28,\"-\",$F28,\"-\",L$3),'Raw Data'!$A$2:$D$690331,4,FALSE),\"N/A\")","v":"N/A"},{"$f":"_xlfn.IFNA(VLOOKUP(_xlfn.CONCAT($C$2,\"-\",$E28,\"-\",$F28,\"-\",M$3),'Raw Data'!$A$2:$D$690331,4,FALSE),\"N/A\")","v":"N/A"},{"$f":"_xlfn.IFNA(VLOOKUP(_xlfn.CONCAT($C$2,\"-\",$E28,\"-\",$F28,\"-\",N$3),'Raw Data'!$A$2:$D$690331,4,FALSE),\"N/A\")","v":"N/A"},{"$f":"_xlfn.IFNA(VLOOKUP(_xlfn.CONCAT($C$2,\"-\",$E28,\"-\",$F28,\"-\",O$3),'Raw Data'!$A$2:$D$690331,4,FALSE),\"N/A\")","v":"N/A"},{"$f":"_xlfn.IFNA(VLOOKUP(_xlfn.CONCAT($C$2,\"-\",$E28,\"-\",$F28,\"-\",P$3),'Raw Data'!$A$2:$D$690331,4,FALSE),\"N/A\")","v":"N/A"},{"$f":"_xlfn.IFNA(VLOOKUP(_xlfn.CONCAT($C$2,\"-\",$E28,\"-\",$F28,\"-\",Q$3),'Raw Data'!$A$2:$D$690331,4,FALSE),\"N/A\")","v":"N/A"},{"$f":"_xlfn.IFNA(VLOOKUP(_xlfn.CONCAT($C$2,\"-\",$E28,\"-\",$F28,\"-\",R$3),'Raw Data'!$A$2:$D$690331,4,FALSE),\"N/A\")","v":"N/A"},{"$f":"_xlfn.IFNA(VLOOKUP(_xlfn.CONCAT($C$2,\"-\",$E28,\"-\",$F28,\"-\",S$3),'Raw Data'!$A$2:$D$690331,4,FALSE),\"N/A\")","v":"N/A"}]
[null,null,"Waiouru (Manawatū-Whanganui)",null,25,1,null,{"$f":"_xlfn.IFNA(VLOOKUP(_xlfn.CONCAT($C$2,\"-\",$E29,\"-\",$F29,\"-\",H$3),'Raw Data'!$A$2:$D$690331,4,FALSE),\"N/A\")","v":"N/A"},{"$f":"_xlfn.IFNA(VLOOKUP(_xlfn.CONCAT($C$2,\"-\",$E29,\"-\",$F29,\"-\",I$3),'Raw Data'!$A$2:$D$690331,4,FALSE),\"N/A\")","v":"N/A"},{"$f":"_xlfn.IFNA(VLOOKUP(_xlfn.CONCAT($C$2,\"-\",$E29,\"-\",$F29,\"-\",J$3),'Raw Data'!$A$2:$D$690331,4,FALSE),\"N/A\")","v":"N/A"},{"$f":"_xlfn.IFNA(VLOOKUP(_xlfn.CONCAT($C$2,\"-\",$E29,\"-\",$F29,\"-\",K$3),'Raw Data'!$A$2:$D$690331,4,FALSE),\"N/A\")","v":"N/A"},{"$f":"_xlfn.IFNA(VLOOKUP(_xlfn.CONCAT($C$2,\"-\",$E29,\"-\",$F29,\"-\",L$3),'Raw Data'!$A$2:$D$690331,4,FALSE),\"N/A\")","v":"N/A"},{"$f":"_xlfn.IFNA(VLOOKUP(_xlfn.CONCAT($C$2,\"-\",$E29,\"-\",$F29,\"-\",M$3),'Raw Data'!$A$2:$D$690331,4,FALSE),\"N/A\")","v":"N/A"},{"$f":"_xlfn.IFNA(VLOOKUP(_xlfn.CONCAT($C$2,\"-\",$E29,\"-\",$F29,\"-\",N$3),'Raw Data'!$A$2:$D$690331,4,FALSE),\"N/A\")","v":"N/A"},{"$f":"_xlfn.IFNA(VLOOKUP(_xlfn.CONCAT($C$2,\"-\",$E29,\"-\",$F29,\"-\",O$3),'Raw Data'!$A$2:$D$690331,4,FALSE),\"N/A\")","v":"N/A"},{"$f":"_xlfn.IFNA(VLOOKUP(_xlfn.CONCAT($C$2,\"-\",$E29,\"-\",$F29,\"-\",P$3),'Raw Data'!$A$2:$D$690331,4,FALSE),\"N/A\")","v":"N/A"},{"$f":"_xlfn.IFNA(VLOOKUP(_xlfn.CONCAT($C$2,\"-\",$E29,\"-\",$F29,\"-\",Q$3),'Raw Data'!$A$2:$D$690331,4,FALSE),\"N/A\")","v":"N/A"},{"$f":"_xlfn.IFNA(VLOOKUP(_xlfn.CONCAT($C$2,\"-\",$E29,\"-\",$F29,\"-\",R$3),'Raw Data'!$A$2:$D$690331,4,FALSE),\"N/A\")","v":"N/A"},{"$f":"_xlfn.IFNA(VLOOKUP(_xlfn.CONCAT($C$2,\"-\",$E29,\"-\",$F29,\"-\",S$3),'Raw Data'!$A$2:$D$690331,4,FALSE),\"N/A\")","v":"N/A"}]
[null,null,"Wellington (Wellington)",null,26,1,null,{"$f":"_xlfn.IFNA(VLOOKUP(_xlfn.CONCAT($C$2,\"-\",$E30,\"-\",$F30,\"-\",H$3),'Raw Data'!$A$2:$D$690331,4,FALSE),\"N/A\")","v":"N/A"},{"$f":"_xlfn.IFNA(VLOOKUP(_xlfn.CONCAT($C$2,\"-\",$E30,\"-\",$F30,\"-\",I$3),'Raw Data'!$A$2:$D$690331,4,FALSE),\"N/A\")","v":"N/A"},{"$f":"_xlfn.IFNA(VLOOKUP(_xlfn.CONCAT($C$2,\"-\",$E30,\"-\",$F30,\"-\",J$3),'Raw Data'!$A$2:$D$690331,4,FALSE),\"N/A\")","v":"N/A"},{"$f":"_xlfn.IFNA(VLOOKUP(_xlfn.CONCAT($C$2,\"-\",$E30,\"-\",$F30,\"-\",K$3),'Raw Data'!$A$2:$D$690331,4,FALSE),\"N/A\")","v":"N/A"},{"$f":"_xlfn.IFNA(VLOOKUP(_xlfn.CONCAT($C$2,\"-\",$E30,\"-\",$F30,\"-\",L$3),'Raw Data'!$A$2:$D$690331,4,FALSE),\"N/A\")","v":"N/A"},{"$f":"_xlfn.IFNA(VLOOKUP(_xlfn.CONCAT($C$2,\"-\",$E30,\"-\",$F30,\"-\",M$3),'Raw Data'!$A$2:$D$690331,4,FALSE),\"N/A\")","v":"N/A"},{"$f":"_xlfn.IFNA(VLOOKUP(_xlfn.CONCAT($C$2,\"-\",$E30,\"-\",$F30,\"-\",N$3),'Raw Data'!$A$2:$D$690331,4,FALSE),\"N/A\")","v":"N/A"},{"$f":"_xlfn.IFNA(VLOOKUP(_xlfn.CONCAT($C$2,\"-\",$E30,\"-\",$F30,\"-\",O$3),'Raw Data'!$A$2:$D$690331,4,FALSE),\"N/A\")","v":"N/A"},{"$f":"_xlfn.IFNA(VLOOKUP(_xlfn.CONCAT($C$2,\"-\",$E30,\"-\",$F30,\"-\",P$3),'Raw Data'!$A$2:$D$690331,4,FALSE),\"N/A\")","v":"N/A"},{"$f":"_xlfn.IFNA(VLOOKUP(_xlfn.CONCAT($C$2,\"-\",$E30,\"-\",$F30,\"-\",Q$3),'Raw Data'!$A$2:$D$690331,4,FALSE),\"N/A\")","v":"N/A"},{"$f":"_xlfn.IFNA(VLOOKUP(_xlfn.CONCAT($C$2,\"-\",$E30,\"-\",$F30,\"-\",R$3),'Raw Data'!$A$2:$D$690331,4,FALSE),\"N/A\")","v":"N/A"},{"$f":"_xlfn.IFNA(VLOOKUP(_xlfn.CONCAT($C$2,\"-\",$E30,\"-\",$F30,\"-\",S$3),'Raw Data'!$A$2:$D$690331,4,FALSE),\"N/A\")","v":"N/A"}]
[null,null,"Whanganui (Manawatū-Whanganui)",null,27,1,null,{"$f":"_xlfn.IFNA(VLOOKUP(_xlfn.CONCAT($C$2,\"-\",$E31,\"-\",$F31,\"-\",H$3),'Raw Data'!$A$2:$D$690331,4,FALSE),\"N/A\")","v":"N/A"},{"$f":"_xlfn.IFNA(VLOOKUP(_xlfn.CONCAT($C$2,\"-\",$E31,\"-\",$F31,\"-\",I$3),'Raw Data'!$A$2:$D$690331,4,FALSE),\"N/A\")","v":"N/A"},{"$f":"_xlfn.IFNA(VLOOKUP(_xlfn.CONCAT($C$2,\"-\",$E31,\"-\",$F31,\"-\",J$3),'Raw Data'!$A$2:$D$690331,4,FALSE),\"N/A\")","v":"N/A"},{"$f":"_xlfn.IFNA(VLOOKUP(_xlfn.CONCAT($C$2,\"-\",$E31,\"-\",$F31,\"-\",K$3),'Raw Data'!$A$2:$D$690331,4,FALSE),\"N/A\")","v":"N/A"},{"$f":"_xlfn.IFNA(VLOOKUP(_xlfn.CONCAT($C$2,\"-\",$E31,\"-\",$F31,\"-\",L$3),'Raw Data'!$A$2:$D$690331,4,FALSE),\"N/A\")","v":"N/A"},{"$f":"_xlfn.IFNA(VLOOKUP(_xlfn.CONCAT($C$2,\"-\",$E31,\"-\",$F31,\"-\",M$3),'Raw Data'!$A$2:$D$690331,4,FALSE),\"N/A\")","v":"N/A"},{"$f":"_xlfn.IFNA(VLOOKUP(_xlfn.CONCAT($C$2,\"-\",$E31,\"-\",$F31,\"-\",N$3),'Raw Data'!$A$2:$D$690331,4,FALSE),\"N/A\")","v":"N/A"},{"$f":"_xlfn.IFNA(VLOOKUP(_xlfn.CONCAT($C$2,\"-\",$E31,\"-\",$F31,\"-\",O$3),'Raw Data'!$A$2:$D$690331,4,FALSE),\"N/A\")","v":"N/A"},{"$f":"_xlfn.IFNA(VLOOKUP(_xlfn.CONCAT($C$2,\"-\",$E31,\"-\",$F31,\"-\",P$3),'Raw Data'!$A$2:$D$690331,4,FALSE),\"N/A\")","v":"N/A"},{"$f":"_xlfn.IFNA(VLOOKUP(_xlfn.CONCAT($C$2,\"-\",$E31,\"-\",$F31,\"-\",Q$3),'Raw Data'!$A$2:$D$690331,4,FALSE),\"N/A\")","v":"N/A"},{"$f":"_xlfn.IFNA(VLOOKUP(_xlfn.CONCAT($C$2,\"-\",$E31,\"-\",$F31,\"-\",R$3),'Raw Data'!$A$2:$D$690331,4,FALSE),\"N/A\")","v":"N/A"},{"$f":"_xlfn.IFNA(VLOOKUP(_xlfn.CONCAT($C$2,\"-\",$E31,\"-\",$F31,\"-\",S$3),'Raw Data'!$A$2:$D$690331,4,FALSE),\"N/A\")","v":"N/A"}]
[null,null,"Whangaparāoa (Auckland)",null,28,1,null,{"$f":"_xlfn.IFNA(VLOOKUP(_xlfn.CONCAT($C$2,\"-\",$E32,\"-\",$F32,\"-\",H$3),'Raw Data'!$A$2:$D$690331,4,FALSE),\"N/A\")","v":"N/A"},{"$f":"_xlfn.IFNA(VLOOKUP(_xlfn.CONCAT($C$2,\"-\",$E32,\"-\",$F32,\"-\",I$3),'Raw Data'!$A$2:$D$690331,4,FALSE),\"N/A\")","v":"N/A"},{"$f":"_xlfn.IFNA(VLOOKUP(_xlfn.CONCAT($C$2,\"-\",$E32,\"-\",$F32,\"-\",J$3),'Raw Data'!$A$2:$D$690331,4,FALSE),\"N/A\")","v":"N/A"},{"$f":"_xlfn.IFNA(VLOOKUP(_xlfn.CONCAT($C$2,\"-\",$E32,\"-\",$F32,\"-\",K$3),'Raw Data'!$A$2:$D$690331,4,FALSE),\"N/A\")","v":"N/A"},{"$f":"_xlfn.IFNA(VLOOKUP(_xlfn.CONCAT($C$2,\"-\",$E32,\"-\",$F32,\"-\",L$3),'Raw Data'!$A$2:$D$690331,4,FALSE),\"N/A\")","v":"N/A"},{"$f":"_xlfn.IFNA(VLOOKUP(_xlfn.CONCAT($C$2,\"-\",$E32,\"-\",$F32,\"-\",M$3),'Raw Data'!$A$2:$D$690331,4,FALSE),\"N/A\")","v":"N/A"},{"$f":"_xlfn.IFNA(VLOOKUP(_xlfn.CONCAT($C$2,\"-\",$E32,\"-\",$F32,\"-\",N$3),'Raw Data'!$A$2:$D$690331,4,FALSE),\"N/A\")","v":"N/A"},{"$f":"_xlfn.IFNA(VLOOKUP(_xlfn.CONCAT($C$2,\"-\",$E32,\"-\",$F32,\"-\",O$3),'Raw Data'!$A$2:$D$690331,4,FALSE),\"N/A\")","v":"N/A"},{"$f":"_xlfn.IFNA(VLOOKUP(_xlfn.CONCAT($C$2,\"-\",$E32,\"-\",$F32,\"-\",P$3),'Raw Data'!$A$2:$D$690331,4,FALSE),\"N/A\")","v":"N/A"},{"$f":"_xlfn.IFNA(VLOOKUP(_xlfn.CONCAT($C$2,\"-\",$E32,\"-\",$F32,\"-\",Q$3),'Raw Data'!$A$2:$D$690331,4,FALSE),\"N/A\")","v":"N/A"},{"$f":"_xlfn.IFNA(VLOOKUP(_xlfn.CONCAT($C$2,\"-\",$E32,\"-\",$F32,\"-\",R$3),'Raw Data'!$A$2:$D$690331,4,FALSE),\"N/A\")","v":"N/A"},{"$f":"_xlfn.IFNA(VLOOKUP(_xlfn.CONCAT($C$2,\"-\",$E32,\"-\",$F32,\"-\",S$3),'Raw Data'!$A$2:$D$690331,4,FALSE),\"N/A\")","v":"N/A"}]
[null,null,"Whangārei (Northland)",null,29,1,null,{"$f":"_xlfn.IFNA(VLOOKUP(_xlfn.CONCAT($C$2,\"-\",$E33,\"-\",$F33,\"-\",H$3),'Raw Data'!$A$2:$D$690331,4,FALSE),\"N/A\")","v":"N/A"},{"$f":"_xlfn.IFNA(VLOOKUP(_xlfn.CONCAT($C$2,\"-\",$E33,\"-\",$F33,\"-\",I$3),'Raw Data'!$A$2:$D$690331,4,FALSE),\"N/A\")","v":"N/A"},{"$f":"_xlfn.IFNA(VLOOKUP(_xlfn.CONCAT($C$2,\"-\",$E33,\"-\",$F33,\"-\",J$3),'Raw Data'!$A$2:$D$690331,4,FALSE),\"N/A\")","v":"N/A"},{"$f":"_xlfn.IFNA(VLOOKUP(_xlfn.CONCAT($C$2,\"-\",$E33,\"-\",$F33,\"-\",K$3),'Raw Data'!$A$2:$D$690331,4,FALSE),\"N/A\")","v":"N/A"},{"$f":"_xlfn.IFNA(VLOOKUP(_xlfn.CONCAT($C$2,\"-\",$E33,\"-\",$F33,\"-\",L$3),'Raw Data'!$A$2:$D$690331,4,FALSE),\"N/A\")","v":"N/A"},{"$f":"_xlfn.IFNA(VLOOKUP(_xlfn.CONCAT($C$2,\"-\",$E33,\"-\",$F33,\"-\",M$3),'Raw Data'!$A$2:$D$690331,4,FALSE),\"N/A\")","v":"N/A"},{"$f":"_xlfn.IFNA(VLOOKUP(_xlfn.CONCAT($C$2,\"-\",$E33,\"-\",$F33,\"-\",N$3),'Raw Data'!$A$2:$D$690331,4,FALSE),\"N/A\")","v":"N/A"},{"$f":"_xlfn.IFNA(VLOOKUP(_xlfn.CONCAT($C$2,\"-\",$E33,\"-\",$F33,\"-\",O$3),'Raw Data'!$A$2:$D$690331,4,FALSE),\"N/A\")","v":"N/A"},{"$f":"_xlfn.IFNA(VLOOKUP(_xlfn.CONCAT($C$2,\"-\",$E33,\"-\",$F33,\"-\",P$3),'Raw Data'!$A$2:$D$690331,4,FALSE),\"N/A\")","v":"N/A"},{"$f":"_xlfn.IFNA(VLOOKUP(_xlfn.CONCAT($C$2,\"-\",$E33,\"-\",$F33,\"-\",Q$3),'Raw Data'!$A$2:$D$690331,4,FALSE),\"N/A\")","v":"N/A"},{"$f":"_xlfn.IFNA(VLOOKUP(_xlfn.CONCAT($C$2,\"-\",$E33,\"-\",$F33,\"-\",R$3),'Raw Data'!$A$2:$D$690331,4,FALSE),\"N/A\")","v":"N/A"},{"$f":"_xlfn.IFNA(VLOOKUP(_xlfn.CONCAT($C$2,\"-\",$E33,\"-\",$F33,\"-\",S$3),'Raw Data'!$A$2:$D$690331,4,FALSE),\"N/A\")","v":"N/A"}]
[null,null,null,null,30,1,null,{"$f":"_xlfn.IFNA(VLOOKUP(_xlfn.CONCAT($C$2,\"-\",$E34,\"-\",$F34,\"-\",H$3),'Raw Data'!$A$2:$D$690331,4,FALSE),\"N/A\")","v":"N/A"},{"$f":"_xlfn.IFNA(VLOOKUP(_xlfn.CONCAT($C$2,\"-\",$E34,\"-\",$F34,\"-\",I$3),'Raw Data'!$A$2:$D$690331,4,FALSE),\"N/A\")","v":"N/A"},{"$f":"_xlfn.IFNA(VLOOKUP(_xlfn.CONCAT($C$2,\"-\",$E34,\"-\",$F34,\"-\",J$3),'Raw Data'!$A$2:$D$690331,4,FALSE),\"N/A\")","v":"N/A"},{"$f":"_xlfn.IFNA(VLOOKUP(_xlfn.CONCAT($C$2,\"-\",$E34,\"-\",$F34,\"-\",K$3),'Raw Data'!$A$2:$D$690331,4,FALSE),\"N/A\")","v":"N/A"},{"$f":"_xlfn.IFNA(VLOOKUP(_xlfn.CONCAT($C$2,\"-\",$E34,\"-\",$F34,\"-\",L$3),'Raw Data'!$A$2:$D$690331,4,FALSE),\"N/A\")","v":"N/A"},{"$f":"_xlfn.IFNA(VLOOKUP(_xlfn.CONCAT($C$2,\"-\",$E34,\"-\",$F34,\"-\",M$3),'Raw Data'!$A$2:$D$690331,4,FALSE),\"N/A\")","v":"N/A"},{"$f":"_xlfn.IFNA(VLOOKUP(_xlfn.CONCAT($C$2,\"-\",$E34,\"-\",$F34,\"-\",N$3),'Raw Data'!$A$2:$D$690331,4,FALSE),\"N/A\")","v":"N/A"},{"$f":"_xlfn.IFNA(VLOOKUP(_xlfn.CONCAT($C$2,\"-\",$E34,\"-\",$F34,\"-\",O$3),'Raw Data'!$A$2:$D$690331,4,FALSE),\"N/A\")","v":"N/A"},{"$f":"_xlfn.IFNA(VLOOKUP(_xlfn.CONCAT($C$2,\"-\",$E34,\"-\",$F34,\"-\",P$3),'Raw Data'!$A$2:$D$690331,4,FALSE),\"N/A\")","v":"N/A"},{"$f":"_xlfn.IFNA(VLOOKUP(_xlfn.CONCAT($C$2,\"-\",$E34,\"-\",$F34,\"-\",Q$3),'Raw Data'!$A$2:$D$690331,4,FALSE),\"N/A\")","v":"N/A"},{"$f":"_xlfn.IFNA(VLOOKUP(_xlfn.CONCAT($C$2,\"-\",$E34,\"-\",$F34,\"-\",R$3),'Raw Data'!$A$2:$D$690331,4,FALSE),\"N/A\")","v":"N/A"},{"$f":"_xlfn.IFNA(VLOOKUP(_xlfn.CONCAT($C$2,\"-\",$E34,\"-\",$F34,\"-\",S$3),'Raw Data'!$A$2:$D$690331,4,FALSE),\"N/A\")","v":"N/A"}]
[null,null,null,null,31,1,null,{"$f":"_xlfn.IFNA(VLOOKUP(_xlfn.CONCAT($C$2,\"-\",$E35,\"-\",$F35,\"-\",H$3),'Raw Data'!$A$2:$D$690331,4,FALSE),\"N/A\")","v":"N/A"},{"$f":"_xlfn.IFNA(VLOOKUP(_xlfn.CONCAT($C$2,\"-\",$E35,\"-\",$F35,\"-\",I$3),'Raw Data'!$A$2:$D$690331,4,FALSE),\"N/A\")","v":"N/A"},{"$f":"_xlfn.IFNA(VLOOKUP(_xlfn.CONCAT($C$2,\"-\",$E35,\"-\",$F35,\"-\",J$3),'Raw Data'!$A$2:$D$690331,4,FALSE),\"N/A\")","v":"N/A"},{"$f":"_xlfn.IFNA(VLOOKUP(_xlfn.CONCAT($C$2,\"-\",$E35,\"-\",$F35,\"-\",K$3),'Raw Data'!$A$2:$D$690331,4,FALSE),\"N/A\")","v":"N/A"},{"$f":"_xlfn.IFNA(VLOOKUP(_xlfn.CONCAT($C$2,\"-\",$E35,\"-\",$F35,\"-\",L$3),'Raw Data'!$A$2:$D$690331,4,FALSE),\"N/A\")","v":"N/A"},{"$f":"_xlfn.IFNA(VLOOKUP(_xlfn.CONCAT($C$2,\"-\",$E35,\"-\",$F35,\"-\",M$3),'Raw Data'!$A$2:$D$690331,4,FALSE),\"N/A\")","v":"N/A"},{"$f":"_xlfn.IFNA(VLOOKUP(_xlfn.CONCAT($C$2,\"-\",$E35,\"-\",$F35,\"-\",N$3),'Raw Data'!$A$2:$D$690331,4,FALSE),\"N/A\")","v":"N/A"},{"$f":"_xlfn.IFNA(VLOOKUP(_xlfn.CONCAT($C$2,\"-\",$E35,\"-\",$F35,\"-\",O$3),'Raw Data'!$A$2:$D$690331,4,FALSE),\"N/A\")","v":"N/A"},{"$f":"_xlfn.IFNA(VLOOKUP(_xlfn.CONCAT($C$2,\"-\",$E35,\"-\",$F35,\"-\",P$3),'Raw Data'!$A$2:$D$690331,4,FALSE),\"N/A\")","v":"N/A"},{"$f":"_xlfn.IFNA(VLOOKUP(_xlfn.CONCAT($C$2,\"-\",$E35,\"-\",$F35,\"-\",Q$3),'Raw Data'!$A$2:$D$690331,4,FALSE),\"N/A\")","v":"N/A"},{"$f":"_xlfn.IFNA(VLOOKUP(_xlfn.CONCAT($C$2,\"-\",$E35,\"-\",$F35,\"-\",R$3),'Raw Data'!$A$2:$D$690331,4,FALSE),\"N/A\")","v":"N/A"},{"$f":"_xlfn.IFNA(VLOOKUP(_xlfn.CONCAT($C$2,\"-\",$E35,\"-\",$F35,\"-\",S$3),'Raw Data'!$A$2:$D$690331,4,FALSE),\"N/A\")","v":"N/A"}]
[null,null,null,null,1,2,null,{"$f":"_xlfn.IFNA(VLOOKUP(_xlfn.CONCAT($C$2,\"-\",$E36,\"-\",$F36,\"-\",H$3),'Raw Data'!$A$2:$D$690331,4,FALSE),\"N/A\")","v":"N/A"},{"$f":"_xlfn.IFNA(VLOOKUP(_xlfn.CONCAT($C$2,\"-\",$E36,\"-\",$F36,\"-\",I$3),'Raw Data'!$A$2:$D$690331,4,FALSE),\"N/A\")","v":"N/A"},{"$f":"_xlfn.IFNA(VLOOKUP(_xlfn.CONCAT($C$2,\"-\",$E36,\"-\",$F36,\"-\",J$3),'Raw Data'!$A$2:$D$690331,4,FALSE),\"N/A\")","v":"N/A"},{"$f":"_xlfn.IFNA(VLOOKUP(_xlfn.CONCAT($C$2,\"-\",$E36,\"-\",$F36,\"-\",K$3),'Raw Data'!$A$2:$D$690331,4,FALSE),\"N/A\")","v":"N/A"},{"$f":"_xlfn.IFNA(VLOOKUP(_xlfn.CONCAT($C$2,\"-\",$E36,\"-\",$F36,\"-\",L$3),'Raw Data'!$A$2:$D$690331,4,FALSE),\"N/A\")","v":"N/A"},{"$f":"_xlfn.IFNA(VLOOKUP(_xlfn.CONCAT($C$2,\"-\",$E36,\"-\",$F36,\"-\",M$3),'Raw Data'!$A$2:$D$690331,4,FALSE),\"N/A\")","v":"N/A"},{"$f":"_xlfn.IFNA(VLOOKUP(_xlfn.CONCAT($C$2,\"-\",$E36,\"-\",$F36,\"-\",N$3),'Raw Data'!$A$2:$D$690331,4,FALSE),\"N/A\")","v":"N/A"},{"$f":"_xlfn.IFNA(VLOOKUP(_xlfn.CONCAT($C$2,\"-\",$E36,\"-\",$F36,\"-\",O$3),'Raw Data'!$A$2:$D$690331,4,FALSE),\"N/A\")","v":"N/A"},{"$f":"_xlfn.IFNA(VLOOKUP(_xlfn.CONCAT($C$2,\"-\",$E36,\"-\",$F36,\"-\",P$3),'Raw Data'!$A$2:$D$690331,4,FALSE),\"N/A\")","v":"N/A"},{"$f":"_xlfn.IFNA(VLOOKUP(_xlfn.CONCAT($C$2,\"-\",$E36,\"-\",$F36,\"-\",Q$3),'Raw Data'!$A$2:$D$690331,4,FALSE),\"N/A\")","v":"N/A"},{"$f":"_xlfn.IFNA(VLOOKUP(_xlfn.CONCAT($C$2,\"-\",$E36,\"-\",$F36,\"-\",R$3),'Raw Data'!$A$2:$D$690331,4,FALSE),\"N/A\")","v":"N/A"},{"$f":"_xlfn.IFNA(VLOOKUP(_xlfn.CONCAT($C$2,\"-\",$E36,\"-\",$F36,\"-\",S$3),'Raw Data'!$A$2:$D$690331,4,FALSE),\"N/A\")","v":"N/A"}]
[null,null,null,null,2,2,null,{"$f":"_xlfn.IFNA(VLOOKUP(_xlfn.CONCAT($C$2,\"-\",$E37,\"-\",$F37,\"-\",H$3),'Raw Data'!$A$2:$D$690331,4,FALSE),\"N/A\")","v":"N/A"},{"$f":"_xlfn.IFNA(VLOOKUP(_xlfn.CONCAT($C$2,\"-\",$E37,\"-\",$F37,\"-\",I$3),'Raw Data'!$A$2:$D$690331,4,FALSE),\"N/A\")","v":"N/A"},{"$f":"_xlfn.IFNA(VLOOKUP(_xlfn.CONCAT($C$2,\"-\",$E37,\"-\",$F37,\"-\",J$3),'Raw Data'!$A$2:$D$690331,4,FALSE),\"N/A\")","v":"N/A"},{"$f":"_xlfn.IFNA(VLOOKUP(_xlfn.CONCAT($C$2,\"-\",$E37,\"-\",$F37,\"-\",K$3),'Raw Data'!$A$2:$D$690331,4,FALSE),\"N/A\")","v":"N/A"},{"$f":"_xlfn.IFNA(VLOOKUP(_xlfn.CONCAT($C$2,\"-\",$E37,\"-\",$F37,\"-\",L$3),'Raw Data'!$A$2:$D$690331,4,FALSE),\"N/A\")","v":"N/A"},{"$f":"_xlfn.IFNA(VLOOKUP(_xlfn.CONCAT($C$2,\"-\",$E37,\"-\",$F37,\"-\",M$3),'Raw Data'!$A$2:$D$690331,4,FALSE),\"N/A\")","v":"N/A"},{"$f":"_xlfn.IFNA(VLOOKUP(_xlfn.CONCAT($C$2,\"-\",$E37,\"-\",$F37,\"-\",N$3),'Raw Data'!$A$2:$D$690331,4,FALSE),\"N/A\")","v":"N/A"},{"$f":"_xlfn.IFNA(VLOOKUP(_xlfn.CONCAT($C$2,\"-\",$E37,\"-\",$F37,\"-\",O$3),'Raw Data'!$A$2:$D$690331,4,FALSE),\"N/A\")","v":"N/A"},{"$f":"_xlfn.IFNA(VLOOKUP(_xlfn.CONCAT($C$2,\"-\",$E37,\"-\",$F37,\"-\",P$3),'Raw Data'!$A$2:$D$690331,4,FALSE),\"N/A\")","v":"N/A"},{"$f":"_xlfn.IFNA(VLOOKUP(_xlfn.CONCAT($C$2,\"-\",$E37,\"-\",$F37,\"-\",Q$3),'Raw Data'!$A$2:$D$690331,4,FALSE),\"N/A\")","v":"N/A"},{"$f":"_xlfn.IFNA(VLOOKUP(_xlfn.CONCAT($C$2,\"-\",$E37,\"-\",$F37,\"-\",R$3),'Raw Data'!$A$2:$D$690331,4,FALSE),\"N/A\")","v":"N/A"},{"$f":"_xlfn.IFNA(VLOOKUP(_xlfn.CONCAT($C$2,\"-\",$E37,\"-\",$F37,\"-\",S$3),'Raw Data'!$A$2:$D$690331,4,FALSE),\"N/A\")","v":"N/A"}]
[null,null,null,null,3,2,null,{"$f":"_xlfn.IFNA(VLOOKUP(_xlfn.CONCAT($C$2,\"-\",$E38,\"-\",$F38,\"-\",H$3),'Raw Data'!$A$2:$D$690331,4,FALSE),\"N/A\")","v":"N/A"},{"$f":"_xlfn.IFNA(VLOOKUP(_xlfn.CONCAT($C$2,\"-\",$E38,\"-\",$F38,\"-\",I$3),'Raw Data'!$A$2:$D$690331,4,FALSE),\"N/A\")","v":"N/A"},{"$f":"_xlfn.IFNA(VLOOKUP(_xlfn.CONCAT($C$2,\"-\",$E38,\"-\",$F38,\"-\",J$3),'Raw Data'!$A$2:$D$690331,4,FALSE),\"N/A\")","v":"N/A"},{"$f":"_xlfn.IFNA(VLOOKUP(_xlfn.CONCAT($C$2,\"-\",$E38,\"-\",$F38,\"-\",K$3),'Raw Data'!$A$2:$D$690331,4,FALSE),\"N/A\")","v":"N/A"},{"$f":"_xlfn.IFNA(VLOOKUP(_xlfn.CONCAT($C$2,\"-\",$E38,\"-\",$F38,\"-\",L$3),'Raw Data'!$A$2:$D$690331,4,FALSE),\"N/A\")","v":"N/A"},{"$f":"_xlfn.IFNA(VLOOKUP(_xlfn.CONCAT($C$2,\"-\",$E38,\"-\",$F38,\"-\",M$3),'Raw Data'!$A$2:$D$690331,4,FALSE),\"N/A\")","v":"N/A"},{"$f":"_xlfn.IFNA(VLOOKUP(_xlfn.CONCAT($C$2,\"-\",$E38,\"-\",$F38,\"-\",N$3),'Raw Data'!$A$2:$D$690331,4,FALSE),\"N/A\")","v":"N/A"},{"$f":"_xlfn.IFNA(VLOOKUP(_xlfn.CONCAT($C$2,\"-\",$E38,\"-\",$F38,\"-\",O$3),'Raw Data'!$A$2:$D$690331,4,FALSE),\"N/A\")","v":"N/A"},{"$f":"_xlfn.IFNA(VLOOKUP(_xlfn.CONCAT($C$2,\"-\",$E38,\"-\",$F38,\"-\",P$3),'Raw Data'!$A$2:$D$690331,4,FALSE),\"N/A\")","v":"N/A"},{"$f":"_xlfn.IFNA(VLOOKUP(_xlfn.CONCAT($C$2,\"-\",$E38,\"-\",$F38,\"-\",Q$3),'Raw Data'!$A$2:$D$690331,4,FALSE),\"N/A\")","v":"N/A"},{"$f":"_xlfn.IFNA(VLOOKUP(_xlfn.CONCAT($C$2,\"-\",$E38,\"-\",$F38,\"-\",R$3),'Raw Data'!$A$2:$D$690331,4,FALSE),\"N/A\")","v":"N/A"},{"$f":"_xlfn.IFNA(VLOOKUP(_xlfn.CONCAT($C$2,\"-\",$E38,\"-\",$F38,\"-\",S$3),'Raw Data'!$A$2:$D$690331,4,FALSE),\"N/A\")","v":"N/A"}]
[null,null,null,null,4,2,null,{"$f":"_xlfn.IFNA(VLOOKUP(_xlfn.CONCAT($C$2,\"-\",$E39,\"-\",$F39,\"-\",H$3),'Raw Data'!$A$2:$D$690331,4,FALSE),\"N/A\")","v":"N/A"},{"$f":"_xlfn.IFNA(VLOOKUP(_xlfn.CONCAT($C$2,\"-\",$E39,\"-\",$F39,\"-\",I$3),'Raw Data'!$A$2:$D$690331,4,FALSE),\"N/A\")","v":"N/A"},{"$f":"_xlfn.IFNA(VLOOKUP(_xlfn.CONCAT($C$2,\"-\",$E39,\"-\",$F39,\"-\",J$3),'Raw Data'!$A$2:$D$690331,4,FALSE),\"N/A\")","v":"N/A"},{"$f":"_xlfn.IFNA(VLOOKUP(_xlfn.CONCAT($C$2,\"-\",$E39,\"-\",$F39,\"-\",K$3),'Raw Data'!$A$2:$D$690331,4,FALSE),\"N/A\")","v":"N/A"},{"$f":"_xlfn.IFNA(VLOOKUP(_xlfn.CONCAT($C$2,\"-\",$E39,\"-\",$F39,\"-\",L$3),'Raw Data'!$A$2:$D$690331,4,FALSE),\"N/A\")","v":"N/A"},{"$f":"_xlfn.IFNA(VLOOKUP(_xlfn.CONCAT($C$2,\"-\",$E39,\"-\",$F39,\"-\",M$3),'Raw Data'!$A$2:$D$690331,4,FALSE),\"N/A\")","v":"N/A"},{"$f":"_xlfn.IFNA(VLOOKUP(_xlfn.CONCAT($C$2,\"-\",$E39,\"-\",$F39,\"-\",N$3),'Raw Data'!$A$2:$D$690331,4,FALSE),\"N/A\")","v":"N/A"},{"$f":"_xlfn.IFNA(VLOOKUP(_xlfn.CONCAT($C$2,\"-\",$E39,\"-\",$F39,\"-\",O$3),'Raw Data'!$A$2:$D$690331,4,FALSE),\"N/A\")","v":"N/A"},{"$f":"_xlfn.IFNA(VLOOKUP(_xlfn.CONCAT($C$2,\"-\",$E39,\"-\",$F39,\"-\",P$3),'Raw Data'!$A$2:$D$690331,4,FALSE),\"N/A\")","v":"N/A"},{"$f":"_xlfn.IFNA(VLOOKUP(_xlfn.CONCAT($C$2,\"-\",$E39,\"-\",$F39,\"-\",Q$3),'Raw Data'!$A$2:$D$690331,4,FALSE),\"N/A\")","v":"N/A"},{"$f":"_xlfn.IFNA(VLOOKUP(_xlfn.CONCAT($C$2,\"-\",$E39,\"-\",$F39,\"-\",R$3),'Raw Data'!$A$2:$D$690331,4,FALSE),\"N/A\")","v":"N/A"},{"$f":"_xlfn.IFNA(VLOOKUP(_xlfn.CONCAT($C$2,\"-\",$E39,\"-\",$F39,\"-\",S$3),'Raw Data'!$A$2:$D$690331,4,FALSE),\"N/A\")","v":"N/A"}]
[null,null,null,null,5,2,null,{"$f":"_xlfn.IFNA(VLOOKUP(_xlfn.CONCAT($C$2,\"-\",$E40,\"-\",$F40,\"-\",H$3),'Raw Data'!$A$2:$D$690331,4,FALSE),\"N/A\")","v":"N/A"},{"$f":"_xlfn.IFNA(VLOOKUP(_xlfn.CONCAT($C$2,\"-\",$E40,\"-\",$F40,\"-\",I$3),'Raw Data'!$A$2:$D$690331,4,FALSE),\"N/A\")","v":"N/A"},{"$f":"_xlfn.IFNA(VLOOKUP(_xlfn.CONCAT($C$2,\"-\",$E40,\"-\",$F40,\"-\",J$3),'Raw Data'!$A$2:$D$690331,4,FALSE),\"N/A\")","v":"N/A"},{"$f":"_xlfn.IFNA(VLOOKUP(_xlfn.CONCAT($C$2,\"-\",$E40,\"-\",$F40,\"-\",K$3),'Raw Data'!$A$2:$D$690331,4,FALSE),\"N/A\")","v":"N/A"},{"$f":"_xlfn.IFNA(VLOOKUP(_xlfn.CONCAT($C$2,\"-\",$E40,\"-\",$F40,\"-\",L$3),'Raw Data'!$A$2:$D$690331,4,FALSE),\"N/A\")","v":"N/A"},{"$f":"_xlfn.IFNA(VLOOKUP(_xlfn.CONCAT($C$2,\"-\",$E40,\"-\",$F40,\"-\",M$3),'Raw Data'!$A$2:$D$690331,4,FALSE),\"N/A\")","v":"N/A"},{"$f":"_xlfn.IFNA(VLOOKUP(_xlfn.CONCAT($C$2,\"-\",$E40,\"-\",$F40,\"-\",N$3),'Raw Data'!$A$2:$D$690331,4,FALSE),\"N/A\")","v":"N/A"},{"$f":"_xlfn.IFNA(VLOOKUP(_xlfn.CONCAT($C$2,\"-\",$E40,\"-\",$F40,\"-\",O$3),'Raw Data'!$A$2:$D$690331,4,FALSE),\"N/A\")","v":"N/A"},{"$f":"_xlfn.IFNA(VLOOKUP(_xlfn.CONCAT($C$2,\"-\",$E40,\"-\",$F40,\"-\",P$3),'Raw Data'!$A$2:$D$690331,4,FALSE),\"N/A\")","v":"N/A"},{"$f":"_xlfn.IFNA(VLOOKUP(_xlfn.CONCAT($C$2,\"-\",$E40,\"-\",$F40,\"-\",Q$3),'Raw Data'!$A$2:$D$690331,4,FALSE),\"N/A\")","v":"N/A"},{"$f":"_xlfn.IFNA(VLOOKUP(_xlfn.CONCAT($C$2,\"-\",$E40,\"-\",$F40,\"-\",R$3),'Raw Data'!$A$2:$D$690331,4,FALSE),\"N/A\")","v":"N/A"},{"$f":"_xlfn.IFNA(VLOOKUP(_xlfn.CONCAT($C$2,\"-\",$E40,\"-\",$F40,\"-\",S$3),'Raw Data'!$A$2:$D$690331,4,FALSE),\"N/A\")","v":"N/A"}]
[null,null,null,null,6,2,null,{"$f":"_xlfn.IFNA(VLOOKUP(_xlfn.CONCAT($C$2,\"-\",$E41,\"-\",$F41,\"-\",H$3),'Raw Data'!$A$2:$D$690331,4,FALSE),\"N/A\")","v":"N/A"},{"$f":"_xlfn.IFNA(VLOOKUP(_xlfn.CONCAT($C$2,\"-\",$E41,\"-\",$F41,\"-\",I$3),'Raw Data'!$A$2:$D$690331,4,FALSE),\"N/A\")","v":"N/A"},{"$f":"_xlfn.IFNA(VLOOKUP(_xlfn.CONCAT($C$2,\"-\",$E41,\"-\",$F41,\"-\",J$3),'Raw Data'!$A$2:$D$690331,4,FALSE),\"N/A\")","v":"N/A"},{"$f":"_xlfn.IFNA(VLOOKUP(_xlfn.CONCAT($C$2,\"-\",$E41,\"-\",$F41,\"-\",K$3),'Raw Data'!$A$2:$D$690331,4,FALSE),\"N/A\")","v":"N/A"},{"$f":"_xlfn.IFNA(VLOOKUP(_xlfn.CONCAT($C$2,\"-\",$E41,\"-\",$F41,\"-\",L$3),'Raw Data'!$A$2:$D$690331,4,FALSE),\"N/A\")","v":"N/A"},{"$f":"_xlfn.IFNA(VLOOKUP(_xlfn.CONCAT($C$2,\"-\",$E41,\"-\",$F41,\"-\",M$3),'Raw Data'!$A$2:$D$690331,4,FALSE),\"N/A\")","v":"N/A"},{"$f":"_xlfn.IFNA(VLOOKUP(_xlfn.CONCAT($C$2,\"-\",$E41,\"-\",$F41,\"-\",N$3),'Raw Data'!$A$2:$D$690331,4,FALSE),\"N/A\")","v":"N/A"},{"$f":"_xlfn.IFNA(VLOOKUP(_xlfn.CONCAT($C$2,\"-\",$E41,\"-\",$F41,\"-\",O$3),'Raw Data'!$A$2:$D$690331,4,FALSE),\"N/A\")","v":"N/A"},{"$f":"_xlfn.IFNA(VLOOKUP(_xlfn.CONCAT($C$2,\"-\",$E41,\"-\",$F41,\"-\",P$3),'Raw Data'!$A$2:$D$690331,4,FALSE),\"N/A\")","v":"N/A"},{"$f":"_xlfn.IFNA(VLOOKUP(_xlfn.CONCAT($C$2,\"-\",$E41,\"-\",$F41,\"-\",Q$3),'Raw Data'!$A$2:$D$690331,4,FALSE),\"N/A\")","v":"N/A"},{"$f":"_xlfn.IFNA(VLOOKUP(_xlfn.CONCAT($C$2,\"-\",$E41,\"-\",$F41,\"-\",R$3),'Raw Data'!$A$2:$D$690331,4,FALSE),\"N/A\")","v":"N/A"},{"$f":"_xlfn.IFNA(VLOOKUP(_xlfn.CONCAT($C$2,\"-\",$E41,\"-\",$F41,\"-\",S$3),'Raw Data'!$A$2:$D$690331,4,FALSE),\"N/A\")","v":"N/A"}]
[null,null,null,null,7,2,null,{"$f":"_xlfn.IFNA(VLOOKUP(_xlfn.CONCAT($C$2,\"-\",$E42,\"-\",$F42,\"-\",H$3),'Raw Data'!$A$2:$D$690331,4,FALSE),\"N/A\")","v":"N/A"},{"$f":"_xlfn.IFNA(VLOOKUP(_xlfn.CONCAT($C$2,\"-\",$E42,\"-\",$F42,\"-\",I$3),'Raw Data'!$A$2:$D$690331,4,FALSE),\"N/A\")","v":"N/A"},{"$f":"_xlfn.IFNA(VLOOKUP(_xlfn.CONCAT($C$2,\"-\",$E42,\"-\",$F42,\"-\",J$3),'Raw Data'!$A$2:$D$690331,4,FALSE),\"N/A\")","v":"N/A"},{"$f":"_xlfn.IFNA(VLOOKUP(_xlfn.CONCAT($C$2,\"-\",$E42,\"-\",$F42,\"-\",K$3),'Raw Data'!$A$2:$D$690331,4,FALSE),\"N/A\")","v":"N/A"},{"$f":"_xlfn.IFNA(VLOOKUP(_xlfn.CONCAT($C$2,\"-\",$E42,\"-\",$F42,\"-\",L$3),'Raw Data'!$A$2:$D$690331,4,FALSE),\"N/A\")","v":"N/A"},{"$f":"_xlfn.IFNA(VLOOKUP(_xlfn.CONCAT($C$2,\"-\",$E42,\"-\",$F42,\"-\",M$3),'Raw Data'!$A$2:$D$690331,4,FALSE),\"N/A\")","v":"N/A"},{"$f":"_xlfn.IFNA(VLOOKUP(_xlfn.CONCAT($C$2,\"-\",$E42,\"-\",$F42,\"-\",N$3),'Raw Data'!$A$2:$D$690331,4,FALSE),\"N/A\")","v":"N/A"},{"$f":"_xlfn.IFNA(VLOOKUP(_xlfn.CONCAT($C$2,\"-\",$E42,\"-\",$F42,\"-\",O$3),'Raw Data'!$A$2:$D$690331,4,FALSE),\"N/A\")","v":"N/A"},{"$f":"_xlfn.IFNA(VLOOKUP(_xlfn.CONCAT($C$2,\"-\",$E42,\"-\",$F42,\"-\",P$3),'Raw Data'!$A$2:$D$690331,4,FALSE),\"N/A\")","v":"N/A"},{"$f":"_xlfn.IFNA(VLOOKUP(_xlfn.CONCAT($C$2,\"-\",$E42,\"-\",$F42,\"-\",Q$3),'Raw Data'!$A$2:$D$690331,4,FALSE),\"N/A\")","v":"N/A"},{"$f":"_xlfn.IFNA(VLOOKUP(_xlfn.CONCAT($C$2,\"-\",$E42,\"-\",$F42,\"-\",R$3),'Raw Data'!$A$2:$D$690331,4,FALSE),\"N/A\")","v":"N/A"},{"$f":"_xlfn.IFNA(VLOOKUP(_xlfn.CONCAT($C$2,\"-\",$E42,\"-\",$F42,\"-\",S$3),'Raw Data'!$A$2:$D$690331,4,FALSE),\"N/A\")","v":"N/A"}]
[null,null,null,null,8,2,null,{"$f":"_xlfn.IFNA(VLOOKUP(_xlfn.CONCAT($C$2,\"-\",$E43,\"-\",$F43,\"-\",H$3),'Raw Data'!$A$2:$D$690331,4,FALSE),\"N/A\")","v":"N/A"},{"$f":"_xlfn.IFNA(VLOOKUP(_xlfn.CONCAT($C$2,\"-\",$E43,\"-\",$F43,\"-\",I$3),'Raw Data'!$A$2:$D$690331,4,FALSE),\"N/A\")","v":"N/A"},{"$f":"_xlfn.IFNA(VLOOKUP(_xlfn.CONCAT($C$2,\"-\",$E43,\"-\",$F43,\"-\",J$3),'Raw Data'!$A$2:$D$690331,4,FALSE),\"N/A\")","v":"N/A"},{"$f":"_xlfn.IFNA(VLOOKUP(_xlfn.CONCAT($C$2,\"-\",$E43,\"-\",$F43,\"-\",K$3),'Raw Data'!$A$2:$D$690331,4,FALSE),\"N/A\")","v":"N/A"},{"$f":"_xlfn.IFNA(VLOOKUP(_xlfn.CONCAT($C$2,\"-\",$E43,\"-\",$F43,\"-\",L$3),'Raw Data'!$A$2:$D$690331,4,FALSE),\"N/A\")","v":"N/A"},{"$f":"_xlfn.IFNA(VLOOKUP(_xlfn.CONCAT($C$2,\"-\",$E43,\"-\",$F43,\"-\",M$3),'Raw Data'!$A$2:$D$690331,4,FALSE),\"N/A\")","v":"N/A"},{"$f":"_xlfn.IFNA(VLOOKUP(_xlfn.CONCAT($C$2,\"-\",$E43,\"-\",$F43,\"-\",N$3),'Raw Data'!$A$2:$D$690331,4,FALSE),\"N/A\")","v":"N/A"},{"$f":"_xlfn.IFNA(VLOOKUP(_xlfn.CONCAT($C$2,\"-\",$E43,\"-\",$F43,\"-\",O$3),'Raw Data'!$A$2:$D$690331,4,FALSE),\"N/A\")","v":"N/A"},{"$f":"_xlfn.IFNA(VLOOKUP(_xlfn.CONCAT($C$2,\"-\",$E43,\"-\",$F43,\"-\",P$3),'Raw Data'!$A$2:$D$690331,4,FALSE),\"N/A\")","v":"N/A"},{"$f":"_xlfn.IFNA(VLOOKUP(_xlfn.CONCAT($C$2,\"-\",$E43,\"-\",$F43,\"-\",Q$3),'Raw Data'!$A$2:$D$690331,4,FALSE),\"N/A\")","v":"N/A"},{"$f":"_xlfn.IFNA(VLOOKUP(_xlfn.CONCAT($C$2,\"-\",$E43,\"-\",$F43,\"-\",R$3),'Raw Data'!$A$2:$D$690331,4,FALSE),\"N/A\")","v":"N/A"},{"$f":"_xlfn.IFNA(VLOOKUP(_xlfn.CONCAT($C$2,\"-\",$E43,\"-\",$F43,\"-\",S$3),'Raw Data'!$A$2:$D$690331,4,FALSE),\"N/A\")","v":"N/A"}]
[null,null,null,null,9,2,null,{"$f":"_xlfn.IFNA(VLOOKUP(_xlfn.CONCAT($C$2,\"-\",$E44,\"-\",$F44,\"-\",H$3),'Raw Data'!$A$2:$D$690331,4,FALSE),\"N/A\")","v":"N/A"},{"$f":"_xlfn.IFNA(VLOOKUP(_xlfn.CONCAT($C$2,\"-\",$E44,\"-\",$F44,\"-\",I$3),'Raw Data'!$A$2:$D$690331,4,FALSE),\"N/A\")","v":"N/A"},{"$f":"_xlfn.IFNA(VLOOKUP(_xlfn.CONCAT($C$2,\"-\",$E44,\"-\",$F44,\"-\",J$3),'Raw Data'!$A$2:$D$690331,4,FALSE),\"N/A\")","v":"N/A"},{"$f":"_xlfn.IFNA(VLOOKUP(_xlfn.CONCAT($C$2,\"-\",$E44,\"-\",$F44,\"-\",K$3),'Raw Data'!$A$2:$D$690331,4,FALSE),\"N/A\")","v":"N/A"},{"$f":"_xlfn.IFNA(VLOOKUP(_xlfn.CONCAT($C$2,\"-\",$E44,\"-\",$F44,\"-\",L$3),'Raw Data'!$A$2:$D$690331,4,FALSE),\"N/A\")","v":"N/A"},{"$f":"_xlfn.IFNA(VLOOKUP(_xlfn.CONCAT($C$2,\"-\",$E44,\"-\",$F44,\"-\",M$3),'Raw Data'!$A$2:$D$690331,4,FALSE),\"N/A\")","v":"N/A"},{"$f":"_xlfn.IFNA(VLOOKUP(_xlfn.CONCAT($C$2,\"-\",$E44,\"-\",$F44,\"-\",N$3),'Raw Data'!$A$2:$D$690331,4,FALSE),\"N/A\")","v":"N/A"},{"$f":"_xlfn.IFNA(VLOOKUP(_xlfn.CONCAT($C$2,\"-\",$E44,\"-\",$F44,\"-\",O$3),'Raw Data'!$A$2:$D$690331,4,FALSE),\"N/A\")","v":"N/A"},{"$f":"_xlfn.IFNA(VLOOKUP(_xlfn.CONCAT($C$2,\"-\",$E44,\"-\",$F44,\"-\",P$3),'Raw Data'!$A$2:$D$690331,4,FALSE),\"N/A\")","v":"N/A"},{"$f":"_xlfn.IFNA(VLOOKUP(_xlfn.CONCAT($C$2,\"-\",$E44,\"-\",$F44,\"-\",Q$3),'Raw Data'!$A$2:$D$690331,4,FALSE),\"N/A\")","v":"N/A"},{"$f":"_xlfn.IFNA(VLOOKUP(_xlfn.CONCAT($C$2,\"-\",$E44,\"-\",$F44,\"-\",R$3),'Raw Data'!$A$2:$D$690331,4,FALSE),\"N/A\")","v":"N/A"},{"$f":"_xlfn.IFNA(VLOOKUP(_xlfn.CONCAT($C$2,\"-\",$E44,\"-\",$F44,\"-\",S$3),'Raw Data'!$A$2:$D$690331,4,FALSE),\"N/A\")","v":"N/A"}]
[null,null,null,null,10,2,null,{"$f":"_xlfn.IFNA(VLOOKUP(_xlfn.CONCAT($C$2,\"-\",$E45,\"-\",$F45,\"-\",H$3),'Raw Data'!$A$2:$D$690331,4,FALSE),\"N/A\")","v":"N/A"},{"$f":"_xlfn.IFNA(VLOOKUP(_xlfn.CONCAT($C$2,\"-\",$E45,\"-\",$F45,\"-\",I$3),'Raw Data'!$A$2:$D$690331,4,FALSE),\"N/A\")","v":"N/A"},{"$f":"_xlfn.IFNA(VLOOKUP(_xlfn.CONCAT($C$2,\"-\",$E45,\"-\",$F45,\"-\",J$3),'Raw Data'!$A$2:$D$690331,4,FALSE),\"N/A\")","v":"N/A"},{"$f":"_xlfn.IFNA(VLOOKUP(_xlfn.CONCAT($C$2,\"-\",$E45,\"-\",$F45,\"-\",K$3),'Raw Data'!$A$2:$D$690331,4,FALSE),\"N/A\")","v":"N/A"},{"$f":"_xlfn.IFNA(VLOOKUP(_xlfn.CONCAT($C$2,\"-\",$E45,\"-\",$F45,\"-\",L$3),'Raw Data'!$A$2:$D$690331,4,FALSE),\"N/A\")","v":"N/A"},{"$f":"_xlfn.IFNA(VLOOKUP(_xlfn.CONCAT($C$2,\"-\",$E45,\"-\",$F45,\"-\",M$3),'Raw Data'!$A$2:$D$690331,4,FALSE),\"N/A\")","v":"N/A"},{"$f":"_xlfn.IFNA(VLOOKUP(_xlfn.CONCAT($C$2,\"-\",$E45,\"-\",$F45,\"-\",N$3),'Raw Data'!$A$2:$D$690331,4,FALSE),\"N/A\")","v":"N/A"},{"$f":"_xlfn.IFNA(VLOOKUP(_xlfn.CONCAT($C$2,\"-\",$E45,\"-\",$F45,\"-\",O$3),'Raw Data'!$A$2:$D$690331,4,FALSE),\"N/A\")","v":"N/A"},{"$f":"_xlfn.IFNA(VLOOKUP(_xlfn.CONCAT($C$2,\"-\",$E45,\"-\",$F45,\"-\",P$3),'Raw Data'!$A$2:$D$690331,4,FALSE),\"N/A\")","v":"N/A"},{"$f":"_xlfn.IFNA(VLOOKUP(_xlfn.CONCAT($C$2,\"-\",$E45,\"-\",$F45,\"-\",Q$3),'Raw Data'!$A$2:$D$690331,4,FALSE),\"N/A\")","v":"N/A"},{"$f":"_xlfn.IFNA(VLOOKUP(_xlfn.CONCAT($C$2,\"-\",$E45,\"-\",$F45,\"-\",R$3),'Raw Data'!$A$2:$D$690331,4,FALSE),\"N/A\")","v":"N/A"},{"$f":"_xlfn.IFNA(VLOOKUP(_xlfn.CONCAT($C$2,\"-\",$E45,\"-\",$F45,\"-\",S$3),'Raw Data'!$A$2:$D$690331,4,FALSE),\"N/A\")","v":"N/A"}]
[null,null,null,null,11,2,null,{"$f":"_xlfn.IFNA(VLOOKUP(_xlfn.CONCAT($C$2,\"-\",$E46,\"-\",$F46,\"-\",H$3),'Raw Data'!$A$2:$D$690331,4,FALSE),\"N/A\")","v":"N/A"},{"$f":"_xlfn.IFNA(VLOOKUP(_xlfn.CONCAT($C$2,\"-\",$E46,\"-\",$F46,\"-\",I$3),'Raw Data'!$A$2:$D$690331,4,FALSE),\"N/A\")","v":"N/A"},{"$f":"_xlfn.IFNA(VLOOKUP(_xlfn.CONCAT($C$2,\"-\",$E46,\"-\",$F46,\"-\",J$3),'Raw Data'!$A$2:$D$690331,4,FALSE),\"N/A\")","v":"N/A"},{"$f":"_xlfn.IFNA(VLOOKUP(_xlfn.CONCAT($C$2,\"-\",$E46,\"-\",$F46,\"-\",K$3),'Raw Data'!$A$2:$D$690331,4,FALSE),\"N/A\")","v":"N/A"},{"$f":"_xlfn.IFNA(VLOOKUP(_xlfn.CONCAT($C$2,\"-\",$E46,\"-\",$F46,\"-\",L$3),'Raw Data'!$A$2:$D$690331,4,FALSE),\"N/A\")","v":"N/A"},{"$f":"_xlfn.IFNA(VLOOKUP(_xlfn.CONCAT($C$2,\"-\",$E46,\"-\",$F46,\"-\",M$3),'Raw Data'!$A$2:$D$690331,4,FALSE),\"N/A\")","v":"N/A"},{"$f":"_xlfn.IFNA(VLOOKUP(_xlfn.CONCAT($C$2,\"-\",$E46,\"-\",$F46,\"-\",N$3),'Raw Data'!$A$2:$D$690331,4,FALSE),\"N/A\")","v":"N/A"},{"$f":"_xlfn.IFNA(VLOOKUP(_xlfn.CONCAT($C$2,\"-\",$E46,\"-\",$F46,\"-\",O$3),'Raw Data'!$A$2:$D$690331,4,FALSE),\"N/A\")","v":"N/A"},{"$f":"_xlfn.IFNA(VLOOKUP(_xlfn.CONCAT($C$2,\"-\",$E46,\"-\",$F46,\"-\",P$3),'Raw Data'!$A$2:$D$690331,4,FALSE),\"N/A\")","v":"N/A"},{"$f":"_xlfn.IFNA(VLOOKUP(_xlfn.CONCAT($C$2,\"-\",$E46,\"-\",$F46,\"-\",Q$3),'Raw Data'!$A$2:$D$690331,4,FALSE),\"N/A\")","v":"N/A"},{"$f":"_xlfn.IFNA(VLOOKUP(_xlfn.CONCAT($C$2,\"-\",$E46,\"-\",$F46,\"-\",R$3),'Raw Data'!$A$2:$D$690331,4,FALSE),\"N/A\")","v":"N/A"},{"$f":"_xlfn.IFNA(VLOOKUP(_xlfn.CONCAT($C$2,\"-\",$E46,\"-\",$F46,\"-\",S$3),'Raw Data'!$A$2:$D$690331,4,FALSE),\"N/A\")","v":"N/A"}]
[null,null,null,null,12,2,null,{"$f":"_xlfn.IFNA(VLOOKUP(_xlfn.CONCAT($C$2,\"-\",$E47,\"-\",$F47,\"-\",H$3),'Raw Data'!$A$2:$D$690331,4,FALSE),\"N/A\")","v":"N/A"},{"$f":"_xlfn.IFNA(VLOOKUP(_xlfn.CONCAT($C$2,\"-\",$E47,\"-\",$F47,\"-\",I$3),'Raw Data'!$A$2:$D$690331,4,FALSE),\"N/A\")","v":"N/A"},{"$f":"_xlfn.IFNA(VLOOKUP(_xlfn.CONCAT($C$2,\"-\",$E47,\"-\",$F47,\"-\",J$3),'Raw Data'!$A$2:$D$690331,4,FALSE),\"N/A\")","v":"N/A"},{"$f":"_xlfn.IFNA(VLOOKUP(_xlfn.CONCAT($C$2,\"-\",$E47,\"-\",$F47,\"-\",K$3),'Raw Data'!$A$2:$D$690331,4,FALSE),\"N/A\")","v":"N/A"},{"$f":"_xlfn.IFNA(VLOOKUP(_xlfn.CONCAT($C$2,\"-\",$E47,\"-\",$F47,\"-\",L$3),'Raw Data'!$A$2:$D$690331,4,FALSE),\"N/A\")","v":"N/A"},{"$f":"_xlfn.IFNA(VLOOKUP(_xlfn.CONCAT($C$2,\"-\",$E47,\"-\",$F47,\"-\",M$3),'Raw Data'!$A$2:$D$690331,4,FALSE),\"N/A\")","v":"N/A"},{"$f":"_xlfn.IFNA(VLOOKUP(_xlfn.CONCAT($C$2,\"-\",$E47,\"-\",$F47,\"-\",N$3),'Raw Data'!$A$2:$D$690331,4,FALSE),\"N/A\")","v":"N/A"},{"$f":"_xlfn.IFNA(VLOOKUP(_xlfn.CONCAT($C$2,\"-\",$E47,\"-\",$F47,\"-\",O$3),'Raw Data'!$A$2:$D$690331,4,FALSE),\"N/A\")","v":"N/A"},{"$f":"_xlfn.IFNA(VLOOKUP(_xlfn.CONCAT($C$2,\"-\",$E47,\"-\",$F47,\"-\",P$3),'Raw Data'!$A$2:$D$690331,4,FALSE),\"N/A\")","v":"N/A"},{"$f":"_xlfn.IFNA(VLOOKUP(_xlfn.CONCAT($C$2,\"-\",$E47,\"-\",$F47,\"-\",Q$3),'Raw Data'!$A$2:$D$690331,4,FALSE),\"N/A\")","v":"N/A"},{"$f":"_xlfn.IFNA(VLOOKUP(_xlfn.CONCAT($C$2,\"-\",$E47,\"-\",$F47,\"-\",R$3),'Raw Data'!$A$2:$D$690331,4,FALSE),\"N/A\")","v":"N/A"},{"$f":"_xlfn.IFNA(VLOOKUP(_xlfn.CONCAT($C$2,\"-\",$E47,\"-\",$F47,\"-\",S$3),'Raw Data'!$A$2:$D$690331,4,FALSE),\"N/A\")","v":"N/A"}]
[null,null,null,null,13,2,null,{"$f":"_xlfn.IFNA(VLOOKUP(_xlfn.CONCAT($C$2,\"-\",$E48,\"-\",$F48,\"-\",H$3),'Raw Data'!$A$2:$D$690331,4,FALSE),\"N/A\")","v":"N/A"},{"$f":"_xlfn.IFNA(VLOOKUP(_xlfn.CONCAT($C$2,\"-\",$E48,\"-\",$F48,\"-\",I$3),'Raw Data'!$A$2:$D$690331,4,FALSE),\"N/A\")","v":"N/A"},{"$f":"_xlfn.IFNA(VLOOKUP(_xlfn.CONCAT($C$2,\"-\",$E48,\"-\",$F48,\"-\",J$3),'Raw Data'!$A$2:$D$690331,4,FALSE),\"N/A\")","v":"N/A"},{"$f":"_xlfn.IFNA(VLOOKUP(_xlfn.CONCAT($C$2,\"-\",$E48,\"-\",$F48,\"-\",K$3),'Raw Data'!$A$2:$D$690331,4,FALSE),\"N/A\")","v":"N/A"},{"$f":"_xlfn.IFNA(VLOOKUP(_xlfn.CONCAT($C$2,\"-\",$E48,\"-\",$F48,\"-\",L$3),'Raw Data'!$A$2:$D$690331,4,FALSE),\"N/A\")","v":"N/A"},{"$f":"_xlfn.IFNA(VLOOKUP(_xlfn.CONCAT($C$2,\"-\",$E48,\"-\",$F48,\"-\",M$3),'Raw Data'!$A$2:$D$690331,4,FALSE),\"N/A\")","v":"N/A"},{"$f":"_xlfn.IFNA(VLOOKUP(_xlfn.CONCAT($C$2,\"-\",$E48,\"-\",$F48,\"-\",N$3),'Raw Data'!$A$2:$D$690331,4,FALSE),\"N/A\")","v":"N/A"},{"$f":"_xlfn.IFNA(VLOOKUP(_xlfn.CONCAT($C$2,\"-\",$E48,\"-\",$F48,\"-\",O$3),'Raw Data'!$A$2:$D$690331,4,FALSE),\"N/A\")","v":"N/A"},{"$f":"_xlfn.IFNA(VLOOKUP(_xlfn.CONCAT($C$2,\"-\",$E48,\"-\",$F48,\"-\",P$3),'Raw Data'!$A$2:$D$690331,4,FALSE),\"N/A\")","v":"N/A"},{"$f":"_xlfn.IFNA(VLOOKUP(_xlfn.CONCAT($C$2,\"-\",$E48,\"-\",$F48,\"-\",Q$3),'Raw Data'!$A$2:$D$690331,4,FALSE),\"N/A\")","v":"N/A"},{"$f":"_xlfn.IFNA(VLOOKUP(_xlfn.CONCAT($C$2,\"-\",$E48,\"-\",$F48,\"-\",R$3),'Raw Data'!$A$2:$D$690331,4,FALSE),\"N/A\")","v":"N/A"},{"$f":"_xlfn.IFNA(VLOOKUP(_xlfn.CONCAT($C$2,\"-\",$E48,\"-\",$F48,\"-\",S$3),'Raw Data'!$A$2:$D$690331,4,FALSE),\"N/A\")","v":"N/A"}]
[null,null,null,null,14,2,null,{"$f":"_xlfn.IFNA(VLOOKUP(_xlfn.CONCAT($C$2,\"-\",$E49,\"-\",$F49,\"-\",H$3),'Raw Data'!$A$2:$D$690331,4,FALSE),\"N/A\")","v":"N/A"},{"$f":"_xlfn.IFNA(VLOOKUP(_xlfn.CONCAT($C$2,\"-\",$E49,\"-\",$F49,\"-\",I$3),'Raw Data'!$A$2:$D$690331,4,FALSE),\"N/A\")","v":"N/A"},{"$f":"_xlfn.IFNA(VLOOKUP(_xlfn.CONCAT($C$2,\"-\",$E49,\"-\",$F49,\"-\",J$3),'Raw Data'!$A$2:$D$690331,4,FALSE),\"N/A\")","v":"N/A"},{"$f":"_xlfn.IFNA(VLOOKUP(_xlfn.CONCAT($C$2,\"-\",$E49,\"-\",$F49,\"-\",K$3),'Raw Data'!$A$2:$D$690331,4,FALSE),\"N/A\")","v":"N/A"},{"$f":"_xlfn.IFNA(VLOOKUP(_xlfn.CONCAT($C$2,\"-\",$E49,\"-\",$F49,\"-\",L$3),'Raw Data'!$A$2:$D$690331,4,FALSE),\"N/A\")","v":"N/A"},{"$f":"_xlfn.IFNA(VLOOKUP(_xlfn.CONCAT($C$2,\"-\",$E49,\"-\",$F49,\"-\",M$3),'Raw Data'!$A$2:$D$690331,4,FALSE),\"N/A\")","v":"N/A"},{"$f":"_xlfn.IFNA(VLOOKUP(_xlfn.CONCAT($C$2,\"-\",$E49,\"-\",$F49,\"-\",N$3),'Raw Data'!$A$2:$D$690331,4,FALSE),\"N/A\")","v":"N/A"},{"$f":"_xlfn.IFNA(VLOOKUP(_xlfn.CONCAT($C$2,\"-\",$E49,\"-\",$F49,\"-\",O$3),'Raw Data'!$A$2:$D$690331,4,FALSE),\"N/A\")","v":"N/A"},{"$f":"_xlfn.IFNA(VLOOKUP(_xlfn.CONCAT($C$2,\"-\",$E49,\"-\",$F49,\"-\",P$3),'Raw Data'!$A$2:$D$690331,4,FALSE),\"N/A\")","v":"N/A"},{"$f":"_xlfn.IFNA(VLOOKUP(_xlfn.CONCAT($C$2,\"-\",$E49,\"-\",$F49,\"-\",Q$3),'Raw Data'!$A$2:$D$690331,4,FALSE),\"N/A\")","v":"N/A"},{"$f":"_xlfn.IFNA(VLOOKUP(_xlfn.CONCAT($C$2,\"-\",$E49,\"-\",$F49,\"-\",R$3),'Raw Data'!$A$2:$D$690331,4,FALSE),\"N/A\")","v":"N/A"},{"$f":"_xlfn.IFNA(VLOOKUP(_xlfn.CONCAT($C$2,\"-\",$E49,\"-\",$F49,\"-\",S$3),'Raw Data'!$A$2:$D$690331,4,FALSE),\"N/A\")","v":"N/A"}]
[null,null,null,null,15,2,null,{"$f":"_xlfn.IFNA(VLOOKUP(_xlfn.CONCAT($C$2,\"-\",$E50,\"-\",$F50,\"-\",H$3),'Raw Data'!$A$2:$D$690331,4,FALSE),\"N/A\")","v":"N/A"},{"$f":"_xlfn.IFNA(VLOOKUP(_xlfn.CONCAT($C$2,\"-\",$E50,\"-\",$F50,\"-\",I$3),'Raw Data'!$A$2:$D$690331,4,FALSE),\"N/A\")","v":"N/A"},{"$f":"_xlfn.IFNA(VLOOKUP(_xlfn.CONCAT($C$2,\"-\",$E50,\"-\",$F50,\"-\",J$3),'Raw Data'!$A$2:$D$690331,4,FALSE),\"N/A\")","v":"N/A"},{"$f":"_xlfn.IFNA(VLOOKUP(_xlfn.CONCAT($C$2,\"-\",$E50,\"-\",$F50,\"-\",K$3),'Raw Data'!$A$2:$D$690331,4,FALSE),\"N/A\")","v":"N/A"},{"$f":"_xlfn.IFNA(VLOOKUP(_xlfn.CONCAT($C$2,\"-\",$E50,\"-\",$F50,\"-\",L$3),'Raw Data'!$A$2:$D$690331,4,FALSE),\"N/A\")","v":"N/A"},{"$f":"_xlfn.IFNA(VLOOKUP(_xlfn.CONCAT($C$2,\"-\",$E50,\"-\",$F50,\"-\",M$3),'Raw Data'!$A$2:$D$690331,4,FALSE),\"N/A\")","v":"N/A"},{"$f":"_xlfn.IFNA(VLOOKUP(_xlfn.CONCAT($C$2,\"-\",$E50,\"-\",$F50,\"-\",N$3),'Raw Data'!$A$2:$D$690331,4,FALSE),\"N/A\")","v":"N/A"},{"$f":"_xlfn.IFNA(VLOOKUP(_xlfn.CONCAT($C$2,\"-\",$E50,\"-\",$F50,\"-\",O$3),'Raw Data'!$A$2:$D$690331,4,FALSE),\"N/A\")","v":"N/A"},{"$f":"_xlfn.IFNA(VLOOKUP(_xlfn.CONCAT($C$2,\"-\",$E50,\"-\",$F50,\"-\",P$3),'Raw Data'!$A$2:$D$690331,4,FALSE),\"N/A\")","v":"N/A"},{"$f":"_xlfn.IFNA(VLOOKUP(_xlfn.CONCAT($C$2,\"-\",$E50,\"-\",$F50,\"-\",Q$3),'Raw Data'!$A$2:$D$690331,4,FALSE),\"N/A\")","v":"N/A"},{"$f":"_xlfn.IFNA(VLOOKUP(_xlfn.CONCAT($C$2,\"-\",$E50,\"-\",$F50,\"-\",R$3),'Raw Data'!$A$2:$D$690331,4,FALSE),\"N/A\")","v":"N/A"},{"$f":"_xlfn.IFNA(VLOOKUP(_xlfn.CONCAT($C$2,\"-\",$E50,\"-\",$F50,\"-\",S$3),'Raw Data'!$A$2:$D$690331,4,FALSE),\"N/A\")","v":"N/A"}]
[null,null,null,null,16,2,null,{"$f":"_xlfn.IFNA(VLOOKUP(_xlfn.CONCAT($C$2,\"-\",$E51,\"-\",$F51,\"-\",H$3),'Raw Data'!$A$2:$D$690331,4,FALSE),\"N/A\")","v":"N/A"},{"$f":"_xlfn.IFNA(VLOOKUP(_xlfn.CONCAT($C$2,\"-\",$E51,\"-\",$F51,\"-\",I$3),'Raw Data'!$A$2:$D$690331,4,FALSE),\"N/A\")","v":"N/A"},{"$f":"_xlfn.IFNA(VLOOKUP(_xlfn.CONCAT($C$2,\"-\",$E51,\"-\",$F51,\"-\",J$3),'Raw Data'!$A$2:$D$690331,4,FALSE),\"N/A\")","v":"N/A"},{"$f":"_xlfn.IFNA(VLOOKUP(_xlfn.CONCAT($C$2,\"-\",$E51,\"-\",$F51,\"-\",K$3),'Raw Data'!$A$2:$D$690331,4,FALSE),\"N/A\")","v":"N/A"},{"$f":"_xlfn.IFNA(VLOOKUP(_xlfn.CONCAT($C$2,\"-\",$E51,\"-\",$F51,\"-\",L$3),'Raw Data'!$A$2:$D$690331,4,FALSE),\"N/A\")","v":"N/A"},{"$f":"_xlfn.IFNA(VLOOKUP(_xlfn.CONCAT($C$2,\"-\",$E51,\"-\",$F51,\"-\",M$3),'Raw Data'!$A$2:$D$690331,4,FALSE),\"N/A\")","v":"N/A"},{"$f":"_xlfn.IFNA(VLOOKUP(_xlfn.CONCAT($C$2,\"-\",$E51,\"-\",$F51,\"-\",N$3),'Raw Data'!$A$2:$D$690331,4,FALSE),\"N/A\")","v":"N/A"},{"$f":"_xlfn.IFNA(VLOOKUP(_xlfn.CONCAT($C$2,\"-\",$E51,\"-\",$F51,\"-\",O$3),'Raw Data'!$A$2:$D$690331,4,FALSE),\"N/A\")","v":"N/A"},{"$f":"_xlfn.IFNA(VLOOKUP(_xlfn.CONCAT($C$2,\"-\",$E51,\"-\",$F51,\"-\",P$3),'Raw Data'!$A$2:$D$690331,4,FALSE),\"N/A\")","v":"N/A"},{"$f":"_xlfn.IFNA(VLOOKUP(_xlfn.CONCAT($C$2,\"-\",$E51,\"-\",$F51,\"-\",Q$3),'Raw Data'!$A$2:$D$690331,4,FALSE),\"N/A\")","v":"N/A"},{"$f":"_xlfn.IFNA(VLOOKUP(_xlfn.CONCAT($C$2,\"-\",$E51,\"-\",$F51,\"-\",R$3),'Raw Data'!$A$2:$D$690331,4,FALSE),\"N/A\")","v":"N/A"},{"$f":"_xlfn.IFNA(VLOOKUP(_xlfn.CONCAT($C$2,\"-\",$E51,\"-\",$F51,\"-\",S$3),'Raw Data'!$A$2:$D$690331,4,FALSE),\"N/A\")","v":"N/A"}]
[null,null,null,null,17,2,null,{"$f":"_xlfn.IFNA(VLOOKUP(_xlfn.CONCAT($C$2,\"-\",$E52,\"-\",$F52,\"-\",H$3),'Raw Data'!$A$2:$D$690331,4,FALSE),\"N/A\")","v":"N/A"},{"$f":"_xlfn.IFNA(VLOOKUP(_xlfn.CONCAT($C$2,\"-\",$E52,\"-\",$F52,\"-\",I$3),'Raw Data'!$A$2:$D$690331,4,FALSE),\"N/A\")","v":"N/A"},{"$f":"_xlfn.IFNA(VLOOKUP(_xlfn.CONCAT($C$2,\"-\",$E52,\"-\",$F52,\"-\",J$3),'Raw Data'!$A$2:$D$690331,4,FALSE),\"N/A\")","v":"N/A"},{"$f":"_xlfn.IFNA(VLOOKUP(_xlfn.CONCAT($C$2,\"-\",$E52,\"-\",$F52,\"-\",K$3),'Raw Data'!$A$2:$D$690331,4,FALSE),\"N/A\")","v":"N/A"},{"$f":"_xlfn.IFNA(VLOOKUP(_xlfn.CONCAT($C$2,\"-\",$E52,\"-\",$F52,\"-\",L$3),'Raw Data'!$A$2:$D$690331,4,FALSE),\"N/A\")","v":"N/A"},{"$f":"_xlfn.IFNA(VLOOKUP(_xlfn.CONCAT($C$2,\"-\",$E52,\"-\",$F52,\"-\",M$3),'Raw Data'!$A$2:$D$690331,4,FALSE),\"N/A\")","v":"N/A"},{"$f":"_xlfn.IFNA(VLOOKUP(_xlfn.CONCAT($C$2,\"-\",$E52,\"-\",$F52,\"-\",N$3),'Raw Data'!$A$2:$D$690331,4,FALSE),\"N/A\")","v":"N/A"},{"$f":"_xlfn.IFNA(VLOOKUP(_xlfn.CONCAT($C$2,\"-\",$E52,\"-\",$F52,\"-\",O$3),'Raw Data'!$A$2:$D$690331,4,FALSE),\"N/A\")","v":"N/A"},{"$f":"_xlfn.IFNA(VLOOKUP(_xlfn.CONCAT($C$2,\"-\",$E52,\"-\",$F52,\"-\",P$3),'Raw Data'!$A$2:$D$690331,4,FALSE),\"N/A\")","v":"N/A"},{"$f":"_xlfn.IFNA(VLOOKUP(_xlfn.CONCAT($C$2,\"-\",$E52,\"-\",$F52,\"-\",Q$3),'Raw Data'!$A$2:$D$690331,4,FALSE),\"N/A\")","v":"N/A"},{"$f":"_xlfn.IFNA(VLOOKUP(_xlfn.CONCAT($C$2,\"-\",$E52,\"-\",$F52,\"-\",R$3),'Raw Data'!$A$2:$D$690331,4,FALSE),\"N/A\")","v":"N/A"},{"$f":"_xlfn.IFNA(VLOOKUP(_xlfn.CONCAT($C$2,\"-\",$E52,\"-\",$F52,\"-\",S$3),'Raw Data'!$A$2:$D$690331,4,FALSE),\"N/A\")","v":"N/A"}]
[null,null,null,null,18,2,null,{"$f":"_xlfn.IFNA(VLOOKUP(_xlfn.CONCAT($C$2,\"-\",$E53,\"-\",$F53,\"-\",H$3),'Raw Data'!$A$2:$D$690331,4,FALSE),\"N/A\")","v":"N/A"},{"$f":"_xlfn.IFNA(VLOOKUP(_xlfn.CONCAT($C$2,\"-\",$E53,\"-\",$F53,\"-\",I$3),'Raw Data'!$A$2:$D$690331,4,FALSE),\"N/A\")","v":"N/A"},{"$f":"_xlfn.IFNA(VLOOKUP(_xlfn.CONCAT($C$2,\"-\",$E53,\"-\",$F53,\"-\",J$3),'Raw Data'!$A$2:$D$690331,4,FALSE),\"N/A\")","v":"N/A"},{"$f":"_xlfn.IFNA(VLOOKUP(_xlfn.CONCAT($C$2,\"-\",$E53,\"-\",$F53,\"-\",K$3),'Raw Data'!$A$2:$D$690331,4,FALSE),\"N/A\")","v":"N/A"},{"$f":"_xlfn.IFNA(VLOOKUP(_xlfn.CONCAT($C$2,\"-\",$E53,\"-\",$F53,\"-\",L$3),'Raw Data'!$A$2:$D$690331,4,FALSE),\"N/A\")","v":"N/A"},{"$f":"_xlfn.IFNA(VLOOKUP(_xlfn.CONCAT($C$2,\"-\",$E53,\"-\",$F53,\"-\",M$3),'Raw Data'!$A$2:$D$690331,4,FALSE),\"N/A\")","v":"N/A"},{"$f":"_xlfn.IFNA(VLOOKUP(_xlfn.CONCAT($C$2,\"-\",$E53,\"-\",$F53,\"-\",N$3),'Raw Data'!$A$2:$D$690331,4,FALSE),\"N/A\")","v":"N/A"},{"$f":"_xlfn.IFNA(VLOOKUP(_xlfn.CONCAT($C$2,\"-\",$E53,\"-\",$F53,\"-\",O$3),'Raw Data'!$A$2:$D$690331,4,FALSE),\"N/A\")","v":"N/A"},{"$f":"_xlfn.IFNA(VLOOKUP(_xlfn.CONCAT($C$2,\"-\",$E53,\"-\",$F53,\"-\",P$3),'Raw Data'!$A$2:$D$690331,4,FALSE),\"N/A\")","v":"N/A"},{"$f":"_xlfn.IFNA(VLOOKUP(_xlfn.CONCAT($C$2,\"-\",$E53,\"-\",$F53,\"-\",Q$3),'Raw Data'!$A$2:$D$690331,4,FALSE),\"N/A\")","v":"N/A"},{"$f":"_xlfn.IFNA(VLOOKUP(_xlfn.CONCAT($C$2,\"-\",$E53,\"-\",$F53,\"-\",R$3),'Raw Data'!$A$2:$D$690331,4,FALSE),\"N/A\")","v":"N/A"},{"$f":"_xlfn.IFNA(VLOOKUP(_xlfn.CONCAT($C$2,\"-\",$E53,\"-\",$F53,\"-\",S$3),'Raw Data'!$A$2:$D$690331,4,FALSE),\"N/A\")","v":"N/A"}]
[null,null,null,null,19,2,null,{"$f":"_xlfn.IFNA(VLOOKUP(_xlfn.CONCAT($C$2,\"-\",$E54,\"-\",$F54,\"-\",H$3),'Raw Data'!$A$2:$D$690331,4,FALSE),\"N/A\")","v":"N/A"},{"$f":"_xlfn.IFNA(VLOOKUP(_xlfn.CONCAT($C$2,\"-\",$E54,\"-\",$F54,\"-\",I$3),'Raw Data'!$A$2:$D$690331,4,FALSE),\"N/A\")","v":"N/A"},{"$f":"_xlfn.IFNA(VLOOKUP(_xlfn.CONCAT($C$2,\"-\",$E54,\"-\",$F54,\"-\",J$3),'Raw Data'!$A$2:$D$690331,4,FALSE),\"N/A\")","v":"N/A"},{"$f":"_xlfn.IFNA(VLOOKUP(_xlfn.CONCAT($C$2,\"-\",$E54,\"-\",$F54,\"-\",K$3),'Raw Data'!$A$2:$D$690331,4,FALSE),\"N/A\")","v":"N/A"},{"$f":"_xlfn.IFNA(VLOOKUP(_xlfn.CONCAT($C$2,\"-\",$E54,\"-\",$F54,\"-\",L$3),'Raw Data'!$A$2:$D$690331,4,FALSE),\"N/A\")","v":"N/A"},{"$f":"_xlfn.IFNA(VLOOKUP(_xlfn.CONCAT($C$2,\"-\",$E54,\"-\",$F54,\"-\",M$3),'Raw Data'!$A$2:$D$690331,4,FALSE),\"N/A\")","v":"N/A"},{"$f":"_xlfn.IFNA(VLOOKUP(_xlfn.CONCAT($C$2,\"-\",$E54,\"-\",$F54,\"-\",N$3),'Raw Data'!$A$2:$D$690331,4,FALSE),\"N/A\")","v":"N/A"},{"$f":"_xlfn.IFNA(VLOOKUP(_xlfn.CONCAT($C$2,\"-\",$E54,\"-\",$F54,\"-\",O$3),'Raw Data'!$A$2:$D$690331,4,FALSE),\"N/A\")","v":"N/A"},{"$f":"_xlfn.IFNA(VLOOKUP(_xlfn.CONCAT($C$2,\"-\",$E54,\"-\",$F54,\"-\",P$3),'Raw Data'!$A$2:$D$690331,4,FALSE),\"N/A\")","v":"N/A"},{"$f":"_xlfn.IFNA(VLOOKUP(_xlfn.CONCAT($C$2,\"-\",$E54,\"-\",$F54,\"-\",Q$3),'Raw Data'!$A$2:$D$690331,4,FALSE),\"N/A\")","v":"N/A"},{"$f":"_xlfn.IFNA(VLOOKUP(_xlfn.CONCAT($C$2,\"-\",$E54,\"-\",$F54,\"-\",R$3),'Raw Data'!$A$2:$D$690331,4,FALSE),\"N/A\")","v":"N/A"},{"$f":"_xlfn.IFNA(VLOOKUP(_xlfn.CONCAT($C$2,\"-\",$E54,\"-\",$F54,\"-\",S$3),'Raw Data'!$A$2:$D$690331,4,FALSE),\"N/A\")","v":"N/A"}]
[null,null,null,null,20,2,null,{"$f":"_xlfn.IFNA(VLOOKUP(_xlfn.CONCAT($C$2,\"-\",$E55,\"-\",$F55,\"-\",H$3),'Raw Data'!$A$2:$D$690331,4,FALSE),\"N/A\")","v":"N/A"},{"$f":"_xlfn.IFNA(VLOOKUP(_xlfn.CONCAT($C$2,\"-\",$E55,\"-\",$F55,\"-\",I$3),'Raw Data'!$A$2:$D$690331,4,FALSE),\"N/A\")","v":"N/A"},{"$f":"_xlfn.IFNA(VLOOKUP(_xlfn.CONCAT($C$2,\"-\",$E55,\"-\",$F55,\"-\",J$3),'Raw Data'!$A$2:$D$690331,4,FALSE),\"N/A\")","v":"N/A"},{"$f":"_xlfn.IFNA(VLOOKUP(_xlfn.CONCAT($C$2,\"-\",$E55,\"-\",$F55,\"-\",K$3),'Raw Data'!$A$2:$D$690331,4,FALSE),\"N/A\")","v":"N/A"},{"$f":"_xlfn.IFNA(VLOOKUP(_xlfn.CONCAT($C$2,\"-\",$E55,\"-\",$F55,\"-\",L$3),'Raw Data'!$A$2:$D$690331,4,FALSE),\"N/A\")","v":"N/A"},{"$f":"_xlfn.IFNA(VLOOKUP(_xlfn.CONCAT($C$2,\"-\",$E55,\"-\",$F55,\"-\",M$3),'Raw Data'!$A$2:$D$690331,4,FALSE),\"N/A\")","v":"N/A"},{"$f":"_xlfn.IFNA(VLOOKUP(_xlfn.CONCAT($C$2,\"-\",$E55,\"-\",$F55,\"-\",N$3),'Raw Data'!$A$2:$D$690331,4,FALSE),\"N/A\")","v":"N/A"},{"$f":"_xlfn.IFNA(VLOOKUP(_xlfn.CONCAT($C$2,\"-\",$E55,\"-\",$F55,\"-\",O$3),'Raw Data'!$A$2:$D$690331,4,FALSE),\"N/A\")","v":"N/A"},{"$f":"_xlfn.IFNA(VLOOKUP(_xlfn.CONCAT($C$2,\"-\",$E55,\"-\",$F55,\"-\",P$3),'Raw Data'!$A$2:$D$690331,4,FALSE),\"N/A\")","v":"N/A"},{"$f":"_xlfn.IFNA(VLOOKUP(_xlfn.CONCAT($C$2,\"-\",$E55,\"-\",$F55,\"-\",Q$3),'Raw Data'!$A$2:$D$690331,4,FALSE),\"N/A\")","v":"N/A"},{"$f":"_xlfn.IFNA(VLOOKUP(_xlfn.CONCAT($C$2,\"-\",$E55,\"-\",$F55,\"-\",R$3),'Raw Data'!$A$2:$D$690331,4,FALSE),\"N/A\")","v":"N/A"},{"$f":"_xlfn.IFNA(VLOOKUP(_xlfn.CONCAT($C$2,\"-\",$E55,\"-\",$F55,\"-\",S$3),'Raw Data'!$A$2:$D$690331,4,FALSE),\"N/A\")","v":"N/A"}]
[null,null,null,null,21,2,null,{"$f":"_xlfn.IFNA(VLOOKUP(_xlfn.CONCAT($C$2,\"-\",$E56,\"-\",$F56,\"-\",H$3),'Raw Data'!$A$2:$D$690331,4,FALSE),\"N/A\")","v":"N/A"},{"$f":"_xlfn.IFNA(VLOOKUP(_xlfn.CONCAT($C$2,\"-\",$E56,\"-\",$F56,\"-\",I$3),'Raw Data'!$A$2:$D$690331,4,FALSE),\"N/A\")","v":"N/A"},{"$f":"_xlfn.IFNA(VLOOKUP(_xlfn.CONCAT($C$2,\"-\",$E56,\"-\",$F56,\"-\",J$3),'Raw Data'!$A$2:$D$690331,4,FALSE),\"N/A\")","v":"N/A"},{"$f":"_xlfn.IFNA(VLOOKUP(_xlfn.CONCAT($C$2,\"-\",$E56,\"-\",$F56,\"-\",K$3),'Raw Data'!$A$2:$D$690331,4,FALSE),\"N/A\")","v":"N/A"},{"$f":"_xlfn.IFNA(VLOOKUP(_xlfn.CONCAT($C$2,\"-\",$E56,\"-\",$F56,\"-\",L$3),'Raw Data'!$A$2:$D$690331,4,FALSE),\"N/A\")","v":"N/A"},{"$f":"_xlfn.IFNA(VLOOKUP(_xlfn.CONCAT($C$2,\"-\",$E56,\"-\",$F56,\"-\",M$3),'Raw Data'!$A$2:$D$690331,4,FALSE),\"N/A\")","v":"N/A"},{"$f":"_xlfn.IFNA(VLOOKUP(_xlfn.CONCAT($C$2,\"-\",$E56,\"-\",$F56,\"-\",N$3),'Raw Data'!$A$2:$D$690331,4,FALSE),\"N/A\")","v":"N/A"},{"$f":"_xlfn.IFNA(VLOOKUP(_xlfn.CONCAT($C$2,\"-\",$E56,\"-\",$F56,\"-\",O$3),'Raw Data'!$A$2:$D$690331,4,FALSE),\"N/A\")","v":"N/A"},{"$f":"_xlfn.IFNA(VLOOKUP(_xlfn.CONCAT($C$2,\"-\",$E56,\"-\",$F56,\"-\",P$3),'Raw Data'!$A$2:$D$690331,4,FALSE),\"N/A\")","v":"N/A"},{"$f":"_xlfn.IFNA(VLOOKUP(_xlfn.CONCAT($C$2,\"-\",$E56,\"-\",$F56,\"-\",Q$3),'Raw Data'!$A$2:$D$690331,4,FALSE),\"N/A\")","v":"N/A"},{"$f":"_xlfn.IFNA(VLOOKUP(_xlfn.CONCAT($C$2,\"-\",$E56,\"-\",$F56,\"-\",R$3),'Raw Data'!$A$2:$D$690331,4,FALSE),\"N/A\")","v":"N/A"},{"$f":"_xlfn.IFNA(VLOOKUP(_xlfn.CONCAT($C$2,\"-\",$E56,\"-\",$F56,\"-\",S$3),'Raw Data'!$A$2:$D$690331,4,FALSE),\"N/A\")","v":"N/A"}]
[null,null,null,null,22,2,null,{"$f":"_xlfn.IFNA(VLOOKUP(_xlfn.CONCAT($C$2,\"-\",$E57,\"-\",$F57,\"-\",H$3),'Raw Data'!$A$2:$D$690331,4,FALSE),\"N/A\")","v":"N/A"},{"$f":"_xlfn.IFNA(VLOOKUP(_xlfn.CONCAT($C$2,\"-\",$E57,\"-\",$F57,\"-\",I$3),'Raw Data'!$A$2:$D$690331,4,FALSE),\"N/A\")","v":"N/A"},{"$f":"_xlfn.IFNA(VLOOKUP(_xlfn.CONCAT($C$2,\"-\",$E57,\"-\",$F57,\"-\",J$3),'Raw Data'!$A$2:$D$690331,4,FALSE),\"N/A\")","v":"N/A"},{"$f":"_xlfn.IFNA(VLOOKUP(_xlfn.CONCAT($C$2,\"-\",$E57,\"-\",$F57,\"-\",K$3),'Raw Data'!$A$2:$D$690331,4,FALSE),\"N/A\")","v":"N/A"},{"$f":"_xlfn.IFNA(VLOOKUP(_xlfn.CONCAT($C$2,\"-\",$E57,\"-\",$F57,\"-\",L$3),'Raw Data'!$A$2:$D$690331,4,FALSE),\"N/A\")","v":"N/A"},{"$f":"_xlfn.IFNA(VLOOKUP(_xlfn.CONCAT($C$2,\"-\",$E57,\"-\",$F57,\"-\",M$3),'Raw Data'!$A$2:$D$690331,4,FALSE),\"N/A\")","v":"N/A"},{"$f":"_xlfn.IFNA(VLOOKUP(_xlfn.CONCAT($C$2,\"-\",$E57,\"-\",$F57,\"-\",N$3),'Raw Data'!$A$2:$D$690331,4,FALSE),\"N/A\")","v":"N/A"},{"$f":"_xlfn.IFNA(VLOOKUP(_xlfn.CONCAT($C$2,\"-\",$E57,\"-\",$F57,\"-\",O$3),'Raw Data'!$A$2:$D$690331,4,FALSE),\"N/A\")","v":"N/A"},{"$f":"_xlfn.IFNA(VLOOKUP(_xlfn.CONCAT($C$2,\"-\",$E57,\"-\",$F57,\"-\",P$3),'Raw Data'!$A$2:$D$690331,4,FALSE),\"N/A\")","v":"N/A"},{"$f":"_xlfn.IFNA(VLOOKUP(_xlfn.CONCAT($C$2,\"-\",$E57,\"-\",$F57,\"-\",Q$3),'Raw Data'!$A$2:$D$690331,4,FALSE),\"N/A\")","v":"N/A"},{"$f":"_xlfn.IFNA(VLOOKUP(_xlfn.CONCAT($C$2,\"-\",$E57,\"-\",$F57,\"-\",R$3),'Raw Data'!$A$2:$D$690331,4,FALSE),\"N/A\")","v":"N/A"},{"$f":"_xlfn.IFNA(VLOOKUP(_xlfn.CONCAT($C$2,\"-\",$E57,\"-\",$F57,\"-\",S$3),'Raw Data'!$A$2:$D$690331,4,FALSE),\"N/A\")","v":"N/A"}]
[null,null,null,null,23,2,null,{"$f":"_xlfn.IFNA(VLOOKUP(_xlfn.CONCAT($C$2,\"-\",$E58,\"-\",$F58,\"-\",H$3),'Raw Data'!$A$2:$D$690331,4,FALSE),\"N/A\")","v":"N/A"},{"$f":"_xlfn.IFNA(VLOOKUP(_xlfn.CONCAT($C$2,\"-\",$E58,\"-\",$F58,\"-\",I$3),'Raw Data'!$A$2:$D$690331,4,FALSE),\"N/A\")","v":"N/A"},{"$f":"_xlfn.IFNA(VLOOKUP(_xlfn.CONCAT($C$2,\"-\",$E58,\"-\",$F58,\"-\",J$3),'Raw Data'!$A$2:$D$690331,4,FALSE),\"N/A\")","v":"N/A"},{"$f":"_xlfn.IFNA(VLOOKUP(_xlfn.CONCAT($C$2,\"-\",$E58,\"-\",$F58,\"-\",K$3),'Raw Data'!$A$2:$D$690331,4,FALSE),\"N/A\")","v":"N/A"},{"$f":"_xlfn.IFNA(VLOOKUP(_xlfn.CONCAT($C$2,\"-\",$E58,\"-\",$F58,\"-\",L$3),'Raw Data'!$A$2:$D$690331,4,FALSE),\"N/A\")","v":"N/A"},{"$f":"_xlfn.IFNA(VLOOKUP(_xlfn.CONCAT($C$2,\"-\",$E58,\"-\",$F58,\"-\",M$3),'Raw Data'!$A$2:$D$690331,4,FALSE),\"N/A\")","v":"N/A"},{"$f":"_xlfn.IFNA(VLOOKUP(_xlfn.CONCAT($C$2,\"-\",$E58,\"-\",$F58,\"-\",N$3),'Raw Data'!$A$2:$D$690331,4,FALSE),\"N/A\")","v":"N/A"},{"$f":"_xlfn.IFNA(VLOOKUP(_xlfn.CONCAT($C$2,\"-\",$E58,\"-\",$F58,\"-\",O$3),'Raw Data'!$A$2:$D$690331,4,FALSE),\"N/A\")","v":"N/A"},{"$f":"_xlfn.IFNA(VLOOKUP(_xlfn.CONCAT($C$2,\"-\",$E58,\"-\",$F58,\"-\",P$3),'Raw Data'!$A$2:$D$690331,4,FALSE),\"N/A\")","v":"N/A"},{"$f":"_xlfn.IFNA(VLOOKUP(_xlfn.CONCAT($C$2,\"-\",$E58,\"-\",$F58,\"-\",Q$3),'Raw Data'!$A$2:$D$690331,4,FALSE),\"N/A\")","v":"N/A"},{"$f":"_xlfn.IFNA(VLOOKUP(_xlfn.CONCAT($C$2,\"-\",$E58,\"-\",$F58,\"-\",R$3),'Raw Data'!$A$2:$D$690331,4,FALSE),\"N/A\")","v":"N/A"},{"$f":"_xlfn.IFNA(VLOOKUP(_xlfn.CONCAT($C$2,\"-\",$E58,\"-\",$F58,\"-\",S$3),'Raw Data'!$A$2:$D$690331,4,FALSE),\"N/A\")","v":"N/A"}]
[null,null,null,null,24,2,null,{"$f":"_xlfn.IFNA(VLOOKUP(_xlfn.CONCAT($C$2,\"-\",$E59,\"-\",$F59,\"-\",H$3),'Raw Data'!$A$2:$D$690331,4,FALSE),\"N/A\")","v":"N/A"},{"$f":"_xlfn.IFNA(VLOOKUP(_xlfn.CONCAT($C$2,\"-\",$E59,\"-\",$F59,\"-\",I$3),'Raw Data'!$A$2:$D$690331,4,FALSE),\"N/A\")","v":"N/A"},{"$f":"_xlfn.IFNA(VLOOKUP(_xlfn.CONCAT($C$2,\"-\",$E59,\"-\",$F59,\"-\",J$3),'Raw Data'!$A$2:$D$690331,4,FALSE),\"N/A\")","v":"N/A"},{"$f":"_xlfn.IFNA(VLOOKUP(_xlfn.CONCAT($C$2,\"-\",$E59,\"-\",$F59,\"-\",K$3),'Raw Data'!$A$2:$D$690331,4,FALSE),\"N/A\")","v":"N/A"},{"$f":"_xlfn.IFNA(VLOOKUP(_xlfn.CONCAT($C$2,\"-\",$E59,\"-\",$F59,\"-\",L$3),'Raw Data'!$A$2:$D$690331,4,FALSE),\"N/A\")","v":"N/A"},{"$f":"_xlfn.IFNA(VLOOKUP(_xlfn.CONCAT($C$2,\"-\",$E59,\"-\",$F59,\"-\",M$3),'Raw Data'!$A$2:$D$690331,4,FALSE),\"N/A\")","v":"N/A"},{"$f":"_xlfn.IFNA(VLOOKUP(_xlfn.CONCAT($C$2,\"-\",$E59,\"-\",$F59,\"-\",N$3),'Raw Data'!$A$2:$D$690331,4,FALSE),\"N/A\")","v":"N/A"},{"$f":"_xlfn.IFNA(VLOOKUP(_xlfn.CONCAT($C$2,\"-\",$E59,\"-\",$F59,\"-\",O$3),'Raw Data'!$A$2:$D$690331,4,FALSE),\"N/A\")","v":"N/A"},{"$f":"_xlfn.IFNA(VLOOKUP(_xlfn.CONCAT($C$2,\"-\",$E59,\"-\",$F59,\"-\",P$3),'Raw Data'!$A$2:$D$690331,4,FALSE),\"N/A\")","v":"N/A"},{"$f":"_xlfn.IFNA(VLOOKUP(_xlfn.CONCAT($C$2,\"-\",$E59,\"-\",$F59,\"-\",Q$3),'Raw Data'!$A$2:$D$690331,4,FALSE),\"N/A\")","v":"N/A"},{"$f":"_xlfn.IFNA(VLOOKUP(_xlfn.CONCAT($C$2,\"-\",$E59,\"-\",$F59,\"-\",R$3),'Raw Data'!$A$2:$D$690331,4,FALSE),\"N/A\")","v":"N/A"},{"$f":"_xlfn.IFNA(VLOOKUP(_xlfn.CONCAT($C$2,\"-\",$E59,\"-\",$F59,\"-\",S$3),'Raw Data'!$A$2:$D$690331,4,FALSE),\"N/A\")","v":"N/A"}]
[null,null,null,null,25,2,null,{"$f":"_xlfn.IFNA(VLOOKUP(_xlfn.CONCAT($C$2,\"-\",$E60,\"-\",$F60,\"-\",H$3),'Raw Data'!$A$2:$D$690331,4,FALSE),\"N/A\")","v":"N/A"},{"$f":"_xlfn.IFNA(VLOOKUP(_xlfn.CONCAT($C$2,\"-\",$E60,\"-\",$F60,\"-\",I$3),'Raw Data'!$A$2:$D$690331,4,FALSE),\"N/A\")","v":"N/A"},{"$f":"_xlfn.IFNA(VLOOKUP(_xlfn.CONCAT($C$2,\"-\",$E60,\"-\",$F60,\"-\",J$3),'Raw Data'!$A$2:$D$690331,4,FALSE),\"N/A\")","v":"N/A"},{"$f":"_xlfn.IFNA(VLOOKUP(_xlfn.CONCAT($C$2,\"-\",$E60,\"-\",$F60,\"-\",K$3),'Raw Data'!$A$2:$D$690331,4,FALSE),\"N/A\")","v":"N/A"},{"$f":"_xlfn.IFNA(VLOOKUP(_xlfn.CONCAT($C$2,\"-\",$E60,\"-\",$F60,\"-\",L$3),'Raw Data'!$A$2:$D$690331,4,FALSE),\"N/A\")","v":"N/A"},{"$f":"_xlfn.IFNA(VLOOKUP(_xlfn.CONCAT($C$2,\"-\",$E60,\"-\",$F60,\"-\",M$3),'Raw Data'!$A$2:$D$690331,4,FALSE),\"N/A\")","v":"N/A"},{"$f":"_xlfn.IFNA(VLOOKUP(_xlfn.CONCAT($C$2,\"-\",$E60,\"-\",$F60,\"-\",N$3),'Raw Data'!$A$2:$D$690331,4,FALSE),\"N/A\")","v":"N/A"},{"$f":"_xlfn.IFNA(VLOOKUP(_xlfn.CONCAT($C$2,\"-\",$E60,\"-\",$F60,\"-\",O$3),'Raw Data'!$A$2:$D$690331,4,FALSE),\"N/A\")","v":"N/A"},{"$f":"_xlfn.IFNA(VLOOKUP(_xlfn.CONCAT($C$2,\"-\",$E60,\"-\",$F60,\"-\",P$3),'Raw Data'!$A$2:$D$690331,4,FALSE),\"N/A\")","v":"N/A"},{"$f":"_xlfn.IFNA(VLOOKUP(_xlfn.CONCAT($C$2,\"-\",$E60,\"-\",$F60,\"-\",Q$3),'Raw Data'!$A$2:$D$690331,4,FALSE),\"N/A\")","v":"N/A"},{"$f":"_xlfn.IFNA(VLOOKUP(_xlfn.CONCAT($C$2,\"-\",$E60,\"-\",$F60,\"-\",R$3),'Raw Data'!$A$2:$D$690331,4,FALSE),\"N/A\")","v":"N/A"},{"$f":"_xlfn.IFNA(VLOOKUP(_xlfn.CONCAT($C$2,\"-\",$E60,\"-\",$F60,\"-\",S$3),'Raw Data'!$A$2:$D$690331,4,FALSE),\"N/A\")","v":"N/A"}]
[null,null,null,null,26,2,null,{"$f":"_xlfn.IFNA(VLOOKUP(_xlfn.CONCAT($C$2,\"-\",$E61,\"-\",$F61,\"-\",H$3),'Raw Data'!$A$2:$D$690331,4,FALSE),\"N/A\")","v":"N/A"},{"$f":"_xlfn.IFNA(VLOOKUP(_xlfn.CONCAT($C$2,\"-\",$E61,\"-\",$F61,\"-\",I$3),'Raw Data'!$A$2:$D$690331,4,FALSE),\"N/A\")","v":"N/A"},{"$f":"_xlfn.IFNA(VLOOKUP(_xlfn.CONCAT($C$2,\"-\",$E61,\"-\",$F61,\"-\",J$3),'Raw Data'!$A$2:$D$690331,4,FALSE),\"N/A\")","v":"N/A"},{"$f":"_xlfn.IFNA(VLOOKUP(_xlfn.CONCAT($C$2,\"-\",$E61,\"-\",$F61,\"-\",K$3),'Raw Data'!$A$2:$D$690331,4,FALSE),\"N/A\")","v":"N/A"},{"$f":"_xlfn.IFNA(VLOOKUP(_xlfn.CONCAT($C$2,\"-\",$E61,\"-\",$F61,\"-\",L$3),'Raw Data'!$A$2:$D$690331,4,FALSE),\"N/A\")","v":"N/A"},{"$f":"_xlfn.IFNA(VLOOKUP(_xlfn.CONCAT($C$2,\"-\",$E61,\"-\",$F61,\"-\",M$3),'Raw Data'!$A$2:$D$690331,4,FALSE),\"N/A\")","v":"N/A"},{"$f":"_xlfn.IFNA(VLOOKUP(_xlfn.CONCAT($C$2,\"-\",$E61,\"-\",$F61,\"-\",N$3),'Raw Data'!$A$2:$D$690331,4,FALSE),\"N/A\")","v":"N/A"},{"$f":"_xlfn.IFNA(VLOOKUP(_xlfn.CONCAT($C$2,\"-\",$E61,\"-\",$F61,\"-\",O$3),'Raw Data'!$A$2:$D$690331,4,FALSE),\"N/A\")","v":"N/A"},{"$f":"_xlfn.IFNA(VLOOKUP(_xlfn.CONCAT($C$2,\"-\",$E61,\"-\",$F61,\"-\",P$3),'Raw Data'!$A$2:$D$690331,4,FALSE),\"N/A\")","v":"N/A"},{"$f":"_xlfn.IFNA(VLOOKUP(_xlfn.CONCAT($C$2,\"-\",$E61,\"-\",$F61,\"-\",Q$3),'Raw Data'!$A$2:$D$690331,4,FALSE),\"N/A\")","v":"N/A"},{"$f":"_xlfn.IFNA(VLOOKUP(_xlfn.CONCAT($C$2,\"-\",$E61,\"-\",$F61,\"-\",R$3),'Raw Data'!$A$2:$D$690331,4,FALSE),\"N/A\")","v":"N/A"},{"$f":"_xlfn.IFNA(VLOOKUP(_xlfn.CONCAT($C$2,\"-\",$E61,\"-\",$F61,\"-\",S$3),'Raw Data'!$A$2:$D$690331,4,FALSE),\"N/A\")","v":"N/A"}]
[null,null,null,null,27,2,null,{"$f":"_xlfn.IFNA(VLOOKUP(_xlfn.CONCAT($C$2,\"-\",$E62,\"-\",$F62,\"-\",H$3),'Raw Data'!$A$2:$D$690331,4,FALSE),\"N/A\")","v":"N/A"},{"$f":"_xlfn.IFNA(VLOOKUP(_xlfn.CONCAT($C$2,\"-\",$E62,\"-\",$F62,\"-\",I$3),'Raw Data'!$A$2:$D$690331,4,FALSE),\"N/A\")","v":"N/A"},{"$f":"_xlfn.IFNA(VLOOKUP(_xlfn.CONCAT($C$2,\"-\",$E62,\"-\",$F62,\"-\",J$3),'Raw Data'!$A$2:$D$690331,4,FALSE),\"N/A\")","v":"N/A"},{"$f":"_xlfn.IFNA(VLOOKUP(_xlfn.CONCAT($C$2,\"-\",$E62,\"-\",$F62,\"-\",K$3),'Raw Data'!$A$2:$D$690331,4,FALSE),\"N/A\")","v":"N/A"},{"$f":"_xlfn.IFNA(VLOOKUP(_xlfn.CONCAT($C$2,\"-\",$E62,\"-\",$F62,\"-\",L$3),'Raw Data'!$A$2:$D$690331,4,FALSE),\"N/A\")","v":"N/A"},{"$f":"_xlfn.IFNA(VLOOKUP(_xlfn.CONCAT($C$2,\"-\",$E62,\"-\",$F62,\"-\",M$3),'Raw Data'!$A$2:$D$690331,4,FALSE),\"N/A\")","v":"N/A"},{"$f":"_xlfn.IFNA(VLOOKUP(_xlfn.CONCAT($C$2,\"-\",$E62,\"-\",$F62,\"-\",N$3),'Raw Data'!$A$2:$D$690331,4,FALSE),\"N/A\")","v":"N/A"},{"$f":"_xlfn.IFNA(VLOOKUP(_xlfn.CONCAT($C$2,\"-\",$E62,\"-\",$F62,\"-\",O$3),'Raw Data'!$A$2:$D$690331,4,FALSE),\"N/A\")","v":"N/A"},{"$f":"_xlfn.IFNA(VLOOKUP(_xlfn.CONCAT($C$2,\"-\",$E62,\"-\",$F62,\"-\",P$3),'Raw Data'!$A$2:$D$690331,4,FALSE),\"N/A\")","v":"N/A"},{"$f":"_xlfn.IFNA(VLOOKUP(_xlfn.CONCAT($C$2,\"-\",$E62,\"-\",$F62,\"-\",Q$3),'Raw Data'!$A$2:$D$690331,4,FALSE),\"N/A\")","v":"N/A"},{"$f":"_xlfn.IFNA(VLOOKUP(_xlfn.CONCAT($C$2,\"-\",$E62,\"-\",$F62,\"-\",R$3),'Raw Data'!$A$2:$D$690331,4,FALSE),\"N/A\")","v":"N/A"},{"$f":"_xlfn.IFNA(VLOOKUP(_xlfn.CONCAT($C$2,\"-\",$E62,\"-\",$F62,\"-\",S$3),'Raw Data'!$A$2:$D$690331,4,FALSE),\"N/A\")","v":"N/A"}]
[null,null,null,null,28,2,null,{"$f":"_xlfn.IFNA(VLOOKUP(_xlfn.CONCAT($C$2,\"-\",$E63,\"-\",$F63,\"-\",H$3),'Raw Data'!$A$2:$D$690331,4,FALSE),\"N/A\")","v":"N/A"},{"$f":"_xlfn.IFNA(VLOOKUP(_xlfn.CONCAT($C$2,\"-\",$E63,\"-\",$F63,\"-\",I$3),'Raw Data'!$A$2:$D$690331,4,FALSE),\"N/A\")","v":"N/A"},{"$f":"_xlfn.IFNA(VLOOKUP(_xlfn.CONCAT($C$2,\"-\",$E63,\"-\",$F63,\"-\",J$3),'Raw Data'!$A$2:$D$690331,4,FALSE),\"N/A\")","v":"N/A"},{"$f":"_xlfn.IFNA(VLOOKUP(_xlfn.CONCAT($C$2,\"-\",$E63,\"-\",$F63,\"-\",K$3),'Raw Data'!$A$2:$D$690331,4,FALSE),\"N/A\")","v":"N/A"},{"$f":"_xlfn.IFNA(VLOOKUP(_xlfn.CONCAT($C$2,\"-\",$E63,\"-\",$F63,\"-\",L$3),'Raw Data'!$A$2:$D$690331,4,FALSE),\"N/A\")","v":"N/A"},{"$f":"_xlfn.IFNA(VLOOKUP(_xlfn.CONCAT($C$2,\"-\",$E63,\"-\",$F63,\"-\",M$3),'Raw Data'!$A$2:$D$690331,4,FALSE),\"N/A\")","v":"N/A"},{"$f":"_xlfn.IFNA(VLOOKUP(_xlfn.CONCAT($C$2,\"-\",$E63,\"-\",$F63,\"-\",N$3),'Raw Data'!$A$2:$D$690331,4,FALSE),\"N/A\")","v":"N/A"},{"$f":"_xlfn.IFNA(VLOOKUP(_xlfn.CONCAT($C$2,\"-\",$E63,\"-\",$F63,\"-\",O$3),'Raw Data'!$A$2:$D$690331,4,FALSE),\"N/A\")","v":"N/A"},{"$f":"_xlfn.IFNA(VLOOKUP(_xlfn.CONCAT($C$2,\"-\",$E63,\"-\",$F63,\"-\",P$3),'Raw Data'!$A$2:$D$690331,4,FALSE),\"N/A\")","v":"N/A"},{"$f":"_xlfn.IFNA(VLOOKUP(_xlfn.CONCAT($C$2,\"-\",$E63,\"-\",$F63,\"-\",Q$3),'Raw Data'!$A$2:$D$690331,4,FALSE),\"N/A\")","v":"N/A"},{"$f":"_xlfn.IFNA(VLOOKUP(_xlfn.CONCAT($C$2,\"-\",$E63,\"-\",$F63,\"-\",R$3),'Raw Data'!$A$2:$D$690331,4,FALSE),\"N/A\")","v":"N/A"},{"$f":"_xlfn.IFNA(VLOOKUP(_xlfn.CONCAT($C$2,\"-\",$E63,\"-\",$F63,\"-\",S$3),'Raw Data'!$A$2:$D$690331,4,FALSE),\"N/A\")","v":"N/A"}]
[null,null,null,null,1,3,null,{"$f":"_xlfn.IFNA(VLOOKUP(_xlfn.CONCAT($C$2,\"-\",$E64,\"-\",$F64,\"-\",H$3),'Raw Data'!$A$2:$D$690331,4,FALSE),\"N/A\")","v":"N/A"},{"$f":"_xlfn.IFNA(VLOOKUP(_xlfn.CONCAT($C$2,\"-\",$E64,\"-\",$F64,\"-\",I$3),'Raw Data'!$A$2:$D$690331,4,FALSE),\"N/A\")","v":"N/A"},{"$f":"_xlfn.IFNA(VLOOKUP(_xlfn.CONCAT($C$2,\"-\",$E64,\"-\",$F64,\"-\",J$3),'Raw Data'!$A$2:$D$690331,4,FALSE),\"N/A\")","v":"N/A"},{"$f":"_xlfn.IFNA(VLOOKUP(_xlfn.CONCAT($C$2,\"-\",$E64,\"-\",$F64,\"-\",K$3),'Raw Data'!$A$2:$D$690331,4,FALSE),\"N/A\")","v":"N/A"},{"$f":"_xlfn.IFNA(VLOOKUP(_xlfn.CONCAT($C$2,\"-\",$E64,\"-\",$F64,\"-\",L$3),'Raw Data'!$A$2:$D$690331,4,FALSE),\"N/A\")","v":"N/A"},{"$f":"_xlfn.IFNA(VLOOKUP(_xlfn.CONCAT($C$2,\"-\",$E64,\"-\",$F64,\"-\",M$3),'Raw Data'!$A$2:$D$690331,4,FALSE),\"N/A\")","v":"N/A"},{"$f":"_xlfn.IFNA(VLOOKUP(_xlfn.CONCAT($C$2,\"-\",$E64,\"-\",$F64,\"-\",N$3),'Raw Data'!$A$2:$D$690331,4,FALSE),\"N/A\")","v":"N/A"},{"$f":"_xlfn.IFNA(VLOOKUP(_xlfn.CONCAT($C$2,\"-\",$E64,\"-\",$F64,\"-\",O$3),'Raw Data'!$A$2:$D$690331,4,FALSE),\"N/A\")","v":"N/A"},{"$f":"_xlfn.IFNA(VLOOKUP(_xlfn.CONCAT($C$2,\"-\",$E64,\"-\",$F64,\"-\",P$3),'Raw Data'!$A$2:$D$690331,4,FALSE),\"N/A\")","v":"N/A"},{"$f":"_xlfn.IFNA(VLOOKUP(_xlfn.CONCAT($C$2,\"-\",$E64,\"-\",$F64,\"-\",Q$3),'Raw Data'!$A$2:$D$690331,4,FALSE),\"N/A\")","v":"N/A"},{"$f":"_xlfn.IFNA(VLOOKUP(_xlfn.CONCAT($C$2,\"-\",$E64,\"-\",$F64,\"-\",R$3),'Raw Data'!$A$2:$D$690331,4,FALSE),\"N/A\")","v":"N/A"},{"$f":"_xlfn.IFNA(VLOOKUP(_xlfn.CONCAT($C$2,\"-\",$E64,\"-\",$F64,\"-\",S$3),'Raw Data'!$A$2:$D$690331,4,FALSE),\"N/A\")","v":"N/A"}]
[null,null,null,null,2,3,null,{"$f":"_xlfn.IFNA(VLOOKUP(_xlfn.CONCAT($C$2,\"-\",$E65,\"-\",$F65,\"-\",H$3),'Raw Data'!$A$2:$D$690331,4,FALSE),\"N/A\")","v":"N/A"},{"$f":"_xlfn.IFNA(VLOOKUP(_xlfn.CONCAT($C$2,\"-\",$E65,\"-\",$F65,\"-\",I$3),'Raw Data'!$A$2:$D$690331,4,FALSE),\"N/A\")","v":"N/A"},{"$f":"_xlfn.IFNA(VLOOKUP(_xlfn.CONCAT($C$2,\"-\",$E65,\"-\",$F65,\"-\",J$3),'Raw Data'!$A$2:$D$690331,4,FALSE),\"N/A\")","v":"N/A"},{"$f":"_xlfn.IFNA(VLOOKUP(_xlfn.CONCAT($C$2,\"-\",$E65,\"-\",$F65,\"-\",K$3),'Raw Data'!$A$2:$D$690331,4,FALSE),\"N/A\")","v":"N/A"},{"$f":"_xlfn.IFNA(VLOOKUP(_xlfn.CONCAT($C$2,\"-\",$E65,\"-\",$F65,\"-\",L$3),'Raw Data'!$A$2:$D$690331,4,FALSE),\"N/A\")","v":"N/A"},{"$f":"_xlfn.IFNA(VLOOKUP(_xlfn.CONCAT($C$2,\"-\",$E65,\"-\",$F65,\"-\",M$3),'Raw Data'!$A$2:$D$690331,4,FALSE),\"N/A\")","v":"N/A"},{"$f":"_xlfn.IFNA(VLOOKUP(_xlfn.CONCAT($C$2,\"-\",$E65,\"-\",$F65,\"-\",N$3),'Raw Data'!$A$2:$D$690331,4,FALSE),\"N/A\")","v":"N/A"},{"$f":"_xlfn.IFNA(VLOOKUP(_xlfn.CONCAT($C$2,\"-\",$E65,\"-\",$F65,\"-\",O$3),'Raw Data'!$A$2:$D$690331,4,FALSE),\"N/A\")","v":"N/A"},{"$f":"_xlfn.IFNA(VLOOKUP(_xlfn.CONCAT($C$2,\"-\",$E65,\"-\",$F65,\"-\",P$3),'Raw Data'!$A$2:$D$690331,4,FALSE),\"N/A\")","v":"N/A"},{"$f":"_xlfn.IFNA(VLOOKUP(_xlfn.CONCAT($C$2,\"-\",$E65,\"-\",$F65,\"-\",Q$3),'Raw Data'!$A$2:$D$690331,4,FALSE),\"N/A\")","v":"N/A"},{"$f":"_xlfn.IFNA(VLOOKUP(_xlfn.CONCAT($C$2,\"-\",$E65,\"-\",$F65,\"-\",R$3),'Raw Data'!$A$2:$D$690331,4,FALSE),\"N/A\")","v":"N/A"},{"$f":"_xlfn.IFNA(VLOOKUP(_xlfn.CONCAT($C$2,\"-\",$E65,\"-\",$F65,\"-\",S$3),'Raw Data'!$A$2:$D$690331,4,FALSE),\"N/A\")","v":"N/A"}]
[null,null,null,null,3,3,null,{"$f":"_xlfn.IFNA(VLOOKUP(_xlfn.CONCAT($C$2,\"-\",$E66,\"-\",$F66,\"-\",H$3),'Raw Data'!$A$2:$D$690331,4,FALSE),\"N/A\")","v":"N/A"},{"$f":"_xlfn.IFNA(VLOOKUP(_xlfn.CONCAT($C$2,\"-\",$E66,\"-\",$F66,\"-\",I$3),'Raw Data'!$A$2:$D$690331,4,FALSE),\"N/A\")","v":"N/A"},{"$f":"_xlfn.IFNA(VLOOKUP(_xlfn.CONCAT($C$2,\"-\",$E66,\"-\",$F66,\"-\",J$3),'Raw Data'!$A$2:$D$690331,4,FALSE),\"N/A\")","v":"N/A"},{"$f":"_xlfn.IFNA(VLOOKUP(_xlfn.CONCAT($C$2,\"-\",$E66,\"-\",$F66,\"-\",K$3),'Raw Data'!$A$2:$D$690331,4,FALSE),\"N/A\")","v":"N/A"},{"$f":"_xlfn.IFNA(VLOOKUP(_xlfn.CONCAT($C$2,\"-\",$E66,\"-\",$F66,\"-\",L$3),'Raw Data'!$A$2:$D$690331,4,FALSE),\"N/A\")","v":"N/A"},{"$f":"_xlfn.IFNA(VLOOKUP(_xlfn.CONCAT($C$2,\"-\",$E66,\"-\",$F66,\"-\",M$3),'Raw Data'!$A$2:$D$690331,4,FALSE),\"N/A\")","v":"N/A"},{"$f":"_xlfn.IFNA(VLOOKUP(_xlfn.CONCAT($C$2,\"-\",$E66,\"-\",$F66,\"-\",N$3),'Raw Data'!$A$2:$D$690331,4,FALSE),\"N/A\")","v":"N/A"},{"$f":"_xlfn.IFNA(VLOOKUP(_xlfn.CONCAT($C$2,\"-\",$E66,\"-\",$F66,\"-\",O$3),'Raw Data'!$A$2:$D$690331,4,FALSE),\"N/A\")","v":"N/A"},{"$f":"_xlfn.IFNA(VLOOKUP(_xlfn.CONCAT($C$2,\"-\",$E66,\"-\",$F66,\"-\",P$3),'Raw Data'!$A$2:$D$690331,4,FALSE),\"N/A\")","v":"N/A"},{"$f":"_xlfn.IFNA(VLOOKUP(_xlfn.CONCAT($C$2,\"-\",$E66,\"-\",$F66,\"-\",Q$3),'Raw Data'!$A$2:$D$690331,4,FALSE),\"N/A\")","v":"N/A"},{"$f":"_xlfn.IFNA(VLOOKUP(_xlfn.CONCAT($C$2,\"-\",$E66,\"-\",$F66,\"-\",R$3),'Raw Data'!$A$2:$D$690331,4,FALSE),\"N/A\")","v":"N/A"},{"$f":"_xlfn.IFNA(VLOOKUP(_xlfn.CONCAT($C$2,\"-\",$E66,\"-\",$F66,\"-\",S$3),'Raw Data'!$A$2:$D$690331,4,FALSE),\"N/A\")","v":"N/A"}]
[null,null,null,null,4,3,null,{"$f":"_xlfn.IFNA(VLOOKUP(_xlfn.CONCAT($C$2,\"-\",$E67,\"-\",$F67,\"-\",H$3),'Raw Data'!$A$2:$D$690331,4,FALSE),\"N/A\")","v":"N/A"},{"$f":"_xlfn.IFNA(VLOOKUP(_xlfn.CONCAT($C$2,\"-\",$E67,\"-\",$F67,\"-\",I$3),'Raw Data'!$A$2:$D$690331,4,FALSE),\"N/A\")","v":"N/A"},{"$f":"_xlfn.IFNA(VLOOKUP(_xlfn.CONCAT($C$2,\"-\",$E67,\"-\",$F67,\"-\",J$3),'Raw Data'!$A$2:$D$690331,4,FALSE),\"N/A\")","v":"N/A"},{"$f":"_xlfn.IFNA(VLOOKUP(_xlfn.CONCAT($C$2,\"-\",$E67,\"-\",$F67,\"-\",K$3),'Raw Data'!$A$2:$D$690331,4,FALSE),\"N/A\")","v":"N/A"},{"$f":"_xlfn.IFNA(VLOOKUP(_xlfn.CONCAT($C$2,\"-\",$E67,\"-\",$F67,\"-\",L$3),'Raw Data'!$A$2:$D$690331,4,FALSE),\"N/A\")","v":"N/A"},{"$f":"_xlfn.IFNA(VLOOKUP(_xlfn.CONCAT($C$2,\"-\",$E67,\"-\",$F67,\"-\",M$3),'Raw Data'!$A$2:$D$690331,4,FALSE),\"N/A\")","v":"N/A"},{"$f":"_xlfn.IFNA(VLOOKUP(_xlfn.CONCAT($C$2,\"-\",$E67,\"-\",$F67,\"-\",N$3),'Raw Data'!$A$2:$D$690331,4,FALSE),\"N/A\")","v":"N/A"},{"$f":"_xlfn.IFNA(VLOOKUP(_xlfn.CONCAT($C$2,\"-\",$E67,\"-\",$F67,\"-\",O$3),'Raw Data'!$A$2:$D$690331,4,FALSE),\"N/A\")","v":"N/A"},{"$f":"_xlfn.IFNA(VLOOKUP(_xlfn.CONCAT($C$2,\"-\",$E67,\"-\",$F67,\"-\",P$3),'Raw Data'!$A$2:$D$690331,4,FALSE),\"N/A\")","v":"N/A"},{"$f":"_xlfn.IFNA(VLOOKUP(_xlfn.CONCAT($C$2,\"-\",$E67,\"-\",$F67,\"-\",Q$3),'Raw Data'!$A$2:$D$690331,4,FALSE),\"N/A\")","v":"N/A"},{"$f":"_xlfn.IFNA(VLOOKUP(_xlfn.CONCAT($C$2,\"-\",$E67,\"-\",$F67,\"-\",R$3),'Raw Data'!$A$2:$D$690331,4,FALSE),\"N/A\")","v":"N/A"},{"$f":"_xlfn.IFNA(VLOOKUP(_xlfn.CONCAT($C$2,\"-\",$E67,\"-\",$F67,\"-\",S$3),'Raw Data'!$A$2:$D$690331,4,FALSE),\"N/A\")","v":"N/A"}]
[null,null,null,null,5,3,null,{"$f":"_xlfn.IFNA(VLOOKUP(_xlfn.CONCAT($C$2,\"-\",$E68,\"-\",$F68,\"-\",H$3),'Raw Data'!$A$2:$D$690331,4,FALSE),\"N/A\")","v":"N/A"},{"$f":"_xlfn.IFNA(VLOOKUP(_xlfn.CONCAT($C$2,\"-\",$E68,\"-\",$F68,\"-\",I$3),'Raw Data'!$A$2:$D$690331,4,FALSE),\"N/A\")","v":"N/A"},{"$f":"_xlfn.IFNA(VLOOKUP(_xlfn.CONCAT($C$2,\"-\",$E68,\"-\",$F68,\"-\",J$3),'Raw Data'!$A$2:$D$690331,4,FALSE),\"N/A\")","v":"N/A"},{"$f":"_xlfn.IFNA(VLOOKUP(_xlfn.CONCAT($C$2,\"-\",$E68,\"-\",$F68,\"-\",K$3),'Raw Data'!$A$2:$D$690331,4,FALSE),\"N/A\")","v":"N/A"},{"$f":"_xlfn.IFNA(VLOOKUP(_xlfn.CONCAT($C$2,\"-\",$E68,\"-\",$F68,\"-\",L$3),'Raw Data'!$A$2:$D$690331,4,FALSE),\"N/A\")","v":"N/A"},{"$f":"_xlfn.IFNA(VLOOKUP(_xlfn.CONCAT($C$2,\"-\",$E68,\"-\",$F68,\"-\",M$3),'Raw Data'!$A$2:$D$690331,4,FALSE),\"N/A\")","v":"N/A"},{"$f":"_xlfn.IFNA(VLOOKUP(_xlfn.CONCAT($C$2,\"-\",$E68,\"-\",$F68,\"-\",N$3),'Raw Data'!$A$2:$D$690331,4,FALSE),\"N/A\")","v":"N/A"},{"$f":"_xlfn.IFNA(VLOOKUP(_xlfn.CONCAT($C$2,\"-\",$E68,\"-\",$F68,\"-\",O$3),'Raw Data'!$A$2:$D$690331,4,FALSE),\"N/A\")","v":"N/A"},{"$f":"_xlfn.IFNA(VLOOKUP(_xlfn.CONCAT($C$2,\"-\",$E68,\"-\",$F68,\"-\",P$3),'Raw Data'!$A$2:$D$690331,4,FALSE),\"N/A\")","v":"N/A"},{"$f":"_xlfn.IFNA(VLOOKUP(_xlfn.CONCAT($C$2,\"-\",$E68,\"-\",$F68,\"-\",Q$3),'Raw Data'!$A$2:$D$690331,4,FALSE),\"N/A\")","v":"N/A"},{"$f":"_xlfn.IFNA(VLOOKUP(_xlfn.CONCAT($C$2,\"-\",$E68,\"-\",$F68,\"-\",R$3),'Raw Data'!$A$2:$D$690331,4,FALSE),\"N/A\")","v":"N/A"},{"$f":"_xlfn.IFNA(VLOOKUP(_xlfn.CONCAT($C$2,\"-\",$E68,\"-\",$F68,\"-\",S$3),'Raw Data'!$A$2:$D$690331,4,FALSE),\"N/A\")","v":"N/A"}]
[null,null,null,null,6,3,null,{"$f":"_xlfn.IFNA(VLOOKUP(_xlfn.CONCAT($C$2,\"-\",$E69,\"-\",$F69,\"-\",H$3),'Raw Data'!$A$2:$D$690331,4,FALSE),\"N/A\")","v":"N/A"},{"$f":"_xlfn.IFNA(VLOOKUP(_xlfn.CONCAT($C$2,\"-\",$E69,\"-\",$F69,\"-\",I$3),'Raw Data'!$A$2:$D$690331,4,FALSE),\"N/A\")","v":"N/A"},{"$f":"_xlfn.IFNA(VLOOKUP(_xlfn.CONCAT($C$2,\"-\",$E69,\"-\",$F69,\"-\",J$3),'Raw Data'!$A$2:$D$690331,4,FALSE),\"N/A\")","v":"N/A"},{"$f":"_xlfn.IFNA(VLOOKUP(_xlfn.CONCAT($C$2,\"-\",$E69,\"-\",$F69,\"-\",K$3),'Raw Data'!$A$2:$D$690331,4,FALSE),\"N/A\")","v":"N/A"},{"$f":"_xlfn.IFNA(VLOOKUP(_xlfn.CONCAT($C$2,\"-\",$E69,\"-\",$F69,\"-\",L$3),'Raw Data'!$A$2:$D$690331,4,FALSE),\"N/A\")","v":"N/A"},{"$f":"_xlfn.IFNA(VLOOKUP(_xlfn.CONCAT($C$2,\"-\",$E69,\"-\",$F69,\"-\",M$3),'Raw Data'!$A$2:$D$690331,4,FALSE),\"N/A\")","v":"N/A"},{"$f":"_xlfn.IFNA(VLOOKUP(_xlfn.CONCAT($C$2,\"-\",$E69,\"-\",$F69,\"-\",N$3),'Raw Data'!$A$2:$D$690331,4,FALSE),\"N/A\")","v":"N/A"},{"$f":"_xlfn.IFNA(VLOOKUP(_xlfn.CONCAT($C$2,\"-\",$E69,\"-\",$F69,\"-\",O$3),'Raw Data'!$A$2:$D$690331,4,FALSE),\"N/A\")","v":"N/A"},{"$f":"_xlfn.IFNA(VLOOKUP(_xlfn.CONCAT($C$2,\"-\",$E69,\"-\",$F69,\"-\",P$3),'Raw Data'!$A$2:$D$690331,4,FALSE),\"N/A\")","v":"N/A"},{"$f":"_xlfn.IFNA(VLOOKUP(_xlfn.CONCAT($C$2,\"-\",$E69,\"-\",$F69,\"-\",Q$3),'Raw Data'!$A$2:$D$690331,4,FALSE),\"N/A\")","v":"N/A"},{"$f":"_xlfn.IFNA(VLOOKUP(_xlfn.CONCAT($C$2,\"-\",$E69,\"-\",$F69,\"-\",R$3),'Raw Data'!$A$2:$D$690331,4,FALSE),\"N/A\")","v":"N/A"},{"$f":"_xlfn.IFNA(VLOOKUP(_xlfn.CONCAT($C$2,\"-\",$E69,\"-\",$F69,\"-\",S$3),'Raw Data'!$A$2:$D$690331,4,FALSE),\"N/A\")","v":"N/A"}]
[null,null,null,null,7,3,null,{"$f":"_xlfn.IFNA(VLOOKUP(_xlfn.CONCAT($C$2,\"-\",$E70,\"-\",$F70,\"-\",H$3),'Raw Data'!$A$2:$D$690331,4,FALSE),\"N/A\")","v":"N/A"},{"$f":"_xlfn.IFNA(VLOOKUP(_xlfn.CONCAT($C$2,\"-\",$E70,\"-\",$F70,\"-\",I$3),'Raw Data'!$A$2:$D$690331,4,FALSE),\"N/A\")","v":"N/A"},{"$f":"_xlfn.IFNA(VLOOKUP(_xlfn.CONCAT($C$2,\"-\",$E70,\"-\",$F70,\"-\",J$3),'Raw Data'!$A$2:$D$690331,4,FALSE),\"N/A\")","v":"N/A"},{"$f":"_xlfn.IFNA(VLOOKUP(_xlfn.CONCAT($C$2,\"-\",$E70,\"-\",$F70,\"-\",K$3),'Raw Data'!$A$2:$D$690331,4,FALSE),\"N/A\")","v":"N/A"},{"$f":"_xlfn.IFNA(VLOOKUP(_xlfn.CONCAT($C$2,\"-\",$E70,\"-\",$F70,\"-\",L$3),'Raw Data'!$A$2:$D$690331,4,FALSE),\"N/A\")","v":"N/A"},{"$f":"_xlfn.IFNA(VLOOKUP(_xlfn.CONCAT($C$2,\"-\",$E70,\"-\",$F70,\"-\",M$3),'Raw Data'!$A$2:$D$690331,4,FALSE),\"N/A\")","v":"N/A"},{"$f":"_xlfn.IFNA(VLOOKUP(_xlfn.CONCAT($C$2,\"-\",$E70,\"-\",$F70,\"-\",N$3),'Raw Data'!$A$2:$D$690331,4,FALSE),\"N/A\")","v":"N/A"},{"$f":"_xlfn.IFNA(VLOOKUP(_xlfn.CONCAT($C$2,\"-\",$E70,\"-\",$F70,\"-\",O$3),'Raw Data'!$A$2:$D$690331,4,FALSE),\"N/A\")","v":"N/A"},{"$f":"_xlfn.IFNA(VLOOKUP(_xlfn.CONCAT($C$2,\"-\",$E70,\"-\",$F70,\"-\",P$3),'Raw Data'!$A$2:$D$690331,4,FALSE),\"N/A\")","v":"N/A"},{"$f":"_xlfn.IFNA(VLOOKUP(_xlfn.CONCAT($C$2,\"-\",$E70,\"-\",$F70,\"-\",Q$3),'Raw Data'!$A$2:$D$690331,4,FALSE),\"N/A\")","v":"N/A"},{"$f":"_xlfn.IFNA(VLOOKUP(_xlfn.CONCAT($C$2,\"-\",$E70,\"-\",$F70,\"-\",R$3),'Raw Data'!$A$2:$D$690331,4,FALSE),\"N/A\")","v":"N/A"},{"$f":"_xlfn.IFNA(VLOOKUP(_xlfn.CONCAT($C$2,\"-\",$E70,\"-\",$F70,\"-\",S$3),'Raw Data'!$A$2:$D$690331,4,FALSE),\"N/A\")","v":"N/A"}]
[null,null,null,null,8,3,null,{"$f":"_xlfn.IFNA(VLOOKUP(_xlfn.CONCAT($C$2,\"-\",$E71,\"-\",$F71,\"-\",H$3),'Raw Data'!$A$2:$D$690331,4,FALSE),\"N/A\")","v":"N/A"},{"$f":"_xlfn.IFNA(VLOOKUP(_xlfn.CONCAT($C$2,\"-\",$E71,\"-\",$F71,\"-\",I$3),'Raw Data'!$A$2:$D$690331,4,FALSE),\"N/A\")","v":"N/A"},{"$f":"_xlfn.IFNA(VLOOKUP(_xlfn.CONCAT($C$2,\"-\",$E71,\"-\",$F71,\"-\",J$3),'Raw Data'!$A$2:$D$690331,4,FALSE),\"N/A\")","v":"N/A"},{"$f":"_xlfn.IFNA(VLOOKUP(_xlfn.CONCAT($C$2,\"-\",$E71,\"-\",$F71,\"-\",K$3),'Raw Data'!$A$2:$D$690331,4,FALSE),\"N/A\")","v":"N/A"},{"$f":"_xlfn.IFNA(VLOOKUP(_xlfn.CONCAT($C$2,\"-\",$E71,\"-\",$F71,\"-\",L$3),'Raw Data'!$A$2:$D$690331,4,FALSE),\"N/A\")","v":"N/A"},{"$f":"_xlfn.IFNA(VLOOKUP(_xlfn.CONCAT($C$2,\"-\",$E71,\"-\",$F71,\"-\",M$3),'Raw Data'!$A$2:$D$690331,4,FALSE),\"N/A\")","v":"N/A"},{"$f":"_xlfn.IFNA(VLOOKUP(_xlfn.CONCAT($C$2,\"-\",$E71,\"-\",$F71,\"-\",N$3),'Raw Data'!$A$2:$D$690331,4,FALSE),\"N/A\")","v":"N/A"},{"$f":"_xlfn.IFNA(VLOOKUP(_xlfn.CONCAT($C$2,\"-\",$E71,\"-\",$F71,\"-\",O$3),'Raw Data'!$A$2:$D$690331,4,FALSE),\"N/A\")","v":"N/A"},{"$f":"_xlfn.IFNA(VLOOKUP(_xlfn.CONCAT($C$2,\"-\",$E71,\"-\",$F71,\"-\",P$3),'Raw Data'!$A$2:$D$690331,4,FALSE),\"N/A\")","v":"N/A"},{"$f":"_xlfn.IFNA(VLOOKUP(_xlfn.CONCAT($C$2,\"-\",$E71,\"-\",$F71,\"-\",Q$3),'Raw Data'!$A$2:$D$690331,4,FALSE),\"N/A\")","v":"N/A"},{"$f":"_xlfn.IFNA(VLOOKUP(_xlfn.CONCAT($C$2,\"-\",$E71,\"-\",$F71,\"-\",R$3),'Raw Data'!$A$2:$D$690331,4,FALSE),\"N/A\")","v":"N/A"},{"$f":"_xlfn.IFNA(VLOOKUP(_xlfn.CONCAT($C$2,\"-\",$E71,\"-\",$F71,\"-\",S$3),'Raw Data'!$A$2:$D$690331,4,FALSE),\"N/A\")","v":"N/A"}]
[null,null,null,null,9,3,null,{"$f":"_xlfn.IFNA(VLOOKUP(_xlfn.CONCAT($C$2,\"-\",$E72,\"-\",$F72,\"-\",H$3),'Raw Data'!$A$2:$D$690331,4,FALSE),\"N/A\")","v":"N/A"},{"$f":"_xlfn.IFNA(VLOOKUP(_xlfn.CONCAT($C$2,\"-\",$E72,\"-\",$F72,\"-\",I$3),'Raw Data'!$A$2:$D$690331,4,FALSE),\"N/A\")","v":"N/A"},{"$f":"_xlfn.IFNA(VLOOKUP(_xlfn.CONCAT($C$2,\"-\",$E72,\"-\",$F72,\"-\",J$3),'Raw Data'!$A$2:$D$690331,4,FALSE),\"N/A\")","v":"N/A"},{"$f":"_xlfn.IFNA(VLOOKUP(_xlfn.CONCAT($C$2,\"-\",$E72,\"-\",$F72,\"-\",K$3),'Raw Data'!$A$2:$D$690331,4,FALSE),\"N/A\")","v":"N/A"},{"$f":"_xlfn.IFNA(VLOOKUP(_xlfn.CONCAT($C$2,\"-\",$E72,\"-\",$F72,\"-\",L$3),'Raw Data'!$A$2:$D$690331,4,FALSE),\"N/A\")","v":"N/A"},{"$f":"_xlfn.IFNA(VLOOKUP(_xlfn.CONCAT($C$2,\"-\",$E72,\"-\",$F72,\"-\",M$3),'Raw Data'!$A$2:$D$690331,4,FALSE),\"N/A\")","v":"N/A"},{"$f":"_xlfn.IFNA(VLOOKUP(_xlfn.CONCAT($C$2,\"-\",$E72,\"-\",$F72,\"-\",N$3),'Raw Data'!$A$2:$D$690331,4,FALSE),\"N/A\")","v":"N/A"},{"$f":"_xlfn.IFNA(VLOOKUP(_xlfn.CONCAT($C$2,\"-\",$E72,\"-\",$F72,\"-\",O$3),'Raw Data'!$A$2:$D$690331,4,FALSE),\"N/A\")","v":"N/A"},{"$f":"_xlfn.IFNA(VLOOKUP(_xlfn.CONCAT($C$2,\"-\",$E72,\"-\",$F72,\"-\",P$3),'Raw Data'!$A$2:$D$690331,4,FALSE),\"N/A\")","v":"N/A"},{"$f":"_xlfn.IFNA(VLOOKUP(_xlfn.CONCAT($C$2,\"-\",$E72,\"-\",$F72,\"-\",Q$3),'Raw Data'!$A$2:$D$690331,4,FALSE),\"N/A\")","v":"N/A"},{"$f":"_xlfn.IFNA(VLOOKUP(_xlfn.CONCAT($C$2,\"-\",$E72,\"-\",$F72,\"-\",R$3),'Raw Data'!$A$2:$D$690331,4,FALSE),\"N/A\")","v":"N/A"},{"$f":"_xlfn.IFNA(VLOOKUP(_xlfn.CONCAT($C$2,\"-\",$E72,\"-\",$F72,\"-\",S$3),'Raw Data'!$A$2:$D$690331,4,FALSE),\"N/A\")","v":"N/A"}]
[null,null,null,null,10,3,null,{"$f":"_xlfn.IFNA(VLOOKUP(_xlfn.CONCAT($C$2,\"-\",$E73,\"-\",$F73,\"-\",H$3),'Raw Data'!$A$2:$D$690331,4,FALSE),\"N/A\")","v":"N/A"},{"$f":"_xlfn.IFNA(VLOOKUP(_xlfn.CONCAT($C$2,\"-\",$E73,\"-\",$F73,\"-\",I$3),'Raw Data'!$A$2:$D$690331,4,FALSE),\"N/A\")","v":"N/A"},{"$f":"_xlfn.IFNA(VLOOKUP(_xlfn.CONCAT($C$2,\"-\",$E73,\"-\",$F73,\"-\",J$3),'Raw Data'!$A$2:$D$690331,4,FALSE),\"N/A\")","v":"N/A"},{"$f":"_xlfn.IFNA(VLOOKUP(_xlfn.CONCAT($C$2,\"-\",$E73,\"-\",$F73,\"-\",K$3),'Raw Data'!$A$2:$D$690331,4,FALSE),\"N/A\")","v":"N/A"},{"$f":"_xlfn.IFNA(VLOOKUP(_xlfn.CONCAT($C$2,\"-\",$E73,\"-\",$F73,\"-\",L$3),'Raw Data'!$A$2:$D$690331,4,FALSE),\"N/A\")","v":"N/A"},{"$f":"_xlfn.IFNA(VLOOKUP(_xlfn.CONCAT($C$2,\"-\",$E73,\"-\",$F73,\"-\",M$3),'Raw Data'!$A$2:$D$690331,4,FALSE),\"N/A\")","v":"N/A"},{"$f":"_xlfn.IFNA(VLOOKUP(_xlfn.CONCAT($C$2,\"-\",$E73,\"-\",$F73,\"-\",N$3),'Raw Data'!$A$2:$D$690331,4,FALSE),\"N/A\")","v":"N/A"},{"$f":"_xlfn.IFNA(VLOOKUP(_xlfn.CONCAT($C$2,\"-\",$E73,\"-\",$F73,\"-\",O$3),'Raw Data'!$A$2:$D$690331,4,FALSE),\"N/A\")","v":"N/A"},{"$f":"_xlfn.IFNA(VLOOKUP(_xlfn.CONCAT($C$2,\"-\",$E73,\"-\",$F73,\"-\",P$3),'Raw Data'!$A$2:$D$690331,4,FALSE),\"N/A\")","v":"N/A"},{"$f":"_xlfn.IFNA(VLOOKUP(_xlfn.CONCAT($C$2,\"-\",$E73,\"-\",$F73,\"-\",Q$3),'Raw Data'!$A$2:$D$690331,4,FALSE),\"N/A\")","v":"N/A"},{"$f":"_xlfn.IFNA(VLOOKUP(_xlfn.CONCAT($C$2,\"-\",$E73,\"-\",$F73,\"-\",R$3),'Raw Data'!$A$2:$D$690331,4,FALSE),\"N/A\")","v":"N/A"},{"$f":"_xlfn.IFNA(VLOOKUP(_xlfn.CONCAT($C$2,\"-\",$E73,\"-\",$F73,\"-\",S$3),'Raw Data'!$A$2:$D$690331,4,FALSE),\"N/A\")","v":"N/A"}]
[null,null,null,null,11,3,null,{"$f":"_xlfn.IFNA(VLOOKUP(_xlfn.CONCAT($C$2,\"-\",$E74,\"-\",$F74,\"-\",H$3),'Raw Data'!$A$2:$D$690331,4,FALSE),\"N/A\")","v":"N/A"},{"$f":"_xlfn.IFNA(VLOOKUP(_xlfn.CONCAT($C$2,\"-\",$E74,\"-\",$F74,\"-\",I$3),'Raw Data'!$A$2:$D$690331,4,FALSE),\"N/A\")","v":"N/A"},{"$f":"_xlfn.IFNA(VLOOKUP(_xlfn.CONCAT($C$2,\"-\",$E74,\"-\",$F74,\"-\",J$3),'Raw Data'!$A$2:$D$690331,4,FALSE),\"N/A\")","v":"N/A"},{"$f":"_xlfn.IFNA(VLOOKUP(_xlfn.CONCAT($C$2,\"-\",$E74,\"-\",$F74,\"-\",K$3),'Raw Data'!$A$2:$D$690331,4,FALSE),\"N/A\")","v":"N/A"},{"$f":"_xlfn.IFNA(VLOOKUP(_xlfn.CONCAT($C$2,\"-\",$E74,\"-\",$F74,\"-\",L$3),'Raw Data'!$A$2:$D$690331,4,FALSE),\"N/A\")","v":"N/A"},{"$f":"_xlfn.IFNA(VLOOKUP(_xlfn.CONCAT($C$2,\"-\",$E74,\"-\",$F74,\"-\",M$3),'Raw Data'!$A$2:$D$690331,4,FALSE),\"N/A\")","v":"N/A"},{"$f":"_xlfn.IFNA(VLOOKUP(_xlfn.CONCAT($C$2,\"-\",$E74,\"-\",$F74,\"-\",N$3),'Raw Data'!$A$2:$D$690331,4,FALSE),\"N/A\")","v":"N/A"},{"$f":"_xlfn.IFNA(VLOOKUP(_xlfn.CONCAT($C$2,\"-\",$E74,\"-\",$F74,\"-\",O$3),'Raw Data'!$A$2:$D$690331,4,FALSE),\"N/A\")","v":"N/A"},{"$f":"_xlfn.IFNA(VLOOKUP(_xlfn.CONCAT($C$2,\"-\",$E74,\"-\",$F74,\"-\",P$3),'Raw Data'!$A$2:$D$690331,4,FALSE),\"N/A\")","v":"N/A"},{"$f":"_xlfn.IFNA(VLOOKUP(_xlfn.CONCAT($C$2,\"-\",$E74,\"-\",$F74,\"-\",Q$3),'Raw Data'!$A$2:$D$690331,4,FALSE),\"N/A\")","v":"N/A"},{"$f":"_xlfn.IFNA(VLOOKUP(_xlfn.CONCAT($C$2,\"-\",$E74,\"-\",$F74,\"-\",R$3),'Raw Data'!$A$2:$D$690331,4,FALSE),\"N/A\")","v":"N/A"},{"$f":"_xlfn.IFNA(VLOOKUP(_xlfn.CONCAT($C$2,\"-\",$E74,\"-\",$F74,\"-\",S$3),'Raw Data'!$A$2:$D$690331,4,FALSE),\"N/A\")","v":"N/A"}]
[null,null,null,null,12,3,null,{"$f":"_xlfn.IFNA(VLOOKUP(_xlfn.CONCAT($C$2,\"-\",$E75,\"-\",$F75,\"-\",H$3),'Raw Data'!$A$2:$D$690331,4,FALSE),\"N/A\")","v":"N/A"},{"$f":"_xlfn.IFNA(VLOOKUP(_xlfn.CONCAT($C$2,\"-\",$E75,\"-\",$F75,\"-\",I$3),'Raw Data'!$A$2:$D$690331,4,FALSE),\"N/A\")","v":"N/A"},{"$f":"_xlfn.IFNA(VLOOKUP(_xlfn.CONCAT($C$2,\"-\",$E75,\"-\",$F75,\"-\",J$3),'Raw Data'!$A$2:$D$690331,4,FALSE),\"N/A\")","v":"N/A"},{"$f":"_xlfn.IFNA(VLOOKUP(_xlfn.CONCAT($C$2,\"-\",$E75,\"-\",$F75,\"-\",K$3),'Raw Data'!$A$2:$D$690331,4,FALSE),\"N/A\")","v":"N/A"},{"$f":"_xlfn.IFNA(VLOOKUP(_xlfn.CONCAT($C$2,\"-\",$E75,\"-\",$F75,\"-\",L$3),'Raw Data'!$A$2:$D$690331,4,FALSE),\"N/A\")","v":"N/A"},{"$f":"_xlfn.IFNA(VLOOKUP(_xlfn.CONCAT($C$2,\"-\",$E75,\"-\",$F75,\"-\",M$3),'Raw Data'!$A$2:$D$690331,4,FALSE),\"N/A\")","v":"N/A"},{"$f":"_xlfn.IFNA(VLOOKUP(_xlfn.CONCAT($C$2,\"-\",$E75,\"-\",$F75,\"-\",N$3),'Raw Data'!$A$2:$D$690331,4,FALSE),\"N/A\")","v":"N/A"},{"$f":"_xlfn.IFNA(VLOOKUP(_xlfn.CONCAT($C$2,\"-\",$E75,\"-\",$F75,\"-\",O$3),'Raw Data'!$A$2:$D$690331,4,FALSE),\"N/A\")","v":"N/A"},{"$f":"_xlfn.IFNA(VLOOKUP(_xlfn.CONCAT($C$2,\"-\",$E75,\"-\",$F75,\"-\",P$3),'Raw Data'!$A$2:$D$690331,4,FALSE),\"N/A\")","v":"N/A"},{"$f":"_xlfn.IFNA(VLOOKUP(_xlfn.CONCAT($C$2,\"-\",$E75,\"-\",$F75,\"-\",Q$3),'Raw Data'!$A$2:$D$690331,4,FALSE),\"N/A\")","v":"N/A"},{"$f":"_xlfn.IFNA(VLOOKUP(_xlfn.CONCAT($C$2,\"-\",$E75,\"-\",$F75,\"-\",R$3),'Raw Data'!$A$2:$D$690331,4,FALSE),\"N/A\")","v":"N/A"},{"$f":"_xlfn.IFNA(VLOOKUP(_xlfn.CONCAT($C$2,\"-\",$E75,\"-\",$F75,\"-\",S$3),'Raw Data'!$A$2:$D$690331,4,FALSE),\"N/A\")","v":"N/A"}]
[null,null,null,null,13,3,null,{"$f":"_xlfn.IFNA(VLOOKUP(_xlfn.CONCAT($C$2,\"-\",$E76,\"-\",$F76,\"-\",H$3),'Raw Data'!$A$2:$D$690331,4,FALSE),\"N/A\")","v":"N/A"},{"$f":"_xlfn.IFNA(VLOOKUP(_xlfn.CONCAT($C$2,\"-\",$E76,\"-\",$F76,\"-\",I$3),'Raw Data'!$A$2:$D$690331,4,FALSE),\"N/A\")","v":"N/A"},{"$f":"_xlfn.IFNA(VLOOKUP(_xlfn.CONCAT($C$2,\"-\",$E76,\"-\",$F76,\"-\",J$3),'Raw Data'!$A$2:$D$690331,4,FALSE),\"N/A\")","v":"N/A"},{"$f":"_xlfn.IFNA(VLOOKUP(_xlfn.CONCAT($C$2,\"-\",$E76,\"-\",$F76,\"-\",K$3),'Raw Data'!$A$2:$D$690331,4,FALSE),\"N/A\")","v":"N/A"},{"$f":"_xlfn.IFNA(VLOOKUP(_xlfn.CONCAT($C$2,\"-\",$E76,\"-\",$F76,\"-\",L$3),'Raw Data'!$A$2:$D$690331,4,FALSE),\"N/A\")","v":"N/A"},{"$f":"_xlfn.IFNA(VLOOKUP(_xlfn.CONCAT($C$2,\"-\",$E76,\"-\",$F76,\"-\",M$3),'Raw Data'!$A$2:$D$690331,4,FALSE),\"N/A\")","v":"N/A"},{"$f":"_xlfn.IFNA(VLOOKUP(_xlfn.CONCAT($C$2,\"-\",$E76,\"-\",$F76,\"-\",N$3),'Raw Data'!$A$2:$D$690331,4,FALSE),\"N/A\")","v":"N/A"},{"$f":"_xlfn.IFNA(VLOOKUP(_xlfn.CONCAT($C$2,\"-\",$E76,\"-\",$F76,\"-\",O$3),'Raw Data'!$A$2:$D$690331,4,FALSE),\"N/A\")","v":"N/A"},{"$f":"_xlfn.IFNA(VLOOKUP(_xlfn.CONCAT($C$2,\"-\",$E76,\"-\",$F76,\"-\",P$3),'Raw Data'!$A$2:$D$690331,4,FALSE),\"N/A\")","v":"N/A"},{"$f":"_xlfn.IFNA(VLOOKUP(_xlfn.CONCAT($C$2,\"-\",$E76,\"-\",$F76,\"-\",Q$3),'Raw Data'!$A$2:$D$690331,4,FALSE),\"N/A\")","v":"N/A"},{"$f":"_xlfn.IFNA(VLOOKUP(_xlfn.CONCAT($C$2,\"-\",$E76,\"-\",$F76,\"-\",R$3),'Raw Data'!$A$2:$D$690331,4,FALSE),\"N/A\")","v":"N/A"},{"$f":"_xlfn.IFNA(VLOOKUP(_xlfn.CONCAT($C$2,\"-\",$E76,\"-\",$F76,\"-\",S$3),'Raw Data'!$A$2:$D$690331,4,FALSE),\"N/A\")","v":"N/A"}]
[null,null,null,null,14,3,null,{"$f":"_xlfn.IFNA(VLOOKUP(_xlfn.CONCAT($C$2,\"-\",$E77,\"-\",$F77,\"-\",H$3),'Raw Data'!$A$2:$D$690331,4,FALSE),\"N/A\")","v":"N/A"},{"$f":"_xlfn.IFNA(VLOOKUP(_xlfn.CONCAT($C$2,\"-\",$E77,\"-\",$F77,\"-\",I$3),'Raw Data'!$A$2:$D$690331,4,FALSE),\"N/A\")","v":"N/A"},{"$f":"_xlfn.IFNA(VLOOKUP(_xlfn.CONCAT($C$2,\"-\",$E77,\"-\",$F77,\"-\",J$3),'Raw Data'!$A$2:$D$690331,4,FALSE),\"N/A\")","v":"N/A"},{"$f":"_xlfn.IFNA(VLOOKUP(_xlfn.CONCAT($C$2,\"-\",$E77,\"-\",$F77,\"-\",K$3),'Raw Data'!$A$2:$D$690331,4,FALSE),\"N/A\")","v":"N/A"},{"$f":"_xlfn.IFNA(VLOOKUP(_xlfn.CONCAT($C$2,\"-\",$E77,\"-\",$F77,\"-\",L$3),'Raw Data'!$A$2:$D$690331,4,FALSE),\"N/A\")","v":"N/A"},{"$f":"_xlfn.IFNA(VLOOKUP(_xlfn.CONCAT($C$2,\"-\",$E77,\"-\",$F77,\"-\",M$3),'Raw Data'!$A$2:$D$690331,4,FALSE),\"N/A\")","v":"N/A"},{"$f":"_xlfn.IFNA(VLOOKUP(_xlfn.CONCAT($C$2,\"-\",$E77,\"-\",$F77,\"-\",N$3),'Raw Data'!$A$2:$D$690331,4,FALSE),\"N/A\")","v":"N/A"},{"$f":"_xlfn.IFNA(VLOOKUP(_xlfn.CONCAT($C$2,\"-\",$E77,\"-\",$F77,\"-\",O$3),'Raw Data'!$A$2:$D$690331,4,FALSE),\"N/A\")","v":"N/A"},{"$f":"_xlfn.IFNA(VLOOKUP(_xlfn.CONCAT($C$2,\"-\",$E77,\"-\",$F77,\"-\",P$3),'Raw Data'!$A$2:$D$690331,4,FALSE),\"N/A\")","v":"N/A"},{"$f":"_xlfn.IFNA(VLOOKUP(_xlfn.CONCAT($C$2,\"-\",$E77,\"-\",$F77,\"-\",Q$3),'Raw Data'!$A$2:$D$690331,4,FALSE),\"N/A\")","v":"N/A"},{"$f":"_xlfn.IFNA(VLOOKUP(_xlfn.CONCAT($C$2,\"-\",$E77,\"-\",$F77,\"-\",R$3),'Raw Data'!$A$2:$D$690331,4,FALSE),\"N/A\")","v":"N/A"},{"$f":"_xlfn.IFNA(VLOOKUP(_xlfn.CONCAT($C$2,\"-\",$E77,\"-\",$F77,\"-\",S$3),'Raw Data'!$A$2:$D$690331,4,FALSE),\"N/A\")","v":"N/A"}]
[null,null,null,null,15,3,null,{"$f":"_xlfn.IFNA(VLOOKUP(_xlfn.CONCAT($C$2,\"-\",$E78,\"-\",$F78,\"-\",H$3),'Raw Data'!$A$2:$D$690331,4,FALSE),\"N/A\")","v":"N/A"},{"$f":"_xlfn.IFNA(VLOOKUP(_xlfn.CONCAT($C$2,\"-\",$E78,\"-\",$F78,\"-\",I$3),'Raw Data'!$A$2:$D$690331,4,FALSE),\"N/A\")","v":"N/A"},{"$f":"_xlfn.IFNA(VLOOKUP(_xlfn.CONCAT($C$2,\"-\",$E78,\"-\",$F78,\"-\",J$3),'Raw Data'!$A$2:$D$690331,4,FALSE),\"N/A\")","v":"N/A"},{"$f":"_xlfn.IFNA(VLOOKUP(_xlfn.CONCAT($C$2,\"-\",$E78,\"-\",$F78,\"-\",K$3),'Raw Data'!$A$2:$D$690331,4,FALSE),\"N/A\")","v":"N/A"},{"$f":"_xlfn.IFNA(VLOOKUP(_xlfn.CONCAT($C$2,\"-\",$E78,\"-\",$F78,\"-\",L$3),'Raw Data'!$A$2:$D$690331,4,FALSE),\"N/A\")","v":"N/A"},{"$f":"_xlfn.IFNA(VLOOKUP(_xlfn.CONCAT($C$2,\"-\",$E78,\"-\",$F78,\"-\",M$3),'Raw Data'!$A$2:$D$690331,4,FALSE),\"N/A\")","v":"N/A"},{"$f":"_xlfn.IFNA(VLOOKUP(_xlfn.CONCAT($C$2,\"-\",$E78,\"-\",$F78,\"-\",N$3),'Raw Data'!$A$2:$D$690331,4,FALSE),\"N/A\")","v":"N/A"},{"$f":"_xlfn.IFNA(VLOOKUP(_xlfn.CONCAT($C$2,\"-\",$E78,\"-\",$F78,\"-\",O$3),'Raw Data'!$A$2:$D$690331,4,FALSE),\"N/A\")","v":"N/A"},{"$f":"_xlfn.IFNA(VLOOKUP(_xlfn.CONCAT($C$2,\"-\",$E78,\"-\",$F78,\"-\",P$3),'Raw Data'!$A$2:$D$690331,4,FALSE),\"N/A\")","v":"N/A"},{"$f":"_xlfn.IFNA(VLOOKUP(_xlfn.CONCAT($C$2,\"-\",$E78,\"-\",$F78,\"-\",Q$3),'Raw Data'!$A$2:$D$690331,4,FALSE),\"N/A\")","v":"N/A"},{"$f":"_xlfn.IFNA(VLOOKUP(_xlfn.CONCAT($C$2,\"-\",$E78,\"-\",$F78,\"-\",R$3),'Raw Data'!$A$2:$D$690331,4,FALSE),\"N/A\")","v":"N/A"},{"$f":"_xlfn.IFNA(VLOOKUP(_xlfn.CONCAT($C$2,\"-\",$E78,\"-\",$F78,\"-\",S$3),'Raw Data'!$A$2:$D$690331,4,FALSE),\"N/A\")","v":"N/A"}]
[null,null,null,null,16,3,null,{"$f":"_xlfn.IFNA(VLOOKUP(_xlfn.CONCAT($C$2,\"-\",$E79,\"-\",$F79,\"-\",H$3),'Raw Data'!$A$2:$D$690331,4,FALSE),\"N/A\")","v":"N/A"},{"$f":"_xlfn.IFNA(VLOOKUP(_xlfn.CONCAT($C$2,\"-\",$E79,\"-\",$F79,\"-\",I$3),'Raw Data'!$A$2:$D$690331,4,FALSE),\"N/A\")","v":"N/A"},{"$f":"_xlfn.IFNA(VLOOKUP(_xlfn.CONCAT($C$2,\"-\",$E79,\"-\",$F79,\"-\",J$3),'Raw Data'!$A$2:$D$690331,4,FALSE),\"N/A\")","v":"N/A"},{"$f":"_xlfn.IFNA(VLOOKUP(_xlfn.CONCAT($C$2,\"-\",$E79,\"-\",$F79,\"-\",K$3),'Raw Data'!$A$2:$D$690331,4,FALSE),\"N/A\")","v":"N/A"},{"$f":"_xlfn.IFNA(VLOOKUP(_xlfn.CONCAT($C$2,\"-\",$E79,\"-\",$F79,\"-\",L$3),'Raw Data'!$A$2:$D$690331,4,FALSE),\"N/A\")","v":"N/A"},{"$f":"_xlfn.IFNA(VLOOKUP(_xlfn.CONCAT($C$2,\"-\",$E79,\"-\",$F79,\"-\",M$3),'Raw Data'!$A$2:$D$690331,4,FALSE),\"N/A\")","v":"N/A"},{"$f":"_xlfn.IFNA(VLOOKUP(_xlfn.CONCAT($C$2,\"-\",$E79,\"-\",$F79,\"-\",N$3),'Raw Data'!$A$2:$D$690331,4,FALSE),\"N/A\")","v":"N/A"},{"$f":"_xlfn.IFNA(VLOOKUP(_xlfn.CONCAT($C$2,\"-\",$E79,\"-\",$F79,\"-\",O$3),'Raw Data'!$A$2:$D$690331,4,FALSE),\"N/A\")","v":"N/A"},{"$f":"_xlfn.IFNA(VLOOKUP(_xlfn.CONCAT($C$2,\"-\",$E79,\"-\",$F79,\"-\",P$3),'Raw Data'!$A$2:$D$690331,4,FALSE),\"N/A\")","v":"N/A"},{"$f":"_xlfn.IFNA(VLOOKUP(_xlfn.CONCAT($C$2,\"-\",$E79,\"-\",$F79,\"-\",Q$3),'Raw Data'!$A$2:$D$690331,4,FALSE),\"N/A\")","v":"N/A"},{"$f":"_xlfn.IFNA(VLOOKUP(_xlfn.CONCAT($C$2,\"-\",$E79,\"-\",$F79,\"-\",R$3),'Raw Data'!$A$2:$D$690331,4,FALSE),\"N/A\")","v":"N/A"},{"$f":"_xlfn.IFNA(VLOOKUP(_xlfn.CONCAT($C$2,\"-\",$E79,\"-\",$F79,\"-\",S$3),'Raw Data'!$A$2:$D$690331,4,FALSE),\"N/A\")","v":"N/A"}]
[null,null,null,null,17,3,null,{"$f":"_xlfn.IFNA(VLOOKUP(_xlfn.CONCAT($C$2,\"-\",$E80,\"-\",$F80,\"-\",H$3),'Raw Data'!$A$2:$D$690331,4,FALSE),\"N/A\")","v":"N/A"},{"$f":"_xlfn.IFNA(VLOOKUP(_xlfn.CONCAT($C$2,\"-\",$E80,\"-\",$F80,\"-\",I$3),'Raw Data'!$A$2:$D$690331,4,FALSE),\"N/A\")","v":"N/A"},{"$f":"_xlfn.IFNA(VLOOKUP(_xlfn.CONCAT($C$2,\"-\",$E80,\"-\",$F80,\"-\",J$3),'Raw Data'!$A$2:$D$690331,4,FALSE),\"N/A\")","v":"N/A"},{"$f":"_xlfn.IFNA(VLOOKUP(_xlfn.CONCAT($C$2,\"-\",$E80,\"-\",$F80,\"-\",K$3),'Raw Data'!$A$2:$D$690331,4,FALSE),\"N/A\")","v":"N/A"},{"$f":"_xlfn.IFNA(VLOOKUP(_xlfn.CONCAT($C$2,\"-\",$E80,\"-\",$F80,\"-\",L$3),'Raw Data'!$A$2:$D$690331,4,FALSE),\"N/A\")","v":"N/A"},{"$f":"_xlfn.IFNA(VLOOKUP(_xlfn.CONCAT($C$2,\"-\",$E80,\"-\",$F80,\"-\",M$3),'Raw Data'!$A$2:$D$690331,4,FALSE),\"N/A\")","v":"N/A"},{"$f":"_xlfn.IFNA(VLOOKUP(_xlfn.CONCAT($C$2,\"-\",$E80,\"-\",$F80,\"-\",N$3),'Raw Data'!$A$2:$D$690331,4,FALSE),\"N/A\")","v":"N/A"},{"$f":"_xlfn.IFNA(VLOOKUP(_xlfn.CONCAT($C$2,\"-\",$E80,\"-\",$F80,\"-\",O$3),'Raw Data'!$A$2:$D$690331,4,FALSE),\"N/A\")","v":"N/A"},{"$f":"_xlfn.IFNA(VLOOKUP(_xlfn.CONCAT($C$2,\"-\",$E80,\"-\",$F80,\"-\",P$3),'Raw Data'!$A$2:$D$690331,4,FALSE),\"N/A\")","v":"N/A"},{"$f":"_xlfn.IFNA(VLOOKUP(_xlfn.CONCAT($C$2,\"-\",$E80,\"-\",$F80,\"-\",Q$3),'Raw Data'!$A$2:$D$690331,4,FALSE),\"N/A\")","v":"N/A"},{"$f":"_xlfn.IFNA(VLOOKUP(_xlfn.CONCAT($C$2,\"-\",$E80,\"-\",$F80,\"-\",R$3),'Raw Data'!$A$2:$D$690331,4,FALSE),\"N/A\")","v":"N/A"},{"$f":"_xlfn.IFNA(VLOOKUP(_xlfn.CONCAT($C$2,\"-\",$E80,\"-\",$F80,\"-\",S$3),'Raw Data'!$A$2:$D$690331,4,FALSE),\"N/A\")","v":"N/A"}]
[null,null,null,null,18,3,null,{"$f":"_xlfn.IFNA(VLOOKUP(_xlfn.CONCAT($C$2,\"-\",$E81,\"-\",$F81,\"-\",H$3),'Raw Data'!$A$2:$D$690331,4,FALSE),\"N/A\")","v":"N/A"},{"$f":"_xlfn.IFNA(VLOOKUP(_xlfn.CONCAT($C$2,\"-\",$E81,\"-\",$F81,\"-\",I$3),'Raw Data'!$A$2:$D$690331,4,FALSE),\"N/A\")","v":"N/A"},{"$f":"_xlfn.IFNA(VLOOKUP(_xlfn.CONCAT($C$2,\"-\",$E81,\"-\",$F81,\"-\",J$3),'Raw Data'!$A$2:$D$690331,4,FALSE),\"N/A\")","v":"N/A"},{"$f":"_xlfn.IFNA(VLOOKUP(_xlfn.CONCAT($C$2,\"-\",$E81,\"-\",$F81,\"-\",K$3),'Raw Data'!$A$2:$D$690331,4,FALSE),\"N/A\")","v":"N/A"},{"$f":"_xlfn.IFNA(VLOOKUP(_xlfn.CONCAT($C$2,\"-\",$E81,\"-\",$F81,\"-\",L$3),'Raw Data'!$A$2:$D$690331,4,FALSE),\"N/A\")","v":"N/A"},{"$f":"_xlfn.IFNA(VLOOKUP(_xlfn.CONCAT($C$2,\"-\",$E81,\"-\",$F81,\"-\",M$3),'Raw Data'!$A$2:$D$690331,4,FALSE),\"N/A\")","v":"N/A"},{"$f":"_xlfn.IFNA(VLOOKUP(_xlfn.CONCAT($C$2,\"-\",$E81,\"-\",$F81,\"-\",N$3),'Raw Data'!$A$2:$D$690331,4,FALSE),\"N/A\")","v":"N/A"},{"$f":"_xlfn.IFNA(VLOOKUP(_xlfn.CONCAT($C$2,\"-\",$E81,\"-\",$F81,\"-\",O$3),'Raw Data'!$A$2:$D$690331,4,FALSE),\"N/A\")","v":"N/A"},{"$f":"_xlfn.IFNA(VLOOKUP(_xlfn.CONCAT($C$2,\"-\",$E81,\"-\",$F81,\"-\",P$3),'Raw Data'!$A$2:$D$690331,4,FALSE),\"N/A\")","v":"N/A"},{"$f":"_xlfn.IFNA(VLOOKUP(_xlfn.CONCAT($C$2,\"-\",$E81,\"-\",$F81,\"-\",Q$3),'Raw Data'!$A$2:$D$690331,4,FALSE),\"N/A\")","v":"N/A"},{"$f":"_xlfn.IFNA(VLOOKUP(_xlfn.CONCAT($C$2,\"-\",$E81,\"-\",$F81,\"-\",R$3),'Raw Data'!$A$2:$D$690331,4,FALSE),\"N/A\")","v":"N/A"},{"$f":"_xlfn.IFNA(VLOOKUP(_xlfn.CONCAT($C$2,\"-\",$E81,\"-\",$F81,\"-\",S$3),'Raw Data'!$A$2:$D$690331,4,FALSE),\"N/A\")","v":"N/A"}]
[null,null,null,null,19,3,null,{"$f":"_xlfn.IFNA(VLOOKUP(_xlfn.CONCAT($C$2,\"-\",$E82,\"-\",$F82,\"-\",H$3),'Raw Data'!$A$2:$D$690331,4,FALSE),\"N/A\")","v":"N/A"},{"$f":"_xlfn.IFNA(VLOOKUP(_xlfn.CONCAT($C$2,\"-\",$E82,\"-\",$F82,\"-\",I$3),'Raw Data'!$A$2:$D$690331,4,FALSE),\"N/A\")","v":"N/A"},{"$f":"_xlfn.IFNA(VLOOKUP(_xlfn.CONCAT($C$2,\"-\",$E82,\"-\",$F82,\"-\",J$3),'Raw Data'!$A$2:$D$690331,4,FALSE),\"N/A\")","v":"N/A"},{"$f":"_xlfn.IFNA(VLOOKUP(_xlfn.CONCAT($C$2,\"-\",$E82,\"-\",$F82,\"-\",K$3),'Raw Data'!$A$2:$D$690331,4,FALSE),\"N/A\")","v":"N/A"},{"$f":"_xlfn.IFNA(VLOOKUP(_xlfn.CONCAT($C$2,\"-\",$E82,\"-\",$F82,\"-\",L$3),'Raw Data'!$A$2:$D$690331,4,FALSE),\"N/A\")","v":"N/A"},{"$f":"_xlfn.IFNA(VLOOKUP(_xlfn.CONCAT($C$2,\"-\",$E82,\"-\",$F82,\"-\",M$3),'Raw Data'!$A$2:$D$690331,4,FALSE),\"N/A\")","v":"N/A"},{"$f":"_xlfn.IFNA(VLOOKUP(_xlfn.CONCAT($C$2,\"-\",$E82,\"-\",$F82,\"-\",N$3),'Raw Data'!$A$2:$D$690331,4,FALSE),\"N/A\")","v":"N/A"},{"$f":"_xlfn.IFNA(VLOOKUP(_xlfn.CONCAT($C$2,\"-\",$E82,\"-\",$F82,\"-\",O$3),'Raw Data'!$A$2:$D$690331,4,FALSE),\"N/A\")","v":"N/A"},{"$f":"_xlfn.IFNA(VLOOKUP(_xlfn.CONCAT($C$2,\"-\",$E82,\"-\",$F82,\"-\",P$3),'Raw Data'!$A$2:$D$690331,4,FALSE),\"N/A\")","v":"N/A"},{"$f":"_xlfn.IFNA(VLOOKUP(_xlfn.CONCAT($C$2,\"-\",$E82,\"-\",$F82,\"-\",Q$3),'Raw Data'!$A$2:$D$690331,4,FALSE),\"N/A\")","v":"N/A"},{"$f":"_xlfn.IFNA(VLOOKUP(_xlfn.CONCAT($C$2,\"-\",$E82,\"-\",$F82,\"-\",R$3),'Raw Data'!$A$2:$D$690331,4,FALSE),\"N/A\")","v":"N/A"},{"$f":"_xlfn.IFNA(VLOOKUP(_xlfn.CONCAT($C$2,\"-\",$E82,\"-\",$F82,\"-\",S$3),'Raw Data'!$A$2:$D$690331,4,FALSE),\"N/A\")","v":"N/A"}]
[null,null,null,null,20,3,null,{"$f":"_xlfn.IFNA(VLOOKUP(_xlfn.CONCAT($C$2,\"-\",$E83,\"-\",$F83,\"-\",H$3),'Raw Data'!$A$2:$D$690331,4,FALSE),\"N/A\")","v":"N/A"},{"$f":"_xlfn.IFNA(VLOOKUP(_xlfn.CONCAT($C$2,\"-\",$E83,\"-\",$F83,\"-\",I$3),'Raw Data'!$A$2:$D$690331,4,FALSE),\"N/A\")","v":"N/A"},{"$f":"_xlfn.IFNA(VLOOKUP(_xlfn.CONCAT($C$2,\"-\",$E83,\"-\",$F83,\"-\",J$3),'Raw Data'!$A$2:$D$690331,4,FALSE),\"N/A\")","v":"N/A"},{"$f":"_xlfn.IFNA(VLOOKUP(_xlfn.CONCAT($C$2,\"-\",$E83,\"-\",$F83,\"-\",K$3),'Raw Data'!$A$2:$D$690331,4,FALSE),\"N/A\")","v":"N/A"},{"$f":"_xlfn.IFNA(VLOOKUP(_xlfn.CONCAT($C$2,\"-\",$E83,\"-\",$F83,\"-\",L$3),'Raw Data'!$A$2:$D$690331,4,FALSE),\"N/A\")","v":"N/A"},{"$f":"_xlfn.IFNA(VLOOKUP(_xlfn.CONCAT($C$2,\"-\",$E83,\"-\",$F83,\"-\",M$3),'Raw Data'!$A$2:$D$690331,4,FALSE),\"N/A\")","v":"N/A"},{"$f":"_xlfn.IFNA(VLOOKUP(_xlfn.CONCAT($C$2,\"-\",$E83,\"-\",$F83,\"-\",N$3),'Raw Data'!$A$2:$D$690331,4,FALSE),\"N/A\")","v":"N/A"},{"$f":"_xlfn.IFNA(VLOOKUP(_xlfn.CONCAT($C$2,\"-\",$E83,\"-\",$F83,\"-\",O$3),'Raw Data'!$A$2:$D$690331,4,FALSE),\"N/A\")","v":"N/A"},{"$f":"_xlfn.IFNA(VLOOKUP(_xlfn.CONCAT($C$2,\"-\",$E83,\"-\",$F83,\"-\",P$3),'Raw Data'!$A$2:$D$690331,4,FALSE),\"N/A\")","v":"N/A"},{"$f":"_xlfn.IFNA(VLOOKUP(_xlfn.CONCAT($C$2,\"-\",$E83,\"-\",$F83,\"-\",Q$3),'Raw Data'!$A$2:$D$690331,4,FALSE),\"N/A\")","v":"N/A"},{"$f":"_xlfn.IFNA(VLOOKUP(_xlfn.CONCAT($C$2,\"-\",$E83,\"-\",$F83,\"-\",R$3),'Raw Data'!$A$2:$D$690331,4,FALSE),\"N/A\")","v":"N/A"},{"$f":"_xlfn.IFNA(VLOOKUP(_xlfn.CONCAT($C$2,\"-\",$E83,\"-\",$F83,\"-\",S$3),'Raw Data'!$A$2:$D$690331,4,FALSE),\"N/A\")","v":"N/A"}]
[null,null,null,null,21,3,null,{"$f":"_xlfn.IFNA(VLOOKUP(_xlfn.CONCAT($C$2,\"-\",$E84,\"-\",$F84,\"-\",H$3),'Raw Data'!$A$2:$D$690331,4,FALSE),\"N/A\")","v":"N/A"},{"$f":"_xlfn.IFNA(VLOOKUP(_xlfn.CONCAT($C$2,\"-\",$E84,\"-\",$F84,\"-\",I$3),'Raw Data'!$A$2:$D$690331,4,FALSE),\"N/A\")","v":"N/A"},{"$f":"_xlfn.IFNA(VLOOKUP(_xlfn.CONCAT($C$2,\"-\",$E84,\"-\",$F84,\"-\",J$3),'Raw Data'!$A$2:$D$690331,4,FALSE),\"N/A\")","v":"N/A"},{"$f":"_xlfn.IFNA(VLOOKUP(_xlfn.CONCAT($C$2,\"-\",$E84,\"-\",$F84,\"-\",K$3),'Raw Data'!$A$2:$D$690331,4,FALSE),\"N/A\")","v":"N/A"},{"$f":"_xlfn.IFNA(VLOOKUP(_xlfn.CONCAT($C$2,\"-\",$E84,\"-\",$F84,\"-\",L$3),'Raw Data'!$A$2:$D$690331,4,FALSE),\"N/A\")","v":"N/A"},{"$f":"_xlfn.IFNA(VLOOKUP(_xlfn.CONCAT($C$2,\"-\",$E84,\"-\",$F84,\"-\",M$3),'Raw Data'!$A$2:$D$690331,4,FALSE),\"N/A\")","v":"N/A"},{"$f":"_xlfn.IFNA(VLOOKUP(_xlfn.CONCAT($C$2,\"-\",$E84,\"-\",$F84,\"-\",N$3),'Raw Data'!$A$2:$D$690331,4,FALSE),\"N/A\")","v":"N/A"},{"$f":"_xlfn.IFNA(VLOOKUP(_xlfn.CONCAT($C$2,\"-\",$E84,\"-\",$F84,\"-\",O$3),'Raw Data'!$A$2:$D$690331,4,FALSE),\"N/A\")","v":"N/A"},{"$f":"_xlfn.IFNA(VLOOKUP(_xlfn.CONCAT($C$2,\"-\",$E84,\"-\",$F84,\"-\",P$3),'Raw Data'!$A$2:$D$690331,4,FALSE),\"N/A\")","v":"N/A"},{"$f":"_xlfn.IFNA(VLOOKUP(_xlfn.CONCAT($C$2,\"-\",$E84,\"-\",$F84,\"-\",Q$3),'Raw Data'!$A$2:$D$690331,4,FALSE),\"N/A\")","v":"N/A"},{"$f":"_xlfn.IFNA(VLOOKUP(_xlfn.CONCAT($C$2,\"-\",$E84,\"-\",$F84,\"-\",R$3),'Raw Data'!$A$2:$D$690331,4,FALSE),\"N/A\")","v":"N/A"},{"$f":"_xlfn.IFNA(VLOOKUP(_xlfn.CONCAT($C$2,\"-\",$E84,\"-\",$F84,\"-\",S$3),'Raw Data'!$A$2:$D$690331,4,FALSE),\"N/A\")","v":"N/A"}]
[null,null,null,null,22,3,null,{"$f":"_xlfn.IFNA(VLOOKUP(_xlfn.CONCAT($C$2,\"-\",$E85,\"-\",$F85,\"-\",H$3),'Raw Data'!$A$2:$D$690331,4,FALSE),\"N/A\")","v":"N/A"},{"$f":"_xlfn.IFNA(VLOOKUP(_xlfn.CONCAT($C$2,\"-\",$E85,\"-\",$F85,\"-\",I$3),'Raw Data'!$A$2:$D$690331,4,FALSE),\"N/A\")","v":"N/A"},{"$f":"_xlfn.IFNA(VLOOKUP(_xlfn.CONCAT($C$2,\"-\",$E85,\"-\",$F85,\"-\",J$3),'Raw Data'!$A$2:$D$690331,4,FALSE),\"N/A\")","v":"N/A"},{"$f":"_xlfn.IFNA(VLOOKUP(_xlfn.CONCAT($C$2,\"-\",$E85,\"-\",$F85,\"-\",K$3),'Raw Data'!$A$2:$D$690331,4,FALSE),\"N/A\")","v":"N/A"},{"$f":"_xlfn.IFNA(VLOOKUP(_xlfn.CONCAT($C$2,\"-\",$E85,\"-\",$F85,\"-\",L$3),'Raw Data'!$A$2:$D$690331,4,FALSE),\"N/A\")","v":"N/A"},{"$f":"_xlfn.IFNA(VLOOKUP(_xlfn.CONCAT($C$2,\"-\",$E85,\"-\",$F85,\"-\",M$3),'Raw Data'!$A$2:$D$690331,4,FALSE),\"N/A\")","v":"N/A"},{"$f":"_xlfn.IFNA(VLOOKUP(_xlfn.CONCAT($C$2,\"-\",$E85,\"-\",$F85,\"-\",N$3),'Raw Data'!$A$2:$D$690331,4,FALSE),\"N/A\")","v":"N/A"},{"$f":"_xlfn.IFNA(VLOOKUP(_xlfn.CONCAT($C$2,\"-\",$E85,\"-\",$F85,\"-\",O$3),'Raw Data'!$A$2:$D$690331,4,FALSE),\"N/A\")","v":"N/A"},{"$f":"_xlfn.IFNA(VLOOKUP(_xlfn.CONCAT($C$2,\"-\",$E85,\"-\",$F85,\"-\",P$3),'Raw Data'!$A$2:$D$690331,4,FALSE),\"N/A\")","v":"N/A"},{"$f":"_xlfn.IFNA(VLOOKUP(_xlfn.CONCAT($C$2,\"-\",$E85,\"-\",$F85,\"-\",Q$3),'Raw Data'!$A$2:$D$690331,4,FALSE),\"N/A\")","v":"N/A"},{"$f":"_xlfn.IFNA(VLOOKUP(_xlfn.CONCAT($C$2,\"-\",$E85,\"-\",$F85,\"-\",R$3),'Raw Data'!$A$2:$D$690331,4,FALSE),\"N/A\")","v":"N/A"},{"$f":"_xlfn.IFNA(VLOOKUP(_xlfn.CONCAT($C$2,\"-\",$E85,\"-\",$F85,\"-\",S$3),'Raw Data'!$A$2:$D$690331,4,FALSE),\"N/A\")","v":"N/A"}]
[null,null,null,null,23,3,null,{"$f":"_xlfn.IFNA(VLOOKUP(_xlfn.CONCAT($C$2,\"-\",$E86,\"-\",$F86,\"-\",H$3),'Raw Data'!$A$2:$D$690331,4,FALSE),\"N/A\")","v":"N/A"},{"$f":"_xlfn.IFNA(VLOOKUP(_xlfn.CONCAT($C$2,\"-\",$E86,\"-\",$F86,\"-\",I$3),'Raw Data'!$A$2:$D$690331,4,FALSE),\"N/A\")","v":"N/A"},{"$f":"_xlfn.IFNA(VLOOKUP(_xlfn.CONCAT($C$2,\"-\",$E86,\"-\",$F86,\"-\",J$3),'Raw Data'!$A$2:$D$690331,4,FALSE),\"N/A\")","v":"N/A"},{"$f":"_xlfn.IFNA(VLOOKUP(_xlfn.CONCAT($C$2,\"-\",$E86,\"-\",$F86,\"-\",K$3),'Raw Data'!$A$2:$D$690331,4,FALSE),\"N/A\")","v":"N/A"},{"$f":"_xlfn.IFNA(VLOOKUP(_xlfn.CONCAT($C$2,\"-\",$E86,\"-\",$F86,\"-\",L$3),'Raw Data'!$A$2:$D$690331,4,FALSE),\"N/A\")","v":"N/A"},{"$f":"_xlfn.IFNA(VLOOKUP(_xlfn.CONCAT($C$2,\"-\",$E86,\"-\",$F86,\"-\",M$3),'Raw Data'!$A$2:$D$690331,4,FALSE),\"N/A\")","v":"N/A"},{"$f":"_xlfn.IFNA(VLOOKUP(_xlfn.CONCAT($C$2,\"-\",$E86,\"-\",$F86,\"-\",N$3),'Raw Data'!$A$2:$D$690331,4,FALSE),\"N/A\")","v":"N/A"},{"$f":"_xlfn.IFNA(VLOOKUP(_xlfn.CONCAT($C$2,\"-\",$E86,\"-\",$F86,\"-\",O$3),'Raw Data'!$A$2:$D$690331,4,FALSE),\"N/A\")","v":"N/A"},{"$f":"_xlfn.IFNA(VLOOKUP(_xlfn.CONCAT($C$2,\"-\",$E86,\"-\",$F86,\"-\",P$3),'Raw Data'!$A$2:$D$690331,4,FALSE),\"N/A\")","v":"N/A"},{"$f":"_xlfn.IFNA(VLOOKUP(_xlfn.CONCAT($C$2,\"-\",$E86,\"-\",$F86,\"-\",Q$3),'Raw Data'!$A$2:$D$690331,4,FALSE),\"N/A\")","v":"N/A"},{"$f":"_xlfn.IFNA(VLOOKUP(_xlfn.CONCAT($C$2,\"-\",$E86,\"-\",$F86,\"-\",R$3),'Raw Data'!$A$2:$D$690331,4,FALSE),\"N/A\")","v":"N/A"},{"$f":"_xlfn.IFNA(VLOOKUP(_xlfn.CONCAT($C$2,\"-\",$E86,\"-\",$F86,\"-\",S$3),'Raw Data'!$A$2:$D$690331,4,FALSE),\"N/A\")","v":"N/A"}]
[null,null,null,null,24,3,null,{"$f":"_xlfn.IFNA(VLOOKUP(_xlfn.CONCAT($C$2,\"-\",$E87,\"-\",$F87,\"-\",H$3),'Raw Data'!$A$2:$D$690331,4,FALSE),\"N/A\")","v":"N/A"},{"$f":"_xlfn.IFNA(VLOOKUP(_xlfn.CONCAT($C$2,\"-\",$E87,\"-\",$F87,\"-\",I$3),'Raw Data'!$A$2:$D$690331,4,FALSE),\"N/A\")","v":"N/A"},{"$f":"_xlfn.IFNA(VLOOKUP(_xlfn.CONCAT($C$2,\"-\",$E87,\"-\",$F87,\"-\",J$3),'Raw Data'!$A$2:$D$690331,4,FALSE),\"N/A\")","v":"N/A"},{"$f":"_xlfn.IFNA(VLOOKUP(_xlfn.CONCAT($C$2,\"-\",$E87,\"-\",$F87,\"-\",K$3),'Raw Data'!$A$2:$D$690331,4,FALSE),\"N/A\")","v":"N/A"},{"$f":"_xlfn.IFNA(VLOOKUP(_xlfn.CONCAT($C$2,\"-\",$E87,\"-\",$F87,\"-\",L$3),'Raw Data'!$A$2:$D$690331,4,FALSE),\"N/A\")","v":"N/A"},{"$f":"_xlfn.IFNA(VLOOKUP(_xlfn.CONCAT($C$2,\"-\",$E87,\"-\",$F87,\"-\",M$3),'Raw Data'!$A$2:$D$690331,4,FALSE),\"N/A\")","v":"N/A"},{"$f":"_xlfn.IFNA(VLOOKUP(_xlfn.CONCAT($C$2,\"-\",$E87,\"-\",$F87,\"-\",N$3),'Raw Data'!$A$2:$D$690331,4,FALSE),\"N/A\")","v":"N/A"},{"$f":"_xlfn.IFNA(VLOOKUP(_xlfn.CONCAT($C$2,\"-\",$E87,\"-\",$F87,\"-\",O$3),'Raw Data'!$A$2:$D$690331,4,FALSE),\"N/A\")","v":"N/A"},{"$f":"_xlfn.IFNA(VLOOKUP(_xlfn.CONCAT($C$2,\"-\",$E87,\"-\",$F87,\"-\",P$3),'Raw Data'!$A$2:$D$690331,4,FALSE),\"N/A\")","v":"N/A"},{"$f":"_xlfn.IFNA(VLOOKUP(_xlfn.CONCAT($C$2,\"-\",$E87,\"-\",$F87,\"-\",Q$3),'Raw Data'!$A$2:$D$690331,4,FALSE),\"N/A\")","v":"N/A"},{"$f":"_xlfn.IFNA(VLOOKUP(_xlfn.CONCAT($C$2,\"-\",$E87,\"-\",$F87,\"-\",R$3),'Raw Data'!$A$2:$D$690331,4,FALSE),\"N/A\")","v":"N/A"},{"$f":"_xlfn.IFNA(VLOOKUP(_xlfn.CONCAT($C$2,\"-\",$E87,\"-\",$F87,\"-\",S$3),'Raw Data'!$A$2:$D$690331,4,FALSE),\"N/A\")","v":"N/A"}]
[null,null,null,null,25,3,null,{"$f":"_xlfn.IFNA(VLOOKUP(_xlfn.CONCAT($C$2,\"-\",$E88,\"-\",$F88,\"-\",H$3),'Raw Data'!$A$2:$D$690331,4,FALSE),\"N/A\")","v":"N/A"},{"$f":"_xlfn.IFNA(VLOOKUP(_xlfn.CONCAT($C$2,\"-\",$E88,\"-\",$F88,\"-\",I$3),'Raw Data'!$A$2:$D$690331,4,FALSE),\"N/A\")","v":"N/A"},{"$f":"_xlfn.IFNA(VLOOKUP(_xlfn.CONCAT($C$2,\"-\",$E88,\"-\",$F88,\"-\",J$3),'Raw Data'!$A$2:$D$690331,4,FALSE),\"N/A\")","v":"N/A"},{"$f":"_xlfn.IFNA(VLOOKUP(_xlfn.CONCAT($C$2,\"-\",$E88,\"-\",$F88,\"-\",K$3),'Raw Data'!$A$2:$D$690331,4,FALSE),\"N/A\")","v":"N/A"},{"$f":"_xlfn.IFNA(VLOOKUP(_xlfn.CONCAT($C$2,\"-\",$E88,\"-\",$F88,\"-\",L$3),'Raw Data'!$A$2:$D$690331,4,FALSE),\"N/A\")","v":"N/A"},{"$f":"_xlfn.IFNA(VLOOKUP(_xlfn.CONCAT($C$2,\"-\",$E88,\"-\",$F88,\"-\",M$3),'Raw Data'!$A$2:$D$690331,4,FALSE),\"N/A\")","v":"N/A"},{"$f":"_xlfn.IFNA(VLOOKUP(_xlfn.CONCAT($C$2,\"-\",$E88,\"-\",$F88,\"-\",N$3),'Raw Data'!$A$2:$D$690331,4,FALSE),\"N/A\")","v":"N/A"},{"$f":"_xlfn.IFNA(VLOOKUP(_xlfn.CONCAT($C$2,\"-\",$E88,\"-\",$F88,\"-\",O$3),'Raw Data'!$A$2:$D$690331,4,FALSE),\"N/A\")","v":"N/A"},{"$f":"_xlfn.IFNA(VLOOKUP(_xlfn.CONCAT($C$2,\"-\",$E88,\"-\",$F88,\"-\",P$3),'Raw Data'!$A$2:$D$690331,4,FALSE),\"N/A\")","v":"N/A"},{"$f":"_xlfn.IFNA(VLOOKUP(_xlfn.CONCAT($C$2,\"-\",$E88,\"-\",$F88,\"-\",Q$3),'Raw Data'!$A$2:$D$690331,4,FALSE),\"N/A\")","v":"N/A"},{"$f":"_xlfn.IFNA(VLOOKUP(_xlfn.CONCAT($C$2,\"-\",$E88,\"-\",$F88,\"-\",R$3),'Raw Data'!$A$2:$D$690331,4,FALSE),\"N/A\")","v":"N/A"},{"$f":"_xlfn.IFNA(VLOOKUP(_xlfn.CONCAT($C$2,\"-\",$E88,\"-\",$F88,\"-\",S$3),'Raw Data'!$A$2:$D$690331,4,FALSE),\"N/A\")","v":"N/A"}]
[null,null,null,null,26,3,null,{"$f":"_xlfn.IFNA(VLOOKUP(_xlfn.CONCAT($C$2,\"-\",$E89,\"-\",$F89,\"-\",H$3),'Raw Data'!$A$2:$D$690331,4,FALSE),\"N/A\")","v":"N/A"},{"$f":"_xlfn.IFNA(VLOOKUP(_xlfn.CONCAT($C$2,\"-\",$E89,\"-\",$F89,\"-\",I$3),'Raw Data'!$A$2:$D$690331,4,FALSE),\"N/A\")","v":"N/A"},{"$f":"_xlfn.IFNA(VLOOKUP(_xlfn.CONCAT($C$2,\"-\",$E89,\"-\",$F89,\"-\",J$3),'Raw Data'!$A$2:$D$690331,4,FALSE),\"N/A\")","v":"N/A"},{"$f":"_xlfn.IFNA(VLOOKUP(_xlfn.CONCAT($C$2,\"-\",$E89,\"-\",$F89,\"-\",K$3),'Raw Data'!$A$2:$D$690331,4,FALSE),\"N/A\")","v":"N/A"},{"$f":"_xlfn.IFNA(VLOOKUP(_xlfn.CONCAT($C$2,\"-\",$E89,\"-\",$F89,\"-\",L$3),'Raw Data'!$A$2:$D$690331,4,FALSE),\"N/A\")","v":"N/A"},{"$f":"_xlfn.IFNA(VLOOKUP(_xlfn.CONCAT($C$2,\"-\",$E89,\"-\",$F89,\"-\",M$3),'Raw Data'!$A$2:$D$690331,4,FALSE),\"N/A\")","v":"N/A"},{"$f":"_xlfn.IFNA(VLOOKUP(_xlfn.CONCAT($C$2,\"-\",$E89,\"-\",$F89,\"-\",N$3),'Raw Data'!$A$2:$D$690331,4,FALSE),\"N/A\")","v":"N/A"},{"$f":"_xlfn.IFNA(VLOOKUP(_xlfn.CONCAT($C$2,\"-\",$E89,\"-\",$F89,\"-\",O$3),'Raw Data'!$A$2:$D$690331,4,FALSE),\"N/A\")","v":"N/A"},{"$f":"_xlfn.IFNA(VLOOKUP(_xlfn.CONCAT($C$2,\"-\",$E89,\"-\",$F89,\"-\",P$3),'Raw Data'!$A$2:$D$690331,4,FALSE),\"N/A\")","v":"N/A"},{"$f":"_xlfn.IFNA(VLOOKUP(_xlfn.CONCAT($C$2,\"-\",$E89,\"-\",$F89,\"-\",Q$3),'Raw Data'!$A$2:$D$690331,4,FALSE),\"N/A\")","v":"N/A"},{"$f":"_xlfn.IFNA(VLOOKUP(_xlfn.CONCAT($C$2,\"-\",$E89,\"-\",$F89,\"-\",R$3),'Raw Data'!$A$2:$D$690331,4,FALSE),\"N/A\")","v":"N/A"},{"$f":"_xlfn.IFNA(VLOOKUP(_xlfn.CONCAT($C$2,\"-\",$E89,\"-\",$F89,\"-\",S$3),'Raw Data'!$A$2:$D$690331,4,FALSE),\"N/A\")","v":"N/A"}]
[null,null,null,null,27,3,null,{"$f":"_xlfn.IFNA(VLOOKUP(_xlfn.CONCAT($C$2,\"-\",$E90,\"-\",$F90,\"-\",H$3),'Raw Data'!$A$2:$D$690331,4,FALSE),\"N/A\")","v":"N/A"},{"$f":"_xlfn.IFNA(VLOOKUP(_xlfn.CONCAT($C$2,\"-\",$E90,\"-\",$F90,\"-\",I$3),'Raw Data'!$A$2:$D$690331,4,FALSE),\"N/A\")","v":"N/A"},{"$f":"_xlfn.IFNA(VLOOKUP(_xlfn.CONCAT($C$2,\"-\",$E90,\"-\",$F90,\"-\",J$3),'Raw Data'!$A$2:$D$690331,4,FALSE),\"N/A\")","v":"N/A"},{"$f":"_xlfn.IFNA(VLOOKUP(_xlfn.CONCAT($C$2,\"-\",$E90,\"-\",$F90,\"-\",K$3),'Raw Data'!$A$2:$D$690331,4,FALSE),\"N/A\")","v":"N/A"},{"$f":"_xlfn.IFNA(VLOOKUP(_xlfn.CONCAT($C$2,\"-\",$E90,\"-\",$F90,\"-\",L$3),'Raw Data'!$A$2:$D$690331,4,FALSE),\"N/A\")","v":"N/A"},{"$f":"_xlfn.IFNA(VLOOKUP(_xlfn.CONCAT($C$2,\"-\",$E90,\"-\",$F90,\"-\",M$3),'Raw Data'!$A$2:$D$690331,4,FALSE),\"N/A\")","v":"N/A"},{"$f":"_xlfn.IFNA(VLOOKUP(_xlfn.CONCAT($C$2,\"-\",$E90,\"-\",$F90,\"-\",N$3),'Raw Data'!$A$2:$D$690331,4,FALSE),\"N/A\")","v":"N/A"},{"$f":"_xlfn.IFNA(VLOOKUP(_xlfn.CONCAT($C$2,\"-\",$E90,\"-\",$F90,\"-\",O$3),'Raw Data'!$A$2:$D$690331,4,FALSE),\"N/A\")","v":"N/A"},{"$f":"_xlfn.IFNA(VLOOKUP(_xlfn.CONCAT($C$2,\"-\",$E90,\"-\",$F90,\"-\",P$3),'Raw Data'!$A$2:$D$690331,4,FALSE),\"N/A\")","v":"N/A"},{"$f":"_xlfn.IFNA(VLOOKUP(_xlfn.CONCAT($C$2,\"-\",$E90,\"-\",$F90,\"-\",Q$3),'Raw Data'!$A$2:$D$690331,4,FALSE),\"N/A\")","v":"N/A"},{"$f":"_xlfn.IFNA(VLOOKUP(_xlfn.CONCAT($C$2,\"-\",$E90,\"-\",$F90,\"-\",R$3),'Raw Data'!$A$2:$D$690331,4,FALSE),\"N/A\")","v":"N/A"},{"$f":"_xlfn.IFNA(VLOOKUP(_xlfn.CONCAT($C$2,\"-\",$E90,\"-\",$F90,\"-\",S$3),'Raw Data'!$A$2:$D$690331,4,FALSE),\"N/A\")","v":"N/A"}]
[null,null,null,null,28,3,null,{"$f":"_xlfn.IFNA(VLOOKUP(_xlfn.CONCAT($C$2,\"-\",$E91,\"-\",$F91,\"-\",H$3),'Raw Data'!$A$2:$D$690331,4,FALSE),\"N/A\")","v":"N/A"},{"$f":"_xlfn.IFNA(VLOOKUP(_xlfn.CONCAT($C$2,\"-\",$E91,\"-\",$F91,\"-\",I$3),'Raw Data'!$A$2:$D$690331,4,FALSE),\"N/A\")","v":"N/A"},{"$f":"_xlfn.IFNA(VLOOKUP(_xlfn.CONCAT($C$2,\"-\",$E91,\"-\",$F91,\"-\",J$3),'Raw Data'!$A$2:$D$690331,4,FALSE),\"N/A\")","v":"N/A"},{"$f":"_xlfn.IFNA(VLOOKUP(_xlfn.CONCAT($C$2,\"-\",$E91,\"-\",$F91,\"-\",K$3),'Raw Data'!$A$2:$D$690331,4,FALSE),\"N/A\")","v":"N/A"},{"$f":"_xlfn.IFNA(VLOOKUP(_xlfn.CONCAT($C$2,\"-\",$E91,\"-\",$F91,\"-\",L$3),'Raw Data'!$A$2:$D$690331,4,FALSE),\"N/A\")","v":"N/A"},{"$f":"_xlfn.IFNA(VLOOKUP(_xlfn.CONCAT($C$2,\"-\",$E91,\"-\",$F91,\"-\",M$3),'Raw Data'!$A$2:$D$690331,4,FALSE),\"N/A\")","v":"N/A"},{"$f":"_xlfn.IFNA(VLOOKUP(_xlfn.CONCAT($C$2,\"-\",$E91,\"-\",$F91,\"-\",N$3),'Raw Data'!$A$2:$D$690331,4,FALSE),\"N/A\")","v":"N/A"},{"$f":"_xlfn.IFNA(VLOOKUP(_xlfn.CONCAT($C$2,\"-\",$E91,\"-\",$F91,\"-\",O$3),'Raw Data'!$A$2:$D$690331,4,FALSE),\"N/A\")","v":"N/A"},{"$f":"_xlfn.IFNA(VLOOKUP(_xlfn.CONCAT($C$2,\"-\",$E91,\"-\",$F91,\"-\",P$3),'Raw Data'!$A$2:$D$690331,4,FALSE),\"N/A\")","v":"N/A"},{"$f":"_xlfn.IFNA(VLOOKUP(_xlfn.CONCAT($C$2,\"-\",$E91,\"-\",$F91,\"-\",Q$3),'Raw Data'!$A$2:$D$690331,4,FALSE),\"N/A\")","v":"N/A"},{"$f":"_xlfn.IFNA(VLOOKUP(_xlfn.CONCAT($C$2,\"-\",$E91,\"-\",$F91,\"-\",R$3),'Raw Data'!$A$2:$D$690331,4,FALSE),\"N/A\")","v":"N/A"},{"$f":"_xlfn.IFNA(VLOOKUP(_xlfn.CONCAT($C$2,\"-\",$E91,\"-\",$F91,\"-\",S$3),'Raw Data'!$A$2:$D$690331,4,FALSE),\"N/A\")","v":"N/A"}]
[null,null,null,null,29,3,null,{"$f":"_xlfn.IFNA(VLOOKUP(_xlfn.CONCAT($C$2,\"-\",$E92,\"-\",$F92,\"-\",H$3),'Raw Data'!$A$2:$D$690331,4,FALSE),\"N/A\")","v":"N/A"},{"$f":"_xlfn.IFNA(VLOOKUP(_xlfn.CONCAT($C$2,\"-\",$E92,\"-\",$F92,\"-\",I$3),'Raw Data'!$A$2:$D$690331,4,FALSE),\"N/A\")","v":"N/A"},{"$f":"_xlfn.IFNA(VLOOKUP(_xlfn.CONCAT($C$2,\"-\",$E92,\"-\",$F92,\"-\",J$3),'Raw Data'!$A$2:$D$690331,4,FALSE),\"N/A\")","v":"N/A"},{"$f":"_xlfn.IFNA(VLOOKUP(_xlfn.CONCAT($C$2,\"-\",$E92,\"-\",$F92,\"-\",K$3),'Raw Data'!$A$2:$D$690331,4,FALSE),\"N/A\")","v":"N/A"},{"$f":"_xlfn.IFNA(VLOOKUP(_xlfn.CONCAT($C$2,\"-\",$E92,\"-\",$F92,\"-\",L$3),'Raw Data'!$A$2:$D$690331,4,FALSE),\"N/A\")","v":"N/A"},{"$f":"_xlfn.IFNA(VLOOKUP(_xlfn.CONCAT($C$2,\"-\",$E92,\"-\",$F92,\"-\",M$3),'Raw Data'!$A$2:$D$690331,4,FALSE),\"N/A\")","v":"N/A"},{"$f":"_xlfn.IFNA(VLOOKUP(_xlfn.CONCAT($C$2,\"-\",$E92,\"-\",$F92,\"-\",N$3),'Raw Data'!$A$2:$D$690331,4,FALSE),\"N/A\")","v":"N/A"},{"$f":"_xlfn.IFNA(VLOOKUP(_xlfn.CONCAT($C$2,\"-\",$E92,\"-\",$F92,\"-\",O$3),'Raw Data'!$A$2:$D$690331,4,FALSE),\"N/A\")","v":"N/A"},{"$f":"_xlfn.IFNA(VLOOKUP(_xlfn.CONCAT($C$2,\"-\",$E92,\"-\",$F92,\"-\",P$3),'Raw Data'!$A$2:$D$690331,4,FALSE),\"N/A\")","v":"N/A"},{"$f":"_xlfn.IFNA(VLOOKUP(_xlfn.CONCAT($C$2,\"-\",$E92,\"-\",$F92,\"-\",Q$3),'Raw Data'!$A$2:$D$690331,4,FALSE),\"N/A\")","v":"N/A"},{"$f":"_xlfn.IFNA(VLOOKUP(_xlfn.CONCAT($C$2,\"-\",$E92,\"-\",$F92,\"-\",R$3),'Raw Data'!$A$2:$D$690331,4,FALSE),\"N/A\")","v":"N/A"},{"$f":"_xlfn.IFNA(VLOOKUP(_xlfn.CONCAT($C$2,\"-\",$E92,\"-\",$F92,\"-\",S$3),'Raw Data'!$A$2:$D$690331,4,FALSE),\"N/A\")","v":"N/A"}]
[null,null,null,null,30,3,null,{"$f":"_xlfn.IFNA(VLOOKUP(_xlfn.CONCAT($C$2,\"-\",$E93,\"-\",$F93,\"-\",H$3),'Raw Data'!$A$2:$D$690331,4,FALSE),\"N/A\")","v":"N/A"},{"$f":"_xlfn.IFNA(VLOOKUP(_xlfn.CONCAT($C$2,\"-\",$E93,\"-\",$F93,\"-\",I$3),'Raw Data'!$A$2:$D$690331,4,FALSE),\"N/A\")","v":"N/A"},{"$f":"_xlfn.IFNA(VLOOKUP(_xlfn.CONCAT($C$2,\"-\",$E93,\"-\",$F93,\"-\",J$3),'Raw Data'!$A$2:$D$690331,4,FALSE),\"N/A\")","v":"N/A"},{"$f":"_xlfn.IFNA(VLOOKUP(_xlfn.CONCAT($C$2,\"-\",$E93,\"-\",$F93,\"-\",K$3),'Raw Data'!$A$2:$D$690331,4,FALSE),\"N/A\")","v":"N/A"},{"$f":"_xlfn.IFNA(VLOOKUP(_xlfn.CONCAT($C$2,\"-\",$E93,\"-\",$F93,\"-\",L$3),'Raw Data'!$A$2:$D$690331,4,FALSE),\"N/A\")","v":"N/A"},{"$f":"_xlfn.IFNA(VLOOKUP(_xlfn.CONCAT($C$2,\"-\",$E93,\"-\",$F93,\"-\",M$3),'Raw Data'!$A$2:$D$690331,4,FALSE),\"N/A\")","v":"N/A"},{"$f":"_xlfn.IFNA(VLOOKUP(_xlfn.CONCAT($C$2,\"-\",$E93,\"-\",$F93,\"-\",N$3),'Raw Data'!$A$2:$D$690331,4,FALSE),\"N/A\")","v":"N/A"},{"$f":"_xlfn.IFNA(VLOOKUP(_xlfn.CONCAT($C$2,\"-\",$E93,\"-\",$F93,\"-\",O$3),'Raw Data'!$A$2:$D$690331,4,FALSE),\"N/A\")","v":"N/A"},{"$f":"_xlfn.IFNA(VLOOKUP(_xlfn.CONCAT($C$2,\"-\",$E93,\"-\",$F93,\"-\",P$3),'Raw Data'!$A$2:$D$690331,4,FALSE),\"N/A\")","v":"N/A"},{"$f":"_xlfn.IFNA(VLOOKUP(_xlfn.CONCAT($C$2,\"-\",$E93,\"-\",$F93,\"-\",Q$3),'Raw Data'!$A$2:$D$690331,4,FALSE),\"N/A\")","v":"N/A"},{"$f":"_xlfn.IFNA(VLOOKUP(_xlfn.CONCAT($C$2,\"-\",$E93,\"-\",$F93,\"-\",R$3),'Raw Data'!$A$2:$D$690331,4,FALSE),\"N/A\")","v":"N/A"},{"$f":"_xlfn.IFNA(VLOOKUP(_xlfn.CONCAT($C$2,\"-\",$E93,\"-\",$F93,\"-\",S$3),'Raw Data'!$A$2:$D$690331,4,FALSE),\"N/A\")","v":"N/A"}]
[null,null,null,null,31,3,null,{"$f":"_xlfn.IFNA(VLOOKUP(_xlfn.CONCAT($C$2,\"-\",$E94,\"-\",$F94,\"-\",H$3),'Raw Data'!$A$2:$D$690331,4,FALSE),\"N/A\")","v":"N/A"},{"$f":"_xlfn.IFNA(VLOOKUP(_xlfn.CONCAT($C$2,\"-\",$E94,\"-\",$F94,\"-\",I$3),'Raw Data'!$A$2:$D$690331,4,FALSE),\"N/A\")","v":"N/A"},{"$f":"_xlfn.IFNA(VLOOKUP(_xlfn.CONCAT($C$2,\"-\",$E94,\"-\",$F94,\"-\",J$3),'Raw Data'!$A$2:$D$690331,4,FALSE),\"N/A\")","v":"N/A"},{"$f":"_xlfn.IFNA(VLOOKUP(_xlfn.CONCAT($C$2,\"-\",$E94,\"-\",$F94,\"-\",K$3),'Raw Data'!$A$2:$D$690331,4,FALSE),\"N/A\")","v":"N/A"},{"$f":"_xlfn.IFNA(VLOOKUP(_xlfn.CONCAT($C$2,\"-\",$E94,\"-\",$F94,\"-\",L$3),'Raw Data'!$A$2:$D$690331,4,FALSE),\"N/A\")","v":"N/A"},{"$f":"_xlfn.IFNA(VLOOKUP(_xlfn.CONCAT($C$2,\"-\",$E94,\"-\",$F94,\"-\",M$3),'Raw Data'!$A$2:$D$690331,4,FALSE),\"N/A\")","v":"N/A"},{"$f":"_xlfn.IFNA(VLOOKUP(_xlfn.CONCAT($C$2,\"-\",$E94,\"-\",$F94,\"-\",N$3),'Raw Data'!$A$2:$D$690331,4,FALSE),\"N/A\")","v":"N/A"},{"$f":"_xlfn.IFNA(VLOOKUP(_xlfn.CONCAT($C$2,\"-\",$E94,\"-\",$F94,\"-\",O$3),'Raw Data'!$A$2:$D$690331,4,FALSE),\"N/A\")","v":"N/A"},{"$f":"_xlfn.IFNA(VLOOKUP(_xlfn.CONCAT($C$2,\"-\",$E94,\"-\",$F94,\"-\",P$3),'Raw Data'!$A$2:$D$690331,4,FALSE),\"N/A\")","v":"N/A"},{"$f":"_xlfn.IFNA(VLOOKUP(_xlfn.CONCAT($C$2,\"-\",$E94,\"-\",$F94,\"-\",Q$3),'Raw Data'!$A$2:$D$690331,4,FALSE),\"N/A\")","v":"N/A"},{"$f":"_xlfn.IFNA(VLOOKUP(_xlfn.CONCAT($C$2,\"-\",$E94,\"-\",$F94,\"-\",R$3),'Raw Data'!$A$2:$D$690331,4,FALSE),\"N/A\")","v":"N/A"},{"$f":"_xlfn.IFNA(VLOOKUP(_xlfn.CONCAT($C$2,\"-\",$E94,\"-\",$F94,\"-\",S$3),'Raw Data'!$A$2:$D$690331,4,FALSE),\"N/A\")","v":"N/A"}]
[null,null,null,null,1,4,null,{"$f":"_xlfn.IFNA(VLOOKUP(_xlfn.CONCAT($C$2,\"-\",$E95,\"-\",$F95,\"-\",H$3),'Raw Data'!$A$2:$D$690331,4,FALSE),\"N/A\")","v":"N/A"},{"$f":"_xlfn.IFNA(VLOOKUP(_xlfn.CONCAT($C$2,\"-\",$E95,\"-\",$F95,\"-\",I$3),'Raw Data'!$A$2:$D$690331,4,FALSE),\"N/A\")","v":"N/A"},{"$f":"_xlfn.IFNA(VLOOKUP(_xlfn.CONCAT($C$2,\"-\",$E95,\"-\",$F95,\"-\",J$3),'Raw Data'!$A$2:$D$690331,4,FALSE),\"N/A\")","v":"N/A"},{"$f":"_xlfn.IFNA(VLOOKUP(_xlfn.CONCAT($C$2,\"-\",$E95,\"-\",$F95,\"-\",K$3),'Raw Data'!$A$2:$D$690331,4,FALSE),\"N/A\")","v":"N/A"},{"$f":"_xlfn.IFNA(VLOOKUP(_xlfn.CONCAT($C$2,\"-\",$E95,\"-\",$F95,\"-\",L$3),'Raw Data'!$A$2:$D$690331,4,FALSE),\"N/A\")","v":"N/A"},{"$f":"_xlfn.IFNA(VLOOKUP(_xlfn.CONCAT($C$2,\"-\",$E95,\"-\",$F95,\"-\",M$3),'Raw Data'!$A$2:$D$690331,4,FALSE),\"N/A\")","v":"N/A"},{"$f":"_xlfn.IFNA(VLOOKUP(_xlfn.CONCAT($C$2,\"-\",$E95,\"-\",$F95,\"-\",N$3),'Raw Data'!$A$2:$D$690331,4,FALSE),\"N/A\")","v":"N/A"},{"$f":"_xlfn.IFNA(VLOOKUP(_xlfn.CONCAT($C$2,\"-\",$E95,\"-\",$F95,\"-\",O$3),'Raw Data'!$A$2:$D$690331,4,FALSE),\"N/A\")","v":"N/A"},{"$f":"_xlfn.IFNA(VLOOKUP(_xlfn.CONCAT($C$2,\"-\",$E95,\"-\",$F95,\"-\",P$3),'Raw Data'!$A$2:$D$690331,4,FALSE),\"N/A\")","v":"N/A"},{"$f":"_xlfn.IFNA(VLOOKUP(_xlfn.CONCAT($C$2,\"-\",$E95,\"-\",$F95,\"-\",Q$3),'Raw Data'!$A$2:$D$690331,4,FALSE),\"N/A\")","v":"N/A"},{"$f":"_xlfn.IFNA(VLOOKUP(_xlfn.CONCAT($C$2,\"-\",$E95,\"-\",$F95,\"-\",R$3),'Raw Data'!$A$2:$D$690331,4,FALSE),\"N/A\")","v":"N/A"},{"$f":"_xlfn.IFNA(VLOOKUP(_xlfn.CONCAT($C$2,\"-\",$E95,\"-\",$F95,\"-\",S$3),'Raw Data'!$A$2:$D$690331,4,FALSE),\"N/A\")","v":"N/A"}]
[null,null,null,null,2,4,null,{"$f":"_xlfn.IFNA(VLOOKUP(_xlfn.CONCAT($C$2,\"-\",$E96,\"-\",$F96,\"-\",H$3),'Raw Data'!$A$2:$D$690331,4,FALSE),\"N/A\")","v":"N/A"},{"$f":"_xlfn.IFNA(VLOOKUP(_xlfn.CONCAT($C$2,\"-\",$E96,\"-\",$F96,\"-\",I$3),'Raw Data'!$A$2:$D$690331,4,FALSE),\"N/A\")","v":"N/A"},{"$f":"_xlfn.IFNA(VLOOKUP(_xlfn.CONCAT($C$2,\"-\",$E96,\"-\",$F96,\"-\",J$3),'Raw Data'!$A$2:$D$690331,4,FALSE),\"N/A\")","v":"N/A"},{"$f":"_xlfn.IFNA(VLOOKUP(_xlfn.CONCAT($C$2,\"-\",$E96,\"-\",$F96,\"-\",K$3),'Raw Data'!$A$2:$D$690331,4,FALSE),\"N/A\")","v":"N/A"},{"$f":"_xlfn.IFNA(VLOOKUP(_xlfn.CONCAT($C$2,\"-\",$E96,\"-\",$F96,\"-\",L$3),'Raw Data'!$A$2:$D$690331,4,FALSE),\"N/A\")","v":"N/A"},{"$f":"_xlfn.IFNA(VLOOKUP(_xlfn.CONCAT($C$2,\"-\",$E96,\"-\",$F96,\"-\",M$3),'Raw Data'!$A$2:$D$690331,4,FALSE),\"N/A\")","v":"N/A"},{"$f":"_xlfn.IFNA(VLOOKUP(_xlfn.CONCAT($C$2,\"-\",$E96,\"-\",$F96,\"-\",N$3),'Raw Data'!$A$2:$D$690331,4,FALSE),\"N/A\")","v":"N/A"},{"$f":"_xlfn.IFNA(VLOOKUP(_xlfn.CONCAT($C$2,\"-\",$E96,\"-\",$F96,\"-\",O$3),'Raw Data'!$A$2:$D$690331,4,FALSE),\"N/A\")","v":"N/A"},{"$f":"_xlfn.IFNA(VLOOKUP(_xlfn.CONCAT($C$2,\"-\",$E96,\"-\",$F96,\"-\",P$3),'Raw Data'!$A$2:$D$690331,4,FALSE),\"N/A\")","v":"N/A"},{"$f":"_xlfn.IFNA(VLOOKUP(_xlfn.CONCAT($C$2,\"-\",$E96,\"-\",$F96,\"-\",Q$3),'Raw Data'!$A$2:$D$690331,4,FALSE),\"N/A\")","v":"N/A"},{"$f":"_xlfn.IFNA(VLOOKUP(_xlfn.CONCAT($C$2,\"-\",$E96,\"-\",$F96,\"-\",R$3),'Raw Data'!$A$2:$D$690331,4,FALSE),\"N/A\")","v":"N/A"},{"$f":"_xlfn.IFNA(VLOOKUP(_xlfn.CONCAT($C$2,\"-\",$E96,\"-\",$F96,\"-\",S$3),'Raw Data'!$A$2:$D$690331,4,FALSE),\"N/A\")","v":"N/A"}]
[null,null,null,null,3,4,null,{"$f":"_xlfn.IFNA(VLOOKUP(_xlfn.CONCAT($C$2,\"-\",$E97,\"-\",$F97,\"-\",H$3),'Raw Data'!$A$2:$D$690331,4,FALSE),\"N/A\")","v":"N/A"},{"$f":"_xlfn.IFNA(VLOOKUP(_xlfn.CONCAT($C$2,\"-\",$E97,\"-\",$F97,\"-\",I$3),'Raw Data'!$A$2:$D$690331,4,FALSE),\"N/A\")","v":"N/A"},{"$f":"_xlfn.IFNA(VLOOKUP(_xlfn.CONCAT($C$2,\"-\",$E97,\"-\",$F97,\"-\",J$3),'Raw Data'!$A$2:$D$690331,4,FALSE),\"N/A\")","v":"N/A"},{"$f":"_xlfn.IFNA(VLOOKUP(_xlfn.CONCAT($C$2,\"-\",$E97,\"-\",$F97,\"-\",K$3),'Raw Data'!$A$2:$D$690331,4,FALSE),\"N/A\")","v":"N/A"},{"$f":"_xlfn.IFNA(VLOOKUP(_xlfn.CONCAT($C$2,\"-\",$E97,\"-\",$F97,\"-\",L$3),'Raw Data'!$A$2:$D$690331,4,FALSE),\"N/A\")","v":"N/A"},{"$f":"_xlfn.IFNA(VLOOKUP(_xlfn.CONCAT($C$2,\"-\",$E97,\"-\",$F97,\"-\",M$3),'Raw Data'!$A$2:$D$690331,4,FALSE),\"N/A\")","v":"N/A"},{"$f":"_xlfn.IFNA(VLOOKUP(_xlfn.CONCAT($C$2,\"-\",$E97,\"-\",$F97,\"-\",N$3),'Raw Data'!$A$2:$D$690331,4,FALSE),\"N/A\")","v":"N/A"},{"$f":"_xlfn.IFNA(VLOOKUP(_xlfn.CONCAT($C$2,\"-\",$E97,\"-\",$F97,\"-\",O$3),'Raw Data'!$A$2:$D$690331,4,FALSE),\"N/A\")","v":"N/A"},{"$f":"_xlfn.IFNA(VLOOKUP(_xlfn.CONCAT($C$2,\"-\",$E97,\"-\",$F97,\"-\",P$3),'Raw Data'!$A$2:$D$690331,4,FALSE),\"N/A\")","v":"N/A"},{"$f":"_xlfn.IFNA(VLOOKUP(_xlfn.CONCAT($C$2,\"-\",$E97,\"-\",$F97,\"-\",Q$3),'Raw Data'!$A$2:$D$690331,4,FALSE),\"N/A\")","v":"N/A"},{"$f":"_xlfn.IFNA(VLOOKUP(_xlfn.CONCAT($C$2,\"-\",$E97,\"-\",$F97,\"-\",R$3),'Raw Data'!$A$2:$D$690331,4,FALSE),\"N/A\")","v":"N/A"},{"$f":"_xlfn.IFNA(VLOOKUP(_xlfn.CONCAT($C$2,\"-\",$E97,\"-\",$F97,\"-\",S$3),'Raw Data'!$A$2:$D$690331,4,FALSE),\"N/A\")","v":"N/A"}]
[null,null,null,null,4,4,null,{"$f":"_xlfn.IFNA(VLOOKUP(_xlfn.CONCAT($C$2,\"-\",$E98,\"-\",$F98,\"-\",H$3),'Raw Data'!$A$2:$D$690331,4,FALSE),\"N/A\")","v":"N/A"},{"$f":"_xlfn.IFNA(VLOOKUP(_xlfn.CONCAT($C$2,\"-\",$E98,\"-\",$F98,\"-\",I$3),'Raw Data'!$A$2:$D$690331,4,FALSE),\"N/A\")","v":"N/A"},{"$f":"_xlfn.IFNA(VLOOKUP(_xlfn.CONCAT($C$2,\"-\",$E98,\"-\",$F98,\"-\",J$3),'Raw Data'!$A$2:$D$690331,4,FALSE),\"N/A\")","v":"N/A"},{"$f":"_xlfn.IFNA(VLOOKUP(_xlfn.CONCAT($C$2,\"-\",$E98,\"-\",$F98,\"-\",K$3),'Raw Data'!$A$2:$D$690331,4,FALSE),\"N/A\")","v":"N/A"},{"$f":"_xlfn.IFNA(VLOOKUP(_xlfn.CONCAT($C$2,\"-\",$E98,\"-\",$F98,\"-\",L$3),'Raw Data'!$A$2:$D$690331,4,FALSE),\"N/A\")","v":"N/A"},{"$f":"_xlfn.IFNA(VLOOKUP(_xlfn.CONCAT($C$2,\"-\",$E98,\"-\",$F98,\"-\",M$3),'Raw Data'!$A$2:$D$690331,4,FALSE),\"N/A\")","v":"N/A"},{"$f":"_xlfn.IFNA(VLOOKUP(_xlfn.CONCAT($C$2,\"-\",$E98,\"-\",$F98,\"-\",N$3),'Raw Data'!$A$2:$D$690331,4,FALSE),\"N/A\")","v":"N/A"},{"$f":"_xlfn.IFNA(VLOOKUP(_xlfn.CONCAT($C$2,\"-\",$E98,\"-\",$F98,\"-\",O$3),'Raw Data'!$A$2:$D$690331,4,FALSE),\"N/A\")","v":"N/A"},{"$f":"_xlfn.IFNA(VLOOKUP(_xlfn.CONCAT($C$2,\"-\",$E98,\"-\",$F98,\"-\",P$3),'Raw Data'!$A$2:$D$690331,4,FALSE),\"N/A\")","v":"N/A"},{"$f":"_xlfn.IFNA(VLOOKUP(_xlfn.CONCAT($C$2,\"-\",$E98,\"-\",$F98,\"-\",Q$3),'Raw Data'!$A$2:$D$690331,4,FALSE),\"N/A\")","v":"N/A"},{"$f":"_xlfn.IFNA(VLOOKUP(_xlfn.CONCAT($C$2,\"-\",$E98,\"-\",$F98,\"-\",R$3),'Raw Data'!$A$2:$D$690331,4,FALSE),\"N/A\")","v":"N/A"},{"$f":"_xlfn.IFNA(VLOOKUP(_xlfn.CONCAT($C$2,\"-\",$E98,\"-\",$F98,\"-\",S$3),'Raw Data'!$A$2:$D$690331,4,FALSE),\"N/A\")","v":"N/A"}]
[null,null,null,null,5,4,null,{"$f":"_xlfn.IFNA(VLOOKUP(_xlfn.CONCAT($C$2,\"-\",$E99,\"-\",$F99,\"-\",H$3),'Raw Data'!$A$2:$D$690331,4,FALSE),\"N/A\")","v":"N/A"},{"$f":"_xlfn.IFNA(VLOOKUP(_xlfn.CONCAT($C$2,\"-\",$E99,\"-\",$F99,\"-\",I$3),'Raw Data'!$A$2:$D$690331,4,FALSE),\"N/A\")","v":"N/A"},{"$f":"_xlfn.IFNA(VLOOKUP(_xlfn.CONCAT($C$2,\"-\",$E99,\"-\",$F99,\"-\",J$3),'Raw Data'!$A$2:$D$690331,4,FALSE),\"N/A\")","v":"N/A"},{"$f":"_xlfn.IFNA(VLOOKUP(_xlfn.CONCAT($C$2,\"-\",$E99,\"-\",$F99,\"-\",K$3),'Raw Data'!$A$2:$D$690331,4,FALSE),\"N/A\")","v":"N/A"},{"$f":"_xlfn.IFNA(VLOOKUP(_xlfn.CONCAT($C$2,\"-\",$E99,\"-\",$F99,\"-\",L$3),'Raw Data'!$A$2:$D$690331,4,FALSE),\"N/A\")","v":"N/A"},{"$f":"_xlfn.IFNA(VLOOKUP(_xlfn.CONCAT($C$2,\"-\",$E99,\"-\",$F99,\"-\",M$3),'Raw Data'!$A$2:$D$690331,4,FALSE),\"N/A\")","v":"N/A"},{"$f":"_xlfn.IFNA(VLOOKUP(_xlfn.CONCAT($C$2,\"-\",$E99,\"-\",$F99,\"-\",N$3),'Raw Data'!$A$2:$D$690331,4,FALSE),\"N/A\")","v":"N/A"},{"$f":"_xlfn.IFNA(VLOOKUP(_xlfn.CONCAT($C$2,\"-\",$E99,\"-\",$F99,\"-\",O$3),'Raw Data'!$A$2:$D$690331,4,FALSE),\"N/A\")","v":"N/A"},{"$f":"_xlfn.IFNA(VLOOKUP(_xlfn.CONCAT($C$2,\"-\",$E99,\"-\",$F99,\"-\",P$3),'Raw Data'!$A$2:$D$690331,4,FALSE),\"N/A\")","v":"N/A"},{"$f":"_xlfn.IFNA(VLOOKUP(_xlfn.CONCAT($C$2,\"-\",$E99,\"-\",$F99,\"-\",Q$3),'Raw Data'!$A$2:$D$690331,4,FALSE),\"N/A\")","v":"N/A"},{"$f":"_xlfn.IFNA(VLOOKUP(_xlfn.CONCAT($C$2,\"-\",$E99,\"-\",$F99,\"-\",R$3),'Raw Data'!$A$2:$D$690331,4,FALSE),\"N/A\")","v":"N/A"},{"$f":"_xlfn.IFNA(VLOOKUP(_xlfn.CONCAT($C$2,\"-\",$E99,\"-\",$F99,\"-\",S$3),'Raw Data'!$A$2:$D$690331,4,FALSE),\"N/A\")","v":"N/A"}]
[null,null,null,null,6,4,null,{"$f":"_xlfn.IFNA(VLOOKUP(_xlfn.CONCAT($C$2,\"-\",$E100,\"-\",$F100,\"-\",H$3),'Raw Data'!$A$2:$D$690331,4,FALSE),\"N/A\")","v":"N/A"},{"$f":"_xlfn.IFNA(VLOOKUP(_xlfn.CONCAT($C$2,\"-\",$E100,\"-\",$F100,\"-\",I$3),'Raw Data'!$A$2:$D$690331,4,FALSE),\"N/A\")","v":"N/A"},{"$f":"_xlfn.IFNA(VLOOKUP(_xlfn.CONCAT($C$2,\"-\",$E100,\"-\",$F100,\"-\",J$3),'Raw Data'!$A$2:$D$690331,4,FALSE),\"N/A\")","v":"N/A"},{"$f":"_xlfn.IFNA(VLOOKUP(_xlfn.CONCAT($C$2,\"-\",$E100,\"-\",$F100,\"-\",K$3),'Raw Data'!$A$2:$D$690331,4,FALSE),\"N/A\")","v":"N/A"},{"$f":"_xlfn.IFNA(VLOOKUP(_xlfn.CONCAT($C$2,\"-\",$E100,\"-\",$F100,\"-\",L$3),'Raw Data'!$A$2:$D$690331,4,FALSE),\"N/A\")","v":"N/A"},{"$f":"_xlfn.IFNA(VLOOKUP(_xlfn.CONCAT($C$2,\"-\",$E100,\"-\",$F100,\"-\",M$3),'Raw Data'!$A$2:$D$690331,4,FALSE),\"N/A\")","v":"N/A"},{"$f":"_xlfn.IFNA(VLOOKUP(_xlfn.CONCAT($C$2,\"-\",$E100,\"-\",$F100,\"-\",N$3),'Raw Data'!$A$2:$D$690331,4,FALSE),\"N/A\")","v":"N/A"},{"$f":"_xlfn.IFNA(VLOOKUP(_xlfn.CONCAT($C$2,\"-\",$E100,\"-\",$F100,\"-\",O$3),'Raw Data'!$A$2:$D$690331,4,FALSE),\"N/A\")","v":"N/A"},{"$f":"_xlfn.IFNA(VLOOKUP(_xlfn.CONCAT($C$2,\"-\",$E100,\"-\",$F100,\"-\",P$3),'Raw Data'!$A$2:$D$690331,4,FALSE),\"N/A\")","v":"N/A"},{"$f":"_xlfn.IFNA(VLOOKUP(_xlfn.CONCAT($C$2,\"-\",$E100,\"-\",$F100,\"-\",Q$3),'Raw Data'!$A$2:$D$690331,4,FALSE),\"N/A\")","v":"N/A"},{"$f":"_xlfn.IFNA(VLOOKUP(_xlfn.CONCAT($C$2,\"-\",$E100,\"-\",$F100,\"-\",R$3),'Raw Data'!$A$2:$D$690331,4,FALSE),\"N/A\")","v":"N/A"},{"$f":"_xlfn.IFNA(VLOOKUP(_xlfn.CONCAT($C$2,\"-\",$E100,\"-\",$F100,\"-\",S$3),'Raw Data'!$A$2:$D$690331,4,FALSE),\"N/A\")","v":"N/A"}]
[null,null,null,null,7,4,null,{"$f":"_xlfn.IFNA(VLOOKUP(_xlfn.CONCAT($C$2,\"-\",$E101,\"-\",$F101,\"-\",H$3),'Raw Data'!$A$2:$D$690331,4,FALSE),\"N/A\")","v":"N/A"},{"$f":"_xlfn.IFNA(VLOOKUP(_xlfn.CONCAT($C$2,\"-\",$E101,\"-\",$F101,\"-\",I$3),'Raw Data'!$A$2:$D$690331,4,FALSE),\"N/A\")","v":"N/A"},{"$f":"_xlfn.IFNA(VLOOKUP(_xlfn.CONCAT($C$2,\"-\",$E101,\"-\",$F101,\"-\",J$3),'Raw Data'!$A$2:$D$690331,4,FALSE),\"N/A\")","v":"N/A"},{"$f":"_xlfn.IFNA(VLOOKUP(_xlfn.CONCAT($C$2,\"-\",$E101,\"-\",$F101,\"-\",K$3),'Raw Data'!$A$2:$D$690331,4,FALSE),\"N/A\")","v":"N/A"},{"$f":"_xlfn.IFNA(VLOOKUP(_xlfn.CONCAT($C$2,\"-\",$E101,\"-\",$F101,\"-\",L$3),'Raw Data'!$A$2:$D$690331,4,FALSE),\"N/A\")","v":"N/A"},{"$f":"_xlfn.IFNA(VLOOKUP(_xlfn.CONCAT($C$2,\"-\",$E101,\"-\",$F101,\"-\",M$3),'Raw Data'!$A$2:$D$690331,4,FALSE),\"N/A\")","v":"N/A"},{"$f":"_xlfn.IFNA(VLOOKUP(_xlfn.CONCAT($C$2,\"-\",$E101,\"-\",$F101,\"-\",N$3),'Raw Data'!$A$2:$D$690331,4,FALSE),\"N/A\")","v":"N/A"},{"$f":"_xlfn.IFNA(VLOOKUP(_xlfn.CONCAT($C$2,\"-\",$E101,\"-\",$F101,\"-\",O$3),'Raw Data'!$A$2:$D$690331,4,FALSE),\"N/A\")","v":"N/A"},{"$f":"_xlfn.IFNA(VLOOKUP(_xlfn.CONCAT($C$2,\"-\",$E101,\"-\",$F101,\"-\",P$3),'Raw Data'!$A$2:$D$690331,4,FALSE),\"N/A\")","v":"N/A"},{"$f":"_xlfn.IFNA(VLOOKUP(_xlfn.CONCAT($C$2,\"-\",$E101,\"-\",$F101,\"-\",Q$3),'Raw Data'!$A$2:$D$690331,4,FALSE),\"N/A\")","v":"N/A"},{"$f":"_xlfn.IFNA(VLOOKUP(_xlfn.CONCAT($C$2,\"-\",$E101,\"-\",$F101,\"-\",R$3),'Raw Data'!$A$2:$D$690331,4,FALSE),\"N/A\")","v":"N/A"},{"$f":"_xlfn.IFNA(VLOOKUP(_xlfn.CONCAT($C$2,\"-\",$E101,\"-\",$F101,\"-\",S$3),'Raw Data'!$A$2:$D$690331,4,FALSE),\"N/A\")","v":"N/A"}]
[null,null,null,null,8,4,null,{"$f":"_xlfn.IFNA(VLOOKUP(_xlfn.CONCAT($C$2,\"-\",$E102,\"-\",$F102,\"-\",H$3),'Raw Data'!$A$2:$D$690331,4,FALSE),\"N/A\")","v":"N/A"},{"$f":"_xlfn.IFNA(VLOOKUP(_xlfn.CONCAT($C$2,\"-\",$E102,\"-\",$F102,\"-\",I$3),'Raw Data'!$A$2:$D$690331,4,FALSE),\"N/A\")","v":"N/A"},{"$f":"_xlfn.IFNA(VLOOKUP(_xlfn.CONCAT($C$2,\"-\",$E102,\"-\",$F102,\"-\",J$3),'Raw Data'!$A$2:$D$690331,4,FALSE),\"N/A\")","v":"N/A"},{"$f":"_xlfn.IFNA(VLOOKUP(_xlfn.CONCAT($C$2,\"-\",$E102,\"-\",$F102,\"-\",K$3),'Raw Data'!$A$2:$D$690331,4,FALSE),\"N/A\")","v":"N/A"},{"$f":"_xlfn.IFNA(VLOOKUP(_xlfn.CONCAT($C$2,\"-\",$E102,\"-\",$F102,\"-\",L$3),'Raw Data'!$A$2:$D$690331,4,FALSE),\"N/A\")","v":"N/A"},{"$f":"_xlfn.IFNA(VLOOKUP(_xlfn.CONCAT($C$2,\"-\",$E102,\"-\",$F102,\"-\",M$3),'Raw Data'!$A$2:$D$690331,4,FALSE),\"N/A\")","v":"N/A"},{"$f":"_xlfn.IFNA(VLOOKUP(_xlfn.CONCAT($C$2,\"-\",$E102,\"-\",$F102,\"-\",N$3),'Raw Data'!$A$2:$D$690331,4,FALSE),\"N/A\")","v":"N/A"},{"$f":"_xlfn.IFNA(VLOOKUP(_xlfn.CONCAT($C$2,\"-\",$E102,\"-\",$F102,\"-\",O$3),'Raw Data'!$A$2:$D$690331,4,FALSE),\"N/A\")","v":"N/A"},{"$f":"_xlfn.IFNA(VLOOKUP(_xlfn.CONCAT($C$2,\"-\",$E102,\"-\",$F102,\"-\",P$3),'Raw Data'!$A$2:$D$690331,4,FALSE),\"N/A\")","v":"N/A"},{"$f":"_xlfn.IFNA(VLOOKUP(_xlfn.CONCAT($C$2,\"-\",$E102,\"-\",$F102,\"-\",Q$3),'Raw Data'!$A$2:$D$690331,4,FALSE),\"N/A\")","v":"N/A"},{"$f":"_xlfn.IFNA(VLOOKUP(_xlfn.CONCAT($C$2,\"-\",$E102,\"-\",$F102,\"-\",R$3),'Raw Data'!$A$2:$D$690331,4,FALSE),\"N/A\")","v":"N/A"},{"$f":"_xlfn.IFNA(VLOOKUP(_xlfn.CONCAT($C$2,\"-\",$E102,\"-\",$F102,\"-\",S$3),'Raw Data'!$A$2:$D$690331,4,FALSE),\"N/A\")","v":"N/A"}]
[null,null,null,null,9,4,null,{"$f":"_xlfn.IFNA(VLOOKUP(_xlfn.CONCAT($C$2,\"-\",$E103,\"-\",$F103,\"-\",H$3),'Raw Data'!$A$2:$D$690331,4,FALSE),\"N/A\")","v":"N/A"},{"$f":"_xlfn.IFNA(VLOOKUP(_xlfn.CONCAT($C$2,\"-\",$E103,\"-\",$F103,\"-\",I$3),'Raw Data'!$A$2:$D$690331,4,FALSE),\"N/A\")","v":"N/A"},{"$f":"_xlfn.IFNA(VLOOKUP(_xlfn.CONCAT($C$2,\"-\",$E103,\"-\",$F103,\"-\",J$3),'Raw Data'!$A$2:$D$690331,4,FALSE),\"N/A\")","v":"N/A"},{"$f":"_xlfn.IFNA(VLOOKUP(_xlfn.CONCAT($C$2,\"-\",$E103,\"-\",$F103,\"-\",K$3),'Raw Data'!$A$2:$D$690331,4,FALSE),\"N/A\")","v":"N/A"},{"$f":"_xlfn.IFNA(VLOOKUP(_xlfn.CONCAT($C$2,\"-\",$E103,\"-\",$F103,\"-\",L$3),'Raw Data'!$A$2:$D$690331,4,FALSE),\"N/A\")","v":"N/A"},{"$f":"_xlfn.IFNA(VLOOKUP(_xlfn.CONCAT($C$2,\"-\",$E103,\"-\",$F103,\"-\",M$3),'Raw Data'!$A$2:$D$690331,4,FALSE),\"N/A\")","v":"N/A"},{"$f":"_xlfn.IFNA(VLOOKUP(_xlfn.CONCAT($C$2,\"-\",$E103,\"-\",$F103,\"-\",N$3),'Raw Data'!$A$2:$D$690331,4,FALSE),\"N/A\")","v":"N/A"},{"$f":"_xlfn.IFNA(VLOOKUP(_xlfn.CONCAT($C$2,\"-\",$E103,\"-\",$F103,\"-\",O$3),'Raw Data'!$A$2:$D$690331,4,FALSE),\"N/A\")","v":"N/A"},{"$f":"_xlfn.IFNA(VLOOKUP(_xlfn.CONCAT($C$2,\"-\",$E103,\"-\",$F103,\"-\",P$3),'Raw Data'!$A$2:$D$690331,4,FALSE),\"N/A\")","v":"N/A"},{"$f":"_xlfn.IFNA(VLOOKUP(_xlfn.CONCAT($C$2,\"-\",$E103,\"-\",$F103,\"-\",Q$3),'Raw Data'!$A$2:$D$690331,4,FALSE),\"N/A\")","v":"N/A"},{"$f":"_xlfn.IFNA(VLOOKUP(_xlfn.CONCAT($C$2,\"-\",$E103,\"-\",$F103,\"-\",R$3),'Raw Data'!$A$2:$D$690331,4,FALSE),\"N/A\")","v":"N/A"},{"$f":"_xlfn.IFNA(VLOOKUP(_xlfn.CONCAT($C$2,\"-\",$E103,\"-\",$F103,\"-\",S$3),'Raw Data'!$A$2:$D$690331,4,FALSE),\"N/A\")","v":"N/A"}]
[null,null,null,null,10,4,null,{"$f":"_xlfn.IFNA(VLOOKUP(_xlfn.CONCAT($C$2,\"-\",$E104,\"-\",$F104,\"-\",H$3),'Raw Data'!$A$2:$D$690331,4,FALSE),\"N/A\")","v":"N/A"},{"$f":"_xlfn.IFNA(VLOOKUP(_xlfn.CONCAT($C$2,\"-\",$E104,\"-\",$F104,\"-\",I$3),'Raw Data'!$A$2:$D$690331,4,FALSE),\"N/A\")","v":"N/A"},{"$f":"_xlfn.IFNA(VLOOKUP(_xlfn.CONCAT($C$2,\"-\",$E104,\"-\",$F104,\"-\",J$3),'Raw Data'!$A$2:$D$690331,4,FALSE),\"N/A\")","v":"N/A"},{"$f":"_xlfn.IFNA(VLOOKUP(_xlfn.CONCAT($C$2,\"-\",$E104,\"-\",$F104,\"-\",K$3),'Raw Data'!$A$2:$D$690331,4,FALSE),\"N/A\")","v":"N/A"},{"$f":"_xlfn.IFNA(VLOOKUP(_xlfn.CONCAT($C$2,\"-\",$E104,\"-\",$F104,\"-\",L$3),'Raw Data'!$A$2:$D$690331,4,FALSE),\"N/A\")","v":"N/A"},{"$f":"_xlfn.IFNA(VLOOKUP(_xlfn.CONCAT($C$2,\"-\",$E104,\"-\",$F104,\"-\",M$3),'Raw Data'!$A$2:$D$690331,4,FALSE),\"N/A\")","v":"N/A"},{"$f":"_xlfn.IFNA(VLOOKUP(_xlfn.CONCAT($C$2,\"-\",$E104,\"-\",$F104,\"-\",N$3),'Raw Data'!$A$2:$D$690331,4,FALSE),\"N/A\")","v":"N/A"},{"$f":"_xlfn.IFNA(VLOOKUP(_xlfn.CONCAT($C$2,\"-\",$E104,\"-\",$F104,\"-\",O$3),'Raw Data'!$A$2:$D$690331,4,FALSE),\"N/A\")","v":"N/A"},{"$f":"_xlfn.IFNA(VLOOKUP(_xlfn.CONCAT($C$2,\"-\",$E104,\"-\",$F104,\"-\",P$3),'Raw Data'!$A$2:$D$690331,4,FALSE),\"N/A\")","v":"N/A"},{"$f":"_xlfn.IFNA(VLOOKUP(_xlfn.CONCAT($C$2,\"-\",$E104,\"-\",$F104,\"-\",Q$3),'Raw Data'!$A$2:$D$690331,4,FALSE),\"N/A\")","v":"N/A"},{"$f":"_xlfn.IFNA(VLOOKUP(_xlfn.CONCAT($C$2,\"-\",$E104,\"-\",$F104,\"-\",R$3),'Raw Data'!$A$2:$D$690331,4,FALSE),\"N/A\")","v":"N/A"},{"$f":"_xlfn.IFNA(VLOOKUP(_xlfn.CONCAT($C$2,\"-\",$E104,\"-\",$F104,\"-\",S$3),'Raw Data'!$A$2:$D$690331,4,FALSE),\"N/A\")","v":"N/A"}]
[null,null,null,null,11,4,null,{"$f":"_xlfn.IFNA(VLOOKUP(_xlfn.CONCAT($C$2,\"-\",$E105,\"-\",$F105,\"-\",H$3),'Raw Data'!$A$2:$D$690331,4,FALSE),\"N/A\")","v":"N/A"},{"$f":"_xlfn.IFNA(VLOOKUP(_xlfn.CONCAT($C$2,\"-\",$E105,\"-\",$F105,\"-\",I$3),'Raw Data'!$A$2:$D$690331,4,FALSE),\"N/A\")","v":"N/A"},{"$f":"_xlfn.IFNA(VLOOKUP(_xlfn.CONCAT($C$2,\"-\",$E105,\"-\",$F105,\"-\",J$3),'Raw Data'!$A$2:$D$690331,4,FALSE),\"N/A\")","v":"N/A"},{"$f":"_xlfn.IFNA(VLOOKUP(_xlfn.CONCAT($C$2,\"-\",$E105,\"-\",$F105,\"-\",K$3),'Raw Data'!$A$2:$D$690331,4,FALSE),\"N/A\")","v":"N/A"},{"$f":"_xlfn.IFNA(VLOOKUP(_xlfn.CONCAT($C$2,\"-\",$E105,\"-\",$F105,\"-\",L$3),'Raw Data'!$A$2:$D$690331,4,FALSE),\"N/A\")","v":"N/A"},{"$f":"_xlfn.IFNA(VLOOKUP(_xlfn.CONCAT($C$2,\"-\",$E105,\"-\",$F105,\"-\",M$3),'Raw Data'!$A$2:$D$690331,4,FALSE),\"N/A\")","v":"N/A"},{"$f":"_xlfn.IFNA(VLOOKUP(_xlfn.CONCAT($C$2,\"-\",$E105,\"-\",$F105,\"-\",N$3),'Raw Data'!$A$2:$D$690331,4,FALSE),\"N/A\")","v":"N/A"},{"$f":"_xlfn.IFNA(VLOOKUP(_xlfn.CONCAT($C$2,\"-\",$E105,\"-\",$F105,\"-\",O$3),'Raw Data'!$A$2:$D$690331,4,FALSE),\"N/A\")","v":"N/A"},{"$f":"_xlfn.IFNA(VLOOKUP(_xlfn.CONCAT($C$2,\"-\",$E105,\"-\",$F105,\"-\",P$3),'Raw Data'!$A$2:$D$690331,4,FALSE),\"N/A\")","v":"N/A"},{"$f":"_xlfn.IFNA(VLOOKUP(_xlfn.CONCAT($C$2,\"-\",$E105,\"-\",$F105,\"-\",Q$3),'Raw Data'!$A$2:$D$690331,4,FALSE),\"N/A\")","v":"N/A"},{"$f":"_xlfn.IFNA(VLOOKUP(_xlfn.CONCAT($C$2,\"-\",$E105,\"-\",$F105,\"-\",R$3),'Raw Data'!$A$2:$D$690331,4,FALSE),\"N/A\")","v":"N/A"},{"$f":"_xlfn.IFNA(VLOOKUP(_xlfn.CONCAT($C$2,\"-\",$E105,\"-\",$F105,\"-\",S$3),'Raw Data'!$A$2:$D$690331,4,FALSE),\"N/A\")","v":"N/A"}]
[null,null,null,null,12,4,null,{"$f":"_xlfn.IFNA(VLOOKUP(_xlfn.CONCAT($C$2,\"-\",$E106,\"-\",$F106,\"-\",H$3),'Raw Data'!$A$2:$D$690331,4,FALSE),\"N/A\")","v":"N/A"},{"$f":"_xlfn.IFNA(VLOOKUP(_xlfn.CONCAT($C$2,\"-\",$E106,\"-\",$F106,\"-\",I$3),'Raw Data'!$A$2:$D$690331,4,FALSE),\"N/A\")","v":"N/A"},{"$f":"_xlfn.IFNA(VLOOKUP(_xlfn.CONCAT($C$2,\"-\",$E106,\"-\",$F106,\"-\",J$3),'Raw Data'!$A$2:$D$690331,4,FALSE),\"N/A\")","v":"N/A"},{"$f":"_xlfn.IFNA(VLOOKUP(_xlfn.CONCAT($C$2,\"-\",$E106,\"-\",$F106,\"-\",K$3),'Raw Data'!$A$2:$D$690331,4,FALSE),\"N/A\")","v":"N/A"},{"$f":"_xlfn.IFNA(VLOOKUP(_xlfn.CONCAT($C$2,\"-\",$E106,\"-\",$F106,\"-\",L$3),'Raw Data'!$A$2:$D$690331,4,FALSE),\"N/A\")","v":"N/A"},{"$f":"_xlfn.IFNA(VLOOKUP(_xlfn.CONCAT($C$2,\"-\",$E106,\"-\",$F106,\"-\",M$3),'Raw Data'!$A$2:$D$690331,4,FALSE),\"N/A\")","v":"N/A"},{"$f":"_xlfn.IFNA(VLOOKUP(_xlfn.CONCAT($C$2,\"-\",$E106,\"-\",$F106,\"-\",N$3),'Raw Data'!$A$2:$D$690331,4,FALSE),\"N/A\")","v":"N/A"},{"$f":"_xlfn.IFNA(VLOOKUP(_xlfn.CONCAT($C$2,\"-\",$E106,\"-\",$F106,\"-\",O$3),'Raw Data'!$A$2:$D$690331,4,FALSE),\"N/A\")","v":"N/A"},{"$f":"_xlfn.IFNA(VLOOKUP(_xlfn.CONCAT($C$2,\"-\",$E106,\"-\",$F106,\"-\",P$3),'Raw Data'!$A$2:$D$690331,4,FALSE),\"N/A\")","v":"N/A"},{"$f":"_xlfn.IFNA(VLOOKUP(_xlfn.CONCAT($C$2,\"-\",$E106,\"-\",$F106,\"-\",Q$3),'Raw Data'!$A$2:$D$690331,4,FALSE),\"N/A\")","v":"N/A"},{"$f":"_xlfn.IFNA(VLOOKUP(_xlfn.CONCAT($C$2,\"-\",$E106,\"-\",$F106,\"-\",R$3),'Raw Data'!$A$2:$D$690331,4,FALSE),\"N/A\")","v":"N/A"},{"$f":"_xlfn.IFNA(VLOOKUP(_xlfn.CONCAT($C$2,\"-\",$E106,\"-\",$F106,\"-\",S$3),'Raw Data'!$A$2:$D$690331,4,FALSE),\"N/A\")","v":"N/A"}]
[null,null,null,null,13,4,null,{"$f":"_xlfn.IFNA(VLOOKUP(_xlfn.CONCAT($C$2,\"-\",$E107,\"-\",$F107,\"-\",H$3),'Raw Data'!$A$2:$D$690331,4,FALSE),\"N/A\")","v":"N/A"},{"$f":"_xlfn.IFNA(VLOOKUP(_xlfn.CONCAT($C$2,\"-\",$E107,\"-\",$F107,\"-\",I$3),'Raw Data'!$A$2:$D$690331,4,FALSE),\"N/A\")","v":"N/A"},{"$f":"_xlfn.IFNA(VLOOKUP(_xlfn.CONCAT($C$2,\"-\",$E107,\"-\",$F107,\"-\",J$3),'Raw Data'!$A$2:$D$690331,4,FALSE),\"N/A\")","v":"N/A"},{"$f":"_xlfn.IFNA(VLOOKUP(_xlfn.CONCAT($C$2,\"-\",$E107,\"-\",$F107,\"-\",K$3),'Raw Data'!$A$2:$D$690331,4,FALSE),\"N/A\")","v":"N/A"},{"$f":"_xlfn.IFNA(VLOOKUP(_xlfn.CONCAT($C$2,\"-\",$E107,\"-\",$F107,\"-\",L$3),'Raw Data'!$A$2:$D$690331,4,FALSE),\"N/A\")","v":"N/A"},{"$f":"_xlfn.IFNA(VLOOKUP(_xlfn.CONCAT($C$2,\"-\",$E107,\"-\",$F107,\"-\",M$3),'Raw Data'!$A$2:$D$690331,4,FALSE),\"N/A\")","v":"N/A"},{"$f":"_xlfn.IFNA(VLOOKUP(_xlfn.CONCAT($C$2,\"-\",$E107,\"-\",$F107,\"-\",N$3),'Raw Data'!$A$2:$D$690331,4,FALSE),\"N/A\")","v":"N/A"},{"$f":"_xlfn.IFNA(VLOOKUP(_xlfn.CONCAT($C$2,\"-\",$E107,\"-\",$F107,\"-\",O$3),'Raw Data'!$A$2:$D$690331,4,FALSE),\"N/A\")","v":"N/A"},{"$f":"_xlfn.IFNA(VLOOKUP(_xlfn.CONCAT($C$2,\"-\",$E107,\"-\",$F107,\"-\",P$3),'Raw Data'!$A$2:$D$690331,4,FALSE),\"N/A\")","v":"N/A"},{"$f":"_xlfn.IFNA(VLOOKUP(_xlfn.CONCAT($C$2,\"-\",$E107,\"-\",$F107,\"-\",Q$3),'Raw Data'!$A$2:$D$690331,4,FALSE),\"N/A\")","v":"N/A"},{"$f":"_xlfn.IFNA(VLOOKUP(_xlfn.CONCAT($C$2,\"-\",$E107,\"-\",$F107,\"-\",R$3),'Raw Data'!$A$2:$D$690331,4,FALSE),\"N/A\")","v":"N/A"},{"$f":"_xlfn.IFNA(VLOOKUP(_xlfn.CONCAT($C$2,\"-\",$E107,\"-\",$F107,\"-\",S$3),'Raw Data'!$A$2:$D$690331,4,FALSE),\"N/A\")","v":"N/A"}]
[null,null,null,null,14,4,null,{"$f":"_xlfn.IFNA(VLOOKUP(_xlfn.CONCAT($C$2,\"-\",$E108,\"-\",$F108,\"-\",H$3),'Raw Data'!$A$2:$D$690331,4,FALSE),\"N/A\")","v":"N/A"},{"$f":"_xlfn.IFNA(VLOOKUP(_xlfn.CONCAT($C$2,\"-\",$E108,\"-\",$F108,\"-\",I$3),'Raw Data'!$A$2:$D$690331,4,FALSE),\"N/A\")","v":"N/A"},{"$f":"_xlfn.IFNA(VLOOKUP(_xlfn.CONCAT($C$2,\"-\",$E108,\"-\",$F108,\"-\",J$3),'Raw Data'!$A$2:$D$690331,4,FALSE),\"N/A\")","v":"N/A"},{"$f":"_xlfn.IFNA(VLOOKUP(_xlfn.CONCAT($C$2,\"-\",$E108,\"-\",$F108,\"-\",K$3),'Raw Data'!$A$2:$D$690331,4,FALSE),\"N/A\")","v":"N/A"},{"$f":"_xlfn.IFNA(VLOOKUP(_xlfn.CONCAT($C$2,\"-\",$E108,\"-\",$F108,\"-\",L$3),'Raw Data'!$A$2:$D$690331,4,FALSE),\"N/A\")","v":"N/A"},{"$f":"_xlfn.IFNA(VLOOKUP(_xlfn.CONCAT($C$2,\"-\",$E108,\"-\",$F108,\"-\",M$3),'Raw Data'!$A$2:$D$690331,4,FALSE),\"N/A\")","v":"N/A"},{"$f":"_xlfn.IFNA(VLOOKUP(_xlfn.CONCAT($C$2,\"-\",$E108,\"-\",$F108,\"-\",N$3),'Raw Data'!$A$2:$D$690331,4,FALSE),\"N/A\")","v":"N/A"},{"$f":"_xlfn.IFNA(VLOOKUP(_xlfn.CONCAT($C$2,\"-\",$E108,\"-\",$F108,\"-\",O$3),'Raw Data'!$A$2:$D$690331,4,FALSE),\"N/A\")","v":"N/A"},{"$f":"_xlfn.IFNA(VLOOKUP(_xlfn.CONCAT($C$2,\"-\",$E108,\"-\",$F108,\"-\",P$3),'Raw Data'!$A$2:$D$690331,4,FALSE),\"N/A\")","v":"N/A"},{"$f":"_xlfn.IFNA(VLOOKUP(_xlfn.CONCAT($C$2,\"-\",$E108,\"-\",$F108,\"-\",Q$3),'Raw Data'!$A$2:$D$690331,4,FALSE),\"N/A\")","v":"N/A"},{"$f":"_xlfn.IFNA(VLOOKUP(_xlfn.CONCAT($C$2,\"-\",$E108,\"-\",$F108,\"-\",R$3),'Raw Data'!$A$2:$D$690331,4,FALSE),\"N/A\")","v":"N/A"},{"$f":"_xlfn.IFNA(VLOOKUP(_xlfn.CONCAT($C$2,\"-\",$E108,\"-\",$F108,\"-\",S$3),'Raw Data'!$A$2:$D$690331,4,FALSE),\"N/A\")","v":"N/A"}]
[null,null,null,null,15,4,null,{"$f":"_xlfn.IFNA(VLOOKUP(_xlfn.CONCAT($C$2,\"-\",$E109,\"-\",$F109,\"-\",H$3),'Raw Data'!$A$2:$D$690331,4,FALSE),\"N/A\")","v":"N/A"},{"$f":"_xlfn.IFNA(VLOOKUP(_xlfn.CONCAT($C$2,\"-\",$E109,\"-\",$F109,\"-\",I$3),'Raw Data'!$A$2:$D$690331,4,FALSE),\"N/A\")","v":"N/A"},{"$f":"_xlfn.IFNA(VLOOKUP(_xlfn.CONCAT($C$2,\"-\",$E109,\"-\",$F109,\"-\",J$3),'Raw Data'!$A$2:$D$690331,4,FALSE),\"N/A\")","v":"N/A"},{"$f":"_xlfn.IFNA(VLOOKUP(_xlfn.CONCAT($C$2,\"-\",$E109,\"-\",$F109,\"-\",K$3),'Raw Data'!$A$2:$D$690331,4,FALSE),\"N/A\")","v":"N/A"},{"$f":"_xlfn.IFNA(VLOOKUP(_xlfn.CONCAT($C$2,\"-\",$E109,\"-\",$F109,\"-\",L$3),'Raw Data'!$A$2:$D$690331,4,FALSE),\"N/A\")","v":"N/A"},{"$f":"_xlfn.IFNA(VLOOKUP(_xlfn.CONCAT($C$2,\"-\",$E109,\"-\",$F109,\"-\",M$3),'Raw Data'!$A$2:$D$690331,4,FALSE),\"N/A\")","v":"N/A"},{"$f":"_xlfn.IFNA(VLOOKUP(_xlfn.CONCAT($C$2,\"-\",$E109,\"-\",$F109,\"-\",N$3),'Raw Data'!$A$2:$D$690331,4,FALSE),\"N/A\")","v":"N/A"},{"$f":"_xlfn.IFNA(VLOOKUP(_xlfn.CONCAT($C$2,\"-\",$E109,\"-\",$F109,\"-\",O$3),'Raw Data'!$A$2:$D$690331,4,FALSE),\"N/A\")","v":"N/A"},{"$f":"_xlfn.IFNA(VLOOKUP(_xlfn.CONCAT($C$2,\"-\",$E109,\"-\",$F109,\"-\",P$3),'Raw Data'!$A$2:$D$690331,4,FALSE),\"N/A\")","v":"N/A"},{"$f":"_xlfn.IFNA(VLOOKUP(_xlfn.CONCAT($C$2,\"-\",$E109,\"-\",$F109,\"-\",Q$3),'Raw Data'!$A$2:$D$690331,4,FALSE),\"N/A\")","v":"N/A"},{"$f":"_xlfn.IFNA(VLOOKUP(_xlfn.CONCAT($C$2,\"-\",$E109,\"-\",$F109,\"-\",R$3),'Raw Data'!$A$2:$D$690331,4,FALSE),\"N/A\")","v":"N/A"},{"$f":"_xlfn.IFNA(VLOOKUP(_xlfn.CONCAT($C$2,\"-\",$E109,\"-\",$F109,\"-\",S$3),'Raw Data'!$A$2:$D$690331,4,FALSE),\"N/A\")","v":"N/A"}]
[null,null,null,null,16,4,null,{"$f":"_xlfn.IFNA(VLOOKUP(_xlfn.CONCAT($C$2,\"-\",$E110,\"-\",$F110,\"-\",H$3),'Raw Data'!$A$2:$D$690331,4,FALSE),\"N/A\")","v":"N/A"},{"$f":"_xlfn.IFNA(VLOOKUP(_xlfn.CONCAT($C$2,\"-\",$E110,\"-\",$F110,\"-\",I$3),'Raw Data'!$A$2:$D$690331,4,FALSE),\"N/A\")","v":"N/A"},{"$f":"_xlfn.IFNA(VLOOKUP(_xlfn.CONCAT($C$2,\"-\",$E110,\"-\",$F110,\"-\",J$3),'Raw Data'!$A$2:$D$690331,4,FALSE),\"N/A\")","v":"N/A"},{"$f":"_xlfn.IFNA(VLOOKUP(_xlfn.CONCAT($C$2,\"-\",$E110,\"-\",$F110,\"-\",K$3),'Raw Data'!$A$2:$D$690331,4,FALSE),\"N/A\")","v":"N/A"},{"$f":"_xlfn.IFNA(VLOOKUP(_xlfn.CONCAT($C$2,\"-\",$E110,\"-\",$F110,\"-\",L$3),'Raw Data'!$A$2:$D$690331,4,FALSE),\"N/A\")","v":"N/A"},{"$f":"_xlfn.IFNA(VLOOKUP(_xlfn.CONCAT($C$2,\"-\",$E110,\"-\",$F110,\"-\",M$3),'Raw Data'!$A$2:$D$690331,4,FALSE),\"N/A\")","v":"N/A"},{"$f":"_xlfn.IFNA(VLOOKUP(_xlfn.CONCAT($C$2,\"-\",$E110,\"-\",$F110,\"-\",N$3),'Raw Data'!$A$2:$D$690331,4,FALSE),\"N/A\")","v":"N/A"},{"$f":"_xlfn.IFNA(VLOOKUP(_xlfn.CONCAT($C$2,\"-\",$E110,\"-\",$F110,\"-\",O$3),'Raw Data'!$A$2:$D$690331,4,FALSE),\"N/A\")","v":"N/A"},{"$f":"_xlfn.IFNA(VLOOKUP(_xlfn.CONCAT($C$2,\"-\",$E110,\"-\",$F110,\"-\",P$3),'Raw Data'!$A$2:$D$690331,4,FALSE),\"N/A\")","v":"N/A"},{"$f":"_xlfn.IFNA(VLOOKUP(_xlfn.CONCAT($C$2,\"-\",$E110,\"-\",$F110,\"-\",Q$3),'Raw Data'!$A$2:$D$690331,4,FALSE),\"N/A\")","v":"N/A"},{"$f":"_xlfn.IFNA(VLOOKUP(_xlfn.CONCAT($C$2,\"-\",$E110,\"-\",$F110,\"-\",R$3),'Raw Data'!$A$2:$D$690331,4,FALSE),\"N/A\")","v":"N/A"},{"$f":"_xlfn.IFNA(VLOOKUP(_xlfn.CONCAT($C$2,\"-\",$E110,\"-\",$F110,\"-\",S$3),'Raw Data'!$A$2:$D$690331,4,FALSE),\"N/A\")","v":"N/A"}]
[null,null,null,null,17,4,null,{"$f":"_xlfn.IFNA(VLOOKUP(_xlfn.CONCAT($C$2,\"-\",$E111,\"-\",$F111,\"-\",H$3),'Raw Data'!$A$2:$D$690331,4,FALSE),\"N/A\")","v":"N/A"},{"$f":"_xlfn.IFNA(VLOOKUP(_xlfn.CONCAT($C$2,\"-\",$E111,\"-\",$F111,\"-\",I$3),'Raw Data'!$A$2:$D$690331,4,FALSE),\"N/A\")","v":"N/A"},{"$f":"_xlfn.IFNA(VLOOKUP(_xlfn.CONCAT($C$2,\"-\",$E111,\"-\",$F111,\"-\",J$3),'Raw Data'!$A$2:$D$690331,4,FALSE),\"N/A\")","v":"N/A"},{"$f":"_xlfn.IFNA(VLOOKUP(_xlfn.CONCAT($C$2,\"-\",$E111,\"-\",$F111,\"-\",K$3),'Raw Data'!$A$2:$D$690331,4,FALSE),\"N/A\")","v":"N/A"},{"$f":"_xlfn.IFNA(VLOOKUP(_xlfn.CONCAT($C$2,\"-\",$E111,\"-\",$F111,\"-\",L$3),'Raw Data'!$A$2:$D$690331,4,FALSE),\"N/A\")","v":"N/A"},{"$f":"_xlfn.IFNA(VLOOKUP(_xlfn.CONCAT($C$2,\"-\",$E111,\"-\",$F111,\"-\",M$3),'Raw Data'!$A$2:$D$690331,4,FALSE),\"N/A\")","v":"N/A"},{"$f":"_xlfn.IFNA(VLOOKUP(_xlfn.CONCAT($C$2,\"-\",$E111,\"-\",$F111,\"-\",N$3),'Raw Data'!$A$2:$D$690331,4,FALSE),\"N/A\")","v":"N/A"},{"$f":"_xlfn.IFNA(VLOOKUP(_xlfn.CONCAT($C$2,\"-\",$E111,\"-\",$F111,\"-\",O$3),'Raw Data'!$A$2:$D$690331,4,FALSE),\"N/A\")","v":"N/A"},{"$f":"_xlfn.IFNA(VLOOKUP(_xlfn.CONCAT($C$2,\"-\",$E111,\"-\",$F111,\"-\",P$3),'Raw Data'!$A$2:$D$690331,4,FALSE),\"N/A\")","v":"N/A"},{"$f":"_xlfn.IFNA(VLOOKUP(_xlfn.CONCAT($C$2,\"-\",$E111,\"-\",$F111,\"-\",Q$3),'Raw Data'!$A$2:$D$690331,4,FALSE),\"N/A\")","v":"N/A"},{"$f":"_xlfn.IFNA(VLOOKUP(_xlfn.CONCAT($C$2,\"-\",$E111,\"-\",$F111,\"-\",R$3),'Raw Data'!$A$2:$D$690331,4,FALSE),\"N/A\")","v":"N/A"},{"$f":"_xlfn.IFNA(VLOOKUP(_xlfn.CONCAT($C$2,\"-\",$E111,\"-\",$F111,\"-\",S$3),'Raw Data'!$A$2:$D$690331,4,FALSE),\"N/A\")","v":"N/A"}]
[null,null,null,null,18,4,null,{"$f":"_xlfn.IFNA(VLOOKUP(_xlfn.CONCAT($C$2,\"-\",$E112,\"-\",$F112,\"-\",H$3),'Raw Data'!$A$2:$D$690331,4,FALSE),\"N/A\")","v":"N/A"},{"$f":"_xlfn.IFNA(VLOOKUP(_xlfn.CONCAT($C$2,\"-\",$E112,\"-\",$F112,\"-\",I$3),'Raw Data'!$A$2:$D$690331,4,FALSE),\"N/A\")","v":"N/A"},{"$f":"_xlfn.IFNA(VLOOKUP(_xlfn.CONCAT($C$2,\"-\",$E112,\"-\",$F112,\"-\",J$3),'Raw Data'!$A$2:$D$690331,4,FALSE),\"N/A\")","v":"N/A"},{"$f":"_xlfn.IFNA(VLOOKUP(_xlfn.CONCAT($C$2,\"-\",$E112,\"-\",$F112,\"-\",K$3),'Raw Data'!$A$2:$D$690331,4,FALSE),\"N/A\")","v":"N/A"},{"$f":"_xlfn.IFNA(VLOOKUP(_xlfn.CONCAT($C$2,\"-\",$E112,\"-\",$F112,\"-\",L$3),'Raw Data'!$A$2:$D$690331,4,FALSE),\"N/A\")","v":"N/A"},{"$f":"_xlfn.IFNA(VLOOKUP(_xlfn.CONCAT($C$2,\"-\",$E112,\"-\",$F112,\"-\",M$3),'Raw Data'!$A$2:$D$690331,4,FALSE),\"N/A\")","v":"N/A"},{"$f":"_xlfn.IFNA(VLOOKUP(_xlfn.CONCAT($C$2,\"-\",$E112,\"-\",$F112,\"-\",N$3),'Raw Data'!$A$2:$D$690331,4,FALSE),\"N/A\")","v":"N/A"},{"$f":"_xlfn.IFNA(VLOOKUP(_xlfn.CONCAT($C$2,\"-\",$E112,\"-\",$F112,\"-\",O$3),'Raw Data'!$A$2:$D$690331,4,FALSE),\"N/A\")","v":"N/A"},{"$f":"_xlfn.IFNA(VLOOKUP(_xlfn.CONCAT($C$2,\"-\",$E112,\"-\",$F112,\"-\",P$3),'Raw Data'!$A$2:$D$690331,4,FALSE),\"N/A\")","v":"N/A"},{"$f":"_xlfn.IFNA(VLOOKUP(_xlfn.CONCAT($C$2,\"-\",$E112,\"-\",$F112,\"-\",Q$3),'Raw Data'!$A$2:$D$690331,4,FALSE),\"N/A\")","v":"N/A"},{"$f":"_xlfn.IFNA(VLOOKUP(_xlfn.CONCAT($C$2,\"-\",$E112,\"-\",$F112,\"-\",R$3),'Raw Data'!$A$2:$D$690331,4,FALSE),\"N/A\")","v":"N/A"},{"$f":"_xlfn.IFNA(VLOOKUP(_xlfn.CONCAT($C$2,\"-\",$E112,\"-\",$F112,\"-\",S$3),'Raw Data'!$A$2:$D$690331,4,FALSE),\"N/A\")","v":"N/A"}]
[null,null,null,null,19,4,null,{"$f":"_xlfn.IFNA(VLOOKUP(_xlfn.CONCAT($C$2,\"-\",$E113,\"-\",$F113,\"-\",H$3),'Raw Data'!$A$2:$D$690331,4,FALSE),\"N/A\")","v":"N/A"},{"$f":"_xlfn.IFNA(VLOOKUP(_xlfn.CONCAT($C$2,\"-\",$E113,\"-\",$F113,\"-\",I$3),'Raw Data'!$A$2:$D$690331,4,FALSE),\"N/A\")","v":"N/A"},{"$f":"_xlfn.IFNA(VLOOKUP(_xlfn.CONCAT($C$2,\"-\",$E113,\"-\",$F113,\"-\",J$3),'Raw Data'!$A$2:$D$690331,4,FALSE),\"N/A\")","v":"N/A"},{"$f":"_xlfn.IFNA(VLOOKUP(_xlfn.CONCAT($C$2,\"-\",$E113,\"-\",$F113,\"-\",K$3),'Raw Data'!$A$2:$D$690331,4,FALSE),\"N/A\")","v":"N/A"},{"$f":"_xlfn.IFNA(VLOOKUP(_xlfn.CONCAT($C$2,\"-\",$E113,\"-\",$F113,\"-\",L$3),'Raw Data'!$A$2:$D$690331,4,FALSE),\"N/A\")","v":"N/A"},{"$f":"_xlfn.IFNA(VLOOKUP(_xlfn.CONCAT($C$2,\"-\",$E113,\"-\",$F113,\"-\",M$3),'Raw Data'!$A$2:$D$690331,4,FALSE),\"N/A\")","v":"N/A"},{"$f":"_xlfn.IFNA(VLOOKUP(_xlfn.CONCAT($C$2,\"-\",$E113,\"-\",$F113,\"-\",N$3),'Raw Data'!$A$2:$D$690331,4,FALSE),\"N/A\")","v":"N/A"},{"$f":"_xlfn.IFNA(VLOOKUP(_xlfn.CONCAT($C$2,\"-\",$E113,\"-\",$F113,\"-\",O$3),'Raw Data'!$A$2:$D$690331,4,FALSE),\"N/A\")","v":"N/A"},{"$f":"_xlfn.IFNA(VLOOKUP(_xlfn.CONCAT($C$2,\"-\",$E113,\"-\",$F113,\"-\",P$3),'Raw Data'!$A$2:$D$690331,4,FALSE),\"N/A\")","v":"N/A"},{"$f":"_xlfn.IFNA(VLOOKUP(_xlfn.CONCAT($C$2,\"-\",$E113,\"-\",$F113,\"-\",Q$3),'Raw Data'!$A$2:$D$690331,4,FALSE),\"N/A\")","v":"N/A"},{"$f":"_xlfn.IFNA(VLOOKUP(_xlfn.CONCAT($C$2,\"-\",$E113,\"-\",$F113,\"-\",R$3),'Raw Data'!$A$2:$D$690331,4,FALSE),\"N/A\")","v":"N/A"},{"$f":"_xlfn.IFNA(VLOOKUP(_xlfn.CONCAT($C$2,\"-\",$E113,\"-\",$F113,\"-\",S$3),'Raw Data'!$A$2:$D$690331,4,FALSE),\"N/A\")","v":"N/A"}]
[null,null,null,null,20,4,null,{"$f":"_xlfn.IFNA(VLOOKUP(_xlfn.CONCAT($C$2,\"-\",$E114,\"-\",$F114,\"-\",H$3),'Raw Data'!$A$2:$D$690331,4,FALSE),\"N/A\")","v":"N/A"},{"$f":"_xlfn.IFNA(VLOOKUP(_xlfn.CONCAT($C$2,\"-\",$E114,\"-\",$F114,\"-\",I$3),'Raw Data'!$A$2:$D$690331,4,FALSE),\"N/A\")","v":"N/A"},{"$f":"_xlfn.IFNA(VLOOKUP(_xlfn.CONCAT($C$2,\"-\",$E114,\"-\",$F114,\"-\",J$3),'Raw Data'!$A$2:$D$690331,4,FALSE),\"N/A\")","v":"N/A"},{"$f":"_xlfn.IFNA(VLOOKUP(_xlfn.CONCAT($C$2,\"-\",$E114,\"-\",$F114,\"-\",K$3),'Raw Data'!$A$2:$D$690331,4,FALSE),\"N/A\")","v":"N/A"},{"$f":"_xlfn.IFNA(VLOOKUP(_xlfn.CONCAT($C$2,\"-\",$E114,\"-\",$F114,\"-\",L$3),'Raw Data'!$A$2:$D$690331,4,FALSE),\"N/A\")","v":"N/A"},{"$f":"_xlfn.IFNA(VLOOKUP(_xlfn.CONCAT($C$2,\"-\",$E114,\"-\",$F114,\"-\",M$3),'Raw Data'!$A$2:$D$690331,4,FALSE),\"N/A\")","v":"N/A"},{"$f":"_xlfn.IFNA(VLOOKUP(_xlfn.CONCAT($C$2,\"-\",$E114,\"-\",$F114,\"-\",N$3),'Raw Data'!$A$2:$D$690331,4,FALSE),\"N/A\")","v":"N/A"},{"$f":"_xlfn.IFNA(VLOOKUP(_xlfn.CONCAT($C$2,\"-\",$E114,\"-\",$F114,\"-\",O$3),'Raw Data'!$A$2:$D$690331,4,FALSE),\"N/A\")","v":"N/A"},{"$f":"_xlfn.IFNA(VLOOKUP(_xlfn.CONCAT($C$2,\"-\",$E114,\"-\",$F114,\"-\",P$3),'Raw Data'!$A$2:$D$690331,4,FALSE),\"N/A\")","v":"N/A"},{"$f":"_xlfn.IFNA(VLOOKUP(_xlfn.CONCAT($C$2,\"-\",$E114,\"-\",$F114,\"-\",Q$3),'Raw Data'!$A$2:$D$690331,4,FALSE),\"N/A\")","v":"N/A"},{"$f":"_xlfn.IFNA(VLOOKUP(_xlfn.CONCAT($C$2,\"-\",$E114,\"-\",$F114,\"-\",R$3),'Raw Data'!$A$2:$D$690331,4,FALSE),\"N/A\")","v":"N/A"},{"$f":"_xlfn.IFNA(VLOOKUP(_xlfn.CONCAT($C$2,\"-\",$E114,\"-\",$F114,\"-\",S$3),'Raw Data'!$A$2:$D$690331,4,FALSE),\"N/A\")","v":"N/A"}]
[null,null,null,null,21,4,null,{"$f":"_xlfn.IFNA(VLOOKUP(_xlfn.CONCAT($C$2,\"-\",$E115,\"-\",$F115,\"-\",H$3),'Raw Data'!$A$2:$D$690331,4,FALSE),\"N/A\")","v":"N/A"},{"$f":"_xlfn.IFNA(VLOOKUP(_xlfn.CONCAT($C$2,\"-\",$E115,\"-\",$F115,\"-\",I$3),'Raw Data'!$A$2:$D$690331,4,FALSE),\"N/A\")","v":"N/A"},{"$f":"_xlfn.IFNA(VLOOKUP(_xlfn.CONCAT($C$2,\"-\",$E115,\"-\",$F115,\"-\",J$3),'Raw Data'!$A$2:$D$690331,4,FALSE),\"N/A\")","v":"N/A"},{"$f":"_xlfn.IFNA(VLOOKUP(_xlfn.CONCAT($C$2,\"-\",$E115,\"-\",$F115,\"-\",K$3),'Raw Data'!$A$2:$D$690331,4,FALSE),\"N/A\")","v":"N/A"},{"$f":"_xlfn.IFNA(VLOOKUP(_xlfn.CONCAT($C$2,\"-\",$E115,\"-\",$F115,\"-\",L$3),'Raw Data'!$A$2:$D$690331,4,FALSE),\"N/A\")","v":"N/A"},{"$f":"_xlfn.IFNA(VLOOKUP(_xlfn.CONCAT($C$2,\"-\",$E115,\"-\",$F115,\"-\",M$3),'Raw Data'!$A$2:$D$690331,4,FALSE),\"N/A\")","v":"N/A"},{"$f":"_xlfn.IFNA(VLOOKUP(_xlfn.CONCAT($C$2,\"-\",$E115,\"-\",$F115,\"-\",N$3),'Raw Data'!$A$2:$D$690331,4,FALSE),\"N/A\")","v":"N/A"},{"$f":"_xlfn.IFNA(VLOOKUP(_xlfn.CONCAT($C$2,\"-\",$E115,\"-\",$F115,\"-\",O$3),'Raw Data'!$A$2:$D$690331,4,FALSE),\"N/A\")","v":"N/A"},{"$f":"_xlfn.IFNA(VLOOKUP(_xlfn.CONCAT($C$2,\"-\",$E115,\"-\",$F115,\"-\",P$3),'Raw Data'!$A$2:$D$690331,4,FALSE),\"N/A\")","v":"N/A"},{"$f":"_xlfn.IFNA(VLOOKUP(_xlfn.CONCAT($C$2,\"-\",$E115,\"-\",$F115,\"-\",Q$3),'Raw Data'!$A$2:$D$690331,4,FALSE),\"N/A\")","v":"N/A"},{"$f":"_xlfn.IFNA(VLOOKUP(_xlfn.CONCAT($C$2,\"-\",$E115,\"-\",$F115,\"-\",R$3),'Raw Data'!$A$2:$D$690331,4,FALSE),\"N/A\")","v":"N/A"},{"$f":"_xlfn.IFNA(VLOOKUP(_xlfn.CONCAT($C$2,\"-\",$E115,\"-\",$F115,\"-\",S$3),'Raw Data'!$A$2:$D$690331,4,FALSE),\"N/A\")","v":"N/A"}]
[null,null,null,null,22,4,null,{"$f":"_xlfn.IFNA(VLOOKUP(_xlfn.CONCAT($C$2,\"-\",$E116,\"-\",$F116,\"-\",H$3),'Raw Data'!$A$2:$D$690331,4,FALSE),\"N/A\")","v":"N/A"},{"$f":"_xlfn.IFNA(VLOOKUP(_xlfn.CONCAT($C$2,\"-\",$E116,\"-\",$F116,\"-\",I$3),'Raw Data'!$A$2:$D$690331,4,FALSE),\"N/A\")","v":"N/A"},{"$f":"_xlfn.IFNA(VLOOKUP(_xlfn.CONCAT($C$2,\"-\",$E116,\"-\",$F116,\"-\",J$3),'Raw Data'!$A$2:$D$690331,4,FALSE),\"N/A\")","v":"N/A"},{"$f":"_xlfn.IFNA(VLOOKUP(_xlfn.CONCAT($C$2,\"-\",$E116,\"-\",$F116,\"-\",K$3),'Raw Data'!$A$2:$D$690331,4,FALSE),\"N/A\")","v":"N/A"},{"$f":"_xlfn.IFNA(VLOOKUP(_xlfn.CONCAT($C$2,\"-\",$E116,\"-\",$F116,\"-\",L$3),'Raw Data'!$A$2:$D$690331,4,FALSE),\"N/A\")","v":"N/A"},{"$f":"_xlfn.IFNA(VLOOKUP(_xlfn.CONCAT($C$2,\"-\",$E116,\"-\",$F116,\"-\",M$3),'Raw Data'!$A$2:$D$690331,4,FALSE),\"N/A\")","v":"N/A"},{"$f":"_xlfn.IFNA(VLOOKUP(_xlfn.CONCAT($C$2,\"-\",$E116,\"-\",$F116,\"-\",N$3),'Raw Data'!$A$2:$D$690331,4,FALSE),\"N/A\")","v":"N/A"},{"$f":"_xlfn.IFNA(VLOOKUP(_xlfn.CONCAT($C$2,\"-\",$E116,\"-\",$F116,\"-\",O$3),'Raw Data'!$A$2:$D$690331,4,FALSE),\"N/A\")","v":"N/A"},{"$f":"_xlfn.IFNA(VLOOKUP(_xlfn.CONCAT($C$2,\"-\",$E116,\"-\",$F116,\"-\",P$3),'Raw Data'!$A$2:$D$690331,4,FALSE),\"N/A\")","v":"N/A"},{"$f":"_xlfn.IFNA(VLOOKUP(_xlfn.CONCAT($C$2,\"-\",$E116,\"-\",$F116,\"-\",Q$3),'Raw Data'!$A$2:$D$690331,4,FALSE),\"N/A\")","v":"N/A"},{"$f":"_xlfn.IFNA(VLOOKUP(_xlfn.CONCAT($C$2,\"-\",$E116,\"-\",$F116,\"-\",R$3),'Raw Data'!$A$2:$D$690331,4,FALSE),\"N/A\")","v":"N/A"},{"$f":"_xlfn.IFNA(VLOOKUP(_xlfn.CONCAT($C$2,\"-\",$E116,\"-\",$F116,\"-\",S$3),'Raw Data'!$A$2:$D$690331,4,FALSE),\"N/A\")","v":"N/A"}]
[null,null,null,null,23,4,null,{"$f":"_xlfn.IFNA(VLOOKUP(_xlfn.CONCAT($C$2,\"-\",$E117,\"-\",$F117,\"-\",H$3),'Raw Data'!$A$2:$D$690331,4,FALSE),\"N/A\")","v":"N/A"},{"$f":"_xlfn.IFNA(VLOOKUP(_xlfn.CONCAT($C$2,\"-\",$E117,\"-\",$F117,\"-\",I$3),'Raw Data'!$A$2:$D$690331,4,FALSE),\"N/A\")","v":"N/A"},{"$f":"_xlfn.IFNA(VLOOKUP(_xlfn.CONCAT($C$2,\"-\",$E117,\"-\",$F117,\"-\",J$3),'Raw Data'!$A$2:$D$690331,4,FALSE),\"N/A\")","v":"N/A"},{"$f":"_xlfn.IFNA(VLOOKUP(_xlfn.CONCAT($C$2,\"-\",$E117,\"-\",$F117,\"-\",K$3),'Raw Data'!$A$2:$D$690331,4,FALSE),\"N/A\")","v":"N/A"},{"$f":"_xlfn.IFNA(VLOOKUP(_xlfn.CONCAT($C$2,\"-\",$E117,\"-\",$F117,\"-\",L$3),'Raw Data'!$A$2:$D$690331,4,FALSE),\"N/A\")","v":"N/A"},{"$f":"_xlfn.IFNA(VLOOKUP(_xlfn.CONCAT($C$2,\"-\",$E117,\"-\",$F117,\"-\",M$3),'Raw Data'!$A$2:$D$690331,4,FALSE),\"N/A\")","v":"N/A"},{"$f":"_xlfn.IFNA(VLOOKUP(_xlfn.CONCAT($C$2,\"-\",$E117,\"-\",$F117,\"-\",N$3),'Raw Data'!$A$2:$D$690331,4,FALSE),\"N/A\")","v":"N/A"},{"$f":"_xlfn.IFNA(VLOOKUP(_xlfn.CONCAT($C$2,\"-\",$E117,\"-\",$F117,\"-\",O$3),'Raw Data'!$A$2:$D$690331,4,FALSE),\"N/A\")","v":"N/A"},{"$f":"_xlfn.IFNA(VLOOKUP(_xlfn.CONCAT($C$2,\"-\",$E117,\"-\",$F117,\"-\",P$3),'Raw Data'!$A$2:$D$690331,4,FALSE),\"N/A\")","v":"N/A"},{"$f":"_xlfn.IFNA(VLOOKUP(_xlfn.CONCAT($C$2,\"-\",$E117,\"-\",$F117,\"-\",Q$3),'Raw Data'!$A$2:$D$690331,4,FALSE),\"N/A\")","v":"N/A"},{"$f":"_xlfn.IFNA(VLOOKUP(_xlfn.CONCAT($C$2,\"-\",$E117,\"-\",$F117,\"-\",R$3),'Raw Data'!$A$2:$D$690331,4,FALSE),\"N/A\")","v":"N/A"},{"$f":"_xlfn.IFNA(VLOOKUP(_xlfn.CONCAT($C$2,\"-\",$E117,\"-\",$F117,\"-\",S$3),'Raw Data'!$A$2:$D$690331,4,FALSE),\"N/A\")","v":"N/A"}]
[null,null,null,null,24,4,null,{"$f":"_xlfn.IFNA(VLOOKUP(_xlfn.CONCAT($C$2,\"-\",$E118,\"-\",$F118,\"-\",H$3),'Raw Data'!$A$2:$D$690331,4,FALSE),\"N/A\")","v":"N/A"},{"$f":"_xlfn.IFNA(VLOOKUP(_xlfn.CONCAT($C$2,\"-\",$E118,\"-\",$F118,\"-\",I$3),'Raw Data'!$A$2:$D$690331,4,FALSE),\"N/A\")","v":"N/A"},{"$f":"_xlfn.IFNA(VLOOKUP(_xlfn.CONCAT($C$2,\"-\",$E118,\"-\",$F118,\"-\",J$3),'Raw Data'!$A$2:$D$690331,4,FALSE),\"N/A\")","v":"N/A"},{"$f":"_xlfn.IFNA(VLOOKUP(_xlfn.CONCAT($C$2,\"-\",$E118,\"-\",$F118,\"-\",K$3),'Raw Data'!$A$2:$D$690331,4,FALSE),\"N/A\")","v":"N/A"},{"$f":"_xlfn.IFNA(VLOOKUP(_xlfn.CONCAT($C$2,\"-\",$E118,\"-\",$F118,\"-\",L$3),'Raw Data'!$A$2:$D$690331,4,FALSE),\"N/A\")","v":"N/A"},{"$f":"_xlfn.IFNA(VLOOKUP(_xlfn.CONCAT($C$2,\"-\",$E118,\"-\",$F118,\"-\",M$3),'Raw Data'!$A$2:$D$690331,4,FALSE),\"N/A\")","v":"N/A"},{"$f":"_xlfn.IFNA(VLOOKUP(_xlfn.CONCAT($C$2,\"-\",$E118,\"-\",$F118,\"-\",N$3),'Raw Data'!$A$2:$D$690331,4,FALSE),\"N/A\")","v":"N/A"},{"$f":"_xlfn.IFNA(VLOOKUP(_xlfn.CONCAT($C$2,\"-\",$E118,\"-\",$F118,\"-\",O$3),'Raw Data'!$A$2:$D$690331,4,FALSE),\"N/A\")","v":"N/A"},{"$f":"_xlfn.IFNA(VLOOKUP(_xlfn.CONCAT($C$2,\"-\",$E118,\"-\",$F118,\"-\",P$3),'Raw Data'!$A$2:$D$690331,4,FALSE),\"N/A\")","v":"N/A"},{"$f":"_xlfn.IFNA(VLOOKUP(_xlfn.CONCAT($C$2,\"-\",$E118,\"-\",$F118,\"-\",Q$3),'Raw Data'!$A$2:$D$690331,4,FALSE),\"N/A\")","v":"N/A"},{"$f":"_xlfn.IFNA(VLOOKUP(_xlfn.CONCAT($C$2,\"-\",$E118,\"-\",$F118,\"-\",R$3),'Raw Data'!$A$2:$D$690331,4,FALSE),\"N/A\")","v":"N/A"},{"$f":"_xlfn.IFNA(VLOOKUP(_xlfn.CONCAT($C$2,\"-\",$E118,\"-\",$F118,\"-\",S$3),'Raw Data'!$A$2:$D$690331,4,FALSE),\"N/A\")","v":"N/A"}]
[null,null,null,null,25,4,null,{"$f":"_xlfn.IFNA(VLOOKUP(_xlfn.CONCAT($C$2,\"-\",$E119,\"-\",$F119,\"-\",H$3),'Raw Data'!$A$2:$D$690331,4,FALSE),\"N/A\")","v":"N/A"},{"$f":"_xlfn.IFNA(VLOOKUP(_xlfn.CONCAT($C$2,\"-\",$E119,\"-\",$F119,\"-\",I$3),'Raw Data'!$A$2:$D$690331,4,FALSE),\"N/A\")","v":"N/A"},{"$f":"_xlfn.IFNA(VLOOKUP(_xlfn.CONCAT($C$2,\"-\",$E119,\"-\",$F119,\"-\",J$3),'Raw Data'!$A$2:$D$690331,4,FALSE),\"N/A\")","v":"N/A"},{"$f":"_xlfn.IFNA(VLOOKUP(_xlfn.CONCAT($C$2,\"-\",$E119,\"-\",$F119,\"-\",K$3),'Raw Data'!$A$2:$D$690331,4,FALSE),\"N/A\")","v":"N/A"},{"$f":"_xlfn.IFNA(VLOOKUP(_xlfn.CONCAT($C$2,\"-\",$E119,\"-\",$F119,\"-\",L$3),'Raw Data'!$A$2:$D$690331,4,FALSE),\"N/A\")","v":"N/A"},{"$f":"_xlfn.IFNA(VLOOKUP(_xlfn.CONCAT($C$2,\"-\",$E119,\"-\",$F119,\"-\",M$3),'Raw Data'!$A$2:$D$690331,4,FALSE),\"N/A\")","v":"N/A"},{"$f":"_xlfn.IFNA(VLOOKUP(_xlfn.CONCAT($C$2,\"-\",$E119,\"-\",$F119,\"-\",N$3),'Raw Data'!$A$2:$D$690331,4,FALSE),\"N/A\")","v":"N/A"},{"$f":"_xlfn.IFNA(VLOOKUP(_xlfn.CONCAT($C$2,\"-\",$E119,\"-\",$F119,\"-\",O$3),'Raw Data'!$A$2:$D$690331,4,FALSE),\"N/A\")","v":"N/A"},{"$f":"_xlfn.IFNA(VLOOKUP(_xlfn.CONCAT($C$2,\"-\",$E119,\"-\",$F119,\"-\",P$3),'Raw Data'!$A$2:$D$690331,4,FALSE),\"N/A\")","v":"N/A"},{"$f":"_xlfn.IFNA(VLOOKUP(_xlfn.CONCAT($C$2,\"-\",$E119,\"-\",$F119,\"-\",Q$3),'Raw Data'!$A$2:$D$690331,4,FALSE),\"N/A\")","v":"N/A"},{"$f":"_xlfn.IFNA(VLOOKUP(_xlfn.CONCAT($C$2,\"-\",$E119,\"-\",$F119,\"-\",R$3),'Raw Data'!$A$2:$D$690331,4,FALSE),\"N/A\")","v":"N/A"},{"$f":"_xlfn.IFNA(VLOOKUP(_xlfn.CONCAT($C$2,\"-\",$E119,\"-\",$F119,\"-\",S$3),'Raw Data'!$A$2:$D$690331,4,FALSE),\"N/A\")","v":"N/A"}]
[null,null,null,null,26,4,null,{"$f":"_xlfn.IFNA(VLOOKUP(_xlfn.CONCAT($C$2,\"-\",$E120,\"-\",$F120,\"-\",H$3),'Raw Data'!$A$2:$D$690331,4,FALSE),\"N/A\")","v":"N/A"},{"$f":"_xlfn.IFNA(VLOOKUP(_xlfn.CONCAT($C$2,\"-\",$E120,\"-\",$F120,\"-\",I$3),'Raw Data'!$A$2:$D$690331,4,FALSE),\"N/A\")","v":"N/A"},{"$f":"_xlfn.IFNA(VLOOKUP(_xlfn.CONCAT($C$2,\"-\",$E120,\"-\",$F120,\"-\",J$3),'Raw Data'!$A$2:$D$690331,4,FALSE),\"N/A\")","v":"N/A"},{"$f":"_xlfn.IFNA(VLOOKUP(_xlfn.CONCAT($C$2,\"-\",$E120,\"-\",$F120,\"-\",K$3),'Raw Data'!$A$2:$D$690331,4,FALSE),\"N/A\")","v":"N/A"},{"$f":"_xlfn.IFNA(VLOOKUP(_xlfn.CONCAT($C$2,\"-\",$E120,\"-\",$F120,\"-\",L$3),'Raw Data'!$A$2:$D$690331,4,FALSE),\"N/A\")","v":"N/A"},{"$f":"_xlfn.IFNA(VLOOKUP(_xlfn.CONCAT($C$2,\"-\",$E120,\"-\",$F120,\"-\",M$3),'Raw Data'!$A$2:$D$690331,4,FALSE),\"N/A\")","v":"N/A"},{"$f":"_xlfn.IFNA(VLOOKUP(_xlfn.CONCAT($C$2,\"-\",$E120,\"-\",$F120,\"-\",N$3),'Raw Data'!$A$2:$D$690331,4,FALSE),\"N/A\")","v":"N/A"},{"$f":"_xlfn.IFNA(VLOOKUP(_xlfn.CONCAT($C$2,\"-\",$E120,\"-\",$F120,\"-\",O$3),'Raw Data'!$A$2:$D$690331,4,FALSE),\"N/A\")","v":"N/A"},{"$f":"_xlfn.IFNA(VLOOKUP(_xlfn.CONCAT($C$2,\"-\",$E120,\"-\",$F120,\"-\",P$3),'Raw Data'!$A$2:$D$690331,4,FALSE),\"N/A\")","v":"N/A"},{"$f":"_xlfn.IFNA(VLOOKUP(_xlfn.CONCAT($C$2,\"-\",$E120,\"-\",$F120,\"-\",Q$3),'Raw Data'!$A$2:$D$690331,4,FALSE),\"N/A\")","v":"N/A"},{"$f":"_xlfn.IFNA(VLOOKUP(_xlfn.CONCAT($C$2,\"-\",$E120,\"-\",$F120,\"-\",R$3),'Raw Data'!$A$2:$D$690331,4,FALSE),\"N/A\")","v":"N/A"},{"$f":"_xlfn.IFNA(VLOOKUP(_xlfn.CONCAT($C$2,\"-\",$E120,\"-\",$F120,\"-\",S$3),'Raw Data'!$A$2:$D$690331,4,FALSE),\"N/A\")","v":"N/A"}]
[null,null,null,null,27,4,null,{"$f":"_xlfn.IFNA(VLOOKUP(_xlfn.CONCAT($C$2,\"-\",$E121,\"-\",$F121,\"-\",H$3),'Raw Data'!$A$2:$D$690331,4,FALSE),\"N/A\")","v":"N/A"},{"$f":"_xlfn.IFNA(VLOOKUP(_xlfn.CONCAT($C$2,\"-\",$E121,\"-\",$F121,\"-\",I$3),'Raw Data'!$A$2:$D$690331,4,FALSE),\"N/A\")","v":"N/A"},{"$f":"_xlfn.IFNA(VLOOKUP(_xlfn.CONCAT($C$2,\"-\",$E121,\"-\",$F121,\"-\",J$3),'Raw Data'!$A$2:$D$690331,4,FALSE),\"N/A\")","v":"N/A"},{"$f":"_xlfn.IFNA(VLOOKUP(_xlfn.CONCAT($C$2,\"-\",$E121,\"-\",$F121,\"-\",K$3),'Raw Data'!$A$2:$D$690331,4,FALSE),\"N/A\")","v":"N/A"},{"$f":"_xlfn.IFNA(VLOOKUP(_xlfn.CONCAT($C$2,\"-\",$E121,\"-\",$F121,\"-\",L$3),'Raw Data'!$A$2:$D$690331,4,FALSE),\"N/A\")","v":"N/A"},{"$f":"_xlfn.IFNA(VLOOKUP(_xlfn.CONCAT($C$2,\"-\",$E121,\"-\",$F121,\"-\",M$3),'Raw Data'!$A$2:$D$690331,4,FALSE),\"N/A\")","v":"N/A"},{"$f":"_xlfn.IFNA(VLOOKUP(_xlfn.CONCAT($C$2,\"-\",$E121,\"-\",$F121,\"-\",N$3),'Raw Data'!$A$2:$D$690331,4,FALSE),\"N/A\")","v":"N/A"},{"$f":"_xlfn.IFNA(VLOOKUP(_xlfn.CONCAT($C$2,\"-\",$E121,\"-\",$F121,\"-\",O$3),'Raw Data'!$A$2:$D$690331,4,FALSE),\"N/A\")","v":"N/A"},{"$f":"_xlfn.IFNA(VLOOKUP(_xlfn.CONCAT($C$2,\"-\",$E121,\"-\",$F121,\"-\",P$3),'Raw Data'!$A$2:$D$690331,4,FALSE),\"N/A\")","v":"N/A"},{"$f":"_xlfn.IFNA(VLOOKUP(_xlfn.CONCAT($C$2,\"-\",$E121,\"-\",$F121,\"-\",Q$3),'Raw Data'!$A$2:$D$690331,4,FALSE),\"N/A\")","v":"N/A"},{"$f":"_xlfn.IFNA(VLOOKUP(_xlfn.CONCAT($C$2,\"-\",$E121,\"-\",$F121,\"-\",R$3),'Raw Data'!$A$2:$D$690331,4,FALSE),\"N/A\")","v":"N/A"},{"$f":"_xlfn.IFNA(VLOOKUP(_xlfn.CONCAT($C$2,\"-\",$E121,\"-\",$F121,\"-\",S$3),'Raw Data'!$A$2:$D$690331,4,FALSE),\"N/A\")","v":"N/A"}]
[null,null,null,null,28,4,null,{"$f":"_xlfn.IFNA(VLOOKUP(_xlfn.CONCAT($C$2,\"-\",$E122,\"-\",$F122,\"-\",H$3),'Raw Data'!$A$2:$D$690331,4,FALSE),\"N/A\")","v":"N/A"},{"$f":"_xlfn.IFNA(VLOOKUP(_xlfn.CONCAT($C$2,\"-\",$E122,\"-\",$F122,\"-\",I$3),'Raw Data'!$A$2:$D$690331,4,FALSE),\"N/A\")","v":"N/A"},{"$f":"_xlfn.IFNA(VLOOKUP(_xlfn.CONCAT($C$2,\"-\",$E122,\"-\",$F122,\"-\",J$3),'Raw Data'!$A$2:$D$690331,4,FALSE),\"N/A\")","v":"N/A"},{"$f":"_xlfn.IFNA(VLOOKUP(_xlfn.CONCAT($C$2,\"-\",$E122,\"-\",$F122,\"-\",K$3),'Raw Data'!$A$2:$D$690331,4,FALSE),\"N/A\")","v":"N/A"},{"$f":"_xlfn.IFNA(VLOOKUP(_xlfn.CONCAT($C$2,\"-\",$E122,\"-\",$F122,\"-\",L$3),'Raw Data'!$A$2:$D$690331,4,FALSE),\"N/A\")","v":"N/A"},{"$f":"_xlfn.IFNA(VLOOKUP(_xlfn.CONCAT($C$2,\"-\",$E122,\"-\",$F122,\"-\",M$3),'Raw Data'!$A$2:$D$690331,4,FALSE),\"N/A\")","v":"N/A"},{"$f":"_xlfn.IFNA(VLOOKUP(_xlfn.CONCAT($C$2,\"-\",$E122,\"-\",$F122,\"-\",N$3),'Raw Data'!$A$2:$D$690331,4,FALSE),\"N/A\")","v":"N/A"},{"$f":"_xlfn.IFNA(VLOOKUP(_xlfn.CONCAT($C$2,\"-\",$E122,\"-\",$F122,\"-\",O$3),'Raw Data'!$A$2:$D$690331,4,FALSE),\"N/A\")","v":"N/A"},{"$f":"_xlfn.IFNA(VLOOKUP(_xlfn.CONCAT($C$2,\"-\",$E122,\"-\",$F122,\"-\",P$3),'Raw Data'!$A$2:$D$690331,4,FALSE),\"N/A\")","v":"N/A"},{"$f":"_xlfn.IFNA(VLOOKUP(_xlfn.CONCAT($C$2,\"-\",$E122,\"-\",$F122,\"-\",Q$3),'Raw Data'!$A$2:$D$690331,4,FALSE),\"N/A\")","v":"N/A"},{"$f":"_xlfn.IFNA(VLOOKUP(_xlfn.CONCAT($C$2,\"-\",$E122,\"-\",$F122,\"-\",R$3),'Raw Data'!$A$2:$D$690331,4,FALSE),\"N/A\")","v":"N/A"},{"$f":"_xlfn.IFNA(VLOOKUP(_xlfn.CONCAT($C$2,\"-\",$E122,\"-\",$F122,\"-\",S$3),'Raw Data'!$A$2:$D$690331,4,FALSE),\"N/A\")","v":"N/A"}]
[null,null,null,null,29,4,null,{"$f":"_xlfn.IFNA(VLOOKUP(_xlfn.CONCAT($C$2,\"-\",$E123,\"-\",$F123,\"-\",H$3),'Raw Data'!$A$2:$D$690331,4,FALSE),\"N/A\")","v":"N/A"},{"$f":"_xlfn.IFNA(VLOOKUP(_xlfn.CONCAT($C$2,\"-\",$E123,\"-\",$F123,\"-\",I$3),'Raw Data'!$A$2:$D$690331,4,FALSE),\"N/A\")","v":"N/A"},{"$f":"_xlfn.IFNA(VLOOKUP(_xlfn.CONCAT($C$2,\"-\",$E123,\"-\",$F123,\"-\",J$3),'Raw Data'!$A$2:$D$690331,4,FALSE),\"N/A\")","v":"N/A"},{"$f":"_xlfn.IFNA(VLOOKUP(_xlfn.CONCAT($C$2,\"-\",$E123,\"-\",$F123,\"-\",K$3),'Raw Data'!$A$2:$D$690331,4,FALSE),\"N/A\")","v":"N/A"},{"$f":"_xlfn.IFNA(VLOOKUP(_xlfn.CONCAT($C$2,\"-\",$E123,\"-\",$F123,\"-\",L$3),'Raw Data'!$A$2:$D$690331,4,FALSE),\"N/A\")","v":"N/A"},{"$f":"_xlfn.IFNA(VLOOKUP(_xlfn.CONCAT($C$2,\"-\",$E123,\"-\",$F123,\"-\",M$3),'Raw Data'!$A$2:$D$690331,4,FALSE),\"N/A\")","v":"N/A"},{"$f":"_xlfn.IFNA(VLOOKUP(_xlfn.CONCAT($C$2,\"-\",$E123,\"-\",$F123,\"-\",N$3),'Raw Data'!$A$2:$D$690331,4,FALSE),\"N/A\")","v":"N/A"},{"$f":"_xlfn.IFNA(VLOOKUP(_xlfn.CONCAT($C$2,\"-\",$E123,\"-\",$F123,\"-\",O$3),'Raw Data'!$A$2:$D$690331,4,FALSE),\"N/A\")","v":"N/A"},{"$f":"_xlfn.IFNA(VLOOKUP(_xlfn.CONCAT($C$2,\"-\",$E123,\"-\",$F123,\"-\",P$3),'Raw Data'!$A$2:$D$690331,4,FALSE),\"N/A\")","v":"N/A"},{"$f":"_xlfn.IFNA(VLOOKUP(_xlfn.CONCAT($C$2,\"-\",$E123,\"-\",$F123,\"-\",Q$3),'Raw Data'!$A$2:$D$690331,4,FALSE),\"N/A\")","v":"N/A"},{"$f":"_xlfn.IFNA(VLOOKUP(_xlfn.CONCAT($C$2,\"-\",$E123,\"-\",$F123,\"-\",R$3),'Raw Data'!$A$2:$D$690331,4,FALSE),\"N/A\")","v":"N/A"},{"$f":"_xlfn.IFNA(VLOOKUP(_xlfn.CONCAT($C$2,\"-\",$E123,\"-\",$F123,\"-\",S$3),'Raw Data'!$A$2:$D$690331,4,FALSE),\"N/A\")","v":"N/A"}]
[null,null,null,null,30,4,null,{"$f":"_xlfn.IFNA(VLOOKUP(_xlfn.CONCAT($C$2,\"-\",$E124,\"-\",$F124,\"-\",H$3),'Raw Data'!$A$2:$D$690331,4,FALSE),\"N/A\")","v":"N/A"},{"$f":"_xlfn.IFNA(VLOOKUP(_xlfn.CONCAT($C$2,\"-\",$E124,\"-\",$F124,\"-\",I$3),'Raw Data'!$A$2:$D$690331,4,FALSE),\"N/A\")","v":"N/A"},{"$f":"_xlfn.IFNA(VLOOKUP(_xlfn.CONCAT($C$2,\"-\",$E124,\"-\",$F124,\"-\",J$3),'Raw Data'!$A$2:$D$690331,4,FALSE),\"N/A\")","v":"N/A"},{"$f":"_xlfn.IFNA(VLOOKUP(_xlfn.CONCAT($C$2,\"-\",$E124,\"-\",$F124,\"-\",K$3),'Raw Data'!$A$2:$D$690331,4,FALSE),\"N/A\")","v":"N/A"},{"$f":"_xlfn.IFNA(VLOOKUP(_xlfn.CONCAT($C$2,\"-\",$E124,\"-\",$F124,\"-\",L$3),'Raw Data'!$A$2:$D$690331,4,FALSE),\"N/A\")","v":"N/A"},{"$f":"_xlfn.IFNA(VLOOKUP(_xlfn.CONCAT($C$2,\"-\",$E124,\"-\",$F124,\"-\",M$3),'Raw Data'!$A$2:$D$690331,4,FALSE),\"N/A\")","v":"N/A"},{"$f":"_xlfn.IFNA(VLOOKUP(_xlfn.CONCAT($C$2,\"-\",$E124,\"-\",$F124,\"-\",N$3),'Raw Data'!$A$2:$D$690331,4,FALSE),\"N/A\")","v":"N/A"},{"$f":"_xlfn.IFNA(VLOOKUP(_xlfn.CONCAT($C$2,\"-\",$E124,\"-\",$F124,\"-\",O$3),'Raw Data'!$A$2:$D$690331,4,FALSE),\"N/A\")","v":"N/A"},{"$f":"_xlfn.IFNA(VLOOKUP(_xlfn.CONCAT($C$2,\"-\",$E124,\"-\",$F124,\"-\",P$3),'Raw Data'!$A$2:$D$690331,4,FALSE),\"N/A\")","v":"N/A"},{"$f":"_xlfn.IFNA(VLOOKUP(_xlfn.CONCAT($C$2,\"-\",$E124,\"-\",$F124,\"-\",Q$3),'Raw Data'!$A$2:$D$690331,4,FALSE),\"N/A\")","v":"N/A"},{"$f":"_xlfn.IFNA(VLOOKUP(_xlfn.CONCAT($C$2,\"-\",$E124,\"-\",$F124,\"-\",R$3),'Raw Data'!$A$2:$D$690331,4,FALSE),\"N/A\")","v":"N/A"},{"$f":"_xlfn.IFNA(VLOOKUP(_xlfn.CONCAT($C$2,\"-\",$E124,\"-\",$F124,\"-\",S$3),'Raw Data'!$A$2:$D$690331,4,FALSE),\"N/A\")","v":"N/A"}]
[null,null,null,null,1,5,null,{"$f":"_xlfn.IFNA(VLOOKUP(_xlfn.CONCAT($C$2,\"-\",$E125,\"-\",$F125,\"-\",H$3),'Raw Data'!$A$2:$D$690331,4,FALSE),\"N/A\")","v":"N/A"},{"$f":"_xlfn.IFNA(VLOOKUP(_xlfn.CONCAT($C$2,\"-\",$E125,\"-\",$F125,\"-\",I$3),'Raw Data'!$A$2:$D$690331,4,FALSE),\"N/A\")","v":"N/A"},{"$f":"_xlfn.IFNA(VLOOKUP(_xlfn.CONCAT($C$2,\"-\",$E125,\"-\",$F125,\"-\",J$3),'Raw Data'!$A$2:$D$690331,4,FALSE),\"N/A\")","v":"N/A"},{"$f":"_xlfn.IFNA(VLOOKUP(_xlfn.CONCAT($C$2,\"-\",$E125,\"-\",$F125,\"-\",K$3),'Raw Data'!$A$2:$D$690331,4,FALSE),\"N/A\")","v":"N/A"},{"$f":"_xlfn.IFNA(VLOOKUP(_xlfn.CONCAT($C$2,\"-\",$E125,\"-\",$F125,\"-\",L$3),'Raw Data'!$A$2:$D$690331,4,FALSE),\"N/A\")","v":"N/A"},{"$f":"_xlfn.IFNA(VLOOKUP(_xlfn.CONCAT($C$2,\"-\",$E125,\"-\",$F125,\"-\",M$3),'Raw Data'!$A$2:$D$690331,4,FALSE),\"N/A\")","v":"N/A"},{"$f":"_xlfn.IFNA(VLOOKUP(_xlfn.CONCAT($C$2,\"-\",$E125,\"-\",$F125,\"-\",N$3),'Raw Data'!$A$2:$D$690331,4,FALSE),\"N/A\")","v":"N/A"},{"$f":"_xlfn.IFNA(VLOOKUP(_xlfn.CONCAT($C$2,\"-\",$E125,\"-\",$F125,\"-\",O$3),'Raw Data'!$A$2:$D$690331,4,FALSE),\"N/A\")","v":"N/A"},{"$f":"_xlfn.IFNA(VLOOKUP(_xlfn.CONCAT($C$2,\"-\",$E125,\"-\",$F125,\"-\",P$3),'Raw Data'!$A$2:$D$690331,4,FALSE),\"N/A\")","v":"N/A"},{"$f":"_xlfn.IFNA(VLOOKUP(_xlfn.CONCAT($C$2,\"-\",$E125,\"-\",$F125,\"-\",Q$3),'Raw Data'!$A$2:$D$690331,4,FALSE),\"N/A\")","v":"N/A"},{"$f":"_xlfn.IFNA(VLOOKUP(_xlfn.CONCAT($C$2,\"-\",$E125,\"-\",$F125,\"-\",R$3),'Raw Data'!$A$2:$D$690331,4,FALSE),\"N/A\")","v":"N/A"},{"$f":"_xlfn.IFNA(VLOOKUP(_xlfn.CONCAT($C$2,\"-\",$E125,\"-\",$F125,\"-\",S$3),'Raw Data'!$A$2:$D$690331,4,FALSE),\"N/A\")","v":"N/A"}]
[null,null,null,null,2,5,null,{"$f":"_xlfn.IFNA(VLOOKUP(_xlfn.CONCAT($C$2,\"-\",$E126,\"-\",$F126,\"-\",H$3),'Raw Data'!$A$2:$D$690331,4,FALSE),\"N/A\")","v":"N/A"},{"$f":"_xlfn.IFNA(VLOOKUP(_xlfn.CONCAT($C$2,\"-\",$E126,\"-\",$F126,\"-\",I$3),'Raw Data'!$A$2:$D$690331,4,FALSE),\"N/A\")","v":"N/A"},{"$f":"_xlfn.IFNA(VLOOKUP(_xlfn.CONCAT($C$2,\"-\",$E126,\"-\",$F126,\"-\",J$3),'Raw Data'!$A$2:$D$690331,4,FALSE),\"N/A\")","v":"N/A"},{"$f":"_xlfn.IFNA(VLOOKUP(_xlfn.CONCAT($C$2,\"-\",$E126,\"-\",$F126,\"-\",K$3),'Raw Data'!$A$2:$D$690331,4,FALSE),\"N/A\")","v":"N/A"},{"$f":"_xlfn.IFNA(VLOOKUP(_xlfn.CONCAT($C$2,\"-\",$E126,\"-\",$F126,\"-\",L$3),'Raw Data'!$A$2:$D$690331,4,FALSE),\"N/A\")","v":"N/A"},{"$f":"_xlfn.IFNA(VLOOKUP(_xlfn.CONCAT($C$2,\"-\",$E126,\"-\",$F126,\"-\",M$3),'Raw Data'!$A$2:$D$690331,4,FALSE),\"N/A\")","v":"N/A"},{"$f":"_xlfn.IFNA(VLOOKUP(_xlfn.CONCAT($C$2,\"-\",$E126,\"-\",$F126,\"-\",N$3),'Raw Data'!$A$2:$D$690331,4,FALSE),\"N/A\")","v":"N/A"},{"$f":"_xlfn.IFNA(VLOOKUP(_xlfn.CONCAT($C$2,\"-\",$E126,\"-\",$F126,\"-\",O$3),'Raw Data'!$A$2:$D$690331,4,FALSE),\"N/A\")","v":"N/A"},{"$f":"_xlfn.IFNA(VLOOKUP(_xlfn.CONCAT($C$2,\"-\",$E126,\"-\",$F126,\"-\",P$3),'Raw Data'!$A$2:$D$690331,4,FALSE),\"N/A\")","v":"N/A"},{"$f":"_xlfn.IFNA(VLOOKUP(_xlfn.CONCAT($C$2,\"-\",$E126,\"-\",$F126,\"-\",Q$3),'Raw Data'!$A$2:$D$690331,4,FALSE),\"N/A\")","v":"N/A"},{"$f":"_xlfn.IFNA(VLOOKUP(_xlfn.CONCAT($C$2,\"-\",$E126,\"-\",$F126,\"-\",R$3),'Raw Data'!$A$2:$D$690331,4,FALSE),\"N/A\")","v":"N/A"},{"$f":"_xlfn.IFNA(VLOOKUP(_xlfn.CONCAT($C$2,\"-\",$E126,\"-\",$F126,\"-\",S$3),'Raw Data'!$A$2:$D$690331,4,FALSE),\"N/A\")","v":"N/A"}]
[null,null,null,null,3,5,null,{"$f":"_xlfn.IFNA(VLOOKUP(_xlfn.CONCAT($C$2,\"-\",$E127,\"-\",$F127,\"-\",H$3),'Raw Data'!$A$2:$D$690331,4,FALSE),\"N/A\")","v":"N/A"},{"$f":"_xlfn.IFNA(VLOOKUP(_xlfn.CONCAT($C$2,\"-\",$E127,\"-\",$F127,\"-\",I$3),'Raw Data'!$A$2:$D$690331,4,FALSE),\"N/A\")","v":"N/A"},{"$f":"_xlfn.IFNA(VLOOKUP(_xlfn.CONCAT($C$2,\"-\",$E127,\"-\",$F127,\"-\",J$3),'Raw Data'!$A$2:$D$690331,4,FALSE),\"N/A\")","v":"N/A"},{"$f":"_xlfn.IFNA(VLOOKUP(_xlfn.CONCAT($C$2,\"-\",$E127,\"-\",$F127,\"-\",K$3),'Raw Data'!$A$2:$D$690331,4,FALSE),\"N/A\")","v":"N/A"},{"$f":"_xlfn.IFNA(VLOOKUP(_xlfn.CONCAT($C$2,\"-\",$E127,\"-\",$F127,\"-\",L$3),'Raw Data'!$A$2:$D$690331,4,FALSE),\"N/A\")","v":"N/A"},{"$f":"_xlfn.IFNA(VLOOKUP(_xlfn.CONCAT($C$2,\"-\",$E127,\"-\",$F127,\"-\",M$3),'Raw Data'!$A$2:$D$690331,4,FALSE),\"N/A\")","v":"N/A"},{"$f":"_xlfn.IFNA(VLOOKUP(_xlfn.CONCAT($C$2,\"-\",$E127,\"-\",$F127,\"-\",N$3),'Raw Data'!$A$2:$D$690331,4,FALSE),\"N/A\")","v":"N/A"},{"$f":"_xlfn.IFNA(VLOOKUP(_xlfn.CONCAT($C$2,\"-\",$E127,\"-\",$F127,\"-\",O$3),'Raw Data'!$A$2:$D$690331,4,FALSE),\"N/A\")","v":"N/A"},{"$f":"_xlfn.IFNA(VLOOKUP(_xlfn.CONCAT($C$2,\"-\",$E127,\"-\",$F127,\"-\",P$3),'Raw Data'!$A$2:$D$690331,4,FALSE),\"N/A\")","v":"N/A"},{"$f":"_xlfn.IFNA(VLOOKUP(_xlfn.CONCAT($C$2,\"-\",$E127,\"-\",$F127,\"-\",Q$3),'Raw Data'!$A$2:$D$690331,4,FALSE),\"N/A\")","v":"N/A"},{"$f":"_xlfn.IFNA(VLOOKUP(_xlfn.CONCAT($C$2,\"-\",$E127,\"-\",$F127,\"-\",R$3),'Raw Data'!$A$2:$D$690331,4,FALSE),\"N/A\")","v":"N/A"},{"$f":"_xlfn.IFNA(VLOOKUP(_xlfn.CONCAT($C$2,\"-\",$E127,\"-\",$F127,\"-\",S$3),'Raw Data'!$A$2:$D$690331,4,FALSE),\"N/A\")","v":"N/A"}]
[null,null,null,null,4,5,null,{"$f":"_xlfn.IFNA(VLOOKUP(_xlfn.CONCAT($C$2,\"-\",$E128,\"-\",$F128,\"-\",H$3),'Raw Data'!$A$2:$D$690331,4,FALSE),\"N/A\")","v":"N/A"},{"$f":"_xlfn.IFNA(VLOOKUP(_xlfn.CONCAT($C$2,\"-\",$E128,\"-\",$F128,\"-\",I$3),'Raw Data'!$A$2:$D$690331,4,FALSE),\"N/A\")","v":"N/A"},{"$f":"_xlfn.IFNA(VLOOKUP(_xlfn.CONCAT($C$2,\"-\",$E128,\"-\",$F128,\"-\",J$3),'Raw Data'!$A$2:$D$690331,4,FALSE),\"N/A\")","v":"N/A"},{"$f":"_xlfn.IFNA(VLOOKUP(_xlfn.CONCAT($C$2,\"-\",$E128,\"-\",$F128,\"-\",K$3),'Raw Data'!$A$2:$D$690331,4,FALSE),\"N/A\")","v":"N/A"},{"$f":"_xlfn.IFNA(VLOOKUP(_xlfn.CONCAT($C$2,\"-\",$E128,\"-\",$F128,\"-\",L$3),'Raw Data'!$A$2:$D$690331,4,FALSE),\"N/A\")","v":"N/A"},{"$f":"_xlfn.IFNA(VLOOKUP(_xlfn.CONCAT($C$2,\"-\",$E128,\"-\",$F128,\"-\",M$3),'Raw Data'!$A$2:$D$690331,4,FALSE),\"N/A\")","v":"N/A"},{"$f":"_xlfn.IFNA(VLOOKUP(_xlfn.CONCAT($C$2,\"-\",$E128,\"-\",$F128,\"-\",N$3),'Raw Data'!$A$2:$D$690331,4,FALSE),\"N/A\")","v":"N/A"},{"$f":"_xlfn.IFNA(VLOOKUP(_xlfn.CONCAT($C$2,\"-\",$E128,\"-\",$F128,\"-\",O$3),'Raw Data'!$A$2:$D$690331,4,FALSE),\"N/A\")","v":"N/A"},{"$f":"_xlfn.IFNA(VLOOKUP(_xlfn.CONCAT($C$2,\"-\",$E128,\"-\",$F128,\"-\",P$3),'Raw Data'!$A$2:$D$690331,4,FALSE),\"N/A\")","v":"N/A"},{"$f":"_xlfn.IFNA(VLOOKUP(_xlfn.CONCAT($C$2,\"-\",$E128,\"-\",$F128,\"-\",Q$3),'Raw Data'!$A$2:$D$690331,4,FALSE),\"N/A\")","v":"N/A"},{"$f":"_xlfn.IFNA(VLOOKUP(_xlfn.CONCAT($C$2,\"-\",$E128,\"-\",$F128,\"-\",R$3),'Raw Data'!$A$2:$D$690331,4,FALSE),\"N/A\")","v":"N/A"},{"$f":"_xlfn.IFNA(VLOOKUP(_xlfn.CONCAT($C$2,\"-\",$E128,\"-\",$F128,\"-\",S$3),'Raw Data'!$A$2:$D$690331,4,FALSE),\"N/A\")","v":"N/A"}]
[null,null,null,null,5,5,null,{"$f":"_xlfn.IFNA(VLOOKUP(_xlfn.CONCAT($C$2,\"-\",$E129,\"-\",$F129,\"-\",H$3),'Raw Data'!$A$2:$D$690331,4,FALSE),\"N/A\")","v":"N/A"},{"$f":"_xlfn.IFNA(VLOOKUP(_xlfn.CONCAT($C$2,\"-\",$E129,\"-\",$F129,\"-\",I$3),'Raw Data'!$A$2:$D$690331,4,FALSE),\"N/A\")","v":"N/A"},{"$f":"_xlfn.IFNA(VLOOKUP(_xlfn.CONCAT($C$2,\"-\",$E129,\"-\",$F129,\"-\",J$3),'Raw Data'!$A$2:$D$690331,4,FALSE),\"N/A\")","v":"N/A"},{"$f":"_xlfn.IFNA(VLOOKUP(_xlfn.CONCAT($C$2,\"-\",$E129,\"-\",$F129,\"-\",K$3),'Raw Data'!$A$2:$D$690331,4,FALSE),\"N/A\")","v":"N/A"},{"$f":"_xlfn.IFNA(VLOOKUP(_xlfn.CONCAT($C$2,\"-\",$E129,\"-\",$F129,\"-\",L$3),'Raw Data'!$A$2:$D$690331,4,FALSE),\"N/A\")","v":"N/A"},{"$f":"_xlfn.IFNA(VLOOKUP(_xlfn.CONCAT($C$2,\"-\",$E129,\"-\",$F129,\"-\",M$3),'Raw Data'!$A$2:$D$690331,4,FALSE),\"N/A\")","v":"N/A"},{"$f":"_xlfn.IFNA(VLOOKUP(_xlfn.CONCAT($C$2,\"-\",$E129,\"-\",$F129,\"-\",N$3),'Raw Data'!$A$2:$D$690331,4,FALSE),\"N/A\")","v":"N/A"},{"$f":"_xlfn.IFNA(VLOOKUP(_xlfn.CONCAT($C$2,\"-\",$E129,\"-\",$F129,\"-\",O$3),'Raw Data'!$A$2:$D$690331,4,FALSE),\"N/A\")","v":"N/A"},{"$f":"_xlfn.IFNA(VLOOKUP(_xlfn.CONCAT($C$2,\"-\",$E129,\"-\",$F129,\"-\",P$3),'Raw Data'!$A$2:$D$690331,4,FALSE),\"N/A\")","v":"N/A"},{"$f":"_xlfn.IFNA(VLOOKUP(_xlfn.CONCAT($C$2,\"-\",$E129,\"-\",$F129,\"-\",Q$3),'Raw Data'!$A$2:$D$690331,4,FALSE),\"N/A\")","v":"N/A"},{"$f":"_xlfn.IFNA(VLOOKUP(_xlfn.CONCAT($C$2,\"-\",$E129,\"-\",$F129,\"-\",R$3),'Raw Data'!$A$2:$D$690331,4,FALSE),\"N/A\")","v":"N/A"},{"$f":"_xlfn.IFNA(VLOOKUP(_xlfn.CONCAT($C$2,\"-\",$E129,\"-\",$F129,\"-\",S$3),'Raw Data'!$A$2:$D$690331,4,FALSE),\"N/A\")","v":"N/A"}]
[null,null,null,null,6,5,null,{"$f":"_xlfn.IFNA(VLOOKUP(_xlfn.CONCAT($C$2,\"-\",$E130,\"-\",$F130,\"-\",H$3),'Raw Data'!$A$2:$D$690331,4,FALSE),\"N/A\")","v":"N/A"},{"$f":"_xlfn.IFNA(VLOOKUP(_xlfn.CONCAT($C$2,\"-\",$E130,\"-\",$F130,\"-\",I$3),'Raw Data'!$A$2:$D$690331,4,FALSE),\"N/A\")","v":"N/A"},{"$f":"_xlfn.IFNA(VLOOKUP(_xlfn.CONCAT($C$2,\"-\",$E130,\"-\",$F130,\"-\",J$3),'Raw Data'!$A$2:$D$690331,4,FALSE),\"N/A\")","v":"N/A"},{"$f":"_xlfn.IFNA(VLOOKUP(_xlfn.CONCAT($C$2,\"-\",$E130,\"-\",$F130,\"-\",K$3),'Raw Data'!$A$2:$D$690331,4,FALSE),\"N/A\")","v":"N/A"},{"$f":"_xlfn.IFNA(VLOOKUP(_xlfn.CONCAT($C$2,\"-\",$E130,\"-\",$F130,\"-\",L$3),'Raw Data'!$A$2:$D$690331,4,FALSE),\"N/A\")","v":"N/A"},{"$f":"_xlfn.IFNA(VLOOKUP(_xlfn.CONCAT($C$2,\"-\",$E130,\"-\",$F130,\"-\",M$3),'Raw Data'!$A$2:$D$690331,4,FALSE),\"N/A\")","v":"N/A"},{"$f":"_xlfn.IFNA(VLOOKUP(_xlfn.CONCAT($C$2,\"-\",$E130,\"-\",$F130,\"-\",N$3),'Raw Data'!$A$2:$D$690331,4,FALSE),\"N/A\")","v":"N/A"},{"$f":"_xlfn.IFNA(VLOOKUP(_xlfn.CONCAT($C$2,\"-\",$E130,\"-\",$F130,\"-\",O$3),'Raw Data'!$A$2:$D$690331,4,FALSE),\"N/A\")","v":"N/A"},{"$f":"_xlfn.IFNA(VLOOKUP(_xlfn.CONCAT($C$2,\"-\",$E130,\"-\",$F130,\"-\",P$3),'Raw Data'!$A$2:$D$690331,4,FALSE),\"N/A\")","v":"N/A"},{"$f":"_xlfn.IFNA(VLOOKUP(_xlfn.CONCAT($C$2,\"-\",$E130,\"-\",$F130,\"-\",Q$3),'Raw Data'!$A$2:$D$690331,4,FALSE),\"N/A\")","v":"N/A"},{"$f":"_xlfn.IFNA(VLOOKUP(_xlfn.CONCAT($C$2,\"-\",$E130,\"-\",$F130,\"-\",R$3),'Raw Data'!$A$2:$D$690331,4,FALSE),\"N/A\")","v":"N/A"},{"$f":"_xlfn.IFNA(VLOOKUP(_xlfn.CONCAT($C$2,\"-\",$E130,\"-\",$F130,\"-\",S$3),'Raw Data'!$A$2:$D$690331,4,FALSE),\"N/A\")","v":"N/A"}]
[null,null,null,null,7,5,null,{"$f":"_xlfn.IFNA(VLOOKUP(_xlfn.CONCAT($C$2,\"-\",$E131,\"-\",$F131,\"-\",H$3),'Raw Data'!$A$2:$D$690331,4,FALSE),\"N/A\")","v":"N/A"},{"$f":"_xlfn.IFNA(VLOOKUP(_xlfn.CONCAT($C$2,\"-\",$E131,\"-\",$F131,\"-\",I$3),'Raw Data'!$A$2:$D$690331,4,FALSE),\"N/A\")","v":"N/A"},{"$f":"_xlfn.IFNA(VLOOKUP(_xlfn.CONCAT($C$2,\"-\",$E131,\"-\",$F131,\"-\",J$3),'Raw Data'!$A$2:$D$690331,4,FALSE),\"N/A\")","v":"N/A"},{"$f":"_xlfn.IFNA(VLOOKUP(_xlfn.CONCAT($C$2,\"-\",$E131,\"-\",$F131,\"-\",K$3),'Raw Data'!$A$2:$D$690331,4,FALSE),\"N/A\")","v":"N/A"},{"$f":"_xlfn.IFNA(VLOOKUP(_xlfn.CONCAT($C$2,\"-\",$E131,\"-\",$F131,\"-\",L$3),'Raw Data'!$A$2:$D$690331,4,FALSE),\"N/A\")","v":"N/A"},{"$f":"_xlfn.IFNA(VLOOKUP(_xlfn.CONCAT($C$2,\"-\",$E131,\"-\",$F131,\"-\",M$3),'Raw Data'!$A$2:$D$690331,4,FALSE),\"N/A\")","v":"N/A"},{"$f":"_xlfn.IFNA(VLOOKUP(_xlfn.CONCAT($C$2,\"-\",$E131,\"-\",$F131,\"-\",N$3),'Raw Data'!$A$2:$D$690331,4,FALSE),\"N/A\")","v":"N/A"},{"$f":"_xlfn.IFNA(VLOOKUP(_xlfn.CONCAT($C$2,\"-\",$E131,\"-\",$F131,\"-\",O$3),'Raw Data'!$A$2:$D$690331,4,FALSE),\"N/A\")","v":"N/A"},{"$f":"_xlfn.IFNA(VLOOKUP(_xlfn.CONCAT($C$2,\"-\",$E131,\"-\",$F131,\"-\",P$3),'Raw Data'!$A$2:$D$690331,4,FALSE),\"N/A\")","v":"N/A"},{"$f":"_xlfn.IFNA(VLOOKUP(_xlfn.CONCAT($C$2,\"-\",$E131,\"-\",$F131,\"-\",Q$3),'Raw Data'!$A$2:$D$690331,4,FALSE),\"N/A\")","v":"N/A"},{"$f":"_xlfn.IFNA(VLOOKUP(_xlfn.CONCAT($C$2,\"-\",$E131,\"-\",$F131,\"-\",R$3),'Raw Data'!$A$2:$D$690331,4,FALSE),\"N/A\")","v":"N/A"},{"$f":"_xlfn.IFNA(VLOOKUP(_xlfn.CONCAT($C$2,\"-\",$E131,\"-\",$F131,\"-\",S$3),'Raw Data'!$A$2:$D$690331,4,FALSE),\"N/A\")","v":"N/A"}]
[null,null,null,null,8,5,null,{"$f":"_xlfn.IFNA(VLOOKUP(_xlfn.CONCAT($C$2,\"-\",$E132,\"-\",$F132,\"-\",H$3),'Raw Data'!$A$2:$D$690331,4,FALSE),\"N/A\")","v":"N/A"},{"$f":"_xlfn.IFNA(VLOOKUP(_xlfn.CONCAT($C$2,\"-\",$E132,\"-\",$F132,\"-\",I$3),'Raw Data'!$A$2:$D$690331,4,FALSE),\"N/A\")","v":"N/A"},{"$f":"_xlfn.IFNA(VLOOKUP(_xlfn.CONCAT($C$2,\"-\",$E132,\"-\",$F132,\"-\",J$3),'Raw Data'!$A$2:$D$690331,4,FALSE),\"N/A\")","v":"N/A"},{"$f":"_xlfn.IFNA(VLOOKUP(_xlfn.CONCAT($C$2,\"-\",$E132,\"-\",$F132,\"-\",K$3),'Raw Data'!$A$2:$D$690331,4,FALSE),\"N/A\")","v":"N/A"},{"$f":"_xlfn.IFNA(VLOOKUP(_xlfn.CONCAT($C$2,\"-\",$E132,\"-\",$F132,\"-\",L$3),'Raw Data'!$A$2:$D$690331,4,FALSE),\"N/A\")","v":"N/A"},{"$f":"_xlfn.IFNA(VLOOKUP(_xlfn.CONCAT($C$2,\"-\",$E132,\"-\",$F132,\"-\",M$3),'Raw Data'!$A$2:$D$690331,4,FALSE),\"N/A\")","v":"N/A"},{"$f":"_xlfn.IFNA(VLOOKUP(_xlfn.CONCAT($C$2,\"-\",$E132,\"-\",$F132,\"-\",N$3),'Raw Data'!$A$2:$D$690331,4,FALSE),\"N/A\")","v":"N/A"},{"$f":"_xlfn.IFNA(VLOOKUP(_xlfn.CONCAT($C$2,\"-\",$E132,\"-\",$F132,\"-\",O$3),'Raw Data'!$A$2:$D$690331,4,FALSE),\"N/A\")","v":"N/A"},{"$f":"_xlfn.IFNA(VLOOKUP(_xlfn.CONCAT($C$2,\"-\",$E132,\"-\",$F132,\"-\",P$3),'Raw Data'!$A$2:$D$690331,4,FALSE),\"N/A\")","v":"N/A"},{"$f":"_xlfn.IFNA(VLOOKUP(_xlfn.CONCAT($C$2,\"-\",$E132,\"-\",$F132,\"-\",Q$3),'Raw Data'!$A$2:$D$690331,4,FALSE),\"N/A\")","v":"N/A"},{"$f":"_xlfn.IFNA(VLOOKUP(_xlfn.CONCAT($C$2,\"-\",$E132,\"-\",$F132,\"-\",R$3),'Raw Data'!$A$2:$D$690331,4,FALSE),\"N/A\")","v":"N/A"},{"$f":"_xlfn.IFNA(VLOOKUP(_xlfn.CONCAT($C$2,\"-\",$E132,\"-\",$F132,\"-\",S$3),'Raw Data'!$A$2:$D$690331,4,FALSE),\"N/A\")","v":"N/A"}]
[null,null,null,null,9,5,null,{"$f":"_xlfn.IFNA(VLOOKUP(_xlfn.CONCAT($C$2,\"-\",$E133,\"-\",$F133,\"-\",H$3),'Raw Data'!$A$2:$D$690331,4,FALSE),\"N/A\")","v":"N/A"},{"$f":"_xlfn.IFNA(VLOOKUP(_xlfn.CONCAT($C$2,\"-\",$E133,\"-\",$F133,\"-\",I$3),'Raw Data'!$A$2:$D$690331,4,FALSE),\"N/A\")","v":"N/A"},{"$f":"_xlfn.IFNA(VLOOKUP(_xlfn.CONCAT($C$2,\"-\",$E133,\"-\",$F133,\"-\",J$3),'Raw Data'!$A$2:$D$690331,4,FALSE),\"N/A\")","v":"N/A"},{"$f":"_xlfn.IFNA(VLOOKUP(_xlfn.CONCAT($C$2,\"-\",$E133,\"-\",$F133,\"-\",K$3),'Raw Data'!$A$2:$D$690331,4,FALSE),\"N/A\")","v":"N/A"},{"$f":"_xlfn.IFNA(VLOOKUP(_xlfn.CONCAT($C$2,\"-\",$E133,\"-\",$F133,\"-\",L$3),'Raw Data'!$A$2:$D$690331,4,FALSE),\"N/A\")","v":"N/A"},{"$f":"_xlfn.IFNA(VLOOKUP(_xlfn.CONCAT($C$2,\"-\",$E133,\"-\",$F133,\"-\",M$3),'Raw Data'!$A$2:$D$690331,4,FALSE),\"N/A\")","v":"N/A"},{"$f":"_xlfn.IFNA(VLOOKUP(_xlfn.CONCAT($C$2,\"-\",$E133,\"-\",$F133,\"-\",N$3),'Raw Data'!$A$2:$D$690331,4,FALSE),\"N/A\")","v":"N/A"},{"$f":"_xlfn.IFNA(VLOOKUP(_xlfn.CONCAT($C$2,\"-\",$E133,\"-\",$F133,\"-\",O$3),'Raw Data'!$A$2:$D$690331,4,FALSE),\"N/A\")","v":"N/A"},{"$f":"_xlfn.IFNA(VLOOKUP(_xlfn.CONCAT($C$2,\"-\",$E133,\"-\",$F133,\"-\",P$3),'Raw Data'!$A$2:$D$690331,4,FALSE),\"N/A\")","v":"N/A"},{"$f":"_xlfn.IFNA(VLOOKUP(_xlfn.CONCAT($C$2,\"-\",$E133,\"-\",$F133,\"-\",Q$3),'Raw Data'!$A$2:$D$690331,4,FALSE),\"N/A\")","v":"N/A"},{"$f":"_xlfn.IFNA(VLOOKUP(_xlfn.CONCAT($C$2,\"-\",$E133,\"-\",$F133,\"-\",R$3),'Raw Data'!$A$2:$D$690331,4,FALSE),\"N/A\")","v":"N/A"},{"$f":"_xlfn.IFNA(VLOOKUP(_xlfn.CONCAT($C$2,\"-\",$E133,\"-\",$F133,\"-\",S$3),'Raw Data'!$A$2:$D$690331,4,FALSE),\"N/A\")","v":"N/A"}]
[null,null,null,null,10,5,null,{"$f":"_xlfn.IFNA(VLOOKUP(_xlfn.CONCAT($C$2,\"-\",$E134,\"-\",$F134,\"-\",H$3),'Raw Data'!$A$2:$D$690331,4,FALSE),\"N/A\")","v":"N/A"},{"$f":"_xlfn.IFNA(VLOOKUP(_xlfn.CONCAT($C$2,\"-\",$E134,\"-\",$F134,\"-\",I$3),'Raw Data'!$A$2:$D$690331,4,FALSE),\"N/A\")","v":"N/A"},{"$f":"_xlfn.IFNA(VLOOKUP(_xlfn.CONCAT($C$2,\"-\",$E134,\"-\",$F134,\"-\",J$3),'Raw Data'!$A$2:$D$690331,4,FALSE),\"N/A\")","v":"N/A"},{"$f":"_xlfn.IFNA(VLOOKUP(_xlfn.CONCAT($C$2,\"-\",$E134,\"-\",$F134,\"-\",K$3),'Raw Data'!$A$2:$D$690331,4,FALSE),\"N/A\")","v":"N/A"},{"$f":"_xlfn.IFNA(VLOOKUP(_xlfn.CONCAT($C$2,\"-\",$E134,\"-\",$F134,\"-\",L$3),'Raw Data'!$A$2:$D$690331,4,FALSE),\"N/A\")","v":"N/A"},{"$f":"_xlfn.IFNA(VLOOKUP(_xlfn.CONCAT($C$2,\"-\",$E134,\"-\",$F134,\"-\",M$3),'Raw Data'!$A$2:$D$690331,4,FALSE),\"N/A\")","v":"N/A"},{"$f":"_xlfn.IFNA(VLOOKUP(_xlfn.CONCAT($C$2,\"-\",$E134,\"-\",$F134,\"-\",N$3),'Raw Data'!$A$2:$D$690331,4,FALSE),\"N/A\")","v":"N/A"},{"$f":"_xlfn.IFNA(VLOOKUP(_xlfn.CONCAT($C$2,\"-\",$E134,\"-\",$F134,\"-\",O$3),'Raw Data'!$A$2:$D$690331,4,FALSE),\"N/A\")","v":"N/A"},{"$f":"_xlfn.IFNA(VLOOKUP(_xlfn.CONCAT($C$2,\"-\",$E134,\"-\",$F134,\"-\",P$3),'Raw Data'!$A$2:$D$690331,4,FALSE),\"N/A\")","v":"N/A"},{"$f":"_xlfn.IFNA(VLOOKUP(_xlfn.CONCAT($C$2,\"-\",$E134,\"-\",$F134,\"-\",Q$3),'Raw Data'!$A$2:$D$690331,4,FALSE),\"N/A\")","v":"N/A"},{"$f":"_xlfn.IFNA(VLOOKUP(_xlfn.CONCAT($C$2,\"-\",$E134,\"-\",$F134,\"-\",R$3),'Raw Data'!$A$2:$D$690331,4,FALSE),\"N/A\")","v":"N/A"},{"$f":"_xlfn.IFNA(VLOOKUP(_xlfn.CONCAT($C$2,\"-\",$E134,\"-\",$F134,\"-\",S$3),'Raw Data'!$A$2:$D$690331,4,FALSE),\"N/A\")","v":"N/A"}]
[null,null,null,null,11,5,null,{"$f":"_xlfn.IFNA(VLOOKUP(_xlfn.CONCAT($C$2,\"-\",$E135,\"-\",$F135,\"-\",H$3),'Raw Data'!$A$2:$D$690331,4,FALSE),\"N/A\")","v":"N/A"},{"$f":"_xlfn.IFNA(VLOOKUP(_xlfn.CONCAT($C$2,\"-\",$E135,\"-\",$F135,\"-\",I$3),'Raw Data'!$A$2:$D$690331,4,FALSE),\"N/A\")","v":"N/A"},{"$f":"_xlfn.IFNA(VLOOKUP(_xlfn.CONCAT($C$2,\"-\",$E135,\"-\",$F135,\"-\",J$3),'Raw Data'!$A$2:$D$690331,4,FALSE),\"N/A\")","v":"N/A"},{"$f":"_xlfn.IFNA(VLOOKUP(_xlfn.CONCAT($C$2,\"-\",$E135,\"-\",$F135,\"-\",K$3),'Raw Data'!$A$2:$D$690331,4,FALSE),\"N/A\")","v":"N/A"},{"$f":"_xlfn.IFNA(VLOOKUP(_xlfn.CONCAT($C$2,\"-\",$E135,\"-\",$F135,\"-\",L$3),'Raw Data'!$A$2:$D$690331,4,FALSE),\"N/A\")","v":"N/A"},{"$f":"_xlfn.IFNA(VLOOKUP(_xlfn.CONCAT($C$2,\"-\",$E135,\"-\",$F135,\"-\",M$3),'Raw Data'!$A$2:$D$690331,4,FALSE),\"N/A\")","v":"N/A"},{"$f":"_xlfn.IFNA(VLOOKUP(_xlfn.CONCAT($C$2,\"-\",$E135,\"-\",$F135,\"-\",N$3),'Raw Data'!$A$2:$D$690331,4,FALSE),\"N/A\")","v":"N/A"},{"$f":"_xlfn.IFNA(VLOOKUP(_xlfn.CONCAT($C$2,\"-\",$E135,\"-\",$F135,\"-\",O$3),'Raw Data'!$A$2:$D$690331,4,FALSE),\"N/A\")","v":"N/A"},{"$f":"_xlfn.IFNA(VLOOKUP(_xlfn.CONCAT($C$2,\"-\",$E135,\"-\",$F135,\"-\",P$3),'Raw Data'!$A$2:$D$690331,4,FALSE),\"N/A\")","v":"N/A"},{"$f":"_xlfn.IFNA(VLOOKUP(_xlfn.CONCAT($C$2,\"-\",$E135,\"-\",$F135,\"-\",Q$3),'Raw Data'!$A$2:$D$690331,4,FALSE),\"N/A\")","v":"N/A"},{"$f":"_xlfn.IFNA(VLOOKUP(_xlfn.CONCAT($C$2,\"-\",$E135,\"-\",$F135,\"-\",R$3),'Raw Data'!$A$2:$D$690331,4,FALSE),\"N/A\")","v":"N/A"},{"$f":"_xlfn.IFNA(VLOOKUP(_xlfn.CONCAT($C$2,\"-\",$E135,\"-\",$F135,\"-\",S$3),'Raw Data'!$A$2:$D$690331,4,FALSE),\"N/A\")","v":"N/A"}]
[null,null,null,null,12,5,null,{"$f":"_xlfn.IFNA(VLOOKUP(_xlfn.CONCAT($C$2,\"-\",$E136,\"-\",$F136,\"-\",H$3),'Raw Data'!$A$2:$D$690331,4,FALSE),\"N/A\")","v":"N/A"},{"$f":"_xlfn.IFNA(VLOOKUP(_xlfn.CONCAT($C$2,\"-\",$E136,\"-\",$F136,\"-\",I$3),'Raw Data'!$A$2:$D$690331,4,FALSE),\"N/A\")","v":"N/A"},{"$f":"_xlfn.IFNA(VLOOKUP(_xlfn.CONCAT($C$2,\"-\",$E136,\"-\",$F136,\"-\",J$3),'Raw Data'!$A$2:$D$690331,4,FALSE),\"N/A\")","v":"N/A"},{"$f":"_xlfn.IFNA(VLOOKUP(_xlfn.CONCAT($C$2,\"-\",$E136,\"-\",$F136,\"-\",K$3),'Raw Data'!$A$2:$D$690331,4,FALSE),\"N/A\")","v":"N/A"},{"$f":"_xlfn.IFNA(VLOOKUP(_xlfn.CONCAT($C$2,\"-\",$E136,\"-\",$F136,\"-\",L$3),'Raw Data'!$A$2:$D$690331,4,FALSE),\"N/A\")","v":"N/A"},{"$f":"_xlfn.IFNA(VLOOKUP(_xlfn.CONCAT($C$2,\"-\",$E136,\"-\",$F136,\"-\",M$3),'Raw Data'!$A$2:$D$690331,4,FALSE),\"N/A\")","v":"N/A"},{"$f":"_xlfn.IFNA(VLOOKUP(_xlfn.CONCAT($C$2,\"-\",$E136,\"-\",$F136,\"-\",N$3),'Raw Data'!$A$2:$D$690331,4,FALSE),\"N/A\")","v":"N/A"},{"$f":"_xlfn.IFNA(VLOOKUP(_xlfn.CONCAT($C$2,\"-\",$E136,\"-\",$F136,\"-\",O$3),'Raw Data'!$A$2:$D$690331,4,FALSE),\"N/A\")","v":"N/A"},{"$f":"_xlfn.IFNA(VLOOKUP(_xlfn.CONCAT($C$2,\"-\",$E136,\"-\",$F136,\"-\",P$3),'Raw Data'!$A$2:$D$690331,4,FALSE),\"N/A\")","v":"N/A"},{"$f":"_xlfn.IFNA(VLOOKUP(_xlfn.CONCAT($C$2,\"-\",$E136,\"-\",$F136,\"-\",Q$3),'Raw Data'!$A$2:$D$690331,4,FALSE),\"N/A\")","v":"N/A"},{"$f":"_xlfn.IFNA(VLOOKUP(_xlfn.CONCAT($C$2,\"-\",$E136,\"-\",$F136,\"-\",R$3),'Raw Data'!$A$2:$D$690331,4,FALSE),\"N/A\")","v":"N/A"},{"$f":"_xlfn.IFNA(VLOOKUP(_xlfn.CONCAT($C$2,\"-\",$E136,\"-\",$F136,\"-\",S$3),'Raw Data'!$A$2:$D$690331,4,FALSE),\"N/A\")","v":"N/A"}]
[null,null,null,null,13,5,null,{"$f":"_xlfn.IFNA(VLOOKUP(_xlfn.CONCAT($C$2,\"-\",$E137,\"-\",$F137,\"-\",H$3),'Raw Data'!$A$2:$D$690331,4,FALSE),\"N/A\")","v":"N/A"},{"$f":"_xlfn.IFNA(VLOOKUP(_xlfn.CONCAT($C$2,\"-\",$E137,\"-\",$F137,\"-\",I$3),'Raw Data'!$A$2:$D$690331,4,FALSE),\"N/A\")","v":"N/A"},{"$f":"_xlfn.IFNA(VLOOKUP(_xlfn.CONCAT($C$2,\"-\",$E137,\"-\",$F137,\"-\",J$3),'Raw Data'!$A$2:$D$690331,4,FALSE),\"N/A\")","v":"N/A"},{"$f":"_xlfn.IFNA(VLOOKUP(_xlfn.CONCAT($C$2,\"-\",$E137,\"-\",$F137,\"-\",K$3),'Raw Data'!$A$2:$D$690331,4,FALSE),\"N/A\")","v":"N/A"},{"$f":"_xlfn.IFNA(VLOOKUP(_xlfn.CONCAT($C$2,\"-\",$E137,\"-\",$F137,\"-\",L$3),'Raw Data'!$A$2:$D$690331,4,FALSE),\"N/A\")","v":"N/A"},{"$f":"_xlfn.IFNA(VLOOKUP(_xlfn.CONCAT($C$2,\"-\",$E137,\"-\",$F137,\"-\",M$3),'Raw Data'!$A$2:$D$690331,4,FALSE),\"N/A\")","v":"N/A"},{"$f":"_xlfn.IFNA(VLOOKUP(_xlfn.CONCAT($C$2,\"-\",$E137,\"-\",$F137,\"-\",N$3),'Raw Data'!$A$2:$D$690331,4,FALSE),\"N/A\")","v":"N/A"},{"$f":"_xlfn.IFNA(VLOOKUP(_xlfn.CONCAT($C$2,\"-\",$E137,\"-\",$F137,\"-\",O$3),'Raw Data'!$A$2:$D$690331,4,FALSE),\"N/A\")","v":"N/A"},{"$f":"_xlfn.IFNA(VLOOKUP(_xlfn.CONCAT($C$2,\"-\",$E137,\"-\",$F137,\"-\",P$3),'Raw Data'!$A$2:$D$690331,4,FALSE),\"N/A\")","v":"N/A"},{"$f":"_xlfn.IFNA(VLOOKUP(_xlfn.CONCAT($C$2,\"-\",$E137,\"-\",$F137,\"-\",Q$3),'Raw Data'!$A$2:$D$690331,4,FALSE),\"N/A\")","v":"N/A"},{"$f":"_xlfn.IFNA(VLOOKUP(_xlfn.CONCAT($C$2,\"-\",$E137,\"-\",$F137,\"-\",R$3),'Raw Data'!$A$2:$D$690331,4,FALSE),\"N/A\")","v":"N/A"},{"$f":"_xlfn.IFNA(VLOOKUP(_xlfn.CONCAT($C$2,\"-\",$E137,\"-\",$F137,\"-\",S$3),'Raw Data'!$A$2:$D$690331,4,FALSE),\"N/A\")","v":"N/A"}]
[null,null,null,null,14,5,null,{"$f":"_xlfn.IFNA(VLOOKUP(_xlfn.CONCAT($C$2,\"-\",$E138,\"-\",$F138,\"-\",H$3),'Raw Data'!$A$2:$D$690331,4,FALSE),\"N/A\")","v":"N/A"},{"$f":"_xlfn.IFNA(VLOOKUP(_xlfn.CONCAT($C$2,\"-\",$E138,\"-\",$F138,\"-\",I$3),'Raw Data'!$A$2:$D$690331,4,FALSE),\"N/A\")","v":"N/A"},{"$f":"_xlfn.IFNA(VLOOKUP(_xlfn.CONCAT($C$2,\"-\",$E138,\"-\",$F138,\"-\",J$3),'Raw Data'!$A$2:$D$690331,4,FALSE),\"N/A\")","v":"N/A"},{"$f":"_xlfn.IFNA(VLOOKUP(_xlfn.CONCAT($C$2,\"-\",$E138,\"-\",$F138,\"-\",K$3),'Raw Data'!$A$2:$D$690331,4,FALSE),\"N/A\")","v":"N/A"},{"$f":"_xlfn.IFNA(VLOOKUP(_xlfn.CONCAT($C$2,\"-\",$E138,\"-\",$F138,\"-\",L$3),'Raw Data'!$A$2:$D$690331,4,FALSE),\"N/A\")","v":"N/A"},{"$f":"_xlfn.IFNA(VLOOKUP(_xlfn.CONCAT($C$2,\"-\",$E138,\"-\",$F138,\"-\",M$3),'Raw Data'!$A$2:$D$690331,4,FALSE),\"N/A\")","v":"N/A"},{"$f":"_xlfn.IFNA(VLOOKUP(_xlfn.CONCAT($C$2,\"-\",$E138,\"-\",$F138,\"-\",N$3),'Raw Data'!$A$2:$D$690331,4,FALSE),\"N/A\")","v":"N/A"},{"$f":"_xlfn.IFNA(VLOOKUP(_xlfn.CONCAT($C$2,\"-\",$E138,\"-\",$F138,\"-\",O$3),'Raw Data'!$A$2:$D$690331,4,FALSE),\"N/A\")","v":"N/A"},{"$f":"_xlfn.IFNA(VLOOKUP(_xlfn.CONCAT($C$2,\"-\",$E138,\"-\",$F138,\"-\",P$3),'Raw Data'!$A$2:$D$690331,4,FALSE),\"N/A\")","v":"N/A"},{"$f":"_xlfn.IFNA(VLOOKUP(_xlfn.CONCAT($C$2,\"-\",$E138,\"-\",$F138,\"-\",Q$3),'Raw Data'!$A$2:$D$690331,4,FALSE),\"N/A\")","v":"N/A"},{"$f":"_xlfn.IFNA(VLOOKUP(_xlfn.CONCAT($C$2,\"-\",$E138,\"-\",$F138,\"-\",R$3),'Raw Data'!$A$2:$D$690331,4,FALSE),\"N/A\")","v":"N/A"},{"$f":"_xlfn.IFNA(VLOOKUP(_xlfn.CONCAT($C$2,\"-\",$E138,\"-\",$F138,\"-\",S$3),'Raw Data'!$A$2:$D$690331,4,FALSE),\"N/A\")","v":"N/A"}]
[null,null,null,null,15,5,null,{"$f":"_xlfn.IFNA(VLOOKUP(_xlfn.CONCAT($C$2,\"-\",$E139,\"-\",$F139,\"-\",H$3),'Raw Data'!$A$2:$D$690331,4,FALSE),\"N/A\")","v":"N/A"},{"$f":"_xlfn.IFNA(VLOOKUP(_xlfn.CONCAT($C$2,\"-\",$E139,\"-\",$F139,\"-\",I$3),'Raw Data'!$A$2:$D$690331,4,FALSE),\"N/A\")","v":"N/A"},{"$f":"_xlfn.IFNA(VLOOKUP(_xlfn.CONCAT($C$2,\"-\",$E139,\"-\",$F139,\"-\",J$3),'Raw Data'!$A$2:$D$690331,4,FALSE),\"N/A\")","v":"N/A"},{"$f":"_xlfn.IFNA(VLOOKUP(_xlfn.CONCAT($C$2,\"-\",$E139,\"-\",$F139,\"-\",K$3),'Raw Data'!$A$2:$D$690331,4,FALSE),\"N/A\")","v":"N/A"},{"$f":"_xlfn.IFNA(VLOOKUP(_xlfn.CONCAT($C$2,\"-\",$E139,\"-\",$F139,\"-\",L$3),'Raw Data'!$A$2:$D$690331,4,FALSE),\"N/A\")","v":"N/A"},{"$f":"_xlfn.IFNA(VLOOKUP(_xlfn.CONCAT($C$2,\"-\",$E139,\"-\",$F139,\"-\",M$3),'Raw Data'!$A$2:$D$690331,4,FALSE),\"N/A\")","v":"N/A"},{"$f":"_xlfn.IFNA(VLOOKUP(_xlfn.CONCAT($C$2,\"-\",$E139,\"-\",$F139,\"-\",N$3),'Raw Data'!$A$2:$D$690331,4,FALSE),\"N/A\")","v":"N/A"},{"$f":"_xlfn.IFNA(VLOOKUP(_xlfn.CONCAT($C$2,\"-\",$E139,\"-\",$F139,\"-\",O$3),'Raw Data'!$A$2:$D$690331,4,FALSE),\"N/A\")","v":"N/A"},{"$f":"_xlfn.IFNA(VLOOKUP(_xlfn.CONCAT($C$2,\"-\",$E139,\"-\",$F139,\"-\",P$3),'Raw Data'!$A$2:$D$690331,4,FALSE),\"N/A\")","v":"N/A"},{"$f":"_xlfn.IFNA(VLOOKUP(_xlfn.CONCAT($C$2,\"-\",$E139,\"-\",$F139,\"-\",Q$3),'Raw Data'!$A$2:$D$690331,4,FALSE),\"N/A\")","v":"N/A"},{"$f":"_xlfn.IFNA(VLOOKUP(_xlfn.CONCAT($C$2,\"-\",$E139,\"-\",$F139,\"-\",R$3),'Raw Data'!$A$2:$D$690331,4,FALSE),\"N/A\")","v":"N/A"},{"$f":"_xlfn.IFNA(VLOOKUP(_xlfn.CONCAT($C$2,\"-\",$E139,\"-\",$F139,\"-\",S$3),'Raw Data'!$A$2:$D$690331,4,FALSE),\"N/A\")","v":"N/A"}]
[null,null,null,null,16,5,null,{"$f":"_xlfn.IFNA(VLOOKUP(_xlfn.CONCAT($C$2,\"-\",$E140,\"-\",$F140,\"-\",H$3),'Raw Data'!$A$2:$D$690331,4,FALSE),\"N/A\")","v":"N/A"},{"$f":"_xlfn.IFNA(VLOOKUP(_xlfn.CONCAT($C$2,\"-\",$E140,\"-\",$F140,\"-\",I$3),'Raw Data'!$A$2:$D$690331,4,FALSE),\"N/A\")","v":"N/A"},{"$f":"_xlfn.IFNA(VLOOKUP(_xlfn.CONCAT($C$2,\"-\",$E140,\"-\",$F140,\"-\",J$3),'Raw Data'!$A$2:$D$690331,4,FALSE),\"N/A\")","v":"N/A"},{"$f":"_xlfn.IFNA(VLOOKUP(_xlfn.CONCAT($C$2,\"-\",$E140,\"-\",$F140,\"-\",K$3),'Raw Data'!$A$2:$D$690331,4,FALSE),\"N/A\")","v":"N/A"},{"$f":"_xlfn.IFNA(VLOOKUP(_xlfn.CONCAT($C$2,\"-\",$E140,\"-\",$F140,\"-\",L$3),'Raw Data'!$A$2:$D$690331,4,FALSE),\"N/A\")","v":"N/A"},{"$f":"_xlfn.IFNA(VLOOKUP(_xlfn.CONCAT($C$2,\"-\",$E140,\"-\",$F140,\"-\",M$3),'Raw Data'!$A$2:$D$690331,4,FALSE),\"N/A\")","v":"N/A"},{"$f":"_xlfn.IFNA(VLOOKUP(_xlfn.CONCAT($C$2,\"-\",$E140,\"-\",$F140,\"-\",N$3),'Raw Data'!$A$2:$D$690331,4,FALSE),\"N/A\")","v":"N/A"},{"$f":"_xlfn.IFNA(VLOOKUP(_xlfn.CONCAT($C$2,\"-\",$E140,\"-\",$F140,\"-\",O$3),'Raw Data'!$A$2:$D$690331,4,FALSE),\"N/A\")","v":"N/A"},{"$f":"_xlfn.IFNA(VLOOKUP(_xlfn.CONCAT($C$2,\"-\",$E140,\"-\",$F140,\"-\",P$3),'Raw Data'!$A$2:$D$690331,4,FALSE),\"N/A\")","v":"N/A"},{"$f":"_xlfn.IFNA(VLOOKUP(_xlfn.CONCAT($C$2,\"-\",$E140,\"-\",$F140,\"-\",Q$3),'Raw Data'!$A$2:$D$690331,4,FALSE),\"N/A\")","v":"N/A"},{"$f":"_xlfn.IFNA(VLOOKUP(_xlfn.CONCAT($C$2,\"-\",$E140,\"-\",$F140,\"-\",R$3),'Raw Data'!$A$2:$D$690331,4,FALSE),\"N/A\")","v":"N/A"},{"$f":"_xlfn.IFNA(VLOOKUP(_xlfn.CONCAT($C$2,\"-\",$E140,\"-\",$F140,\"-\",S$3),'Raw Data'!$A$2:$D$690331,4,FALSE),\"N/A\")","v":"N/A"}]
[null,null,null,null,17,5,null,{"$f":"_xlfn.IFNA(VLOOKUP(_xlfn.CONCAT($C$2,\"-\",$E141,\"-\",$F141,\"-\",H$3),'Raw Data'!$A$2:$D$690331,4,FALSE),\"N/A\")","v":"N/A"},{"$f":"_xlfn.IFNA(VLOOKUP(_xlfn.CONCAT($C$2,\"-\",$E141,\"-\",$F141,\"-\",I$3),'Raw Data'!$A$2:$D$690331,4,FALSE),\"N/A\")","v":"N/A"},{"$f":"_xlfn.IFNA(VLOOKUP(_xlfn.CONCAT($C$2,\"-\",$E141,\"-\",$F141,\"-\",J$3),'Raw Data'!$A$2:$D$690331,4,FALSE),\"N/A\")","v":"N/A"},{"$f":"_xlfn.IFNA(VLOOKUP(_xlfn.CONCAT($C$2,\"-\",$E141,\"-\",$F141,\"-\",K$3),'Raw Data'!$A$2:$D$690331,4,FALSE),\"N/A\")","v":"N/A"},{"$f":"_xlfn.IFNA(VLOOKUP(_xlfn.CONCAT($C$2,\"-\",$E141,\"-\",$F141,\"-\",L$3),'Raw Data'!$A$2:$D$690331,4,FALSE),\"N/A\")","v":"N/A"},{"$f":"_xlfn.IFNA(VLOOKUP(_xlfn.CONCAT($C$2,\"-\",$E141,\"-\",$F141,\"-\",M$3),'Raw Data'!$A$2:$D$690331,4,FALSE),\"N/A\")","v":"N/A"},{"$f":"_xlfn.IFNA(VLOOKUP(_xlfn.CONCAT($C$2,\"-\",$E141,\"-\",$F141,\"-\",N$3),'Raw Data'!$A$2:$D$690331,4,FALSE),\"N/A\")","v":"N/A"},{"$f":"_xlfn.IFNA(VLOOKUP(_xlfn.CONCAT($C$2,\"-\",$E141,\"-\",$F141,\"-\",O$3),'Raw Data'!$A$2:$D$690331,4,FALSE),\"N/A\")","v":"N/A"},{"$f":"_xlfn.IFNA(VLOOKUP(_xlfn.CONCAT($C$2,\"-\",$E141,\"-\",$F141,\"-\",P$3),'Raw Data'!$A$2:$D$690331,4,FALSE),\"N/A\")","v":"N/A"},{"$f":"_xlfn.IFNA(VLOOKUP(_xlfn.CONCAT($C$2,\"-\",$E141,\"-\",$F141,\"-\",Q$3),'Raw Data'!$A$2:$D$690331,4,FALSE),\"N/A\")","v":"N/A"},{"$f":"_xlfn.IFNA(VLOOKUP(_xlfn.CONCAT($C$2,\"-\",$E141,\"-\",$F141,\"-\",R$3),'Raw Data'!$A$2:$D$690331,4,FALSE),\"N/A\")","v":"N/A"},{"$f":"_xlfn.IFNA(VLOOKUP(_xlfn.CONCAT($C$2,\"-\",$E141,\"-\",$F141,\"-\",S$3),'Raw Data'!$A$2:$D$690331,4,FALSE),\"N/A\")","v":"N/A"}]
[null,null,null,null,18,5,null,{"$f":"_xlfn.IFNA(VLOOKUP(_xlfn.CONCAT($C$2,\"-\",$E142,\"-\",$F142,\"-\",H$3),'Raw Data'!$A$2:$D$690331,4,FALSE),\"N/A\")","v":"N/A"},{"$f":"_xlfn.IFNA(VLOOKUP(_xlfn.CONCAT($C$2,\"-\",$E142,\"-\",$F142,\"-\",I$3),'Raw Data'!$A$2:$D$690331,4,FALSE),\"N/A\")","v":"N/A"},{"$f":"_xlfn.IFNA(VLOOKUP(_xlfn.CONCAT($C$2,\"-\",$E142,\"-\",$F142,\"-\",J$3),'Raw Data'!$A$2:$D$690331,4,FALSE),\"N/A\")","v":"N/A"},{"$f":"_xlfn.IFNA(VLOOKUP(_xlfn.CONCAT($C$2,\"-\",$E142,\"-\",$F142,\"-\",K$3),'Raw Data'!$A$2:$D$690331,4,FALSE),\"N/A\")","v":"N/A"},{"$f":"_xlfn.IFNA(VLOOKUP(_xlfn.CONCAT($C$2,\"-\",$E142,\"-\",$F142,\"-\",L$3),'Raw Data'!$A$2:$D$690331,4,FALSE),\"N/A\")","v":"N/A"},{"$f":"_xlfn.IFNA(VLOOKUP(_xlfn.CONCAT($C$2,\"-\",$E142,\"-\",$F142,\"-\",M$3),'Raw Data'!$A$2:$D$690331,4,FALSE),\"N/A\")","v":"N/A"},{"$f":"_xlfn.IFNA(VLOOKUP(_xlfn.CONCAT($C$2,\"-\",$E142,\"-\",$F142,\"-\",N$3),'Raw Data'!$A$2:$D$690331,4,FALSE),\"N/A\")","v":"N/A"},{"$f":"_xlfn.IFNA(VLOOKUP(_xlfn.CONCAT($C$2,\"-\",$E142,\"-\",$F142,\"-\",O$3),'Raw Data'!$A$2:$D$690331,4,FALSE),\"N/A\")","v":"N/A"},{"$f":"_xlfn.IFNA(VLOOKUP(_xlfn.CONCAT($C$2,\"-\",$E142,\"-\",$F142,\"-\",P$3),'Raw Data'!$A$2:$D$690331,4,FALSE),\"N/A\")","v":"N/A"},{"$f":"_xlfn.IFNA(VLOOKUP(_xlfn.CONCAT($C$2,\"-\",$E142,\"-\",$F142,\"-\",Q$3),'Raw Data'!$A$2:$D$690331,4,FALSE),\"N/A\")","v":"N/A"},{"$f":"_xlfn.IFNA(VLOOKUP(_xlfn.CONCAT($C$2,\"-\",$E142,\"-\",$F142,\"-\",R$3),'Raw Data'!$A$2:$D$690331,4,FALSE),\"N/A\")","v":"N/A"},{"$f":"_xlfn.IFNA(VLOOKUP(_xlfn.CONCAT($C$2,\"-\",$E142,\"-\",$F142,\"-\",S$3),'Raw Data'!$A$2:$D$690331,4,FALSE),\"N/A\")","v":"N/A"}]
[null,null,null,null,19,5,null,{"$f":"_xlfn.IFNA(VLOOKUP(_xlfn.CONCAT($C$2,\"-\",$E143,\"-\",$F143,\"-\",H$3),'Raw Data'!$A$2:$D$690331,4,FALSE),\"N/A\")","v":"N/A"},{"$f":"_xlfn.IFNA(VLOOKUP(_xlfn.CONCAT($C$2,\"-\",$E143,\"-\",$F143,\"-\",I$3),'Raw Data'!$A$2:$D$690331,4,FALSE),\"N/A\")","v":"N/A"},{"$f":"_xlfn.IFNA(VLOOKUP(_xlfn.CONCAT($C$2,\"-\",$E143,\"-\",$F143,\"-\",J$3),'Raw Data'!$A$2:$D$690331,4,FALSE),\"N/A\")","v":"N/A"},{"$f":"_xlfn.IFNA(VLOOKUP(_xlfn.CONCAT($C$2,\"-\",$E143,\"-\",$F143,\"-\",K$3),'Raw Data'!$A$2:$D$690331,4,FALSE),\"N/A\")","v":"N/A"},{"$f":"_xlfn.IFNA(VLOOKUP(_xlfn.CONCAT($C$2,\"-\",$E143,\"-\",$F143,\"-\",L$3),'Raw Data'!$A$2:$D$690331,4,FALSE),\"N/A\")","v":"N/A"},{"$f":"_xlfn.IFNA(VLOOKUP(_xlfn.CONCAT($C$2,\"-\",$E143,\"-\",$F143,\"-\",M$3),'Raw Data'!$A$2:$D$690331,4,FALSE),\"N/A\")","v":"N/A"},{"$f":"_xlfn.IFNA(VLOOKUP(_xlfn.CONCAT($C$2,\"-\",$E143,\"-\",$F143,\"-\",N$3),'Raw Data'!$A$2:$D$690331,4,FALSE),\"N/A\")","v":"N/A"},{"$f":"_xlfn.IFNA(VLOOKUP(_xlfn.CONCAT($C$2,\"-\",$E143,\"-\",$F143,\"-\",O$3),'Raw Data'!$A$2:$D$690331,4,FALSE),\"N/A\")","v":"N/A"},{"$f":"_xlfn.IFNA(VLOOKUP(_xlfn.CONCAT($C$2,\"-\",$E143,\"-\",$F143,\"-\",P$3),'Raw Data'!$A$2:$D$690331,4,FALSE),\"N/A\")","v":"N/A"},{"$f":"_xlfn.IFNA(VLOOKUP(_xlfn.CONCAT($C$2,\"-\",$E143,\"-\",$F143,\"-\",Q$3),'Raw Data'!$A$2:$D$690331,4,FALSE),\"N/A\")","v":"N/A"},{"$f":"_xlfn.IFNA(VLOOKUP(_xlfn.CONCAT($C$2,\"-\",$E143,\"-\",$F143,\"-\",R$3),'Raw Data'!$A$2:$D$690331,4,FALSE),\"N/A\")","v":"N/A"},{"$f":"_xlfn.IFNA(VLOOKUP(_xlfn.CONCAT($C$2,\"-\",$E143,\"-\",$F143,\"-\",S$3),'Raw Data'!$A$2:$D$690331,4,FALSE),\"N/A\")","v":"N/A"}]
[null,null,null,null,20,5,null,{"$f":"_xlfn.IFNA(VLOOKUP(_xlfn.CONCAT($C$2,\"-\",$E144,\"-\",$F144,\"-\",H$3),'Raw Data'!$A$2:$D$690331,4,FALSE),\"N/A\")","v":"N/A"},{"$f":"_xlfn.IFNA(VLOOKUP(_xlfn.CONCAT($C$2,\"-\",$E144,\"-\",$F144,\"-\",I$3),'Raw Data'!$A$2:$D$690331,4,FALSE),\"N/A\")","v":"N/A"},{"$f":"_xlfn.IFNA(VLOOKUP(_xlfn.CONCAT($C$2,\"-\",$E144,\"-\",$F144,\"-\",J$3),'Raw Data'!$A$2:$D$690331,4,FALSE),\"N/A\")","v":"N/A"},{"$f":"_xlfn.IFNA(VLOOKUP(_xlfn.CONCAT($C$2,\"-\",$E144,\"-\",$F144,\"-\",K$3),'Raw Data'!$A$2:$D$690331,4,FALSE),\"N/A\")","v":"N/A"},{"$f":"_xlfn.IFNA(VLOOKUP(_xlfn.CONCAT($C$2,\"-\",$E144,\"-\",$F144,\"-\",L$3),'Raw Data'!$A$2:$D$690331,4,FALSE),\"N/A\")","v":"N/A"},{"$f":"_xlfn.IFNA(VLOOKUP(_xlfn.CONCAT($C$2,\"-\",$E144,\"-\",$F144,\"-\",M$3),'Raw Data'!$A$2:$D$690331,4,FALSE),\"N/A\")","v":"N/A"},{"$f":"_xlfn.IFNA(VLOOKUP(_xlfn.CONCAT($C$2,\"-\",$E144,\"-\",$F144,\"-\",N$3),'Raw Data'!$A$2:$D$690331,4,FALSE),\"N/A\")","v":"N/A"},{"$f":"_xlfn.IFNA(VLOOKUP(_xlfn.CONCAT($C$2,\"-\",$E144,\"-\",$F144,\"-\",O$3),'Raw Data'!$A$2:$D$690331,4,FALSE),\"N/A\")","v":"N/A"},{"$f":"_xlfn.IFNA(VLOOKUP(_xlfn.CONCAT($C$2,\"-\",$E144,\"-\",$F144,\"-\",P$3),'Raw Data'!$A$2:$D$690331,4,FALSE),\"N/A\")","v":"N/A"},{"$f":"_xlfn.IFNA(VLOOKUP(_xlfn.CONCAT($C$2,\"-\",$E144,\"-\",$F144,\"-\",Q$3),'Raw Data'!$A$2:$D$690331,4,FALSE),\"N/A\")","v":"N/A"},{"$f":"_xlfn.IFNA(VLOOKUP(_xlfn.CONCAT($C$2,\"-\",$E144,\"-\",$F144,\"-\",R$3),'Raw Data'!$A$2:$D$690331,4,FALSE),\"N/A\")","v":"N/A"},{"$f":"_xlfn.IFNA(VLOOKUP(_xlfn.CONCAT($C$2,\"-\",$E144,\"-\",$F144,\"-\",S$3),'Raw Data'!$A$2:$D$690331,4,FALSE),\"N/A\")","v":"N/A"}]
[null,null,null,null,21,5,null,{"$f":"_xlfn.IFNA(VLOOKUP(_xlfn.CONCAT($C$2,\"-\",$E145,\"-\",$F145,\"-\",H$3),'Raw Data'!$A$2:$D$690331,4,FALSE),\"N/A\")","v":"N/A"},{"$f":"_xlfn.IFNA(VLOOKUP(_xlfn.CONCAT($C$2,\"-\",$E145,\"-\",$F145,\"-\",I$3),'Raw Data'!$A$2:$D$690331,4,FALSE),\"N/A\")","v":"N/A"},{"$f":"_xlfn.IFNA(VLOOKUP(_xlfn.CONCAT($C$2,\"-\",$E145,\"-\",$F145,\"-\",J$3),'Raw Data'!$A$2:$D$690331,4,FALSE),\"N/A\")","v":"N/A"},{"$f":"_xlfn.IFNA(VLOOKUP(_xlfn.CONCAT($C$2,\"-\",$E145,\"-\",$F145,\"-\",K$3),'Raw Data'!$A$2:$D$690331,4,FALSE),\"N/A\")","v":"N/A"},{"$f":"_xlfn.IFNA(VLOOKUP(_xlfn.CONCAT($C$2,\"-\",$E145,\"-\",$F145,\"-\",L$3),'Raw Data'!$A$2:$D$690331,4,FALSE),\"N/A\")","v":"N/A"},{"$f":"_xlfn.IFNA(VLOOKUP(_xlfn.CONCAT($C$2,\"-\",$E145,\"-\",$F145,\"-\",M$3),'Raw Data'!$A$2:$D$690331,4,FALSE),\"N/A\")","v":"N/A"},{"$f":"_xlfn.IFNA(VLOOKUP(_xlfn.CONCAT($C$2,\"-\",$E145,\"-\",$F145,\"-\",N$3),'Raw Data'!$A$2:$D$690331,4,FALSE),\"N/A\")","v":"N/A"},{"$f":"_xlfn.IFNA(VLOOKUP(_xlfn.CONCAT($C$2,\"-\",$E145,\"-\",$F145,\"-\",O$3),'Raw Data'!$A$2:$D$690331,4,FALSE),\"N/A\")","v":"N/A"},{"$f":"_xlfn.IFNA(VLOOKUP(_xlfn.CONCAT($C$2,\"-\",$E145,\"-\",$F145,\"-\",P$3),'Raw Data'!$A$2:$D$690331,4,FALSE),\"N/A\")","v":"N/A"},{"$f":"_xlfn.IFNA(VLOOKUP(_xlfn.CONCAT($C$2,\"-\",$E145,\"-\",$F145,\"-\",Q$3),'Raw Data'!$A$2:$D$690331,4,FALSE),\"N/A\")","v":"N/A"},{"$f":"_xlfn.IFNA(VLOOKUP(_xlfn.CONCAT($C$2,\"-\",$E145,\"-\",$F145,\"-\",R$3),'Raw Data'!$A$2:$D$690331,4,FALSE),\"N/A\")","v":"N/A"},{"$f":"_xlfn.IFNA(VLOOKUP(_xlfn.CONCAT($C$2,\"-\",$E145,\"-\",$F145,\"-\",S$3),'Raw Data'!$A$2:$D$690331,4,FALSE),\"N/A\")","v":"N/A"}]
[null,null,null,null,22,5,null,{"$f":"_xlfn.IFNA(VLOOKUP(_xlfn.CONCAT($C$2,\"-\",$E146,\"-\",$F146,\"-\",H$3),'Raw Data'!$A$2:$D$690331,4,FALSE),\"N/A\")","v":"N/A"},{"$f":"_xlfn.IFNA(VLOOKUP(_xlfn.CONCAT($C$2,\"-\",$E146,\"-\",$F146,\"-\",I$3),'Raw Data'!$A$2:$D$690331,4,FALSE),\"N/A\")","v":"N/A"},{"$f":"_xlfn.IFNA(VLOOKUP(_xlfn.CONCAT($C$2,\"-\",$E146,\"-\",$F146,\"-\",J$3),'Raw Data'!$A$2:$D$690331,4,FALSE),\"N/A\")","v":"N/A"},{"$f":"_xlfn.IFNA(VLOOKUP(_xlfn.CONCAT($C$2,\"-\",$E146,\"-\",$F146,\"-\",K$3),'Raw Data'!$A$2:$D$690331,4,FALSE),\"N/A\")","v":"N/A"},{"$f":"_xlfn.IFNA(VLOOKUP(_xlfn.CONCAT($C$2,\"-\",$E146,\"-\",$F146,\"-\",L$3),'Raw Data'!$A$2:$D$690331,4,FALSE),\"N/A\")","v":"N/A"},{"$f":"_xlfn.IFNA(VLOOKUP(_xlfn.CONCAT($C$2,\"-\",$E146,\"-\",$F146,\"-\",M$3),'Raw Data'!$A$2:$D$690331,4,FALSE),\"N/A\")","v":"N/A"},{"$f":"_xlfn.IFNA(VLOOKUP(_xlfn.CONCAT($C$2,\"-\",$E146,\"-\",$F146,\"-\",N$3),'Raw Data'!$A$2:$D$690331,4,FALSE),\"N/A\")","v":"N/A"},{"$f":"_xlfn.IFNA(VLOOKUP(_xlfn.CONCAT($C$2,\"-\",$E146,\"-\",$F146,\"-\",O$3),'Raw Data'!$A$2:$D$690331,4,FALSE),\"N/A\")","v":"N/A"},{"$f":"_xlfn.IFNA(VLOOKUP(_xlfn.CONCAT($C$2,\"-\",$E146,\"-\",$F146,\"-\",P$3),'Raw Data'!$A$2:$D$690331,4,FALSE),\"N/A\")","v":"N/A"},{"$f":"_xlfn.IFNA(VLOOKUP(_xlfn.CONCAT($C$2,\"-\",$E146,\"-\",$F146,\"-\",Q$3),'Raw Data'!$A$2:$D$690331,4,FALSE),\"N/A\")","v":"N/A"},{"$f":"_xlfn.IFNA(VLOOKUP(_xlfn.CONCAT($C$2,\"-\",$E146,\"-\",$F146,\"-\",R$3),'Raw Data'!$A$2:$D$690331,4,FALSE),\"N/A\")","v":"N/A"},{"$f":"_xlfn.IFNA(VLOOKUP(_xlfn.CONCAT($C$2,\"-\",$E146,\"-\",$F146,\"-\",S$3),'Raw Data'!$A$2:$D$690331,4,FALSE),\"N/A\")","v":"N/A"}]
[null,null,null,null,23,5,null,{"$f":"_xlfn.IFNA(VLOOKUP(_xlfn.CONCAT($C$2,\"-\",$E147,\"-\",$F147,\"-\",H$3),'Raw Data'!$A$2:$D$690331,4,FALSE),\"N/A\")","v":"N/A"},{"$f":"_xlfn.IFNA(VLOOKUP(_xlfn.CONCAT($C$2,\"-\",$E147,\"-\",$F147,\"-\",I$3),'Raw Data'!$A$2:$D$690331,4,FALSE),\"N/A\")","v":"N/A"},{"$f":"_xlfn.IFNA(VLOOKUP(_xlfn.CONCAT($C$2,\"-\",$E147,\"-\",$F147,\"-\",J$3),'Raw Data'!$A$2:$D$690331,4,FALSE),\"N/A\")","v":"N/A"},{"$f":"_xlfn.IFNA(VLOOKUP(_xlfn.CONCAT($C$2,\"-\",$E147,\"-\",$F147,\"-\",K$3),'Raw Data'!$A$2:$D$690331,4,FALSE),\"N/A\")","v":"N/A"},{"$f":"_xlfn.IFNA(VLOOKUP(_xlfn.CONCAT($C$2,\"-\",$E147,\"-\",$F147,\"-\",L$3),'Raw Data'!$A$2:$D$690331,4,FALSE),\"N/A\")","v":"N/A"},{"$f":"_xlfn.IFNA(VLOOKUP(_xlfn.CONCAT($C$2,\"-\",$E147,\"-\",$F147,\"-\",M$3),'Raw Data'!$A$2:$D$690331,4,FALSE),\"N/A\")","v":"N/A"},{"$f":"_xlfn.IFNA(VLOOKUP(_xlfn.CONCAT($C$2,\"-\",$E147,\"-\",$F147,\"-\",N$3),'Raw Data'!$A$2:$D$690331,4,FALSE),\"N/A\")","v":"N/A"},{"$f":"_xlfn.IFNA(VLOOKUP(_xlfn.CONCAT($C$2,\"-\",$E147,\"-\",$F147,\"-\",O$3),'Raw Data'!$A$2:$D$690331,4,FALSE),\"N/A\")","v":"N/A"},{"$f":"_xlfn.IFNA(VLOOKUP(_xlfn.CONCAT($C$2,\"-\",$E147,\"-\",$F147,\"-\",P$3),'Raw Data'!$A$2:$D$690331,4,FALSE),\"N/A\")","v":"N/A"},{"$f":"_xlfn.IFNA(VLOOKUP(_xlfn.CONCAT($C$2,\"-\",$E147,\"-\",$F147,\"-\",Q$3),'Raw Data'!$A$2:$D$690331,4,FALSE),\"N/A\")","v":"N/A"},{"$f":"_xlfn.IFNA(VLOOKUP(_xlfn.CONCAT($C$2,\"-\",$E147,\"-\",$F147,\"-\",R$3),'Raw Data'!$A$2:$D$690331,4,FALSE),\"N/A\")","v":"N/A"},{"$f":"_xlfn.IFNA(VLOOKUP(_xlfn.CONCAT($C$2,\"-\",$E147,\"-\",$F147,\"-\",S$3),'Raw Data'!$A$2:$D$690331,4,FALSE),\"N/A\")","v":"N/A"}]
[null,null,null,null,24,5,null,{"$f":"_xlfn.IFNA(VLOOKUP(_xlfn.CONCAT($C$2,\"-\",$E148,\"-\",$F148,\"-\",H$3),'Raw Data'!$A$2:$D$690331,4,FALSE),\"N/A\")","v":"N/A"},{"$f":"_xlfn.IFNA(VLOOKUP(_xlfn.CONCAT($C$2,\"-\",$E148,\"-\",$F148,\"-\",I$3),'Raw Data'!$A$2:$D$690331,4,FALSE),\"N/A\")","v":"N/A"},{"$f":"_xlfn.IFNA(VLOOKUP(_xlfn.CONCAT($C$2,\"-\",$E148,\"-\",$F148,\"-\",J$3),'Raw Data'!$A$2:$D$690331,4,FALSE),\"N/A\")","v":"N/A"},{"$f":"_xlfn.IFNA(VLOOKUP(_xlfn.CONCAT($C$2,\"-\",$E148,\"-\",$F148,\"-\",K$3),'Raw Data'!$A$2:$D$690331,4,FALSE),\"N/A\")","v":"N/A"},{"$f":"_xlfn.IFNA(VLOOKUP(_xlfn.CONCAT($C$2,\"-\",$E148,\"-\",$F148,\"-\",L$3),'Raw Data'!$A$2:$D$690331,4,FALSE),\"N/A\")","v":"N/A"},{"$f":"_xlfn.IFNA(VLOOKUP(_xlfn.CONCAT($C$2,\"-\",$E148,\"-\",$F148,\"-\",M$3),'Raw Data'!$A$2:$D$690331,4,FALSE),\"N/A\")","v":"N/A"},{"$f":"_xlfn.IFNA(VLOOKUP(_xlfn.CONCAT($C$2,\"-\",$E148,\"-\",$F148,\"-\",N$3),'Raw Data'!$A$2:$D$690331,4,FALSE),\"N/A\")","v":"N/A"},{"$f":"_xlfn.IFNA(VLOOKUP(_xlfn.CONCAT($C$2,\"-\",$E148,\"-\",$F148,\"-\",O$3),'Raw Data'!$A$2:$D$690331,4,FALSE),\"N/A\")","v":"N/A"},{"$f":"_xlfn.IFNA(VLOOKUP(_xlfn.CONCAT($C$2,\"-\",$E148,\"-\",$F148,\"-\",P$3),'Raw Data'!$A$2:$D$690331,4,FALSE),\"N/A\")","v":"N/A"},{"$f":"_xlfn.IFNA(VLOOKUP(_xlfn.CONCAT($C$2,\"-\",$E148,\"-\",$F148,\"-\",Q$3),'Raw Data'!$A$2:$D$690331,4,FALSE),\"N/A\")","v":"N/A"},{"$f":"_xlfn.IFNA(VLOOKUP(_xlfn.CONCAT($C$2,\"-\",$E148,\"-\",$F148,\"-\",R$3),'Raw Data'!$A$2:$D$690331,4,FALSE),\"N/A\")","v":"N/A"},{"$f":"_xlfn.IFNA(VLOOKUP(_xlfn.CONCAT($C$2,\"-\",$E148,\"-\",$F148,\"-\",S$3),'Raw Data'!$A$2:$D$690331,4,FALSE),\"N/A\")","v":"N/A"}]
[null,null,null,null,25,5,null,{"$f":"_xlfn.IFNA(VLOOKUP(_xlfn.CONCAT($C$2,\"-\",$E149,\"-\",$F149,\"-\",H$3),'Raw Data'!$A$2:$D$690331,4,FALSE),\"N/A\")","v":"N/A"},{"$f":"_xlfn.IFNA(VLOOKUP(_xlfn.CONCAT($C$2,\"-\",$E149,\"-\",$F149,\"-\",I$3),'Raw Data'!$A$2:$D$690331,4,FALSE),\"N/A\")","v":"N/A"},{"$f":"_xlfn.IFNA(VLOOKUP(_xlfn.CONCAT($C$2,\"-\",$E149,\"-\",$F149,\"-\",J$3),'Raw Data'!$A$2:$D$690331,4,FALSE),\"N/A\")","v":"N/A"},{"$f":"_xlfn.IFNA(VLOOKUP(_xlfn.CONCAT($C$2,\"-\",$E149,\"-\",$F149,\"-\",K$3),'Raw Data'!$A$2:$D$690331,4,FALSE),\"N/A\")","v":"N/A"},{"$f":"_xlfn.IFNA(VLOOKUP(_xlfn.CONCAT($C$2,\"-\",$E149,\"-\",$F149,\"-\",L$3),'Raw Data'!$A$2:$D$690331,4,FALSE),\"N/A\")","v":"N/A"},{"$f":"_xlfn.IFNA(VLOOKUP(_xlfn.CONCAT($C$2,\"-\",$E149,\"-\",$F149,\"-\",M$3),'Raw Data'!$A$2:$D$690331,4,FALSE),\"N/A\")","v":"N/A"},{"$f":"_xlfn.IFNA(VLOOKUP(_xlfn.CONCAT($C$2,\"-\",$E149,\"-\",$F149,\"-\",N$3),'Raw Data'!$A$2:$D$690331,4,FALSE),\"N/A\")","v":"N/A"},{"$f":"_xlfn.IFNA(VLOOKUP(_xlfn.CONCAT($C$2,\"-\",$E149,\"-\",$F149,\"-\",O$3),'Raw Data'!$A$2:$D$690331,4,FALSE),\"N/A\")","v":"N/A"},{"$f":"_xlfn.IFNA(VLOOKUP(_xlfn.CONCAT($C$2,\"-\",$E149,\"-\",$F149,\"-\",P$3),'Raw Data'!$A$2:$D$690331,4,FALSE),\"N/A\")","v":"N/A"},{"$f":"_xlfn.IFNA(VLOOKUP(_xlfn.CONCAT($C$2,\"-\",$E149,\"-\",$F149,\"-\",Q$3),'Raw Data'!$A$2:$D$690331,4,FALSE),\"N/A\")","v":"N/A"},{"$f":"_xlfn.IFNA(VLOOKUP(_xlfn.CONCAT($C$2,\"-\",$E149,\"-\",$F149,\"-\",R$3),'Raw Data'!$A$2:$D$690331,4,FALSE),\"N/A\")","v":"N/A"},{"$f":"_xlfn.IFNA(VLOOKUP(_xlfn.CONCAT($C$2,\"-\",$E149,\"-\",$F149,\"-\",S$3),'Raw Data'!$A$2:$D$690331,4,FALSE),\"N/A\")","v":"N/A"}]
[null,null,null,null,26,5,null,{"$f":"_xlfn.IFNA(VLOOKUP(_xlfn.CONCAT($C$2,\"-\",$E150,\"-\",$F150,\"-\",H$3),'Raw Data'!$A$2:$D$690331,4,FALSE),\"N/A\")","v":"N/A"},{"$f":"_xlfn.IFNA(VLOOKUP(_xlfn.CONCAT($C$2,\"-\",$E150,\"-\",$F150,\"-\",I$3),'Raw Data'!$A$2:$D$690331,4,FALSE),\"N/A\")","v":"N/A"},{"$f":"_xlfn.IFNA(VLOOKUP(_xlfn.CONCAT($C$2,\"-\",$E150,\"-\",$F150,\"-\",J$3),'Raw Data'!$A$2:$D$690331,4,FALSE),\"N/A\")","v":"N/A"},{"$f":"_xlfn.IFNA(VLOOKUP(_xlfn.CONCAT($C$2,\"-\",$E150,\"-\",$F150,\"-\",K$3),'Raw Data'!$A$2:$D$690331,4,FALSE),\"N/A\")","v":"N/A"},{"$f":"_xlfn.IFNA(VLOOKUP(_xlfn.CONCAT($C$2,\"-\",$E150,\"-\",$F150,\"-\",L$3),'Raw Data'!$A$2:$D$690331,4,FALSE),\"N/A\")","v":"N/A"},{"$f":"_xlfn.IFNA(VLOOKUP(_xlfn.CONCAT($C$2,\"-\",$E150,\"-\",$F150,\"-\",M$3),'Raw Data'!$A$2:$D$690331,4,FALSE),\"N/A\")","v":"N/A"},{"$f":"_xlfn.IFNA(VLOOKUP(_xlfn.CONCAT($C$2,\"-\",$E150,\"-\",$F150,\"-\",N$3),'Raw Data'!$A$2:$D$690331,4,FALSE),\"N/A\")","v":"N/A"},{"$f":"_xlfn.IFNA(VLOOKUP(_xlfn.CONCAT($C$2,\"-\",$E150,\"-\",$F150,\"-\",O$3),'Raw Data'!$A$2:$D$690331,4,FALSE),\"N/A\")","v":"N/A"},{"$f":"_xlfn.IFNA(VLOOKUP(_xlfn.CONCAT($C$2,\"-\",$E150,\"-\",$F150,\"-\",P$3),'Raw Data'!$A$2:$D$690331,4,FALSE),\"N/A\")","v":"N/A"},{"$f":"_xlfn.IFNA(VLOOKUP(_xlfn.CONCAT($C$2,\"-\",$E150,\"-\",$F150,\"-\",Q$3),'Raw Data'!$A$2:$D$690331,4,FALSE),\"N/A\")","v":"N/A"},{"$f":"_xlfn.IFNA(VLOOKUP(_xlfn.CONCAT($C$2,\"-\",$E150,\"-\",$F150,\"-\",R$3),'Raw Data'!$A$2:$D$690331,4,FALSE),\"N/A\")","v":"N/A"},{"$f":"_xlfn.IFNA(VLOOKUP(_xlfn.CONCAT($C$2,\"-\",$E150,\"-\",$F150,\"-\",S$3),'Raw Data'!$A$2:$D$690331,4,FALSE),\"N/A\")","v":"N/A"}]
[null,null,null,null,27,5,null,{"$f":"_xlfn.IFNA(VLOOKUP(_xlfn.CONCAT($C$2,\"-\",$E151,\"-\",$F151,\"-\",H$3),'Raw Data'!$A$2:$D$690331,4,FALSE),\"N/A\")","v":"N/A"},{"$f":"_xlfn.IFNA(VLOOKUP(_xlfn.CONCAT($C$2,\"-\",$E151,\"-\",$F151,\"-\",I$3),'Raw Data'!$A$2:$D$690331,4,FALSE),\"N/A\")","v":"N/A"},{"$f":"_xlfn.IFNA(VLOOKUP(_xlfn.CONCAT($C$2,\"-\",$E151,\"-\",$F151,\"-\",J$3),'Raw Data'!$A$2:$D$690331,4,FALSE),\"N/A\")","v":"N/A"},{"$f":"_xlfn.IFNA(VLOOKUP(_xlfn.CONCAT($C$2,\"-\",$E151,\"-\",$F151,\"-\",K$3),'Raw Data'!$A$2:$D$690331,4,FALSE),\"N/A\")","v":"N/A"},{"$f":"_xlfn.IFNA(VLOOKUP(_xlfn.CONCAT($C$2,\"-\",$E151,\"-\",$F151,\"-\",L$3),'Raw Data'!$A$2:$D$690331,4,FALSE),\"N/A\")","v":"N/A"},{"$f":"_xlfn.IFNA(VLOOKUP(_xlfn.CONCAT($C$2,\"-\",$E151,\"-\",$F151,\"-\",M$3),'Raw Data'!$A$2:$D$690331,4,FALSE),\"N/A\")","v":"N/A"},{"$f":"_xlfn.IFNA(VLOOKUP(_xlfn.CONCAT($C$2,\"-\",$E151,\"-\",$F151,\"-\",N$3),'Raw Data'!$A$2:$D$690331,4,FALSE),\"N/A\")","v":"N/A"},{"$f":"_xlfn.IFNA(VLOOKUP(_xlfn.CONCAT($C$2,\"-\",$E151,\"-\",$F151,\"-\",O$3),'Raw Data'!$A$2:$D$690331,4,FALSE),\"N/A\")","v":"N/A"},{"$f":"_xlfn.IFNA(VLOOKUP(_xlfn.CONCAT($C$2,\"-\",$E151,\"-\",$F151,\"-\",P$3),'Raw Data'!$A$2:$D$690331,4,FALSE),\"N/A\")","v":"N/A"},{"$f":"_xlfn.IFNA(VLOOKUP(_xlfn.CONCAT($C$2,\"-\",$E151,\"-\",$F151,\"-\",Q$3),'Raw Data'!$A$2:$D$690331,4,FALSE),\"N/A\")","v":"N/A"},{"$f":"_xlfn.IFNA(VLOOKUP(_xlfn.CONCAT($C$2,\"-\",$E151,\"-\",$F151,\"-\",R$3),'Raw Data'!$A$2:$D$690331,4,FALSE),\"N/A\")","v":"N/A"},{"$f":"_xlfn.IFNA(VLOOKUP(_xlfn.CONCAT($C$2,\"-\",$E151,\"-\",$F151,\"-\",S$3),'Raw Data'!$A$2:$D$690331,4,FALSE),\"N/A\")","v":"N/A"}]
[null,null,null,null,28,5,null,{"$f":"_xlfn.IFNA(VLOOKUP(_xlfn.CONCAT($C$2,\"-\",$E152,\"-\",$F152,\"-\",H$3),'Raw Data'!$A$2:$D$690331,4,FALSE),\"N/A\")","v":"N/A"},{"$f":"_xlfn.IFNA(VLOOKUP(_xlfn.CONCAT($C$2,\"-\",$E152,\"-\",$F152,\"-\",I$3),'Raw Data'!$A$2:$D$690331,4,FALSE),\"N/A\")","v":"N/A"},{"$f":"_xlfn.IFNA(VLOOKUP(_xlfn.CONCAT($C$2,\"-\",$E152,\"-\",$F152,\"-\",J$3),'Raw Data'!$A$2:$D$690331,4,FALSE),\"N/A\")","v":"N/A"},{"$f":"_xlfn.IFNA(VLOOKUP(_xlfn.CONCAT($C$2,\"-\",$E152,\"-\",$F152,\"-\",K$3),'Raw Data'!$A$2:$D$690331,4,FALSE),\"N/A\")","v":"N/A"},{"$f":"_xlfn.IFNA(VLOOKUP(_xlfn.CONCAT($C$2,\"-\",$E152,\"-\",$F152,\"-\",L$3),'Raw Data'!$A$2:$D$690331,4,FALSE),\"N/A\")","v":"N/A"},{"$f":"_xlfn.IFNA(VLOOKUP(_xlfn.CONCAT($C$2,\"-\",$E152,\"-\",$F152,\"-\",M$3),'Raw Data'!$A$2:$D$690331,4,FALSE),\"N/A\")","v":"N/A"},{"$f":"_xlfn.IFNA(VLOOKUP(_xlfn.CONCAT($C$2,\"-\",$E152,\"-\",$F152,\"-\",N$3),'Raw Data'!$A$2:$D$690331,4,FALSE),\"N/A\")","v":"N/A"},{"$f":"_xlfn.IFNA(VLOOKUP(_xlfn.CONCAT($C$2,\"-\",$E152,\"-\",$F152,\"-\",O$3),'Raw Data'!$A$2:$D$690331,4,FALSE),\"N/A\")","v":"N/A"},{"$f":"_xlfn.IFNA(VLOOKUP(_xlfn.CONCAT($C$2,\"-\",$E152,\"-\",$F152,\"-\",P$3),'Raw Data'!$A$2:$D$690331,4,FALSE),\"N/A\")","v":"N/A"},{"$f":"_xlfn.IFNA(VLOOKUP(_xlfn.CONCAT($C$2,\"-\",$E152,\"-\",$F152,\"-\",Q$3),'Raw Data'!$A$2:$D$690331,4,FALSE),\"N/A\")","v":"N/A"},{"$f":"_xlfn.IFNA(VLOOKUP(_xlfn.CONCAT($C$2,\"-\",$E152,\"-\",$F152,\"-\",R$3),'Raw Data'!$A$2:$D$690331,4,FALSE),\"N/A\")","v":"N/A"},{"$f":"_xlfn.IFNA(VLOOKUP(_xlfn.CONCAT($C$2,\"-\",$E152,\"-\",$F152,\"-\",S$3),'Raw Data'!$A$2:$D$690331,4,FALSE),\"N/A\")","v":"N/A"}]
[null,null,null,null,29,5,null,{"$f":"_xlfn.IFNA(VLOOKUP(_xlfn.CONCAT($C$2,\"-\",$E153,\"-\",$F153,\"-\",H$3),'Raw Data'!$A$2:$D$690331,4,FALSE),\"N/A\")","v":"N/A"},{"$f":"_xlfn.IFNA(VLOOKUP(_xlfn.CONCAT($C$2,\"-\",$E153,\"-\",$F153,\"-\",I$3),'Raw Data'!$A$2:$D$690331,4,FALSE),\"N/A\")","v":"N/A"},{"$f":"_xlfn.IFNA(VLOOKUP(_xlfn.CONCAT($C$2,\"-\",$E153,\"-\",$F153,\"-\",J$3),'Raw Data'!$A$2:$D$690331,4,FALSE),\"N/A\")","v":"N/A"},{"$f":"_xlfn.IFNA(VLOOKUP(_xlfn.CONCAT($C$2,\"-\",$E153,\"-\",$F153,\"-\",K$3),'Raw Data'!$A$2:$D$690331,4,FALSE),\"N/A\")","v":"N/A"},{"$f":"_xlfn.IFNA(VLOOKUP(_xlfn.CONCAT($C$2,\"-\",$E153,\"-\",$F153,\"-\",L$3),'Raw Data'!$A$2:$D$690331,4,FALSE),\"N/A\")","v":"N/A"},{"$f":"_xlfn.IFNA(VLOOKUP(_xlfn.CONCAT($C$2,\"-\",$E153,\"-\",$F153,\"-\",M$3),'Raw Data'!$A$2:$D$690331,4,FALSE),\"N/A\")","v":"N/A"},{"$f":"_xlfn.IFNA(VLOOKUP(_xlfn.CONCAT($C$2,\"-\",$E153,\"-\",$F153,\"-\",N$3),'Raw Data'!$A$2:$D$690331,4,FALSE),\"N/A\")","v":"N/A"},{"$f":"_xlfn.IFNA(VLOOKUP(_xlfn.CONCAT($C$2,\"-\",$E153,\"-\",$F153,\"-\",O$3),'Raw Data'!$A$2:$D$690331,4,FALSE),\"N/A\")","v":"N/A"},{"$f":"_xlfn.IFNA(VLOOKUP(_xlfn.CONCAT($C$2,\"-\",$E153,\"-\",$F153,\"-\",P$3),'Raw Data'!$A$2:$D$690331,4,FALSE),\"N/A\")","v":"N/A"},{"$f":"_xlfn.IFNA(VLOOKUP(_xlfn.CONCAT($C$2,\"-\",$E153,\"-\",$F153,\"-\",Q$3),'Raw Data'!$A$2:$D$690331,4,FALSE),\"N/A\")","v":"N/A"},{"$f":"_xlfn.IFNA(VLOOKUP(_xlfn.CONCAT($C$2,\"-\",$E153,\"-\",$F153,\"-\",R$3),'Raw Data'!$A$2:$D$690331,4,FALSE),\"N/A\")","v":"N/A"},{"$f":"_xlfn.IFNA(VLOOKUP(_xlfn.CONCAT($C$2,\"-\",$E153,\"-\",$F153,\"-\",S$3),'Raw Data'!$A$2:$D$690331,4,FALSE),\"N/A\")","v":"N/A"}]
[null,null,null,null,30,5,null,{"$f":"_xlfn.IFNA(VLOOKUP(_xlfn.CONCAT($C$2,\"-\",$E154,\"-\",$F154,\"-\",H$3),'Raw Data'!$A$2:$D$690331,4,FALSE),\"N/A\")","v":"N/A"},{"$f":"_xlfn.IFNA(VLOOKUP(_xlfn.CONCAT($C$2,\"-\",$E154,\"-\",$F154,\"-\",I$3),'Raw Data'!$A$2:$D$690331,4,FALSE),\"N/A\")","v":"N/A"},{"$f":"_xlfn.IFNA(VLOOKUP(_xlfn.CONCAT($C$2,\"-\",$E154,\"-\",$F154,\"-\",J$3),'Raw Data'!$A$2:$D$690331,4,FALSE),\"N/A\")","v":"N/A"},{"$f":"_xlfn.IFNA(VLOOKUP(_xlfn.CONCAT($C$2,\"-\",$E154,\"-\",$F154,\"-\",K$3),'Raw Data'!$A$2:$D$690331,4,FALSE),\"N/A\")","v":"N/A"},{"$f":"_xlfn.IFNA(VLOOKUP(_xlfn.CONCAT($C$2,\"-\",$E154,\"-\",$F154,\"-\",L$3),'Raw Data'!$A$2:$D$690331,4,FALSE),\"N/A\")","v":"N/A"},{"$f":"_xlfn.IFNA(VLOOKUP(_xlfn.CONCAT($C$2,\"-\",$E154,\"-\",$F154,\"-\",M$3),'Raw Data'!$A$2:$D$690331,4,FALSE),\"N/A\")","v":"N/A"},{"$f":"_xlfn.IFNA(VLOOKUP(_xlfn.CONCAT($C$2,\"-\",$E154,\"-\",$F154,\"-\",N$3),'Raw Data'!$A$2:$D$690331,4,FALSE),\"N/A\")","v":"N/A"},{"$f":"_xlfn.IFNA(VLOOKUP(_xlfn.CONCAT($C$2,\"-\",$E154,\"-\",$F154,\"-\",O$3),'Raw Data'!$A$2:$D$690331,4,FALSE),\"N/A\")","v":"N/A"},{"$f":"_xlfn.IFNA(VLOOKUP(_xlfn.CONCAT($C$2,\"-\",$E154,\"-\",$F154,\"-\",P$3),'Raw Data'!$A$2:$D$690331,4,FALSE),\"N/A\")","v":"N/A"},{"$f":"_xlfn.IFNA(VLOOKUP(_xlfn.CONCAT($C$2,\"-\",$E154,\"-\",$F154,\"-\",Q$3),'Raw Data'!$A$2:$D$690331,4,FALSE),\"N/A\")","v":"N/A"},{"$f":"_xlfn.IFNA(VLOOKUP(_xlfn.CONCAT($C$2,\"-\",$E154,\"-\",$F154,\"-\",R$3),'Raw Data'!$A$2:$D$690331,4,FALSE),\"N/A\")","v":"N/A"},{"$f":"_xlfn.IFNA(VLOOKUP(_xlfn.CONCAT($C$2,\"-\",$E154,\"-\",$F154,\"-\",S$3),'Raw Data'!$A$2:$D$690331,4,FALSE),\"N/A\")","v":"N/A"}]
[null,null,null,null,31,5,null,{"$f":"_xlfn.IFNA(VLOOKUP(_xlfn.CONCAT($C$2,\"-\",$E155,\"-\",$F155,\"-\",H$3),'Raw Data'!$A$2:$D$690331,4,FALSE),\"N/A\")","v":"N/A"},{"$f":"_xlfn.IFNA(VLOOKUP(_xlfn.CONCAT($C$2,\"-\",$E155,\"-\",$F155,\"-\",I$3),'Raw Data'!$A$2:$D$690331,4,FALSE),\"N/A\")","v":"N/A"},{"$f":"_xlfn.IFNA(VLOOKUP(_xlfn.CONCAT($C$2,\"-\",$E155,\"-\",$F155,\"-\",J$3),'Raw Data'!$A$2:$D$690331,4,FALSE),\"N/A\")","v":"N/A"},{"$f":"_xlfn.IFNA(VLOOKUP(_xlfn.CONCAT($C$2,\"-\",$E155,\"-\",$F155,\"-\",K$3),'Raw Data'!$A$2:$D$690331,4,FALSE),\"N/A\")","v":"N/A"},{"$f":"_xlfn.IFNA(VLOOKUP(_xlfn.CONCAT($C$2,\"-\",$E155,\"-\",$F155,\"-\",L$3),'Raw Data'!$A$2:$D$690331,4,FALSE),\"N/A\")","v":"N/A"},{"$f":"_xlfn.IFNA(VLOOKUP(_xlfn.CONCAT($C$2,\"-\",$E155,\"-\",$F155,\"-\",M$3),'Raw Data'!$A$2:$D$690331,4,FALSE),\"N/A\")","v":"N/A"},{"$f":"_xlfn.IFNA(VLOOKUP(_xlfn.CONCAT($C$2,\"-\",$E155,\"-\",$F155,\"-\",N$3),'Raw Data'!$A$2:$D$690331,4,FALSE),\"N/A\")","v":"N/A"},{"$f":"_xlfn.IFNA(VLOOKUP(_xlfn.CONCAT($C$2,\"-\",$E155,\"-\",$F155,\"-\",O$3),'Raw Data'!$A$2:$D$690331,4,FALSE),\"N/A\")","v":"N/A"},{"$f":"_xlfn.IFNA(VLOOKUP(_xlfn.CONCAT($C$2,\"-\",$E155,\"-\",$F155,\"-\",P$3),'Raw Data'!$A$2:$D$690331,4,FALSE),\"N/A\")","v":"N/A"},{"$f":"_xlfn.IFNA(VLOOKUP(_xlfn.CONCAT($C$2,\"-\",$E155,\"-\",$F155,\"-\",Q$3),'Raw Data'!$A$2:$D$690331,4,FALSE),\"N/A\")","v":"N/A"},{"$f":"_xlfn.IFNA(VLOOKUP(_xlfn.CONCAT($C$2,\"-\",$E155,\"-\",$F155,\"-\",R$3),'Raw Data'!$A$2:$D$690331,4,FALSE),\"N/A\")","v":"N/A"},{"$f":"_xlfn.IFNA(VLOOKUP(_xlfn.CONCAT($C$2,\"-\",$E155,\"-\",$F155,\"-\",S$3),'Raw Data'!$A$2:$D$690331,4,FALSE),\"N/A\")","v":"N/A"}]
[null,null,null,null,1,6,null,{"$f":"_xlfn.IFNA(VLOOKUP(_xlfn.CONCAT($C$2,\"-\",$E156,\"-\",$F156,\"-\",H$3),'Raw Data'!$A$2:$D$690331,4,FALSE),\"N/A\")","v":"N/A"},{"$f":"_xlfn.IFNA(VLOOKUP(_xlfn.CONCAT($C$2,\"-\",$E156,\"-\",$F156,\"-\",I$3),'Raw Data'!$A$2:$D$690331,4,FALSE),\"N/A\")","v":"N/A"},{"$f":"_xlfn.IFNA(VLOOKUP(_xlfn.CONCAT($C$2,\"-\",$E156,\"-\",$F156,\"-\",J$3),'Raw Data'!$A$2:$D$690331,4,FALSE),\"N/A\")","v":"N/A"},{"$f":"_xlfn.IFNA(VLOOKUP(_xlfn.CONCAT($C$2,\"-\",$E156,\"-\",$F156,\"-\",K$3),'Raw Data'!$A$2:$D$690331,4,FALSE),\"N/A\")","v":"N/A"},{"$f":"_xlfn.IFNA(VLOOKUP(_xlfn.CONCAT($C$2,\"-\",$E156,\"-\",$F156,\"-\",L$3),'Raw Data'!$A$2:$D$690331,4,FALSE),\"N/A\")","v":"N/A"},{"$f":"_xlfn.IFNA(VLOOKUP(_xlfn.CONCAT($C$2,\"-\",$E156,\"-\",$F156,\"-\",M$3),'Raw Data'!$A$2:$D$690331,4,FALSE),\"N/A\")","v":"N/A"},{"$f":"_xlfn.IFNA(VLOOKUP(_xlfn.CONCAT($C$2,\"-\",$E156,\"-\",$F156,\"-\",N$3),'Raw Data'!$A$2:$D$690331,4,FALSE),\"N/A\")","v":"N/A"},{"$f":"_xlfn.IFNA(VLOOKUP(_xlfn.CONCAT($C$2,\"-\",$E156,\"-\",$F156,\"-\",O$3),'Raw Data'!$A$2:$D$690331,4,FALSE),\"N/A\")","v":"N/A"},{"$f":"_xlfn.IFNA(VLOOKUP(_xlfn.CONCAT($C$2,\"-\",$E156,\"-\",$F156,\"-\",P$3),'Raw Data'!$A$2:$D$690331,4,FALSE),\"N/A\")","v":"N/A"},{"$f":"_xlfn.IFNA(VLOOKUP(_xlfn.CONCAT($C$2,\"-\",$E156,\"-\",$F156,\"-\",Q$3),'Raw Data'!$A$2:$D$690331,4,FALSE),\"N/A\")","v":"N/A"},{"$f":"_xlfn.IFNA(VLOOKUP(_xlfn.CONCAT($C$2,\"-\",$E156,\"-\",$F156,\"-\",R$3),'Raw Data'!$A$2:$D$690331,4,FALSE),\"N/A\")","v":"N/A"},{"$f":"_xlfn.IFNA(VLOOKUP(_xlfn.CONCAT($C$2,\"-\",$E156,\"-\",$F156,\"-\",S$3),'Raw Data'!$A$2:$D$690331,4,FALSE),\"N/A\")","v":"N/A"}]
[null,null,null,null,2,6,null,{"$f":"_xlfn.IFNA(VLOOKUP(_xlfn.CONCAT($C$2,\"-\",$E157,\"-\",$F157,\"-\",H$3),'Raw Data'!$A$2:$D$690331,4,FALSE),\"N/A\")","v":"N/A"},{"$f":"_xlfn.IFNA(VLOOKUP(_xlfn.CONCAT($C$2,\"-\",$E157,\"-\",$F157,\"-\",I$3),'Raw Data'!$A$2:$D$690331,4,FALSE),\"N/A\")","v":"N/A"},{"$f":"_xlfn.IFNA(VLOOKUP(_xlfn.CONCAT($C$2,\"-\",$E157,\"-\",$F157,\"-\",J$3),'Raw Data'!$A$2:$D$690331,4,FALSE),\"N/A\")","v":"N/A"},{"$f":"_xlfn.IFNA(VLOOKUP(_xlfn.CONCAT($C$2,\"-\",$E157,\"-\",$F157,\"-\",K$3),'Raw Data'!$A$2:$D$690331,4,FALSE),\"N/A\")","v":"N/A"},{"$f":"_xlfn.IFNA(VLOOKUP(_xlfn.CONCAT($C$2,\"-\",$E157,\"-\",$F157,\"-\",L$3),'Raw Data'!$A$2:$D$690331,4,FALSE),\"N/A\")","v":"N/A"},{"$f":"_xlfn.IFNA(VLOOKUP(_xlfn.CONCAT($C$2,\"-\",$E157,\"-\",$F157,\"-\",M$3),'Raw Data'!$A$2:$D$690331,4,FALSE),\"N/A\")","v":"N/A"},{"$f":"_xlfn.IFNA(VLOOKUP(_xlfn.CONCAT($C$2,\"-\",$E157,\"-\",$F157,\"-\",N$3),'Raw Data'!$A$2:$D$690331,4,FALSE),\"N/A\")","v":"N/A"},{"$f":"_xlfn.IFNA(VLOOKUP(_xlfn.CONCAT($C$2,\"-\",$E157,\"-\",$F157,\"-\",O$3),'Raw Data'!$A$2:$D$690331,4,FALSE),\"N/A\")","v":"N/A"},{"$f":"_xlfn.IFNA(VLOOKUP(_xlfn.CONCAT($C$2,\"-\",$E157,\"-\",$F157,\"-\",P$3),'Raw Data'!$A$2:$D$690331,4,FALSE),\"N/A\")","v":"N/A"},{"$f":"_xlfn.IFNA(VLOOKUP(_xlfn.CONCAT($C$2,\"-\",$E157,\"-\",$F157,\"-\",Q$3),'Raw Data'!$A$2:$D$690331,4,FALSE),\"N/A\")","v":"N/A"},{"$f":"_xlfn.IFNA(VLOOKUP(_xlfn.CONCAT($C$2,\"-\",$E157,\"-\",$F157,\"-\",R$3),'Raw Data'!$A$2:$D$690331,4,FALSE),\"N/A\")","v":"N/A"},{"$f":"_xlfn.IFNA(VLOOKUP(_xlfn.CONCAT($C$2,\"-\",$E157,\"-\",$F157,\"-\",S$3),'Raw Data'!$A$2:$D$690331,4,FALSE),\"N/A\")","v":"N/A"}]
[null,null,null,null,3,6,null,{"$f":"_xlfn.IFNA(VLOOKUP(_xlfn.CONCAT($C$2,\"-\",$E158,\"-\",$F158,\"-\",H$3),'Raw Data'!$A$2:$D$690331,4,FALSE),\"N/A\")","v":"N/A"},{"$f":"_xlfn.IFNA(VLOOKUP(_xlfn.CONCAT($C$2,\"-\",$E158,\"-\",$F158,\"-\",I$3),'Raw Data'!$A$2:$D$690331,4,FALSE),\"N/A\")","v":"N/A"},{"$f":"_xlfn.IFNA(VLOOKUP(_xlfn.CONCAT($C$2,\"-\",$E158,\"-\",$F158,\"-\",J$3),'Raw Data'!$A$2:$D$690331,4,FALSE),\"N/A\")","v":"N/A"},{"$f":"_xlfn.IFNA(VLOOKUP(_xlfn.CONCAT($C$2,\"-\",$E158,\"-\",$F158,\"-\",K$3),'Raw Data'!$A$2:$D$690331,4,FALSE),\"N/A\")","v":"N/A"},{"$f":"_xlfn.IFNA(VLOOKUP(_xlfn.CONCAT($C$2,\"-\",$E158,\"-\",$F158,\"-\",L$3),'Raw Data'!$A$2:$D$690331,4,FALSE),\"N/A\")","v":"N/A"},{"$f":"_xlfn.IFNA(VLOOKUP(_xlfn.CONCAT($C$2,\"-\",$E158,\"-\",$F158,\"-\",M$3),'Raw Data'!$A$2:$D$690331,4,FALSE),\"N/A\")","v":"N/A"},{"$f":"_xlfn.IFNA(VLOOKUP(_xlfn.CONCAT($C$2,\"-\",$E158,\"-\",$F158,\"-\",N$3),'Raw Data'!$A$2:$D$690331,4,FALSE),\"N/A\")","v":"N/A"},{"$f":"_xlfn.IFNA(VLOOKUP(_xlfn.CONCAT($C$2,\"-\",$E158,\"-\",$F158,\"-\",O$3),'Raw Data'!$A$2:$D$690331,4,FALSE),\"N/A\")","v":"N/A"},{"$f":"_xlfn.IFNA(VLOOKUP(_xlfn.CONCAT($C$2,\"-\",$E158,\"-\",$F158,\"-\",P$3),'Raw Data'!$A$2:$D$690331,4,FALSE),\"N/A\")","v":"N/A"},{"$f":"_xlfn.IFNA(VLOOKUP(_xlfn.CONCAT($C$2,\"-\",$E158,\"-\",$F158,\"-\",Q$3),'Raw Data'!$A$2:$D$690331,4,FALSE),\"N/A\")","v":"N/A"},{"$f":"_xlfn.IFNA(VLOOKUP(_xlfn.CONCAT($C$2,\"-\",$E158,\"-\",$F158,\"-\",R$3),'Raw Data'!$A$2:$D$690331,4,FALSE),\"N/A\")","v":"N/A"},{"$f":"_xlfn.IFNA(VLOOKUP(_xlfn.CONCAT($C$2,\"-\",$E158,\"-\",$F158,\"-\",S$3),'Raw Data'!$A$2:$D$690331,4,FALSE),\"N/A\")","v":"N/A"}]
[null,null,null,null,4,6,null,{"$f":"_xlfn.IFNA(VLOOKUP(_xlfn.CONCAT($C$2,\"-\",$E159,\"-\",$F159,\"-\",H$3),'Raw Data'!$A$2:$D$690331,4,FALSE),\"N/A\")","v":"N/A"},{"$f":"_xlfn.IFNA(VLOOKUP(_xlfn.CONCAT($C$2,\"-\",$E159,\"-\",$F159,\"-\",I$3),'Raw Data'!$A$2:$D$690331,4,FALSE),\"N/A\")","v":"N/A"},{"$f":"_xlfn.IFNA(VLOOKUP(_xlfn.CONCAT($C$2,\"-\",$E159,\"-\",$F159,\"-\",J$3),'Raw Data'!$A$2:$D$690331,4,FALSE),\"N/A\")","v":"N/A"},{"$f":"_xlfn.IFNA(VLOOKUP(_xlfn.CONCAT($C$2,\"-\",$E159,\"-\",$F159,\"-\",K$3),'Raw Data'!$A$2:$D$690331,4,FALSE),\"N/A\")","v":"N/A"},{"$f":"_xlfn.IFNA(VLOOKUP(_xlfn.CONCAT($C$2,\"-\",$E159,\"-\",$F159,\"-\",L$3),'Raw Data'!$A$2:$D$690331,4,FALSE),\"N/A\")","v":"N/A"},{"$f":"_xlfn.IFNA(VLOOKUP(_xlfn.CONCAT($C$2,\"-\",$E159,\"-\",$F159,\"-\",M$3),'Raw Data'!$A$2:$D$690331,4,FALSE),\"N/A\")","v":"N/A"},{"$f":"_xlfn.IFNA(VLOOKUP(_xlfn.CONCAT($C$2,\"-\",$E159,\"-\",$F159,\"-\",N$3),'Raw Data'!$A$2:$D$690331,4,FALSE),\"N/A\")","v":"N/A"},{"$f":"_xlfn.IFNA(VLOOKUP(_xlfn.CONCAT($C$2,\"-\",$E159,\"-\",$F159,\"-\",O$3),'Raw Data'!$A$2:$D$690331,4,FALSE),\"N/A\")","v":"N/A"},{"$f":"_xlfn.IFNA(VLOOKUP(_xlfn.CONCAT($C$2,\"-\",$E159,\"-\",$F159,\"-\",P$3),'Raw Data'!$A$2:$D$690331,4,FALSE),\"N/A\")","v":"N/A"},{"$f":"_xlfn.IFNA(VLOOKUP(_xlfn.CONCAT($C$2,\"-\",$E159,\"-\",$F159,\"-\",Q$3),'Raw Data'!$A$2:$D$690331,4,FALSE),\"N/A\")","v":"N/A"},{"$f":"_xlfn.IFNA(VLOOKUP(_xlfn.CONCAT($C$2,\"-\",$E159,\"-\",$F159,\"-\",R$3),'Raw Data'!$A$2:$D$690331,4,FALSE),\"N/A\")","v":"N/A"},{"$f":"_xlfn.IFNA(VLOOKUP(_xlfn.CONCAT($C$2,\"-\",$E159,\"-\",$F159,\"-\",S$3),'Raw Data'!$A$2:$D$690331,4,FALSE),\"N/A\")","v":"N/A"}]
[null,null,null,null,5,6,null,{"$f":"_xlfn.IFNA(VLOOKUP(_xlfn.CONCAT($C$2,\"-\",$E160,\"-\",$F160,\"-\",H$3),'Raw Data'!$A$2:$D$690331,4,FALSE),\"N/A\")","v":"N/A"},{"$f":"_xlfn.IFNA(VLOOKUP(_xlfn.CONCAT($C$2,\"-\",$E160,\"-\",$F160,\"-\",I$3),'Raw Data'!$A$2:$D$690331,4,FALSE),\"N/A\")","v":"N/A"},{"$f":"_xlfn.IFNA(VLOOKUP(_xlfn.CONCAT($C$2,\"-\",$E160,\"-\",$F160,\"-\",J$3),'Raw Data'!$A$2:$D$690331,4,FALSE),\"N/A\")","v":"N/A"},{"$f":"_xlfn.IFNA(VLOOKUP(_xlfn.CONCAT($C$2,\"-\",$E160,\"-\",$F160,\"-\",K$3),'Raw Data'!$A$2:$D$690331,4,FALSE),\"N/A\")","v":"N/A"},{"$f":"_xlfn.IFNA(VLOOKUP(_xlfn.CONCAT($C$2,\"-\",$E160,\"-\",$F160,\"-\",L$3),'Raw Data'!$A$2:$D$690331,4,FALSE),\"N/A\")","v":"N/A"},{"$f":"_xlfn.IFNA(VLOOKUP(_xlfn.CONCAT($C$2,\"-\",$E160,\"-\",$F160,\"-\",M$3),'Raw Data'!$A$2:$D$690331,4,FALSE),\"N/A\")","v":"N/A"},{"$f":"_xlfn.IFNA(VLOOKUP(_xlfn.CONCAT($C$2,\"-\",$E160,\"-\",$F160,\"-\",N$3),'Raw Data'!$A$2:$D$690331,4,FALSE),\"N/A\")","v":"N/A"},{"$f":"_xlfn.IFNA(VLOOKUP(_xlfn.CONCAT($C$2,\"-\",$E160,\"-\",$F160,\"-\",O$3),'Raw Data'!$A$2:$D$690331,4,FALSE),\"N/A\")","v":"N/A"},{"$f":"_xlfn.IFNA(VLOOKUP(_xlfn.CONCAT($C$2,\"-\",$E160,\"-\",$F160,\"-\",P$3),'Raw Data'!$A$2:$D$690331,4,FALSE),\"N/A\")","v":"N/A"},{"$f":"_xlfn.IFNA(VLOOKUP(_xlfn.CONCAT($C$2,\"-\",$E160,\"-\",$F160,\"-\",Q$3),'Raw Data'!$A$2:$D$690331,4,FALSE),\"N/A\")","v":"N/A"},{"$f":"_xlfn.IFNA(VLOOKUP(_xlfn.CONCAT($C$2,\"-\",$E160,\"-\",$F160,\"-\",R$3),'Raw Data'!$A$2:$D$690331,4,FALSE),\"N/A\")","v":"N/A"},{"$f":"_xlfn.IFNA(VLOOKUP(_xlfn.CONCAT($C$2,\"-\",$E160,\"-\",$F160,\"-\",S$3),'Raw Data'!$A$2:$D$690331,4,FALSE),\"N/A\")","v":"N/A"}]
[null,null,null,null,6,6,null,{"$f":"_xlfn.IFNA(VLOOKUP(_xlfn.CONCAT($C$2,\"-\",$E161,\"-\",$F161,\"-\",H$3),'Raw Data'!$A$2:$D$690331,4,FALSE),\"N/A\")","v":"N/A"},{"$f":"_xlfn.IFNA(VLOOKUP(_xlfn.CONCAT($C$2,\"-\",$E161,\"-\",$F161,\"-\",I$3),'Raw Data'!$A$2:$D$690331,4,FALSE),\"N/A\")","v":"N/A"},{"$f":"_xlfn.IFNA(VLOOKUP(_xlfn.CONCAT($C$2,\"-\",$E161,\"-\",$F161,\"-\",J$3),'Raw Data'!$A$2:$D$690331,4,FALSE),\"N/A\")","v":"N/A"},{"$f":"_xlfn.IFNA(VLOOKUP(_xlfn.CONCAT($C$2,\"-\",$E161,\"-\",$F161,\"-\",K$3),'Raw Data'!$A$2:$D$690331,4,FALSE),\"N/A\")","v":"N/A"},{"$f":"_xlfn.IFNA(VLOOKUP(_xlfn.CONCAT($C$2,\"-\",$E161,\"-\",$F161,\"-\",L$3),'Raw Data'!$A$2:$D$690331,4,FALSE),\"N/A\")","v":"N/A"},{"$f":"_xlfn.IFNA(VLOOKUP(_xlfn.CONCAT($C$2,\"-\",$E161,\"-\",$F161,\"-\",M$3),'Raw Data'!$A$2:$D$690331,4,FALSE),\"N/A\")","v":"N/A"},{"$f":"_xlfn.IFNA(VLOOKUP(_xlfn.CONCAT($C$2,\"-\",$E161,\"-\",$F161,\"-\",N$3),'Raw Data'!$A$2:$D$690331,4,FALSE),\"N/A\")","v":"N/A"},{"$f":"_xlfn.IFNA(VLOOKUP(_xlfn.CONCAT($C$2,\"-\",$E161,\"-\",$F161,\"-\",O$3),'Raw Data'!$A$2:$D$690331,4,FALSE),\"N/A\")","v":"N/A"},{"$f":"_xlfn.IFNA(VLOOKUP(_xlfn.CONCAT($C$2,\"-\",$E161,\"-\",$F161,\"-\",P$3),'Raw Data'!$A$2:$D$690331,4,FALSE),\"N/A\")","v":"N/A"},{"$f":"_xlfn.IFNA(VLOOKUP(_xlfn.CONCAT($C$2,\"-\",$E161,\"-\",$F161,\"-\",Q$3),'Raw Data'!$A$2:$D$690331,4,FALSE),\"N/A\")","v":"N/A"},{"$f":"_xlfn.IFNA(VLOOKUP(_xlfn.CONCAT($C$2,\"-\",$E161,\"-\",$F161,\"-\",R$3),'Raw Data'!$A$2:$D$690331,4,FALSE),\"N/A\")","v":"N/A"},{"$f":"_xlfn.IFNA(VLOOKUP(_xlfn.CONCAT($C$2,\"-\",$E161,\"-\",$F161,\"-\",S$3),'Raw Data'!$A$2:$D$690331,4,FALSE),\"N/A\")","v":"N/A"}]
[null,null,null,null,7,6,null,{"$f":"_xlfn.IFNA(VLOOKUP(_xlfn.CONCAT($C$2,\"-\",$E162,\"-\",$F162,\"-\",H$3),'Raw Data'!$A$2:$D$690331,4,FALSE),\"N/A\")","v":"N/A"},{"$f":"_xlfn.IFNA(VLOOKUP(_xlfn.CONCAT($C$2,\"-\",$E162,\"-\",$F162,\"-\",I$3),'Raw Data'!$A$2:$D$690331,4,FALSE),\"N/A\")","v":"N/A"},{"$f":"_xlfn.IFNA(VLOOKUP(_xlfn.CONCAT($C$2,\"-\",$E162,\"-\",$F162,\"-\",J$3),'Raw Data'!$A$2:$D$690331,4,FALSE),\"N/A\")","v":"N/A"},{"$f":"_xlfn.IFNA(VLOOKUP(_xlfn.CONCAT($C$2,\"-\",$E162,\"-\",$F162,\"-\",K$3),'Raw Data'!$A$2:$D$690331,4,FALSE),\"N/A\")","v":"N/A"},{"$f":"_xlfn.IFNA(VLOOKUP(_xlfn.CONCAT($C$2,\"-\",$E162,\"-\",$F162,\"-\",L$3),'Raw Data'!$A$2:$D$690331,4,FALSE),\"N/A\")","v":"N/A"},{"$f":"_xlfn.IFNA(VLOOKUP(_xlfn.CONCAT($C$2,\"-\",$E162,\"-\",$F162,\"-\",M$3),'Raw Data'!$A$2:$D$690331,4,FALSE),\"N/A\")","v":"N/A"},{"$f":"_xlfn.IFNA(VLOOKUP(_xlfn.CONCAT($C$2,\"-\",$E162,\"-\",$F162,\"-\",N$3),'Raw Data'!$A$2:$D$690331,4,FALSE),\"N/A\")","v":"N/A"},{"$f":"_xlfn.IFNA(VLOOKUP(_xlfn.CONCAT($C$2,\"-\",$E162,\"-\",$F162,\"-\",O$3),'Raw Data'!$A$2:$D$690331,4,FALSE),\"N/A\")","v":"N/A"},{"$f":"_xlfn.IFNA(VLOOKUP(_xlfn.CONCAT($C$2,\"-\",$E162,\"-\",$F162,\"-\",P$3),'Raw Data'!$A$2:$D$690331,4,FALSE),\"N/A\")","v":"N/A"},{"$f":"_xlfn.IFNA(VLOOKUP(_xlfn.CONCAT($C$2,\"-\",$E162,\"-\",$F162,\"-\",Q$3),'Raw Data'!$A$2:$D$690331,4,FALSE),\"N/A\")","v":"N/A"},{"$f":"_xlfn.IFNA(VLOOKUP(_xlfn.CONCAT($C$2,\"-\",$E162,\"-\",$F162,\"-\",R$3),'Raw Data'!$A$2:$D$690331,4,FALSE),\"N/A\")","v":"N/A"},{"$f":"_xlfn.IFNA(VLOOKUP(_xlfn.CONCAT($C$2,\"-\",$E162,\"-\",$F162,\"-\",S$3),'Raw Data'!$A$2:$D$690331,4,FALSE),\"N/A\")","v":"N/A"}]
[null,null,null,null,8,6,null,{"$f":"_xlfn.IFNA(VLOOKUP(_xlfn.CONCAT($C$2,\"-\",$E163,\"-\",$F163,\"-\",H$3),'Raw Data'!$A$2:$D$690331,4,FALSE),\"N/A\")","v":"N/A"},{"$f":"_xlfn.IFNA(VLOOKUP(_xlfn.CONCAT($C$2,\"-\",$E163,\"-\",$F163,\"-\",I$3),'Raw Data'!$A$2:$D$690331,4,FALSE),\"N/A\")","v":"N/A"},{"$f":"_xlfn.IFNA(VLOOKUP(_xlfn.CONCAT($C$2,\"-\",$E163,\"-\",$F163,\"-\",J$3),'Raw Data'!$A$2:$D$690331,4,FALSE),\"N/A\")","v":"N/A"},{"$f":"_xlfn.IFNA(VLOOKUP(_xlfn.CONCAT($C$2,\"-\",$E163,\"-\",$F163,\"-\",K$3),'Raw Data'!$A$2:$D$690331,4,FALSE),\"N/A\")","v":"N/A"},{"$f":"_xlfn.IFNA(VLOOKUP(_xlfn.CONCAT($C$2,\"-\",$E163,\"-\",$F163,\"-\",L$3),'Raw Data'!$A$2:$D$690331,4,FALSE),\"N/A\")","v":"N/A"},{"$f":"_xlfn.IFNA(VLOOKUP(_xlfn.CONCAT($C$2,\"-\",$E163,\"-\",$F163,\"-\",M$3),'Raw Data'!$A$2:$D$690331,4,FALSE),\"N/A\")","v":"N/A"},{"$f":"_xlfn.IFNA(VLOOKUP(_xlfn.CONCAT($C$2,\"-\",$E163,\"-\",$F163,\"-\",N$3),'Raw Data'!$A$2:$D$690331,4,FALSE),\"N/A\")","v":"N/A"},{"$f":"_xlfn.IFNA(VLOOKUP(_xlfn.CONCAT($C$2,\"-\",$E163,\"-\",$F163,\"-\",O$3),'Raw Data'!$A$2:$D$690331,4,FALSE),\"N/A\")","v":"N/A"},{"$f":"_xlfn.IFNA(VLOOKUP(_xlfn.CONCAT($C$2,\"-\",$E163,\"-\",$F163,\"-\",P$3),'Raw Data'!$A$2:$D$690331,4,FALSE),\"N/A\")","v":"N/A"},{"$f":"_xlfn.IFNA(VLOOKUP(_xlfn.CONCAT($C$2,\"-\",$E163,\"-\",$F163,\"-\",Q$3),'Raw Data'!$A$2:$D$690331,4,FALSE),\"N/A\")","v":"N/A"},{"$f":"_xlfn.IFNA(VLOOKUP(_xlfn.CONCAT($C$2,\"-\",$E163,\"-\",$F163,\"-\",R$3),'Raw Data'!$A$2:$D$690331,4,FALSE),\"N/A\")","v":"N/A"},{"$f":"_xlfn.IFNA(VLOOKUP(_xlfn.CONCAT($C$2,\"-\",$E163,\"-\",$F163,\"-\",S$3),'Raw Data'!$A$2:$D$690331,4,FALSE),\"N/A\")","v":"N/A"}]
[null,null,null,null,9,6,null,{"$f":"_xlfn.IFNA(VLOOKUP(_xlfn.CONCAT($C$2,\"-\",$E164,\"-\",$F164,\"-\",H$3),'Raw Data'!$A$2:$D$690331,4,FALSE),\"N/A\")","v":"N/A"},{"$f":"_xlfn.IFNA(VLOOKUP(_xlfn.CONCAT($C$2,\"-\",$E164,\"-\",$F164,\"-\",I$3),'Raw Data'!$A$2:$D$690331,4,FALSE),\"N/A\")","v":"N/A"},{"$f":"_xlfn.IFNA(VLOOKUP(_xlfn.CONCAT($C$2,\"-\",$E164,\"-\",$F164,\"-\",J$3),'Raw Data'!$A$2:$D$690331,4,FALSE),\"N/A\")","v":"N/A"},{"$f":"_xlfn.IFNA(VLOOKUP(_xlfn.CONCAT($C$2,\"-\",$E164,\"-\",$F164,\"-\",K$3),'Raw Data'!$A$2:$D$690331,4,FALSE),\"N/A\")","v":"N/A"},{"$f":"_xlfn.IFNA(VLOOKUP(_xlfn.CONCAT($C$2,\"-\",$E164,\"-\",$F164,\"-\",L$3),'Raw Data'!$A$2:$D$690331,4,FALSE),\"N/A\")","v":"N/A"},{"$f":"_xlfn.IFNA(VLOOKUP(_xlfn.CONCAT($C$2,\"-\",$E164,\"-\",$F164,\"-\",M$3),'Raw Data'!$A$2:$D$690331,4,FALSE),\"N/A\")","v":"N/A"},{"$f":"_xlfn.IFNA(VLOOKUP(_xlfn.CONCAT($C$2,\"-\",$E164,\"-\",$F164,\"-\",N$3),'Raw Data'!$A$2:$D$690331,4,FALSE),\"N/A\")","v":"N/A"},{"$f":"_xlfn.IFNA(VLOOKUP(_xlfn.CONCAT($C$2,\"-\",$E164,\"-\",$F164,\"-\",O$3),'Raw Data'!$A$2:$D$690331,4,FALSE),\"N/A\")","v":"N/A"},{"$f":"_xlfn.IFNA(VLOOKUP(_xlfn.CONCAT($C$2,\"-\",$E164,\"-\",$F164,\"-\",P$3),'Raw Data'!$A$2:$D$690331,4,FALSE),\"N/A\")","v":"N/A"},{"$f":"_xlfn.IFNA(VLOOKUP(_xlfn.CONCAT($C$2,\"-\",$E164,\"-\",$F164,\"-\",Q$3),'Raw Data'!$A$2:$D$690331,4,FALSE),\"N/A\")","v":"N/A"},{"$f":"_xlfn.IFNA(VLOOKUP(_xlfn.CONCAT($C$2,\"-\",$E164,\"-\",$F164,\"-\",R$3),'Raw Data'!$A$2:$D$690331,4,FALSE),\"N/A\")","v":"N/A"},{"$f":"_xlfn.IFNA(VLOOKUP(_xlfn.CONCAT($C$2,\"-\",$E164,\"-\",$F164,\"-\",S$3),'Raw Data'!$A$2:$D$690331,4,FALSE),\"N/A\")","v":"N/A"}]
[null,null,null,null,10,6,null,{"$f":"_xlfn.IFNA(VLOOKUP(_xlfn.CONCAT($C$2,\"-\",$E165,\"-\",$F165,\"-\",H$3),'Raw Data'!$A$2:$D$690331,4,FALSE),\"N/A\")","v":"N/A"},{"$f":"_xlfn.IFNA(VLOOKUP(_xlfn.CONCAT($C$2,\"-\",$E165,\"-\",$F165,\"-\",I$3),'Raw Data'!$A$2:$D$690331,4,FALSE),\"N/A\")","v":"N/A"},{"$f":"_xlfn.IFNA(VLOOKUP(_xlfn.CONCAT($C$2,\"-\",$E165,\"-\",$F165,\"-\",J$3),'Raw Data'!$A$2:$D$690331,4,FALSE),\"N/A\")","v":"N/A"},{"$f":"_xlfn.IFNA(VLOOKUP(_xlfn.CONCAT($C$2,\"-\",$E165,\"-\",$F165,\"-\",K$3),'Raw Data'!$A$2:$D$690331,4,FALSE),\"N/A\")","v":"N/A"},{"$f":"_xlfn.IFNA(VLOOKUP(_xlfn.CONCAT($C$2,\"-\",$E165,\"-\",$F165,\"-\",L$3),'Raw Data'!$A$2:$D$690331,4,FALSE),\"N/A\")","v":"N/A"},{"$f":"_xlfn.IFNA(VLOOKUP(_xlfn.CONCAT($C$2,\"-\",$E165,\"-\",$F165,\"-\",M$3),'Raw Data'!$A$2:$D$690331,4,FALSE),\"N/A\")","v":"N/A"},{"$f":"_xlfn.IFNA(VLOOKUP(_xlfn.CONCAT($C$2,\"-\",$E165,\"-\",$F165,\"-\",N$3),'Raw Data'!$A$2:$D$690331,4,FALSE),\"N/A\")","v":"N/A"},{"$f":"_xlfn.IFNA(VLOOKUP(_xlfn.CONCAT($C$2,\"-\",$E165,\"-\",$F165,\"-\",O$3),'Raw Data'!$A$2:$D$690331,4,FALSE),\"N/A\")","v":"N/A"},{"$f":"_xlfn.IFNA(VLOOKUP(_xlfn.CONCAT($C$2,\"-\",$E165,\"-\",$F165,\"-\",P$3),'Raw Data'!$A$2:$D$690331,4,FALSE),\"N/A\")","v":"N/A"},{"$f":"_xlfn.IFNA(VLOOKUP(_xlfn.CONCAT($C$2,\"-\",$E165,\"-\",$F165,\"-\",Q$3),'Raw Data'!$A$2:$D$690331,4,FALSE),\"N/A\")","v":"N/A"},{"$f":"_xlfn.IFNA(VLOOKUP(_xlfn.CONCAT($C$2,\"-\",$E165,\"-\",$F165,\"-\",R$3),'Raw Data'!$A$2:$D$690331,4,FALSE),\"N/A\")","v":"N/A"},{"$f":"_xlfn.IFNA(VLOOKUP(_xlfn.CONCAT($C$2,\"-\",$E165,\"-\",$F165,\"-\",S$3),'Raw Data'!$A$2:$D$690331,4,FALSE),\"N/A\")","v":"N/A"}]
[null,null,null,null,11,6,null,{"$f":"_xlfn.IFNA(VLOOKUP(_xlfn.CONCAT($C$2,\"-\",$E166,\"-\",$F166,\"-\",H$3),'Raw Data'!$A$2:$D$690331,4,FALSE),\"N/A\")","v":"N/A"},{"$f":"_xlfn.IFNA(VLOOKUP(_xlfn.CONCAT($C$2,\"-\",$E166,\"-\",$F166,\"-\",I$3),'Raw Data'!$A$2:$D$690331,4,FALSE),\"N/A\")","v":"N/A"},{"$f":"_xlfn.IFNA(VLOOKUP(_xlfn.CONCAT($C$2,\"-\",$E166,\"-\",$F166,\"-\",J$3),'Raw Data'!$A$2:$D$690331,4,FALSE),\"N/A\")","v":"N/A"},{"$f":"_xlfn.IFNA(VLOOKUP(_xlfn.CONCAT($C$2,\"-\",$E166,\"-\",$F166,\"-\",K$3),'Raw Data'!$A$2:$D$690331,4,FALSE),\"N/A\")","v":"N/A"},{"$f":"_xlfn.IFNA(VLOOKUP(_xlfn.CONCAT($C$2,\"-\",$E166,\"-\",$F166,\"-\",L$3),'Raw Data'!$A$2:$D$690331,4,FALSE),\"N/A\")","v":"N/A"},{"$f":"_xlfn.IFNA(VLOOKUP(_xlfn.CONCAT($C$2,\"-\",$E166,\"-\",$F166,\"-\",M$3),'Raw Data'!$A$2:$D$690331,4,FALSE),\"N/A\")","v":"N/A"},{"$f":"_xlfn.IFNA(VLOOKUP(_xlfn.CONCAT($C$2,\"-\",$E166,\"-\",$F166,\"-\",N$3),'Raw Data'!$A$2:$D$690331,4,FALSE),\"N/A\")","v":"N/A"},{"$f":"_xlfn.IFNA(VLOOKUP(_xlfn.CONCAT($C$2,\"-\",$E166,\"-\",$F166,\"-\",O$3),'Raw Data'!$A$2:$D$690331,4,FALSE),\"N/A\")","v":"N/A"},{"$f":"_xlfn.IFNA(VLOOKUP(_xlfn.CONCAT($C$2,\"-\",$E166,\"-\",$F166,\"-\",P$3),'Raw Data'!$A$2:$D$690331,4,FALSE),\"N/A\")","v":"N/A"},{"$f":"_xlfn.IFNA(VLOOKUP(_xlfn.CONCAT($C$2,\"-\",$E166,\"-\",$F166,\"-\",Q$3),'Raw Data'!$A$2:$D$690331,4,FALSE),\"N/A\")","v":"N/A"},{"$f":"_xlfn.IFNA(VLOOKUP(_xlfn.CONCAT($C$2,\"-\",$E166,\"-\",$F166,\"-\",R$3),'Raw Data'!$A$2:$D$690331,4,FALSE),\"N/A\")","v":"N/A"},{"$f":"_xlfn.IFNA(VLOOKUP(_xlfn.CONCAT($C$2,\"-\",$E166,\"-\",$F166,\"-\",S$3),'Raw Data'!$A$2:$D$690331,4,FALSE),\"N/A\")","v":"N/A"}]
[null,null,null,null,12,6,null,{"$f":"_xlfn.IFNA(VLOOKUP(_xlfn.CONCAT($C$2,\"-\",$E167,\"-\",$F167,\"-\",H$3),'Raw Data'!$A$2:$D$690331,4,FALSE),\"N/A\")","v":"N/A"},{"$f":"_xlfn.IFNA(VLOOKUP(_xlfn.CONCAT($C$2,\"-\",$E167,\"-\",$F167,\"-\",I$3),'Raw Data'!$A$2:$D$690331,4,FALSE),\"N/A\")","v":"N/A"},{"$f":"_xlfn.IFNA(VLOOKUP(_xlfn.CONCAT($C$2,\"-\",$E167,\"-\",$F167,\"-\",J$3),'Raw Data'!$A$2:$D$690331,4,FALSE),\"N/A\")","v":"N/A"},{"$f":"_xlfn.IFNA(VLOOKUP(_xlfn.CONCAT($C$2,\"-\",$E167,\"-\",$F167,\"-\",K$3),'Raw Data'!$A$2:$D$690331,4,FALSE),\"N/A\")","v":"N/A"},{"$f":"_xlfn.IFNA(VLOOKUP(_xlfn.CONCAT($C$2,\"-\",$E167,\"-\",$F167,\"-\",L$3),'Raw Data'!$A$2:$D$690331,4,FALSE),\"N/A\")","v":"N/A"},{"$f":"_xlfn.IFNA(VLOOKUP(_xlfn.CONCAT($C$2,\"-\",$E167,\"-\",$F167,\"-\",M$3),'Raw Data'!$A$2:$D$690331,4,FALSE),\"N/A\")","v":"N/A"},{"$f":"_xlfn.IFNA(VLOOKUP(_xlfn.CONCAT($C$2,\"-\",$E167,\"-\",$F167,\"-\",N$3),'Raw Data'!$A$2:$D$690331,4,FALSE),\"N/A\")","v":"N/A"},{"$f":"_xlfn.IFNA(VLOOKUP(_xlfn.CONCAT($C$2,\"-\",$E167,\"-\",$F167,\"-\",O$3),'Raw Data'!$A$2:$D$690331,4,FALSE),\"N/A\")","v":"N/A"},{"$f":"_xlfn.IFNA(VLOOKUP(_xlfn.CONCAT($C$2,\"-\",$E167,\"-\",$F167,\"-\",P$3),'Raw Data'!$A$2:$D$690331,4,FALSE),\"N/A\")","v":"N/A"},{"$f":"_xlfn.IFNA(VLOOKUP(_xlfn.CONCAT($C$2,\"-\",$E167,\"-\",$F167,\"-\",Q$3),'Raw Data'!$A$2:$D$690331,4,FALSE),\"N/A\")","v":"N/A"},{"$f":"_xlfn.IFNA(VLOOKUP(_xlfn.CONCAT($C$2,\"-\",$E167,\"-\",$F167,\"-\",R$3),'Raw Data'!$A$2:$D$690331,4,FALSE),\"N/A\")","v":"N/A"},{"$f":"_xlfn.IFNA(VLOOKUP(_xlfn.CONCAT($C$2,\"-\",$E167,\"-\",$F167,\"-\",S$3),'Raw Data'!$A$2:$D$690331,4,FALSE),\"N/A\")","v":"N/A"}]
[null,null,null,null,13,6,null,{"$f":"_xlfn.IFNA(VLOOKUP(_xlfn.CONCAT($C$2,\"-\",$E168,\"-\",$F168,\"-\",H$3),'Raw Data'!$A$2:$D$690331,4,FALSE),\"N/A\")","v":"N/A"},{"$f":"_xlfn.IFNA(VLOOKUP(_xlfn.CONCAT($C$2,\"-\",$E168,\"-\",$F168,\"-\",I$3),'Raw Data'!$A$2:$D$690331,4,FALSE),\"N/A\")","v":"N/A"},{"$f":"_xlfn.IFNA(VLOOKUP(_xlfn.CONCAT($C$2,\"-\",$E168,\"-\",$F168,\"-\",J$3),'Raw Data'!$A$2:$D$690331,4,FALSE),\"N/A\")","v":"N/A"},{"$f":"_xlfn.IFNA(VLOOKUP(_xlfn.CONCAT($C$2,\"-\",$E168,\"-\",$F168,\"-\",K$3),'Raw Data'!$A$2:$D$690331,4,FALSE),\"N/A\")","v":"N/A"},{"$f":"_xlfn.IFNA(VLOOKUP(_xlfn.CONCAT($C$2,\"-\",$E168,\"-\",$F168,\"-\",L$3),'Raw Data'!$A$2:$D$690331,4,FALSE),\"N/A\")","v":"N/A"},{"$f":"_xlfn.IFNA(VLOOKUP(_xlfn.CONCAT($C$2,\"-\",$E168,\"-\",$F168,\"-\",M$3),'Raw Data'!$A$2:$D$690331,4,FALSE),\"N/A\")","v":"N/A"},{"$f":"_xlfn.IFNA(VLOOKUP(_xlfn.CONCAT($C$2,\"-\",$E168,\"-\",$F168,\"-\",N$3),'Raw Data'!$A$2:$D$690331,4,FALSE),\"N/A\")","v":"N/A"},{"$f":"_xlfn.IFNA(VLOOKUP(_xlfn.CONCAT($C$2,\"-\",$E168,\"-\",$F168,\"-\",O$3),'Raw Data'!$A$2:$D$690331,4,FALSE),\"N/A\")","v":"N/A"},{"$f":"_xlfn.IFNA(VLOOKUP(_xlfn.CONCAT($C$2,\"-\",$E168,\"-\",$F168,\"-\",P$3),'Raw Data'!$A$2:$D$690331,4,FALSE),\"N/A\")","v":"N/A"},{"$f":"_xlfn.IFNA(VLOOKUP(_xlfn.CONCAT($C$2,\"-\",$E168,\"-\",$F168,\"-\",Q$3),'Raw Data'!$A$2:$D$690331,4,FALSE),\"N/A\")","v":"N/A"},{"$f":"_xlfn.IFNA(VLOOKUP(_xlfn.CONCAT($C$2,\"-\",$E168,\"-\",$F168,\"-\",R$3),'Raw Data'!$A$2:$D$690331,4,FALSE),\"N/A\")","v":"N/A"},{"$f":"_xlfn.IFNA(VLOOKUP(_xlfn.CONCAT($C$2,\"-\",$E168,\"-\",$F168,\"-\",S$3),'Raw Data'!$A$2:$D$690331,4,FALSE),\"N/A\")","v":"N/A"}]
[null,null,null,null,14,6,null,{"$f":"_xlfn.IFNA(VLOOKUP(_xlfn.CONCAT($C$2,\"-\",$E169,\"-\",$F169,\"-\",H$3),'Raw Data'!$A$2:$D$690331,4,FALSE),\"N/A\")","v":"N/A"},{"$f":"_xlfn.IFNA(VLOOKUP(_xlfn.CONCAT($C$2,\"-\",$E169,\"-\",$F169,\"-\",I$3),'Raw Data'!$A$2:$D$690331,4,FALSE),\"N/A\")","v":"N/A"},{"$f":"_xlfn.IFNA(VLOOKUP(_xlfn.CONCAT($C$2,\"-\",$E169,\"-\",$F169,\"-\",J$3),'Raw Data'!$A$2:$D$690331,4,FALSE),\"N/A\")","v":"N/A"},{"$f":"_xlfn.IFNA(VLOOKUP(_xlfn.CONCAT($C$2,\"-\",$E169,\"-\",$F169,\"-\",K$3),'Raw Data'!$A$2:$D$690331,4,FALSE),\"N/A\")","v":"N/A"},{"$f":"_xlfn.IFNA(VLOOKUP(_xlfn.CONCAT($C$2,\"-\",$E169,\"-\",$F169,\"-\",L$3),'Raw Data'!$A$2:$D$690331,4,FALSE),\"N/A\")","v":"N/A"},{"$f":"_xlfn.IFNA(VLOOKUP(_xlfn.CONCAT($C$2,\"-\",$E169,\"-\",$F169,\"-\",M$3),'Raw Data'!$A$2:$D$690331,4,FALSE),\"N/A\")","v":"N/A"},{"$f":"_xlfn.IFNA(VLOOKUP(_xlfn.CONCAT($C$2,\"-\",$E169,\"-\",$F169,\"-\",N$3),'Raw Data'!$A$2:$D$690331,4,FALSE),\"N/A\")","v":"N/A"},{"$f":"_xlfn.IFNA(VLOOKUP(_xlfn.CONCAT($C$2,\"-\",$E169,\"-\",$F169,\"-\",O$3),'Raw Data'!$A$2:$D$690331,4,FALSE),\"N/A\")","v":"N/A"},{"$f":"_xlfn.IFNA(VLOOKUP(_xlfn.CONCAT($C$2,\"-\",$E169,\"-\",$F169,\"-\",P$3),'Raw Data'!$A$2:$D$690331,4,FALSE),\"N/A\")","v":"N/A"},{"$f":"_xlfn.IFNA(VLOOKUP(_xlfn.CONCAT($C$2,\"-\",$E169,\"-\",$F169,\"-\",Q$3),'Raw Data'!$A$2:$D$690331,4,FALSE),\"N/A\")","v":"N/A"},{"$f":"_xlfn.IFNA(VLOOKUP(_xlfn.CONCAT($C$2,\"-\",$E169,\"-\",$F169,\"-\",R$3),'Raw Data'!$A$2:$D$690331,4,FALSE),\"N/A\")","v":"N/A"},{"$f":"_xlfn.IFNA(VLOOKUP(_xlfn.CONCAT($C$2,\"-\",$E169,\"-\",$F169,\"-\",S$3),'Raw Data'!$A$2:$D$690331,4,FALSE),\"N/A\")","v":"N/A"}]
[null,null,null,null,15,6,null,{"$f":"_xlfn.IFNA(VLOOKUP(_xlfn.CONCAT($C$2,\"-\",$E170,\"-\",$F170,\"-\",H$3),'Raw Data'!$A$2:$D$690331,4,FALSE),\"N/A\")","v":"N/A"},{"$f":"_xlfn.IFNA(VLOOKUP(_xlfn.CONCAT($C$2,\"-\",$E170,\"-\",$F170,\"-\",I$3),'Raw Data'!$A$2:$D$690331,4,FALSE),\"N/A\")","v":"N/A"},{"$f":"_xlfn.IFNA(VLOOKUP(_xlfn.CONCAT($C$2,\"-\",$E170,\"-\",$F170,\"-\",J$3),'Raw Data'!$A$2:$D$690331,4,FALSE),\"N/A\")","v":"N/A"},{"$f":"_xlfn.IFNA(VLOOKUP(_xlfn.CONCAT($C$2,\"-\",$E170,\"-\",$F170,\"-\",K$3),'Raw Data'!$A$2:$D$690331,4,FALSE),\"N/A\")","v":"N/A"},{"$f":"_xlfn.IFNA(VLOOKUP(_xlfn.CONCAT($C$2,\"-\",$E170,\"-\",$F170,\"-\",L$3),'Raw Data'!$A$2:$D$690331,4,FALSE),\"N/A\")","v":"N/A"},{"$f":"_xlfn.IFNA(VLOOKUP(_xlfn.CONCAT($C$2,\"-\",$E170,\"-\",$F170,\"-\",M$3),'Raw Data'!$A$2:$D$690331,4,FALSE),\"N/A\")","v":"N/A"},{"$f":"_xlfn.IFNA(VLOOKUP(_xlfn.CONCAT($C$2,\"-\",$E170,\"-\",$F170,\"-\",N$3),'Raw Data'!$A$2:$D$690331,4,FALSE),\"N/A\")","v":"N/A"},{"$f":"_xlfn.IFNA(VLOOKUP(_xlfn.CONCAT($C$2,\"-\",$E170,\"-\",$F170,\"-\",O$3),'Raw Data'!$A$2:$D$690331,4,FALSE),\"N/A\")","v":"N/A"},{"$f":"_xlfn.IFNA(VLOOKUP(_xlfn.CONCAT($C$2,\"-\",$E170,\"-\",$F170,\"-\",P$3),'Raw Data'!$A$2:$D$690331,4,FALSE),\"N/A\")","v":"N/A"},{"$f":"_xlfn.IFNA(VLOOKUP(_xlfn.CONCAT($C$2,\"-\",$E170,\"-\",$F170,\"-\",Q$3),'Raw Data'!$A$2:$D$690331,4,FALSE),\"N/A\")","v":"N/A"},{"$f":"_xlfn.IFNA(VLOOKUP(_xlfn.CONCAT($C$2,\"-\",$E170,\"-\",$F170,\"-\",R$3),'Raw Data'!$A$2:$D$690331,4,FALSE),\"N/A\")","v":"N/A"},{"$f":"_xlfn.IFNA(VLOOKUP(_xlfn.CONCAT($C$2,\"-\",$E170,\"-\",$F170,\"-\",S$3),'Raw Data'!$A$2:$D$690331,4,FALSE),\"N/A\")","v":"N/A"}]
[null,null,null,null,16,6,null,{"$f":"_xlfn.IFNA(VLOOKUP(_xlfn.CONCAT($C$2,\"-\",$E171,\"-\",$F171,\"-\",H$3),'Raw Data'!$A$2:$D$690331,4,FALSE),\"N/A\")","v":"N/A"},{"$f":"_xlfn.IFNA(VLOOKUP(_xlfn.CONCAT($C$2,\"-\",$E171,\"-\",$F171,\"-\",I$3),'Raw Data'!$A$2:$D$690331,4,FALSE),\"N/A\")","v":"N/A"},{"$f":"_xlfn.IFNA(VLOOKUP(_xlfn.CONCAT($C$2,\"-\",$E171,\"-\",$F171,\"-\",J$3),'Raw Data'!$A$2:$D$690331,4,FALSE),\"N/A\")","v":"N/A"},{"$f":"_xlfn.IFNA(VLOOKUP(_xlfn.CONCAT($C$2,\"-\",$E171,\"-\",$F171,\"-\",K$3),'Raw Data'!$A$2:$D$690331,4,FALSE),\"N/A\")","v":"N/A"},{"$f":"_xlfn.IFNA(VLOOKUP(_xlfn.CONCAT($C$2,\"-\",$E171,\"-\",$F171,\"-\",L$3),'Raw Data'!$A$2:$D$690331,4,FALSE),\"N/A\")","v":"N/A"},{"$f":"_xlfn.IFNA(VLOOKUP(_xlfn.CONCAT($C$2,\"-\",$E171,\"-\",$F171,\"-\",M$3),'Raw Data'!$A$2:$D$690331,4,FALSE),\"N/A\")","v":"N/A"},{"$f":"_xlfn.IFNA(VLOOKUP(_xlfn.CONCAT($C$2,\"-\",$E171,\"-\",$F171,\"-\",N$3),'Raw Data'!$A$2:$D$690331,4,FALSE),\"N/A\")","v":"N/A"},{"$f":"_xlfn.IFNA(VLOOKUP(_xlfn.CONCAT($C$2,\"-\",$E171,\"-\",$F171,\"-\",O$3),'Raw Data'!$A$2:$D$690331,4,FALSE),\"N/A\")","v":"N/A"},{"$f":"_xlfn.IFNA(VLOOKUP(_xlfn.CONCAT($C$2,\"-\",$E171,\"-\",$F171,\"-\",P$3),'Raw Data'!$A$2:$D$690331,4,FALSE),\"N/A\")","v":"N/A"},{"$f":"_xlfn.IFNA(VLOOKUP(_xlfn.CONCAT($C$2,\"-\",$E171,\"-\",$F171,\"-\",Q$3),'Raw Data'!$A$2:$D$690331,4,FALSE),\"N/A\")","v":"N/A"},{"$f":"_xlfn.IFNA(VLOOKUP(_xlfn.CONCAT($C$2,\"-\",$E171,\"-\",$F171,\"-\",R$3),'Raw Data'!$A$2:$D$690331,4,FALSE),\"N/A\")","v":"N/A"},{"$f":"_xlfn.IFNA(VLOOKUP(_xlfn.CONCAT($C$2,\"-\",$E171,\"-\",$F171,\"-\",S$3),'Raw Data'!$A$2:$D$690331,4,FALSE),\"N/A\")","v":"N/A"}]
[null,null,null,null,17,6,null,{"$f":"_xlfn.IFNA(VLOOKUP(_xlfn.CONCAT($C$2,\"-\",$E172,\"-\",$F172,\"-\",H$3),'Raw Data'!$A$2:$D$690331,4,FALSE),\"N/A\")","v":"N/A"},{"$f":"_xlfn.IFNA(VLOOKUP(_xlfn.CONCAT($C$2,\"-\",$E172,\"-\",$F172,\"-\",I$3),'Raw Data'!$A$2:$D$690331,4,FALSE),\"N/A\")","v":"N/A"},{"$f":"_xlfn.IFNA(VLOOKUP(_xlfn.CONCAT($C$2,\"-\",$E172,\"-\",$F172,\"-\",J$3),'Raw Data'!$A$2:$D$690331,4,FALSE),\"N/A\")","v":"N/A"},{"$f":"_xlfn.IFNA(VLOOKUP(_xlfn.CONCAT($C$2,\"-\",$E172,\"-\",$F172,\"-\",K$3),'Raw Data'!$A$2:$D$690331,4,FALSE),\"N/A\")","v":"N/A"},{"$f":"_xlfn.IFNA(VLOOKUP(_xlfn.CONCAT($C$2,\"-\",$E172,\"-\",$F172,\"-\",L$3),'Raw Data'!$A$2:$D$690331,4,FALSE),\"N/A\")","v":"N/A"},{"$f":"_xlfn.IFNA(VLOOKUP(_xlfn.CONCAT($C$2,\"-\",$E172,\"-\",$F172,\"-\",M$3),'Raw Data'!$A$2:$D$690331,4,FALSE),\"N/A\")","v":"N/A"},{"$f":"_xlfn.IFNA(VLOOKUP(_xlfn.CONCAT($C$2,\"-\",$E172,\"-\",$F172,\"-\",N$3),'Raw Data'!$A$2:$D$690331,4,FALSE),\"N/A\")","v":"N/A"},{"$f":"_xlfn.IFNA(VLOOKUP(_xlfn.CONCAT($C$2,\"-\",$E172,\"-\",$F172,\"-\",O$3),'Raw Data'!$A$2:$D$690331,4,FALSE),\"N/A\")","v":"N/A"},{"$f":"_xlfn.IFNA(VLOOKUP(_xlfn.CONCAT($C$2,\"-\",$E172,\"-\",$F172,\"-\",P$3),'Raw Data'!$A$2:$D$690331,4,FALSE),\"N/A\")","v":"N/A"},{"$f":"_xlfn.IFNA(VLOOKUP(_xlfn.CONCAT($C$2,\"-\",$E172,\"-\",$F172,\"-\",Q$3),'Raw Data'!$A$2:$D$690331,4,FALSE),\"N/A\")","v":"N/A"},{"$f":"_xlfn.IFNA(VLOOKUP(_xlfn.CONCAT($C$2,\"-\",$E172,\"-\",$F172,\"-\",R$3),'Raw Data'!$A$2:$D$690331,4,FALSE),\"N/A\")","v":"N/A"},{"$f":"_xlfn.IFNA(VLOOKUP(_xlfn.CONCAT($C$2,\"-\",$E172,\"-\",$F172,\"-\",S$3),'Raw Data'!$A$2:$D$690331,4,FALSE),\"N/A\")","v":"N/A"}]
[null,null,null,null,18,6,null,{"$f":"_xlfn.IFNA(VLOOKUP(_xlfn.CONCAT($C$2,\"-\",$E173,\"-\",$F173,\"-\",H$3),'Raw Data'!$A$2:$D$690331,4,FALSE),\"N/A\")","v":"N/A"},{"$f":"_xlfn.IFNA(VLOOKUP(_xlfn.CONCAT($C$2,\"-\",$E173,\"-\",$F173,\"-\",I$3),'Raw Data'!$A$2:$D$690331,4,FALSE),\"N/A\")","v":"N/A"},{"$f":"_xlfn.IFNA(VLOOKUP(_xlfn.CONCAT($C$2,\"-\",$E173,\"-\",$F173,\"-\",J$3),'Raw Data'!$A$2:$D$690331,4,FALSE),\"N/A\")","v":"N/A"},{"$f":"_xlfn.IFNA(VLOOKUP(_xlfn.CONCAT($C$2,\"-\",$E173,\"-\",$F173,\"-\",K$3),'Raw Data'!$A$2:$D$690331,4,FALSE),\"N/A\")","v":"N/A"},{"$f":"_xlfn.IFNA(VLOOKUP(_xlfn.CONCAT($C$2,\"-\",$E173,\"-\",$F173,\"-\",L$3),'Raw Data'!$A$2:$D$690331,4,FALSE),\"N/A\")","v":"N/A"},{"$f":"_xlfn.IFNA(VLOOKUP(_xlfn.CONCAT($C$2,\"-\",$E173,\"-\",$F173,\"-\",M$3),'Raw Data'!$A$2:$D$690331,4,FALSE),\"N/A\")","v":"N/A"},{"$f":"_xlfn.IFNA(VLOOKUP(_xlfn.CONCAT($C$2,\"-\",$E173,\"-\",$F173,\"-\",N$3),'Raw Data'!$A$2:$D$690331,4,FALSE),\"N/A\")","v":"N/A"},{"$f":"_xlfn.IFNA(VLOOKUP(_xlfn.CONCAT($C$2,\"-\",$E173,\"-\",$F173,\"-\",O$3),'Raw Data'!$A$2:$D$690331,4,FALSE),\"N/A\")","v":"N/A"},{"$f":"_xlfn.IFNA(VLOOKUP(_xlfn.CONCAT($C$2,\"-\",$E173,\"-\",$F173,\"-\",P$3),'Raw Data'!$A$2:$D$690331,4,FALSE),\"N/A\")","v":"N/A"},{"$f":"_xlfn.IFNA(VLOOKUP(_xlfn.CONCAT($C$2,\"-\",$E173,\"-\",$F173,\"-\",Q$3),'Raw Data'!$A$2:$D$690331,4,FALSE),\"N/A\")","v":"N/A"},{"$f":"_xlfn.IFNA(VLOOKUP(_xlfn.CONCAT($C$2,\"-\",$E173,\"-\",$F173,\"-\",R$3),'Raw Data'!$A$2:$D$690331,4,FALSE),\"N/A\")","v":"N/A"},{"$f":"_xlfn.IFNA(VLOOKUP(_xlfn.CONCAT($C$2,\"-\",$E173,\"-\",$F173,\"-\",S$3),'Raw Data'!$A$2:$D$690331,4,FALSE),\"N/A\")","v":"N/A"}]
[null,null,null,null,19,6,null,{"$f":"_xlfn.IFNA(VLOOKUP(_xlfn.CONCAT($C$2,\"-\",$E174,\"-\",$F174,\"-\",H$3),'Raw Data'!$A$2:$D$690331,4,FALSE),\"N/A\")","v":"N/A"},{"$f":"_xlfn.IFNA(VLOOKUP(_xlfn.CONCAT($C$2,\"-\",$E174,\"-\",$F174,\"-\",I$3),'Raw Data'!$A$2:$D$690331,4,FALSE),\"N/A\")","v":"N/A"},{"$f":"_xlfn.IFNA(VLOOKUP(_xlfn.CONCAT($C$2,\"-\",$E174,\"-\",$F174,\"-\",J$3),'Raw Data'!$A$2:$D$690331,4,FALSE),\"N/A\")","v":"N/A"},{"$f":"_xlfn.IFNA(VLOOKUP(_xlfn.CONCAT($C$2,\"-\",$E174,\"-\",$F174,\"-\",K$3),'Raw Data'!$A$2:$D$690331,4,FALSE),\"N/A\")","v":"N/A"},{"$f":"_xlfn.IFNA(VLOOKUP(_xlfn.CONCAT($C$2,\"-\",$E174,\"-\",$F174,\"-\",L$3),'Raw Data'!$A$2:$D$690331,4,FALSE),\"N/A\")","v":"N/A"},{"$f":"_xlfn.IFNA(VLOOKUP(_xlfn.CONCAT($C$2,\"-\",$E174,\"-\",$F174,\"-\",M$3),'Raw Data'!$A$2:$D$690331,4,FALSE),\"N/A\")","v":"N/A"},{"$f":"_xlfn.IFNA(VLOOKUP(_xlfn.CONCAT($C$2,\"-\",$E174,\"-\",$F174,\"-\",N$3),'Raw Data'!$A$2:$D$690331,4,FALSE),\"N/A\")","v":"N/A"},{"$f":"_xlfn.IFNA(VLOOKUP(_xlfn.CONCAT($C$2,\"-\",$E174,\"-\",$F174,\"-\",O$3),'Raw Data'!$A$2:$D$690331,4,FALSE),\"N/A\")","v":"N/A"},{"$f":"_xlfn.IFNA(VLOOKUP(_xlfn.CONCAT($C$2,\"-\",$E174,\"-\",$F174,\"-\",P$3),'Raw Data'!$A$2:$D$690331,4,FALSE),\"N/A\")","v":"N/A"},{"$f":"_xlfn.IFNA(VLOOKUP(_xlfn.CONCAT($C$2,\"-\",$E174,\"-\",$F174,\"-\",Q$3),'Raw Data'!$A$2:$D$690331,4,FALSE),\"N/A\")","v":"N/A"},{"$f":"_xlfn.IFNA(VLOOKUP(_xlfn.CONCAT($C$2,\"-\",$E174,\"-\",$F174,\"-\",R$3),'Raw Data'!$A$2:$D$690331,4,FALSE),\"N/A\")","v":"N/A"},{"$f":"_xlfn.IFNA(VLOOKUP(_xlfn.CONCAT($C$2,\"-\",$E174,\"-\",$F174,\"-\",S$3),'Raw Data'!$A$2:$D$690331,4,FALSE),\"N/A\")","v":"N/A"}]
[null,null,null,null,20,6,null,{"$f":"_xlfn.IFNA(VLOOKUP(_xlfn.CONCAT($C$2,\"-\",$E175,\"-\",$F175,\"-\",H$3),'Raw Data'!$A$2:$D$690331,4,FALSE),\"N/A\")","v":"N/A"},{"$f":"_xlfn.IFNA(VLOOKUP(_xlfn.CONCAT($C$2,\"-\",$E175,\"-\",$F175,\"-\",I$3),'Raw Data'!$A$2:$D$690331,4,FALSE),\"N/A\")","v":"N/A"},{"$f":"_xlfn.IFNA(VLOOKUP(_xlfn.CONCAT($C$2,\"-\",$E175,\"-\",$F175,\"-\",J$3),'Raw Data'!$A$2:$D$690331,4,FALSE),\"N/A\")","v":"N/A"},{"$f":"_xlfn.IFNA(VLOOKUP(_xlfn.CONCAT($C$2,\"-\",$E175,\"-\",$F175,\"-\",K$3),'Raw Data'!$A$2:$D$690331,4,FALSE),\"N/A\")","v":"N/A"},{"$f":"_xlfn.IFNA(VLOOKUP(_xlfn.CONCAT($C$2,\"-\",$E175,\"-\",$F175,\"-\",L$3),'Raw Data'!$A$2:$D$690331,4,FALSE),\"N/A\")","v":"N/A"},{"$f":"_xlfn.IFNA(VLOOKUP(_xlfn.CONCAT($C$2,\"-\",$E175,\"-\",$F175,\"-\",M$3),'Raw Data'!$A$2:$D$690331,4,FALSE),\"N/A\")","v":"N/A"},{"$f":"_xlfn.IFNA(VLOOKUP(_xlfn.CONCAT($C$2,\"-\",$E175,\"-\",$F175,\"-\",N$3),'Raw Data'!$A$2:$D$690331,4,FALSE),\"N/A\")","v":"N/A"},{"$f":"_xlfn.IFNA(VLOOKUP(_xlfn.CONCAT($C$2,\"-\",$E175,\"-\",$F175,\"-\",O$3),'Raw Data'!$A$2:$D$690331,4,FALSE),\"N/A\")","v":"N/A"},{"$f":"_xlfn.IFNA(VLOOKUP(_xlfn.CONCAT($C$2,\"-\",$E175,\"-\",$F175,\"-\",P$3),'Raw Data'!$A$2:$D$690331,4,FALSE),\"N/A\")","v":"N/A"},{"$f":"_xlfn.IFNA(VLOOKUP(_xlfn.CONCAT($C$2,\"-\",$E175,\"-\",$F175,\"-\",Q$3),'Raw Data'!$A$2:$D$690331,4,FALSE),\"N/A\")","v":"N/A"},{"$f":"_xlfn.IFNA(VLOOKUP(_xlfn.CONCAT($C$2,\"-\",$E175,\"-\",$F175,\"-\",R$3),'Raw Data'!$A$2:$D$690331,4,FALSE),\"N/A\")","v":"N/A"},{"$f":"_xlfn.IFNA(VLOOKUP(_xlfn.CONCAT($C$2,\"-\",$E175,\"-\",$F175,\"-\",S$3),'Raw Data'!$A$2:$D$690331,4,FALSE),\"N/A\")","v":"N/A"}]
[null,null,null,null,21,6,null,{"$f":"_xlfn.IFNA(VLOOKUP(_xlfn.CONCAT($C$2,\"-\",$E176,\"-\",$F176,\"-\",H$3),'Raw Data'!$A$2:$D$690331,4,FALSE),\"N/A\")","v":"N/A"},{"$f":"_xlfn.IFNA(VLOOKUP(_xlfn.CONCAT($C$2,\"-\",$E176,\"-\",$F176,\"-\",I$3),'Raw Data'!$A$2:$D$690331,4,FALSE),\"N/A\")","v":"N/A"},{"$f":"_xlfn.IFNA(VLOOKUP(_xlfn.CONCAT($C$2,\"-\",$E176,\"-\",$F176,\"-\",J$3),'Raw Data'!$A$2:$D$690331,4,FALSE),\"N/A\")","v":"N/A"},{"$f":"_xlfn.IFNA(VLOOKUP(_xlfn.CONCAT($C$2,\"-\",$E176,\"-\",$F176,\"-\",K$3),'Raw Data'!$A$2:$D$690331,4,FALSE),\"N/A\")","v":"N/A"},{"$f":"_xlfn.IFNA(VLOOKUP(_xlfn.CONCAT($C$2,\"-\",$E176,\"-\",$F176,\"-\",L$3),'Raw Data'!$A$2:$D$690331,4,FALSE),\"N/A\")","v":"N/A"},{"$f":"_xlfn.IFNA(VLOOKUP(_xlfn.CONCAT($C$2,\"-\",$E176,\"-\",$F176,\"-\",M$3),'Raw Data'!$A$2:$D$690331,4,FALSE),\"N/A\")","v":"N/A"},{"$f":"_xlfn.IFNA(VLOOKUP(_xlfn.CONCAT($C$2,\"-\",$E176,\"-\",$F176,\"-\",N$3),'Raw Data'!$A$2:$D$690331,4,FALSE),\"N/A\")","v":"N/A"},{"$f":"_xlfn.IFNA(VLOOKUP(_xlfn.CONCAT($C$2,\"-\",$E176,\"-\",$F176,\"-\",O$3),'Raw Data'!$A$2:$D$690331,4,FALSE),\"N/A\")","v":"N/A"},{"$f":"_xlfn.IFNA(VLOOKUP(_xlfn.CONCAT($C$2,\"-\",$E176,\"-\",$F176,\"-\",P$3),'Raw Data'!$A$2:$D$690331,4,FALSE),\"N/A\")","v":"N/A"},{"$f":"_xlfn.IFNA(VLOOKUP(_xlfn.CONCAT($C$2,\"-\",$E176,\"-\",$F176,\"-\",Q$3),'Raw Data'!$A$2:$D$690331,4,FALSE),\"N/A\")","v":"N/A"},{"$f":"_xlfn.IFNA(VLOOKUP(_xlfn.CONCAT($C$2,\"-\",$E176,\"-\",$F176,\"-\",R$3),'Raw Data'!$A$2:$D$690331,4,FALSE),\"N/A\")","v":"N/A"},{"$f":"_xlfn.IFNA(VLOOKUP(_xlfn.CONCAT($C$2,\"-\",$E176,\"-\",$F176,\"-\",S$3),'Raw Data'!$A$2:$D$690331,4,FALSE),\"N/A\")","v":"N/A"}]
[null,null,null,null,22,6,null,{"$f":"_xlfn.IFNA(VLOOKUP(_xlfn.CONCAT($C$2,\"-\",$E177,\"-\",$F177,\"-\",H$3),'Raw Data'!$A$2:$D$690331,4,FALSE),\"N/A\")","v":"N/A"},{"$f":"_xlfn.IFNA(VLOOKUP(_xlfn.CONCAT($C$2,\"-\",$E177,\"-\",$F177,\"-\",I$3),'Raw Data'!$A$2:$D$690331,4,FALSE),\"N/A\")","v":"N/A"},{"$f":"_xlfn.IFNA(VLOOKUP(_xlfn.CONCAT($C$2,\"-\",$E177,\"-\",$F177,\"-\",J$3),'Raw Data'!$A$2:$D$690331,4,FALSE),\"N/A\")","v":"N/A"},{"$f":"_xlfn.IFNA(VLOOKUP(_xlfn.CONCAT($C$2,\"-\",$E177,\"-\",$F177,\"-\",K$3),'Raw Data'!$A$2:$D$690331,4,FALSE),\"N/A\")","v":"N/A"},{"$f":"_xlfn.IFNA(VLOOKUP(_xlfn.CONCAT($C$2,\"-\",$E177,\"-\",$F177,\"-\",L$3),'Raw Data'!$A$2:$D$690331,4,FALSE),\"N/A\")","v":"N/A"},{"$f":"_xlfn.IFNA(VLOOKUP(_xlfn.CONCAT($C$2,\"-\",$E177,\"-\",$F177,\"-\",M$3),'Raw Data'!$A$2:$D$690331,4,FALSE),\"N/A\")","v":"N/A"},{"$f":"_xlfn.IFNA(VLOOKUP(_xlfn.CONCAT($C$2,\"-\",$E177,\"-\",$F177,\"-\",N$3),'Raw Data'!$A$2:$D$690331,4,FALSE),\"N/A\")","v":"N/A"},{"$f":"_xlfn.IFNA(VLOOKUP(_xlfn.CONCAT($C$2,\"-\",$E177,\"-\",$F177,\"-\",O$3),'Raw Data'!$A$2:$D$690331,4,FALSE),\"N/A\")","v":"N/A"},{"$f":"_xlfn.IFNA(VLOOKUP(_xlfn.CONCAT($C$2,\"-\",$E177,\"-\",$F177,\"-\",P$3),'Raw Data'!$A$2:$D$690331,4,FALSE),\"N/A\")","v":"N/A"},{"$f":"_xlfn.IFNA(VLOOKUP(_xlfn.CONCAT($C$2,\"-\",$E177,\"-\",$F177,\"-\",Q$3),'Raw Data'!$A$2:$D$690331,4,FALSE),\"N/A\")","v":"N/A"},{"$f":"_xlfn.IFNA(VLOOKUP(_xlfn.CONCAT($C$2,\"-\",$E177,\"-\",$F177,\"-\",R$3),'Raw Data'!$A$2:$D$690331,4,FALSE),\"N/A\")","v":"N/A"},{"$f":"_xlfn.IFNA(VLOOKUP(_xlfn.CONCAT($C$2,\"-\",$E177,\"-\",$F177,\"-\",S$3),'Raw Data'!$A$2:$D$690331,4,FALSE),\"N/A\")","v":"N/A"}]
[null,null,null,null,23,6,null,{"$f":"_xlfn.IFNA(VLOOKUP(_xlfn.CONCAT($C$2,\"-\",$E178,\"-\",$F178,\"-\",H$3),'Raw Data'!$A$2:$D$690331,4,FALSE),\"N/A\")","v":"N/A"},{"$f":"_xlfn.IFNA(VLOOKUP(_xlfn.CONCAT($C$2,\"-\",$E178,\"-\",$F178,\"-\",I$3),'Raw Data'!$A$2:$D$690331,4,FALSE),\"N/A\")","v":"N/A"},{"$f":"_xlfn.IFNA(VLOOKUP(_xlfn.CONCAT($C$2,\"-\",$E178,\"-\",$F178,\"-\",J$3),'Raw Data'!$A$2:$D$690331,4,FALSE),\"N/A\")","v":"N/A"},{"$f":"_xlfn.IFNA(VLOOKUP(_xlfn.CONCAT($C$2,\"-\",$E178,\"-\",$F178,\"-\",K$3),'Raw Data'!$A$2:$D$690331,4,FALSE),\"N/A\")","v":"N/A"},{"$f":"_xlfn.IFNA(VLOOKUP(_xlfn.CONCAT($C$2,\"-\",$E178,\"-\",$F178,\"-\",L$3),'Raw Data'!$A$2:$D$690331,4,FALSE),\"N/A\")","v":"N/A"},{"$f":"_xlfn.IFNA(VLOOKUP(_xlfn.CONCAT($C$2,\"-\",$E178,\"-\",$F178,\"-\",M$3),'Raw Data'!$A$2:$D$690331,4,FALSE),\"N/A\")","v":"N/A"},{"$f":"_xlfn.IFNA(VLOOKUP(_xlfn.CONCAT($C$2,\"-\",$E178,\"-\",$F178,\"-\",N$3),'Raw Data'!$A$2:$D$690331,4,FALSE),\"N/A\")","v":"N/A"},{"$f":"_xlfn.IFNA(VLOOKUP(_xlfn.CONCAT($C$2,\"-\",$E178,\"-\",$F178,\"-\",O$3),'Raw Data'!$A$2:$D$690331,4,FALSE),\"N/A\")","v":"N/A"},{"$f":"_xlfn.IFNA(VLOOKUP(_xlfn.CONCAT($C$2,\"-\",$E178,\"-\",$F178,\"-\",P$3),'Raw Data'!$A$2:$D$690331,4,FALSE),\"N/A\")","v":"N/A"},{"$f":"_xlfn.IFNA(VLOOKUP(_xlfn.CONCAT($C$2,\"-\",$E178,\"-\",$F178,\"-\",Q$3),'Raw Data'!$A$2:$D$690331,4,FALSE),\"N/A\")","v":"N/A"},{"$f":"_xlfn.IFNA(VLOOKUP(_xlfn.CONCAT($C$2,\"-\",$E178,\"-\",$F178,\"-\",R$3),'Raw Data'!$A$2:$D$690331,4,FALSE),\"N/A\")","v":"N/A"},{"$f":"_xlfn.IFNA(VLOOKUP(_xlfn.CONCAT($C$2,\"-\",$E178,\"-\",$F178,\"-\",S$3),'Raw Data'!$A$2:$D$690331,4,FALSE),\"N/A\")","v":"N/A"}]
[null,null,null,null,24,6,null,{"$f":"_xlfn.IFNA(VLOOKUP(_xlfn.CONCAT($C$2,\"-\",$E179,\"-\",$F179,\"-\",H$3),'Raw Data'!$A$2:$D$690331,4,FALSE),\"N/A\")","v":"N/A"},{"$f":"_xlfn.IFNA(VLOOKUP(_xlfn.CONCAT($C$2,\"-\",$E179,\"-\",$F179,\"-\",I$3),'Raw Data'!$A$2:$D$690331,4,FALSE),\"N/A\")","v":"N/A"},{"$f":"_xlfn.IFNA(VLOOKUP(_xlfn.CONCAT($C$2,\"-\",$E179,\"-\",$F179,\"-\",J$3),'Raw Data'!$A$2:$D$690331,4,FALSE),\"N/A\")","v":"N/A"},{"$f":"_xlfn.IFNA(VLOOKUP(_xlfn.CONCAT($C$2,\"-\",$E179,\"-\",$F179,\"-\",K$3),'Raw Data'!$A$2:$D$690331,4,FALSE),\"N/A\")","v":"N/A"},{"$f":"_xlfn.IFNA(VLOOKUP(_xlfn.CONCAT($C$2,\"-\",$E179,\"-\",$F179,\"-\",L$3),'Raw Data'!$A$2:$D$690331,4,FALSE),\"N/A\")","v":"N/A"},{"$f":"_xlfn.IFNA(VLOOKUP(_xlfn.CONCAT($C$2,\"-\",$E179,\"-\",$F179,\"-\",M$3),'Raw Data'!$A$2:$D$690331,4,FALSE),\"N/A\")","v":"N/A"},{"$f":"_xlfn.IFNA(VLOOKUP(_xlfn.CONCAT($C$2,\"-\",$E179,\"-\",$F179,\"-\",N$3),'Raw Data'!$A$2:$D$690331,4,FALSE),\"N/A\")","v":"N/A"},{"$f":"_xlfn.IFNA(VLOOKUP(_xlfn.CONCAT($C$2,\"-\",$E179,\"-\",$F179,\"-\",O$3),'Raw Data'!$A$2:$D$690331,4,FALSE),\"N/A\")","v":"N/A"},{"$f":"_xlfn.IFNA(VLOOKUP(_xlfn.CONCAT($C$2,\"-\",$E179,\"-\",$F179,\"-\",P$3),'Raw Data'!$A$2:$D$690331,4,FALSE),\"N/A\")","v":"N/A"},{"$f":"_xlfn.IFNA(VLOOKUP(_xlfn.CONCAT($C$2,\"-\",$E179,\"-\",$F179,\"-\",Q$3),'Raw Data'!$A$2:$D$690331,4,FALSE),\"N/A\")","v":"N/A"},{"$f":"_xlfn.IFNA(VLOOKUP(_xlfn.CONCAT($C$2,\"-\",$E179,\"-\",$F179,\"-\",R$3),'Raw Data'!$A$2:$D$690331,4,FALSE),\"N/A\")","v":"N/A"},{"$f":"_xlfn.IFNA(VLOOKUP(_xlfn.CONCAT($C$2,\"-\",$E179,\"-\",$F179,\"-\",S$3),'Raw Data'!$A$2:$D$690331,4,FALSE),\"N/A\")","v":"N/A"}]
[null,null,null,null,25,6,null,{"$f":"_xlfn.IFNA(VLOOKUP(_xlfn.CONCAT($C$2,\"-\",$E180,\"-\",$F180,\"-\",H$3),'Raw Data'!$A$2:$D$690331,4,FALSE),\"N/A\")","v":"N/A"},{"$f":"_xlfn.IFNA(VLOOKUP(_xlfn.CONCAT($C$2,\"-\",$E180,\"-\",$F180,\"-\",I$3),'Raw Data'!$A$2:$D$690331,4,FALSE),\"N/A\")","v":"N/A"},{"$f":"_xlfn.IFNA(VLOOKUP(_xlfn.CONCAT($C$2,\"-\",$E180,\"-\",$F180,\"-\",J$3),'Raw Data'!$A$2:$D$690331,4,FALSE),\"N/A\")","v":"N/A"},{"$f":"_xlfn.IFNA(VLOOKUP(_xlfn.CONCAT($C$2,\"-\",$E180,\"-\",$F180,\"-\",K$3),'Raw Data'!$A$2:$D$690331,4,FALSE),\"N/A\")","v":"N/A"},{"$f":"_xlfn.IFNA(VLOOKUP(_xlfn.CONCAT($C$2,\"-\",$E180,\"-\",$F180,\"-\",L$3),'Raw Data'!$A$2:$D$690331,4,FALSE),\"N/A\")","v":"N/A"},{"$f":"_xlfn.IFNA(VLOOKUP(_xlfn.CONCAT($C$2,\"-\",$E180,\"-\",$F180,\"-\",M$3),'Raw Data'!$A$2:$D$690331,4,FALSE),\"N/A\")","v":"N/A"},{"$f":"_xlfn.IFNA(VLOOKUP(_xlfn.CONCAT($C$2,\"-\",$E180,\"-\",$F180,\"-\",N$3),'Raw Data'!$A$2:$D$690331,4,FALSE),\"N/A\")","v":"N/A"},{"$f":"_xlfn.IFNA(VLOOKUP(_xlfn.CONCAT($C$2,\"-\",$E180,\"-\",$F180,\"-\",O$3),'Raw Data'!$A$2:$D$690331,4,FALSE),\"N/A\")","v":"N/A"},{"$f":"_xlfn.IFNA(VLOOKUP(_xlfn.CONCAT($C$2,\"-\",$E180,\"-\",$F180,\"-\",P$3),'Raw Data'!$A$2:$D$690331,4,FALSE),\"N/A\")","v":"N/A"},{"$f":"_xlfn.IFNA(VLOOKUP(_xlfn.CONCAT($C$2,\"-\",$E180,\"-\",$F180,\"-\",Q$3),'Raw Data'!$A$2:$D$690331,4,FALSE),\"N/A\")","v":"N/A"},{"$f":"_xlfn.IFNA(VLOOKUP(_xlfn.CONCAT($C$2,\"-\",$E180,\"-\",$F180,\"-\",R$3),'Raw Data'!$A$2:$D$690331,4,FALSE),\"N/A\")","v":"N/A"},{"$f":"_xlfn.IFNA(VLOOKUP(_xlfn.CONCAT($C$2,\"-\",$E180,\"-\",$F180,\"-\",S$3),'Raw Data'!$A$2:$D$690331,4,FALSE),\"N/A\")","v":"N/A"}]
[null,null,null,null,26,6,null,{"$f":"_xlfn.IFNA(VLOOKUP(_xlfn.CONCAT($C$2,\"-\",$E181,\"-\",$F181,\"-\",H$3),'Raw Data'!$A$2:$D$690331,4,FALSE),\"N/A\")","v":"N/A"},{"$f":"_xlfn.IFNA(VLOOKUP(_xlfn.CONCAT($C$2,\"-\",$E181,\"-\",$F181,\"-\",I$3),'Raw Data'!$A$2:$D$690331,4,FALSE),\"N/A\")","v":"N/A"},{"$f":"_xlfn.IFNA(VLOOKUP(_xlfn.CONCAT($C$2,\"-\",$E181,\"-\",$F181,\"-\",J$3),'Raw Data'!$A$2:$D$690331,4,FALSE),\"N/A\")","v":"N/A"},{"$f":"_xlfn.IFNA(VLOOKUP(_xlfn.CONCAT($C$2,\"-\",$E181,\"-\",$F181,\"-\",K$3),'Raw Data'!$A$2:$D$690331,4,FALSE),\"N/A\")","v":"N/A"},{"$f":"_xlfn.IFNA(VLOOKUP(_xlfn.CONCAT($C$2,\"-\",$E181,\"-\",$F181,\"-\",L$3),'Raw Data'!$A$2:$D$690331,4,FALSE),\"N/A\")","v":"N/A"},{"$f":"_xlfn.IFNA(VLOOKUP(_xlfn.CONCAT($C$2,\"-\",$E181,\"-\",$F181,\"-\",M$3),'Raw Data'!$A$2:$D$690331,4,FALSE),\"N/A\")","v":"N/A"},{"$f":"_xlfn.IFNA(VLOOKUP(_xlfn.CONCAT($C$2,\"-\",$E181,\"-\",$F181,\"-\",N$3),'Raw Data'!$A$2:$D$690331,4,FALSE),\"N/A\")","v":"N/A"},{"$f":"_xlfn.IFNA(VLOOKUP(_xlfn.CONCAT($C$2,\"-\",$E181,\"-\",$F181,\"-\",O$3),'Raw Data'!$A$2:$D$690331,4,FALSE),\"N/A\")","v":"N/A"},{"$f":"_xlfn.IFNA(VLOOKUP(_xlfn.CONCAT($C$2,\"-\",$E181,\"-\",$F181,\"-\",P$3),'Raw Data'!$A$2:$D$690331,4,FALSE),\"N/A\")","v":"N/A"},{"$f":"_xlfn.IFNA(VLOOKUP(_xlfn.CONCAT($C$2,\"-\",$E181,\"-\",$F181,\"-\",Q$3),'Raw Data'!$A$2:$D$690331,4,FALSE),\"N/A\")","v":"N/A"},{"$f":"_xlfn.IFNA(VLOOKUP(_xlfn.CONCAT($C$2,\"-\",$E181,\"-\",$F181,\"-\",R$3),'Raw Data'!$A$2:$D$690331,4,FALSE),\"N/A\")","v":"N/A"},{"$f":"_xlfn.IFNA(VLOOKUP(_xlfn.CONCAT($C$2,\"-\",$E181,\"-\",$F181,\"-\",S$3),'Raw Data'!$A$2:$D$690331,4,FALSE),\"N/A\")","v":"N/A"}]
[null,null,null,null,27,6,null,{"$f":"_xlfn.IFNA(VLOOKUP(_xlfn.CONCAT($C$2,\"-\",$E182,\"-\",$F182,\"-\",H$3),'Raw Data'!$A$2:$D$690331,4,FALSE),\"N/A\")","v":"N/A"},{"$f":"_xlfn.IFNA(VLOOKUP(_xlfn.CONCAT($C$2,\"-\",$E182,\"-\",$F182,\"-\",I$3),'Raw Data'!$A$2:$D$690331,4,FALSE),\"N/A\")","v":"N/A"},{"$f":"_xlfn.IFNA(VLOOKUP(_xlfn.CONCAT($C$2,\"-\",$E182,\"-\",$F182,\"-\",J$3),'Raw Data'!$A$2:$D$690331,4,FALSE),\"N/A\")","v":"N/A"},{"$f":"_xlfn.IFNA(VLOOKUP(_xlfn.CONCAT($C$2,\"-\",$E182,\"-\",$F182,\"-\",K$3),'Raw Data'!$A$2:$D$690331,4,FALSE),\"N/A\")","v":"N/A"},{"$f":"_xlfn.IFNA(VLOOKUP(_xlfn.CONCAT($C$2,\"-\",$E182,\"-\",$F182,\"-\",L$3),'Raw Data'!$A$2:$D$690331,4,FALSE),\"N/A\")","v":"N/A"},{"$f":"_xlfn.IFNA(VLOOKUP(_xlfn.CONCAT($C$2,\"-\",$E182,\"-\",$F182,\"-\",M$3),'Raw Data'!$A$2:$D$690331,4,FALSE),\"N/A\")","v":"N/A"},{"$f":"_xlfn.IFNA(VLOOKUP(_xlfn.CONCAT($C$2,\"-\",$E182,\"-\",$F182,\"-\",N$3),'Raw Data'!$A$2:$D$690331,4,FALSE),\"N/A\")","v":"N/A"},{"$f":"_xlfn.IFNA(VLOOKUP(_xlfn.CONCAT($C$2,\"-\",$E182,\"-\",$F182,\"-\",O$3),'Raw Data'!$A$2:$D$690331,4,FALSE),\"N/A\")","v":"N/A"},{"$f":"_xlfn.IFNA(VLOOKUP(_xlfn.CONCAT($C$2,\"-\",$E182,\"-\",$F182,\"-\",P$3),'Raw Data'!$A$2:$D$690331,4,FALSE),\"N/A\")","v":"N/A"},{"$f":"_xlfn.IFNA(VLOOKUP(_xlfn.CONCAT($C$2,\"-\",$E182,\"-\",$F182,\"-\",Q$3),'Raw Data'!$A$2:$D$690331,4,FALSE),\"N/A\")","v":"N/A"},{"$f":"_xlfn.IFNA(VLOOKUP(_xlfn.CONCAT($C$2,\"-\",$E182,\"-\",$F182,\"-\",R$3),'Raw Data'!$A$2:$D$690331,4,FALSE),\"N/A\")","v":"N/A"},{"$f":"_xlfn.IFNA(VLOOKUP(_xlfn.CONCAT($C$2,\"-\",$E182,\"-\",$F182,\"-\",S$3),'Raw Data'!$A$2:$D$690331,4,FALSE),\"N/A\")","v":"N/A"}]
[null,null,null,null,28,6,null,{"$f":"_xlfn.IFNA(VLOOKUP(_xlfn.CONCAT($C$2,\"-\",$E183,\"-\",$F183,\"-\",H$3),'Raw Data'!$A$2:$D$690331,4,FALSE),\"N/A\")","v":"N/A"},{"$f":"_xlfn.IFNA(VLOOKUP(_xlfn.CONCAT($C$2,\"-\",$E183,\"-\",$F183,\"-\",I$3),'Raw Data'!$A$2:$D$690331,4,FALSE),\"N/A\")","v":"N/A"},{"$f":"_xlfn.IFNA(VLOOKUP(_xlfn.CONCAT($C$2,\"-\",$E183,\"-\",$F183,\"-\",J$3),'Raw Data'!$A$2:$D$690331,4,FALSE),\"N/A\")","v":"N/A"},{"$f":"_xlfn.IFNA(VLOOKUP(_xlfn.CONCAT($C$2,\"-\",$E183,\"-\",$F183,\"-\",K$3),'Raw Data'!$A$2:$D$690331,4,FALSE),\"N/A\")","v":"N/A"},{"$f":"_xlfn.IFNA(VLOOKUP(_xlfn.CONCAT($C$2,\"-\",$E183,\"-\",$F183,\"-\",L$3),'Raw Data'!$A$2:$D$690331,4,FALSE),\"N/A\")","v":"N/A"},{"$f":"_xlfn.IFNA(VLOOKUP(_xlfn.CONCAT($C$2,\"-\",$E183,\"-\",$F183,\"-\",M$3),'Raw Data'!$A$2:$D$690331,4,FALSE),\"N/A\")","v":"N/A"},{"$f":"_xlfn.IFNA(VLOOKUP(_xlfn.CONCAT($C$2,\"-\",$E183,\"-\",$F183,\"-\",N$3),'Raw Data'!$A$2:$D$690331,4,FALSE),\"N/A\")","v":"N/A"},{"$f":"_xlfn.IFNA(VLOOKUP(_xlfn.CONCAT($C$2,\"-\",$E183,\"-\",$F183,\"-\",O$3),'Raw Data'!$A$2:$D$690331,4,FALSE),\"N/A\")","v":"N/A"},{"$f":"_xlfn.IFNA(VLOOKUP(_xlfn.CONCAT($C$2,\"-\",$E183,\"-\",$F183,\"-\",P$3),'Raw Data'!$A$2:$D$690331,4,FALSE),\"N/A\")","v":"N/A"},{"$f":"_xlfn.IFNA(VLOOKUP(_xlfn.CONCAT($C$2,\"-\",$E183,\"-\",$F183,\"-\",Q$3),'Raw Data'!$A$2:$D$690331,4,FALSE),\"N/A\")","v":"N/A"},{"$f":"_xlfn.IFNA(VLOOKUP(_xlfn.CONCAT($C$2,\"-\",$E183,\"-\",$F183,\"-\",R$3),'Raw Data'!$A$2:$D$690331,4,FALSE),\"N/A\")","v":"N/A"},{"$f":"_xlfn.IFNA(VLOOKUP(_xlfn.CONCAT($C$2,\"-\",$E183,\"-\",$F183,\"-\",S$3),'Raw Data'!$A$2:$D$690331,4,FALSE),\"N/A\")","v":"N/A"}]
[null,null,null,null,29,6,null,{"$f":"_xlfn.IFNA(VLOOKUP(_xlfn.CONCAT($C$2,\"-\",$E184,\"-\",$F184,\"-\",H$3),'Raw Data'!$A$2:$D$690331,4,FALSE),\"N/A\")","v":"N/A"},{"$f":"_xlfn.IFNA(VLOOKUP(_xlfn.CONCAT($C$2,\"-\",$E184,\"-\",$F184,\"-\",I$3),'Raw Data'!$A$2:$D$690331,4,FALSE),\"N/A\")","v":"N/A"},{"$f":"_xlfn.IFNA(VLOOKUP(_xlfn.CONCAT($C$2,\"-\",$E184,\"-\",$F184,\"-\",J$3),'Raw Data'!$A$2:$D$690331,4,FALSE),\"N/A\")","v":"N/A"},{"$f":"_xlfn.IFNA(VLOOKUP(_xlfn.CONCAT($C$2,\"-\",$E184,\"-\",$F184,\"-\",K$3),'Raw Data'!$A$2:$D$690331,4,FALSE),\"N/A\")","v":"N/A"},{"$f":"_xlfn.IFNA(VLOOKUP(_xlfn.CONCAT($C$2,\"-\",$E184,\"-\",$F184,\"-\",L$3),'Raw Data'!$A$2:$D$690331,4,FALSE),\"N/A\")","v":"N/A"},{"$f":"_xlfn.IFNA(VLOOKUP(_xlfn.CONCAT($C$2,\"-\",$E184,\"-\",$F184,\"-\",M$3),'Raw Data'!$A$2:$D$690331,4,FALSE),\"N/A\")","v":"N/A"},{"$f":"_xlfn.IFNA(VLOOKUP(_xlfn.CONCAT($C$2,\"-\",$E184,\"-\",$F184,\"-\",N$3),'Raw Data'!$A$2:$D$690331,4,FALSE),\"N/A\")","v":"N/A"},{"$f":"_xlfn.IFNA(VLOOKUP(_xlfn.CONCAT($C$2,\"-\",$E184,\"-\",$F184,\"-\",O$3),'Raw Data'!$A$2:$D$690331,4,FALSE),\"N/A\")","v":"N/A"},{"$f":"_xlfn.IFNA(VLOOKUP(_xlfn.CONCAT($C$2,\"-\",$E184,\"-\",$F184,\"-\",P$3),'Raw Data'!$A$2:$D$690331,4,FALSE),\"N/A\")","v":"N/A"},{"$f":"_xlfn.IFNA(VLOOKUP(_xlfn.CONCAT($C$2,\"-\",$E184,\"-\",$F184,\"-\",Q$3),'Raw Data'!$A$2:$D$690331,4,FALSE),\"N/A\")","v":"N/A"},{"$f":"_xlfn.IFNA(VLOOKUP(_xlfn.CONCAT($C$2,\"-\",$E184,\"-\",$F184,\"-\",R$3),'Raw Data'!$A$2:$D$690331,4,FALSE),\"N/A\")","v":"N/A"},{"$f":"_xlfn.IFNA(VLOOKUP(_xlfn.CONCAT($C$2,\"-\",$E184,\"-\",$F184,\"-\",S$3),'Raw Data'!$A$2:$D$690331,4,FALSE),\"N/A\")","v":"N/A"}]
[null,null,null,null,30,6,null,{"$f":"_xlfn.IFNA(VLOOKUP(_xlfn.CONCAT($C$2,\"-\",$E185,\"-\",$F185,\"-\",H$3),'Raw Data'!$A$2:$D$690331,4,FALSE),\"N/A\")","v":"N/A"},{"$f":"_xlfn.IFNA(VLOOKUP(_xlfn.CONCAT($C$2,\"-\",$E185,\"-\",$F185,\"-\",I$3),'Raw Data'!$A$2:$D$690331,4,FALSE),\"N/A\")","v":"N/A"},{"$f":"_xlfn.IFNA(VLOOKUP(_xlfn.CONCAT($C$2,\"-\",$E185,\"-\",$F185,\"-\",J$3),'Raw Data'!$A$2:$D$690331,4,FALSE),\"N/A\")","v":"N/A"},{"$f":"_xlfn.IFNA(VLOOKUP(_xlfn.CONCAT($C$2,\"-\",$E185,\"-\",$F185,\"-\",K$3),'Raw Data'!$A$2:$D$690331,4,FALSE),\"N/A\")","v":"N/A"},{"$f":"_xlfn.IFNA(VLOOKUP(_xlfn.CONCAT($C$2,\"-\",$E185,\"-\",$F185,\"-\",L$3),'Raw Data'!$A$2:$D$690331,4,FALSE),\"N/A\")","v":"N/A"},{"$f":"_xlfn.IFNA(VLOOKUP(_xlfn.CONCAT($C$2,\"-\",$E185,\"-\",$F185,\"-\",M$3),'Raw Data'!$A$2:$D$690331,4,FALSE),\"N/A\")","v":"N/A"},{"$f":"_xlfn.IFNA(VLOOKUP(_xlfn.CONCAT($C$2,\"-\",$E185,\"-\",$F185,\"-\",N$3),'Raw Data'!$A$2:$D$690331,4,FALSE),\"N/A\")","v":"N/A"},{"$f":"_xlfn.IFNA(VLOOKUP(_xlfn.CONCAT($C$2,\"-\",$E185,\"-\",$F185,\"-\",O$3),'Raw Data'!$A$2:$D$690331,4,FALSE),\"N/A\")","v":"N/A"},{"$f":"_xlfn.IFNA(VLOOKUP(_xlfn.CONCAT($C$2,\"-\",$E185,\"-\",$F185,\"-\",P$3),'Raw Data'!$A$2:$D$690331,4,FALSE),\"N/A\")","v":"N/A"},{"$f":"_xlfn.IFNA(VLOOKUP(_xlfn.CONCAT($C$2,\"-\",$E185,\"-\",$F185,\"-\",Q$3),'Raw Data'!$A$2:$D$690331,4,FALSE),\"N/A\")","v":"N/A"},{"$f":"_xlfn.IFNA(VLOOKUP(_xlfn.CONCAT($C$2,\"-\",$E185,\"-\",$F185,\"-\",R$3),'Raw Data'!$A$2:$D$690331,4,FALSE),\"N/A\")","v":"N/A"},{"$f":"_xlfn.IFNA(VLOOKUP(_xlfn.CONCAT($C$2,\"-\",$E185,\"-\",$F185,\"-\",S$3),'Raw Data'!$A$2:$D$690331,4,FALSE),\"N/A\")","v":"N/A"}]
[null,null,null,null,1,7,null,{"$f":"_xlfn.IFNA(VLOOKUP(_xlfn.CONCAT($C$2,\"-\",$E186,\"-\",$F186,\"-\",H$3),'Raw Data'!$A$2:$D$690331,4,FALSE),\"N/A\")","v":"N/A"},{"$f":"_xlfn.IFNA(VLOOKUP(_xlfn.CONCAT($C$2,\"-\",$E186,\"-\",$F186,\"-\",I$3),'Raw Data'!$A$2:$D$690331,4,FALSE),\"N/A\")","v":"N/A"},{"$f":"_xlfn.IFNA(VLOOKUP(_xlfn.CONCAT($C$2,\"-\",$E186,\"-\",$F186,\"-\",J$3),'Raw Data'!$A$2:$D$690331,4,FALSE),\"N/A\")","v":"N/A"},{"$f":"_xlfn.IFNA(VLOOKUP(_xlfn.CONCAT($C$2,\"-\",$E186,\"-\",$F186,\"-\",K$3),'Raw Data'!$A$2:$D$690331,4,FALSE),\"N/A\")","v":"N/A"},{"$f":"_xlfn.IFNA(VLOOKUP(_xlfn.CONCAT($C$2,\"-\",$E186,\"-\",$F186,\"-\",L$3),'Raw Data'!$A$2:$D$690331,4,FALSE),\"N/A\")","v":"N/A"},{"$f":"_xlfn.IFNA(VLOOKUP(_xlfn.CONCAT($C$2,\"-\",$E186,\"-\",$F186,\"-\",M$3),'Raw Data'!$A$2:$D$690331,4,FALSE),\"N/A\")","v":"N/A"},{"$f":"_xlfn.IFNA(VLOOKUP(_xlfn.CONCAT($C$2,\"-\",$E186,\"-\",$F186,\"-\",N$3),'Raw Data'!$A$2:$D$690331,4,FALSE),\"N/A\")","v":"N/A"},{"$f":"_xlfn.IFNA(VLOOKUP(_xlfn.CONCAT($C$2,\"-\",$E186,\"-\",$F186,\"-\",O$3),'Raw Data'!$A$2:$D$690331,4,FALSE),\"N/A\")","v":"N/A"},{"$f":"_xlfn.IFNA(VLOOKUP(_xlfn.CONCAT($C$2,\"-\",$E186,\"-\",$F186,\"-\",P$3),'Raw Data'!$A$2:$D$690331,4,FALSE),\"N/A\")","v":"N/A"},{"$f":"_xlfn.IFNA(VLOOKUP(_xlfn.CONCAT($C$2,\"-\",$E186,\"-\",$F186,\"-\",Q$3),'Raw Data'!$A$2:$D$690331,4,FALSE),\"N/A\")","v":"N/A"},{"$f":"_xlfn.IFNA(VLOOKUP(_xlfn.CONCAT($C$2,\"-\",$E186,\"-\",$F186,\"-\",R$3),'Raw Data'!$A$2:$D$690331,4,FALSE),\"N/A\")","v":"N/A"},{"$f":"_xlfn.IFNA(VLOOKUP(_xlfn.CONCAT($C$2,\"-\",$E186,\"-\",$F186,\"-\",S$3),'Raw Data'!$A$2:$D$690331,4,FALSE),\"N/A\")","v":"N/A"}]
[null,null,null,null,2,7,null,{"$f":"_xlfn.IFNA(VLOOKUP(_xlfn.CONCAT($C$2,\"-\",$E187,\"-\",$F187,\"-\",H$3),'Raw Data'!$A$2:$D$690331,4,FALSE),\"N/A\")","v":"N/A"},{"$f":"_xlfn.IFNA(VLOOKUP(_xlfn.CONCAT($C$2,\"-\",$E187,\"-\",$F187,\"-\",I$3),'Raw Data'!$A$2:$D$690331,4,FALSE),\"N/A\")","v":"N/A"},{"$f":"_xlfn.IFNA(VLOOKUP(_xlfn.CONCAT($C$2,\"-\",$E187,\"-\",$F187,\"-\",J$3),'Raw Data'!$A$2:$D$690331,4,FALSE),\"N/A\")","v":"N/A"},{"$f":"_xlfn.IFNA(VLOOKUP(_xlfn.CONCAT($C$2,\"-\",$E187,\"-\",$F187,\"-\",K$3),'Raw Data'!$A$2:$D$690331,4,FALSE),\"N/A\")","v":"N/A"},{"$f":"_xlfn.IFNA(VLOOKUP(_xlfn.CONCAT($C$2,\"-\",$E187,\"-\",$F187,\"-\",L$3),'Raw Data'!$A$2:$D$690331,4,FALSE),\"N/A\")","v":"N/A"},{"$f":"_xlfn.IFNA(VLOOKUP(_xlfn.CONCAT($C$2,\"-\",$E187,\"-\",$F187,\"-\",M$3),'Raw Data'!$A$2:$D$690331,4,FALSE),\"N/A\")","v":"N/A"},{"$f":"_xlfn.IFNA(VLOOKUP(_xlfn.CONCAT($C$2,\"-\",$E187,\"-\",$F187,\"-\",N$3),'Raw Data'!$A$2:$D$690331,4,FALSE),\"N/A\")","v":"N/A"},{"$f":"_xlfn.IFNA(VLOOKUP(_xlfn.CONCAT($C$2,\"-\",$E187,\"-\",$F187,\"-\",O$3),'Raw Data'!$A$2:$D$690331,4,FALSE),\"N/A\")","v":"N/A"},{"$f":"_xlfn.IFNA(VLOOKUP(_xlfn.CONCAT($C$2,\"-\",$E187,\"-\",$F187,\"-\",P$3),'Raw Data'!$A$2:$D$690331,4,FALSE),\"N/A\")","v":"N/A"},{"$f":"_xlfn.IFNA(VLOOKUP(_xlfn.CONCAT($C$2,\"-\",$E187,\"-\",$F187,\"-\",Q$3),'Raw Data'!$A$2:$D$690331,4,FALSE),\"N/A\")","v":"N/A"},{"$f":"_xlfn.IFNA(VLOOKUP(_xlfn.CONCAT($C$2,\"-\",$E187,\"-\",$F187,\"-\",R$3),'Raw Data'!$A$2:$D$690331,4,FALSE),\"N/A\")","v":"N/A"},{"$f":"_xlfn.IFNA(VLOOKUP(_xlfn.CONCAT($C$2,\"-\",$E187,\"-\",$F187,\"-\",S$3),'Raw Data'!$A$2:$D$690331,4,FALSE),\"N/A\")","v":"N/A"}]
[null,null,null,null,3,7,null,{"$f":"_xlfn.IFNA(VLOOKUP(_xlfn.CONCAT($C$2,\"-\",$E188,\"-\",$F188,\"-\",H$3),'Raw Data'!$A$2:$D$690331,4,FALSE),\"N/A\")","v":"N/A"},{"$f":"_xlfn.IFNA(VLOOKUP(_xlfn.CONCAT($C$2,\"-\",$E188,\"-\",$F188,\"-\",I$3),'Raw Data'!$A$2:$D$690331,4,FALSE),\"N/A\")","v":"N/A"},{"$f":"_xlfn.IFNA(VLOOKUP(_xlfn.CONCAT($C$2,\"-\",$E188,\"-\",$F188,\"-\",J$3),'Raw Data'!$A$2:$D$690331,4,FALSE),\"N/A\")","v":"N/A"},{"$f":"_xlfn.IFNA(VLOOKUP(_xlfn.CONCAT($C$2,\"-\",$E188,\"-\",$F188,\"-\",K$3),'Raw Data'!$A$2:$D$690331,4,FALSE),\"N/A\")","v":"N/A"},{"$f":"_xlfn.IFNA(VLOOKUP(_xlfn.CONCAT($C$2,\"-\",$E188,\"-\",$F188,\"-\",L$3),'Raw Data'!$A$2:$D$690331,4,FALSE),\"N/A\")","v":"N/A"},{"$f":"_xlfn.IFNA(VLOOKUP(_xlfn.CONCAT($C$2,\"-\",$E188,\"-\",$F188,\"-\",M$3),'Raw Data'!$A$2:$D$690331,4,FALSE),\"N/A\")","v":"N/A"},{"$f":"_xlfn.IFNA(VLOOKUP(_xlfn.CONCAT($C$2,\"-\",$E188,\"-\",$F188,\"-\",N$3),'Raw Data'!$A$2:$D$690331,4,FALSE),\"N/A\")","v":"N/A"},{"$f":"_xlfn.IFNA(VLOOKUP(_xlfn.CONCAT($C$2,\"-\",$E188,\"-\",$F188,\"-\",O$3),'Raw Data'!$A$2:$D$690331,4,FALSE),\"N/A\")","v":"N/A"},{"$f":"_xlfn.IFNA(VLOOKUP(_xlfn.CONCAT($C$2,\"-\",$E188,\"-\",$F188,\"-\",P$3),'Raw Data'!$A$2:$D$690331,4,FALSE),\"N/A\")","v":"N/A"},{"$f":"_xlfn.IFNA(VLOOKUP(_xlfn.CONCAT($C$2,\"-\",$E188,\"-\",$F188,\"-\",Q$3),'Raw Data'!$A$2:$D$690331,4,FALSE),\"N/A\")","v":"N/A"},{"$f":"_xlfn.IFNA(VLOOKUP(_xlfn.CONCAT($C$2,\"-\",$E188,\"-\",$F188,\"-\",R$3),'Raw Data'!$A$2:$D$690331,4,FALSE),\"N/A\")","v":"N/A"},{"$f":"_xlfn.IFNA(VLOOKUP(_xlfn.CONCAT($C$2,\"-\",$E188,\"-\",$F188,\"-\",S$3),'Raw Data'!$A$2:$D$690331,4,FALSE),\"N/A\")","v":"N/A"}]
[null,null,null,null,4,7,null,{"$f":"_xlfn.IFNA(VLOOKUP(_xlfn.CONCAT($C$2,\"-\",$E189,\"-\",$F189,\"-\",H$3),'Raw Data'!$A$2:$D$690331,4,FALSE),\"N/A\")","v":"N/A"},{"$f":"_xlfn.IFNA(VLOOKUP(_xlfn.CONCAT($C$2,\"-\",$E189,\"-\",$F189,\"-\",I$3),'Raw Data'!$A$2:$D$690331,4,FALSE),\"N/A\")","v":"N/A"},{"$f":"_xlfn.IFNA(VLOOKUP(_xlfn.CONCAT($C$2,\"-\",$E189,\"-\",$F189,\"-\",J$3),'Raw Data'!$A$2:$D$690331,4,FALSE),\"N/A\")","v":"N/A"},{"$f":"_xlfn.IFNA(VLOOKUP(_xlfn.CONCAT($C$2,\"-\",$E189,\"-\",$F189,\"-\",K$3),'Raw Data'!$A$2:$D$690331,4,FALSE),\"N/A\")","v":"N/A"},{"$f":"_xlfn.IFNA(VLOOKUP(_xlfn.CONCAT($C$2,\"-\",$E189,\"-\",$F189,\"-\",L$3),'Raw Data'!$A$2:$D$690331,4,FALSE),\"N/A\")","v":"N/A"},{"$f":"_xlfn.IFNA(VLOOKUP(_xlfn.CONCAT($C$2,\"-\",$E189,\"-\",$F189,\"-\",M$3),'Raw Data'!$A$2:$D$690331,4,FALSE),\"N/A\")","v":"N/A"},{"$f":"_xlfn.IFNA(VLOOKUP(_xlfn.CONCAT($C$2,\"-\",$E189,\"-\",$F189,\"-\",N$3),'Raw Data'!$A$2:$D$690331,4,FALSE),\"N/A\")","v":"N/A"},{"$f":"_xlfn.IFNA(VLOOKUP(_xlfn.CONCAT($C$2,\"-\",$E189,\"-\",$F189,\"-\",O$3),'Raw Data'!$A$2:$D$690331,4,FALSE),\"N/A\")","v":"N/A"},{"$f":"_xlfn.IFNA(VLOOKUP(_xlfn.CONCAT($C$2,\"-\",$E189,\"-\",$F189,\"-\",P$3),'Raw Data'!$A$2:$D$690331,4,FALSE),\"N/A\")","v":"N/A"},{"$f":"_xlfn.IFNA(VLOOKUP(_xlfn.CONCAT($C$2,\"-\",$E189,\"-\",$F189,\"-\",Q$3),'Raw Data'!$A$2:$D$690331,4,FALSE),\"N/A\")","v":"N/A"},{"$f":"_xlfn.IFNA(VLOOKUP(_xlfn.CONCAT($C$2,\"-\",$E189,\"-\",$F189,\"-\",R$3),'Raw Data'!$A$2:$D$690331,4,FALSE),\"N/A\")","v":"N/A"},{"$f":"_xlfn.IFNA(VLOOKUP(_xlfn.CONCAT($C$2,\"-\",$E189,\"-\",$F189,\"-\",S$3),'Raw Data'!$A$2:$D$690331,4,FALSE),\"N/A\")","v":"N/A"}]
[null,null,null,null,5,7,null,{"$f":"_xlfn.IFNA(VLOOKUP(_xlfn.CONCAT($C$2,\"-\",$E190,\"-\",$F190,\"-\",H$3),'Raw Data'!$A$2:$D$690331,4,FALSE),\"N/A\")","v":"N/A"},{"$f":"_xlfn.IFNA(VLOOKUP(_xlfn.CONCAT($C$2,\"-\",$E190,\"-\",$F190,\"-\",I$3),'Raw Data'!$A$2:$D$690331,4,FALSE),\"N/A\")","v":"N/A"},{"$f":"_xlfn.IFNA(VLOOKUP(_xlfn.CONCAT($C$2,\"-\",$E190,\"-\",$F190,\"-\",J$3),'Raw Data'!$A$2:$D$690331,4,FALSE),\"N/A\")","v":"N/A"},{"$f":"_xlfn.IFNA(VLOOKUP(_xlfn.CONCAT($C$2,\"-\",$E190,\"-\",$F190,\"-\",K$3),'Raw Data'!$A$2:$D$690331,4,FALSE),\"N/A\")","v":"N/A"},{"$f":"_xlfn.IFNA(VLOOKUP(_xlfn.CONCAT($C$2,\"-\",$E190,\"-\",$F190,\"-\",L$3),'Raw Data'!$A$2:$D$690331,4,FALSE),\"N/A\")","v":"N/A"},{"$f":"_xlfn.IFNA(VLOOKUP(_xlfn.CONCAT($C$2,\"-\",$E190,\"-\",$F190,\"-\",M$3),'Raw Data'!$A$2:$D$690331,4,FALSE),\"N/A\")","v":"N/A"},{"$f":"_xlfn.IFNA(VLOOKUP(_xlfn.CONCAT($C$2,\"-\",$E190,\"-\",$F190,\"-\",N$3),'Raw Data'!$A$2:$D$690331,4,FALSE),\"N/A\")","v":"N/A"},{"$f":"_xlfn.IFNA(VLOOKUP(_xlfn.CONCAT($C$2,\"-\",$E190,\"-\",$F190,\"-\",O$3),'Raw Data'!$A$2:$D$690331,4,FALSE),\"N/A\")","v":"N/A"},{"$f":"_xlfn.IFNA(VLOOKUP(_xlfn.CONCAT($C$2,\"-\",$E190,\"-\",$F190,\"-\",P$3),'Raw Data'!$A$2:$D$690331,4,FALSE),\"N/A\")","v":"N/A"},{"$f":"_xlfn.IFNA(VLOOKUP(_xlfn.CONCAT($C$2,\"-\",$E190,\"-\",$F190,\"-\",Q$3),'Raw Data'!$A$2:$D$690331,4,FALSE),\"N/A\")","v":"N/A"},{"$f":"_xlfn.IFNA(VLOOKUP(_xlfn.CONCAT($C$2,\"-\",$E190,\"-\",$F190,\"-\",R$3),'Raw Data'!$A$2:$D$690331,4,FALSE),\"N/A\")","v":"N/A"},{"$f":"_xlfn.IFNA(VLOOKUP(_xlfn.CONCAT($C$2,\"-\",$E190,\"-\",$F190,\"-\",S$3),'Raw Data'!$A$2:$D$690331,4,FALSE),\"N/A\")","v":"N/A"}]
[null,null,null,null,6,7,null,{"$f":"_xlfn.IFNA(VLOOKUP(_xlfn.CONCAT($C$2,\"-\",$E191,\"-\",$F191,\"-\",H$3),'Raw Data'!$A$2:$D$690331,4,FALSE),\"N/A\")","v":"N/A"},{"$f":"_xlfn.IFNA(VLOOKUP(_xlfn.CONCAT($C$2,\"-\",$E191,\"-\",$F191,\"-\",I$3),'Raw Data'!$A$2:$D$690331,4,FALSE),\"N/A\")","v":"N/A"},{"$f":"_xlfn.IFNA(VLOOKUP(_xlfn.CONCAT($C$2,\"-\",$E191,\"-\",$F191,\"-\",J$3),'Raw Data'!$A$2:$D$690331,4,FALSE),\"N/A\")","v":"N/A"},{"$f":"_xlfn.IFNA(VLOOKUP(_xlfn.CONCAT($C$2,\"-\",$E191,\"-\",$F191,\"-\",K$3),'Raw Data'!$A$2:$D$690331,4,FALSE),\"N/A\")","v":"N/A"},{"$f":"_xlfn.IFNA(VLOOKUP(_xlfn.CONCAT($C$2,\"-\",$E191,\"-\",$F191,\"-\",L$3),'Raw Data'!$A$2:$D$690331,4,FALSE),\"N/A\")","v":"N/A"},{"$f":"_xlfn.IFNA(VLOOKUP(_xlfn.CONCAT($C$2,\"-\",$E191,\"-\",$F191,\"-\",M$3),'Raw Data'!$A$2:$D$690331,4,FALSE),\"N/A\")","v":"N/A"},{"$f":"_xlfn.IFNA(VLOOKUP(_xlfn.CONCAT($C$2,\"-\",$E191,\"-\",$F191,\"-\",N$3),'Raw Data'!$A$2:$D$690331,4,FALSE),\"N/A\")","v":"N/A"},{"$f":"_xlfn.IFNA(VLOOKUP(_xlfn.CONCAT($C$2,\"-\",$E191,\"-\",$F191,\"-\",O$3),'Raw Data'!$A$2:$D$690331,4,FALSE),\"N/A\")","v":"N/A"},{"$f":"_xlfn.IFNA(VLOOKUP(_xlfn.CONCAT($C$2,\"-\",$E191,\"-\",$F191,\"-\",P$3),'Raw Data'!$A$2:$D$690331,4,FALSE),\"N/A\")","v":"N/A"},{"$f":"_xlfn.IFNA(VLOOKUP(_xlfn.CONCAT($C$2,\"-\",$E191,\"-\",$F191,\"-\",Q$3),'Raw Data'!$A$2:$D$690331,4,FALSE),\"N/A\")","v":"N/A"},{"$f":"_xlfn.IFNA(VLOOKUP(_xlfn.CONCAT($C$2,\"-\",$E191,\"-\",$F191,\"-\",R$3),'Raw Data'!$A$2:$D$690331,4,FALSE),\"N/A\")","v":"N/A"},{"$f":"_xlfn.IFNA(VLOOKUP(_xlfn.CONCAT($C$2,\"-\",$E191,\"-\",$F191,\"-\",S$3),'Raw Data'!$A$2:$D$690331,4,FALSE),\"N/A\")","v":"N/A"}]
[null,null,null,null,7,7,null,{"$f":"_xlfn.IFNA(VLOOKUP(_xlfn.CONCAT($C$2,\"-\",$E192,\"-\",$F192,\"-\",H$3),'Raw Data'!$A$2:$D$690331,4,FALSE),\"N/A\")","v":"N/A"},{"$f":"_xlfn.IFNA(VLOOKUP(_xlfn.CONCAT($C$2,\"-\",$E192,\"-\",$F192,\"-\",I$3),'Raw Data'!$A$2:$D$690331,4,FALSE),\"N/A\")","v":"N/A"},{"$f":"_xlfn.IFNA(VLOOKUP(_xlfn.CONCAT($C$2,\"-\",$E192,\"-\",$F192,\"-\",J$3),'Raw Data'!$A$2:$D$690331,4,FALSE),\"N/A\")","v":"N/A"},{"$f":"_xlfn.IFNA(VLOOKUP(_xlfn.CONCAT($C$2,\"-\",$E192,\"-\",$F192,\"-\",K$3),'Raw Data'!$A$2:$D$690331,4,FALSE),\"N/A\")","v":"N/A"},{"$f":"_xlfn.IFNA(VLOOKUP(_xlfn.CONCAT($C$2,\"-\",$E192,\"-\",$F192,\"-\",L$3),'Raw Data'!$A$2:$D$690331,4,FALSE),\"N/A\")","v":"N/A"},{"$f":"_xlfn.IFNA(VLOOKUP(_xlfn.CONCAT($C$2,\"-\",$E192,\"-\",$F192,\"-\",M$3),'Raw Data'!$A$2:$D$690331,4,FALSE),\"N/A\")","v":"N/A"},{"$f":"_xlfn.IFNA(VLOOKUP(_xlfn.CONCAT($C$2,\"-\",$E192,\"-\",$F192,\"-\",N$3),'Raw Data'!$A$2:$D$690331,4,FALSE),\"N/A\")","v":"N/A"},{"$f":"_xlfn.IFNA(VLOOKUP(_xlfn.CONCAT($C$2,\"-\",$E192,\"-\",$F192,\"-\",O$3),'Raw Data'!$A$2:$D$690331,4,FALSE),\"N/A\")","v":"N/A"},{"$f":"_xlfn.IFNA(VLOOKUP(_xlfn.CONCAT($C$2,\"-\",$E192,\"-\",$F192,\"-\",P$3),'Raw Data'!$A$2:$D$690331,4,FALSE),\"N/A\")","v":"N/A"},{"$f":"_xlfn.IFNA(VLOOKUP(_xlfn.CONCAT($C$2,\"-\",$E192,\"-\",$F192,\"-\",Q$3),'Raw Data'!$A$2:$D$690331,4,FALSE),\"N/A\")","v":"N/A"},{"$f":"_xlfn.IFNA(VLOOKUP(_xlfn.CONCAT($C$2,\"-\",$E192,\"-\",$F192,\"-\",R$3),'Raw Data'!$A$2:$D$690331,4,FALSE),\"N/A\")","v":"N/A"},{"$f":"_xlfn.IFNA(VLOOKUP(_xlfn.CONCAT($C$2,\"-\",$E192,\"-\",$F192,\"-\",S$3),'Raw Data'!$A$2:$D$690331,4,FALSE),\"N/A\")","v":"N/A"}]
[null,null,null,null,8,7,null,{"$f":"_xlfn.IFNA(VLOOKUP(_xlfn.CONCAT($C$2,\"-\",$E193,\"-\",$F193,\"-\",H$3),'Raw Data'!$A$2:$D$690331,4,FALSE),\"N/A\")","v":"N/A"},{"$f":"_xlfn.IFNA(VLOOKUP(_xlfn.CONCAT($C$2,\"-\",$E193,\"-\",$F193,\"-\",I$3),'Raw Data'!$A$2:$D$690331,4,FALSE),\"N/A\")","v":"N/A"},{"$f":"_xlfn.IFNA(VLOOKUP(_xlfn.CONCAT($C$2,\"-\",$E193,\"-\",$F193,\"-\",J$3),'Raw Data'!$A$2:$D$690331,4,FALSE),\"N/A\")","v":"N/A"},{"$f":"_xlfn.IFNA(VLOOKUP(_xlfn.CONCAT($C$2,\"-\",$E193,\"-\",$F193,\"-\",K$3),'Raw Data'!$A$2:$D$690331,4,FALSE),\"N/A\")","v":"N/A"},{"$f":"_xlfn.IFNA(VLOOKUP(_xlfn.CONCAT($C$2,\"-\",$E193,\"-\",$F193,\"-\",L$3),'Raw Data'!$A$2:$D$690331,4,FALSE),\"N/A\")","v":"N/A"},{"$f":"_xlfn.IFNA(VLOOKUP(_xlfn.CONCAT($C$2,\"-\",$E193,\"-\",$F193,\"-\",M$3),'Raw Data'!$A$2:$D$690331,4,FALSE),\"N/A\")","v":"N/A"},{"$f":"_xlfn.IFNA(VLOOKUP(_xlfn.CONCAT($C$2,\"-\",$E193,\"-\",$F193,\"-\",N$3),'Raw Data'!$A$2:$D$690331,4,FALSE),\"N/A\")","v":"N/A"},{"$f":"_xlfn.IFNA(VLOOKUP(_xlfn.CONCAT($C$2,\"-\",$E193,\"-\",$F193,\"-\",O$3),'Raw Data'!$A$2:$D$690331,4,FALSE),\"N/A\")","v":"N/A"},{"$f":"_xlfn.IFNA(VLOOKUP(_xlfn.CONCAT($C$2,\"-\",$E193,\"-\",$F193,\"-\",P$3),'Raw Data'!$A$2:$D$690331,4,FALSE),\"N/A\")","v":"N/A"},{"$f":"_xlfn.IFNA(VLOOKUP(_xlfn.CONCAT($C$2,\"-\",$E193,\"-\",$F193,\"-\",Q$3),'Raw Data'!$A$2:$D$690331,4,FALSE),\"N/A\")","v":"N/A"},{"$f":"_xlfn.IFNA(VLOOKUP(_xlfn.CONCAT($C$2,\"-\",$E193,\"-\",$F193,\"-\",R$3),'Raw Data'!$A$2:$D$690331,4,FALSE),\"N/A\")","v":"N/A"},{"$f":"_xlfn.IFNA(VLOOKUP(_xlfn.CONCAT($C$2,\"-\",$E193,\"-\",$F193,\"-\",S$3),'Raw Data'!$A$2:$D$690331,4,FALSE),\"N/A\")","v":"N/A"}]
[null,null,null,null,9,7,null,{"$f":"_xlfn.IFNA(VLOOKUP(_xlfn.CONCAT($C$2,\"-\",$E194,\"-\",$F194,\"-\",H$3),'Raw Data'!$A$2:$D$690331,4,FALSE),\"N/A\")","v":"N/A"},{"$f":"_xlfn.IFNA(VLOOKUP(_xlfn.CONCAT($C$2,\"-\",$E194,\"-\",$F194,\"-\",I$3),'Raw Data'!$A$2:$D$690331,4,FALSE),\"N/A\")","v":"N/A"},{"$f":"_xlfn.IFNA(VLOOKUP(_xlfn.CONCAT($C$2,\"-\",$E194,\"-\",$F194,\"-\",J$3),'Raw Data'!$A$2:$D$690331,4,FALSE),\"N/A\")","v":"N/A"},{"$f":"_xlfn.IFNA(VLOOKUP(_xlfn.CONCAT($C$2,\"-\",$E194,\"-\",$F194,\"-\",K$3),'Raw Data'!$A$2:$D$690331,4,FALSE),\"N/A\")","v":"N/A"},{"$f":"_xlfn.IFNA(VLOOKUP(_xlfn.CONCAT($C$2,\"-\",$E194,\"-\",$F194,\"-\",L$3),'Raw Data'!$A$2:$D$690331,4,FALSE),\"N/A\")","v":"N/A"},{"$f":"_xlfn.IFNA(VLOOKUP(_xlfn.CONCAT($C$2,\"-\",$E194,\"-\",$F194,\"-\",M$3),'Raw Data'!$A$2:$D$690331,4,FALSE),\"N/A\")","v":"N/A"},{"$f":"_xlfn.IFNA(VLOOKUP(_xlfn.CONCAT($C$2,\"-\",$E194,\"-\",$F194,\"-\",N$3),'Raw Data'!$A$2:$D$690331,4,FALSE),\"N/A\")","v":"N/A"},{"$f":"_xlfn.IFNA(VLOOKUP(_xlfn.CONCAT($C$2,\"-\",$E194,\"-\",$F194,\"-\",O$3),'Raw Data'!$A$2:$D$690331,4,FALSE),\"N/A\")","v":"N/A"},{"$f":"_xlfn.IFNA(VLOOKUP(_xlfn.CONCAT($C$2,\"-\",$E194,\"-\",$F194,\"-\",P$3),'Raw Data'!$A$2:$D$690331,4,FALSE),\"N/A\")","v":"N/A"},{"$f":"_xlfn.IFNA(VLOOKUP(_xlfn.CONCAT($C$2,\"-\",$E194,\"-\",$F194,\"-\",Q$3),'Raw Data'!$A$2:$D$690331,4,FALSE),\"N/A\")","v":"N/A"},{"$f":"_xlfn.IFNA(VLOOKUP(_xlfn.CONCAT($C$2,\"-\",$E194,\"-\",$F194,\"-\",R$3),'Raw Data'!$A$2:$D$690331,4,FALSE),\"N/A\")","v":"N/A"},{"$f":"_xlfn.IFNA(VLOOKUP(_xlfn.CONCAT($C$2,\"-\",$E194,\"-\",$F194,\"-\",S$3),'Raw Data'!$A$2:$D$690331,4,FALSE),\"N/A\")","v":"N/A"}]
[null,null,null,null,10,7,null,{"$f":"_xlfn.IFNA(VLOOKUP(_xlfn.CONCAT($C$2,\"-\",$E195,\"-\",$F195,\"-\",H$3),'Raw Data'!$A$2:$D$690331,4,FALSE),\"N/A\")","v":"N/A"},{"$f":"_xlfn.IFNA(VLOOKUP(_xlfn.CONCAT($C$2,\"-\",$E195,\"-\",$F195,\"-\",I$3),'Raw Data'!$A$2:$D$690331,4,FALSE),\"N/A\")","v":"N/A"},{"$f":"_xlfn.IFNA(VLOOKUP(_xlfn.CONCAT($C$2,\"-\",$E195,\"-\",$F195,\"-\",J$3),'Raw Data'!$A$2:$D$690331,4,FALSE),\"N/A\")","v":"N/A"},{"$f":"_xlfn.IFNA(VLOOKUP(_xlfn.CONCAT($C$2,\"-\",$E195,\"-\",$F195,\"-\",K$3),'Raw Data'!$A$2:$D$690331,4,FALSE),\"N/A\")","v":"N/A"},{"$f":"_xlfn.IFNA(VLOOKUP(_xlfn.CONCAT($C$2,\"-\",$E195,\"-\",$F195,\"-\",L$3),'Raw Data'!$A$2:$D$690331,4,FALSE),\"N/A\")","v":"N/A"},{"$f":"_xlfn.IFNA(VLOOKUP(_xlfn.CONCAT($C$2,\"-\",$E195,\"-\",$F195,\"-\",M$3),'Raw Data'!$A$2:$D$690331,4,FALSE),\"N/A\")","v":"N/A"},{"$f":"_xlfn.IFNA(VLOOKUP(_xlfn.CONCAT($C$2,\"-\",$E195,\"-\",$F195,\"-\",N$3),'Raw Data'!$A$2:$D$690331,4,FALSE),\"N/A\")","v":"N/A"},{"$f":"_xlfn.IFNA(VLOOKUP(_xlfn.CONCAT($C$2,\"-\",$E195,\"-\",$F195,\"-\",O$3),'Raw Data'!$A$2:$D$690331,4,FALSE),\"N/A\")","v":"N/A"},{"$f":"_xlfn.IFNA(VLOOKUP(_xlfn.CONCAT($C$2,\"-\",$E195,\"-\",$F195,\"-\",P$3),'Raw Data'!$A$2:$D$690331,4,FALSE),\"N/A\")","v":"N/A"},{"$f":"_xlfn.IFNA(VLOOKUP(_xlfn.CONCAT($C$2,\"-\",$E195,\"-\",$F195,\"-\",Q$3),'Raw Data'!$A$2:$D$690331,4,FALSE),\"N/A\")","v":"N/A"},{"$f":"_xlfn.IFNA(VLOOKUP(_xlfn.CONCAT($C$2,\"-\",$E195,\"-\",$F195,\"-\",R$3),'Raw Data'!$A$2:$D$690331,4,FALSE),\"N/A\")","v":"N/A"},{"$f":"_xlfn.IFNA(VLOOKUP(_xlfn.CONCAT($C$2,\"-\",$E195,\"-\",$F195,\"-\",S$3),'Raw Data'!$A$2:$D$690331,4,FALSE),\"N/A\")","v":"N/A"}]
[null,null,null,null,11,7,null,{"$f":"_xlfn.IFNA(VLOOKUP(_xlfn.CONCAT($C$2,\"-\",$E196,\"-\",$F196,\"-\",H$3),'Raw Data'!$A$2:$D$690331,4,FALSE),\"N/A\")","v":"N/A"},{"$f":"_xlfn.IFNA(VLOOKUP(_xlfn.CONCAT($C$2,\"-\",$E196,\"-\",$F196,\"-\",I$3),'Raw Data'!$A$2:$D$690331,4,FALSE),\"N/A\")","v":"N/A"},{"$f":"_xlfn.IFNA(VLOOKUP(_xlfn.CONCAT($C$2,\"-\",$E196,\"-\",$F196,\"-\",J$3),'Raw Data'!$A$2:$D$690331,4,FALSE),\"N/A\")","v":"N/A"},{"$f":"_xlfn.IFNA(VLOOKUP(_xlfn.CONCAT($C$2,\"-\",$E196,\"-\",$F196,\"-\",K$3),'Raw Data'!$A$2:$D$690331,4,FALSE),\"N/A\")","v":"N/A"},{"$f":"_xlfn.IFNA(VLOOKUP(_xlfn.CONCAT($C$2,\"-\",$E196,\"-\",$F196,\"-\",L$3),'Raw Data'!$A$2:$D$690331,4,FALSE),\"N/A\")","v":"N/A"},{"$f":"_xlfn.IFNA(VLOOKUP(_xlfn.CONCAT($C$2,\"-\",$E196,\"-\",$F196,\"-\",M$3),'Raw Data'!$A$2:$D$690331,4,FALSE),\"N/A\")","v":"N/A"},{"$f":"_xlfn.IFNA(VLOOKUP(_xlfn.CONCAT($C$2,\"-\",$E196,\"-\",$F196,\"-\",N$3),'Raw Data'!$A$2:$D$690331,4,FALSE),\"N/A\")","v":"N/A"},{"$f":"_xlfn.IFNA(VLOOKUP(_xlfn.CONCAT($C$2,\"-\",$E196,\"-\",$F196,\"-\",O$3),'Raw Data'!$A$2:$D$690331,4,FALSE),\"N/A\")","v":"N/A"},{"$f":"_xlfn.IFNA(VLOOKUP(_xlfn.CONCAT($C$2,\"-\",$E196,\"-\",$F196,\"-\",P$3),'Raw Data'!$A$2:$D$690331,4,FALSE),\"N/A\")","v":"N/A"},{"$f":"_xlfn.IFNA(VLOOKUP(_xlfn.CONCAT($C$2,\"-\",$E196,\"-\",$F196,\"-\",Q$3),'Raw Data'!$A$2:$D$690331,4,FALSE),\"N/A\")","v":"N/A"},{"$f":"_xlfn.IFNA(VLOOKUP(_xlfn.CONCAT($C$2,\"-\",$E196,\"-\",$F196,\"-\",R$3),'Raw Data'!$A$2:$D$690331,4,FALSE),\"N/A\")","v":"N/A"},{"$f":"_xlfn.IFNA(VLOOKUP(_xlfn.CONCAT($C$2,\"-\",$E196,\"-\",$F196,\"-\",S$3),'Raw Data'!$A$2:$D$690331,4,FALSE),\"N/A\")","v":"N/A"}]
[null,null,null,null,12,7,null,{"$f":"_xlfn.IFNA(VLOOKUP(_xlfn.CONCAT($C$2,\"-\",$E197,\"-\",$F197,\"-\",H$3),'Raw Data'!$A$2:$D$690331,4,FALSE),\"N/A\")","v":"N/A"},{"$f":"_xlfn.IFNA(VLOOKUP(_xlfn.CONCAT($C$2,\"-\",$E197,\"-\",$F197,\"-\",I$3),'Raw Data'!$A$2:$D$690331,4,FALSE),\"N/A\")","v":"N/A"},{"$f":"_xlfn.IFNA(VLOOKUP(_xlfn.CONCAT($C$2,\"-\",$E197,\"-\",$F197,\"-\",J$3),'Raw Data'!$A$2:$D$690331,4,FALSE),\"N/A\")","v":"N/A"},{"$f":"_xlfn.IFNA(VLOOKUP(_xlfn.CONCAT($C$2,\"-\",$E197,\"-\",$F197,\"-\",K$3),'Raw Data'!$A$2:$D$690331,4,FALSE),\"N/A\")","v":"N/A"},{"$f":"_xlfn.IFNA(VLOOKUP(_xlfn.CONCAT($C$2,\"-\",$E197,\"-\",$F197,\"-\",L$3),'Raw Data'!$A$2:$D$690331,4,FALSE),\"N/A\")","v":"N/A"},{"$f":"_xlfn.IFNA(VLOOKUP(_xlfn.CONCAT($C$2,\"-\",$E197,\"-\",$F197,\"-\",M$3),'Raw Data'!$A$2:$D$690331,4,FALSE),\"N/A\")","v":"N/A"},{"$f":"_xlfn.IFNA(VLOOKUP(_xlfn.CONCAT($C$2,\"-\",$E197,\"-\",$F197,\"-\",N$3),'Raw Data'!$A$2:$D$690331,4,FALSE),\"N/A\")","v":"N/A"},{"$f":"_xlfn.IFNA(VLOOKUP(_xlfn.CONCAT($C$2,\"-\",$E197,\"-\",$F197,\"-\",O$3),'Raw Data'!$A$2:$D$690331,4,FALSE),\"N/A\")","v":"N/A"},{"$f":"_xlfn.IFNA(VLOOKUP(_xlfn.CONCAT($C$2,\"-\",$E197,\"-\",$F197,\"-\",P$3),'Raw Data'!$A$2:$D$690331,4,FALSE),\"N/A\")","v":"N/A"},{"$f":"_xlfn.IFNA(VLOOKUP(_xlfn.CONCAT($C$2,\"-\",$E197,\"-\",$F197,\"-\",Q$3),'Raw Data'!$A$2:$D$690331,4,FALSE),\"N/A\")","v":"N/A"},{"$f":"_xlfn.IFNA(VLOOKUP(_xlfn.CONCAT($C$2,\"-\",$E197,\"-\",$F197,\"-\",R$3),'Raw Data'!$A$2:$D$690331,4,FALSE),\"N/A\")","v":"N/A"},{"$f":"_xlfn.IFNA(VLOOKUP(_xlfn.CONCAT($C$2,\"-\",$E197,\"-\",$F197,\"-\",S$3),'Raw Data'!$A$2:$D$690331,4,FALSE),\"N/A\")","v":"N/A"}]
[null,null,null,null,13,7,null,{"$f":"_xlfn.IFNA(VLOOKUP(_xlfn.CONCAT($C$2,\"-\",$E198,\"-\",$F198,\"-\",H$3),'Raw Data'!$A$2:$D$690331,4,FALSE),\"N/A\")","v":"N/A"},{"$f":"_xlfn.IFNA(VLOOKUP(_xlfn.CONCAT($C$2,\"-\",$E198,\"-\",$F198,\"-\",I$3),'Raw Data'!$A$2:$D$690331,4,FALSE),\"N/A\")","v":"N/A"},{"$f":"_xlfn.IFNA(VLOOKUP(_xlfn.CONCAT($C$2,\"-\",$E198,\"-\",$F198,\"-\",J$3),'Raw Data'!$A$2:$D$690331,4,FALSE),\"N/A\")","v":"N/A"},{"$f":"_xlfn.IFNA(VLOOKUP(_xlfn.CONCAT($C$2,\"-\",$E198,\"-\",$F198,\"-\",K$3),'Raw Data'!$A$2:$D$690331,4,FALSE),\"N/A\")","v":"N/A"},{"$f":"_xlfn.IFNA(VLOOKUP(_xlfn.CONCAT($C$2,\"-\",$E198,\"-\",$F198,\"-\",L$3),'Raw Data'!$A$2:$D$690331,4,FALSE),\"N/A\")","v":"N/A"},{"$f":"_xlfn.IFNA(VLOOKUP(_xlfn.CONCAT($C$2,\"-\",$E198,\"-\",$F198,\"-\",M$3),'Raw Data'!$A$2:$D$690331,4,FALSE),\"N/A\")","v":"N/A"},{"$f":"_xlfn.IFNA(VLOOKUP(_xlfn.CONCAT($C$2,\"-\",$E198,\"-\",$F198,\"-\",N$3),'Raw Data'!$A$2:$D$690331,4,FALSE),\"N/A\")","v":"N/A"},{"$f":"_xlfn.IFNA(VLOOKUP(_xlfn.CONCAT($C$2,\"-\",$E198,\"-\",$F198,\"-\",O$3),'Raw Data'!$A$2:$D$690331,4,FALSE),\"N/A\")","v":"N/A"},{"$f":"_xlfn.IFNA(VLOOKUP(_xlfn.CONCAT($C$2,\"-\",$E198,\"-\",$F198,\"-\",P$3),'Raw Data'!$A$2:$D$690331,4,FALSE),\"N/A\")","v":"N/A"},{"$f":"_xlfn.IFNA(VLOOKUP(_xlfn.CONCAT($C$2,\"-\",$E198,\"-\",$F198,\"-\",Q$3),'Raw Data'!$A$2:$D$690331,4,FALSE),\"N/A\")","v":"N/A"},{"$f":"_xlfn.IFNA(VLOOKUP(_xlfn.CONCAT($C$2,\"-\",$E198,\"-\",$F198,\"-\",R$3),'Raw Data'!$A$2:$D$690331,4,FALSE),\"N/A\")","v":"N/A"},{"$f":"_xlfn.IFNA(VLOOKUP(_xlfn.CONCAT($C$2,\"-\",$E198,\"-\",$F198,\"-\",S$3),'Raw Data'!$A$2:$D$690331,4,FALSE),\"N/A\")","v":"N/A"}]
[null,null,null,null,14,7,null,{"$f":"_xlfn.IFNA(VLOOKUP(_xlfn.CONCAT($C$2,\"-\",$E199,\"-\",$F199,\"-\",H$3),'Raw Data'!$A$2:$D$690331,4,FALSE),\"N/A\")","v":"N/A"},{"$f":"_xlfn.IFNA(VLOOKUP(_xlfn.CONCAT($C$2,\"-\",$E199,\"-\",$F199,\"-\",I$3),'Raw Data'!$A$2:$D$690331,4,FALSE),\"N/A\")","v":"N/A"},{"$f":"_xlfn.IFNA(VLOOKUP(_xlfn.CONCAT($C$2,\"-\",$E199,\"-\",$F199,\"-\",J$3),'Raw Data'!$A$2:$D$690331,4,FALSE),\"N/A\")","v":"N/A"},{"$f":"_xlfn.IFNA(VLOOKUP(_xlfn.CONCAT($C$2,\"-\",$E199,\"-\",$F199,\"-\",K$3),'Raw Data'!$A$2:$D$690331,4,FALSE),\"N/A\")","v":"N/A"},{"$f":"_xlfn.IFNA(VLOOKUP(_xlfn.CONCAT($C$2,\"-\",$E199,\"-\",$F199,\"-\",L$3),'Raw Data'!$A$2:$D$690331,4,FALSE),\"N/A\")","v":"N/A"},{"$f":"_xlfn.IFNA(VLOOKUP(_xlfn.CONCAT($C$2,\"-\",$E199,\"-\",$F199,\"-\",M$3),'Raw Data'!$A$2:$D$690331,4,FALSE),\"N/A\")","v":"N/A"},{"$f":"_xlfn.IFNA(VLOOKUP(_xlfn.CONCAT($C$2,\"-\",$E199,\"-\",$F199,\"-\",N$3),'Raw Data'!$A$2:$D$690331,4,FALSE),\"N/A\")","v":"N/A"},{"$f":"_xlfn.IFNA(VLOOKUP(_xlfn.CONCAT($C$2,\"-\",$E199,\"-\",$F199,\"-\",O$3),'Raw Data'!$A$2:$D$690331,4,FALSE),\"N/A\")","v":"N/A"},{"$f":"_xlfn.IFNA(VLOOKUP(_xlfn.CONCAT($C$2,\"-\",$E199,\"-\",$F199,\"-\",P$3),'Raw Data'!$A$2:$D$690331,4,FALSE),\"N/A\")","v":"N/A"},{"$f":"_xlfn.IFNA(VLOOKUP(_xlfn.CONCAT($C$2,\"-\",$E199,\"-\",$F199,\"-\",Q$3),'Raw Data'!$A$2:$D$690331,4,FALSE),\"N/A\")","v":"N/A"},{"$f":"_xlfn.IFNA(VLOOKUP(_xlfn.CONCAT($C$2,\"-\",$E199,\"-\",$F199,\"-\",R$3),'Raw Data'!$A$2:$D$690331,4,FALSE),\"N/A\")","v":"N/A"},{"$f":"_xlfn.IFNA(VLOOKUP(_xlfn.CONCAT($C$2,\"-\",$E199,\"-\",$F199,\"-\",S$3),'Raw Data'!$A$2:$D$690331,4,FALSE),\"N/A\")","v":"N/A"}]
[null,null,null,null,15,7,null,{"$f":"_xlfn.IFNA(VLOOKUP(_xlfn.CONCAT($C$2,\"-\",$E200,\"-\",$F200,\"-\",H$3),'Raw Data'!$A$2:$D$690331,4,FALSE),\"N/A\")","v":"N/A"},{"$f":"_xlfn.IFNA(VLOOKUP(_xlfn.CONCAT($C$2,\"-\",$E200,\"-\",$F200,\"-\",I$3),'Raw Data'!$A$2:$D$690331,4,FALSE),\"N/A\")","v":"N/A"},{"$f":"_xlfn.IFNA(VLOOKUP(_xlfn.CONCAT($C$2,\"-\",$E200,\"-\",$F200,\"-\",J$3),'Raw Data'!$A$2:$D$690331,4,FALSE),\"N/A\")","v":"N/A"},{"$f":"_xlfn.IFNA(VLOOKUP(_xlfn.CONCAT($C$2,\"-\",$E200,\"-\",$F200,\"-\",K$3),'Raw Data'!$A$2:$D$690331,4,FALSE),\"N/A\")","v":"N/A"},{"$f":"_xlfn.IFNA(VLOOKUP(_xlfn.CONCAT($C$2,\"-\",$E200,\"-\",$F200,\"-\",L$3),'Raw Data'!$A$2:$D$690331,4,FALSE),\"N/A\")","v":"N/A"},{"$f":"_xlfn.IFNA(VLOOKUP(_xlfn.CONCAT($C$2,\"-\",$E200,\"-\",$F200,\"-\",M$3),'Raw Data'!$A$2:$D$690331,4,FALSE),\"N/A\")","v":"N/A"},{"$f":"_xlfn.IFNA(VLOOKUP(_xlfn.CONCAT($C$2,\"-\",$E200,\"-\",$F200,\"-\",N$3),'Raw Data'!$A$2:$D$690331,4,FALSE),\"N/A\")","v":"N/A"},{"$f":"_xlfn.IFNA(VLOOKUP(_xlfn.CONCAT($C$2,\"-\",$E200,\"-\",$F200,\"-\",O$3),'Raw Data'!$A$2:$D$690331,4,FALSE),\"N/A\")","v":"N/A"},{"$f":"_xlfn.IFNA(VLOOKUP(_xlfn.CONCAT($C$2,\"-\",$E200,\"-\",$F200,\"-\",P$3),'Raw Data'!$A$2:$D$690331,4,FALSE),\"N/A\")","v":"N/A"},{"$f":"_xlfn.IFNA(VLOOKUP(_xlfn.CONCAT($C$2,\"-\",$E200,\"-\",$F200,\"-\",Q$3),'Raw Data'!$A$2:$D$690331,4,FALSE),\"N/A\")","v":"N/A"},{"$f":"_xlfn.IFNA(VLOOKUP(_xlfn.CONCAT($C$2,\"-\",$E200,\"-\",$F200,\"-\",R$3),'Raw Data'!$A$2:$D$690331,4,FALSE),\"N/A\")","v":"N/A"},{"$f":"_xlfn.IFNA(VLOOKUP(_xlfn.CONCAT($C$2,\"-\",$E200,\"-\",$F200,\"-\",S$3),'Raw Data'!$A$2:$D$690331,4,FALSE),\"N/A\")","v":"N/A"}]
[null,null,null,null,16,7,null,{"$f":"_xlfn.IFNA(VLOOKUP(_xlfn.CONCAT($C$2,\"-\",$E201,\"-\",$F201,\"-\",H$3),'Raw Data'!$A$2:$D$690331,4,FALSE),\"N/A\")","v":"N/A"},{"$f":"_xlfn.IFNA(VLOOKUP(_xlfn.CONCAT($C$2,\"-\",$E201,\"-\",$F201,\"-\",I$3),'Raw Data'!$A$2:$D$690331,4,FALSE),\"N/A\")","v":"N/A"},{"$f":"_xlfn.IFNA(VLOOKUP(_xlfn.CONCAT($C$2,\"-\",$E201,\"-\",$F201,\"-\",J$3),'Raw Data'!$A$2:$D$690331,4,FALSE),\"N/A\")","v":"N/A"},{"$f":"_xlfn.IFNA(VLOOKUP(_xlfn.CONCAT($C$2,\"-\",$E201,\"-\",$F201,\"-\",K$3),'Raw Data'!$A$2:$D$690331,4,FALSE),\"N/A\")","v":"N/A"},{"$f":"_xlfn.IFNA(VLOOKUP(_xlfn.CONCAT($C$2,\"-\",$E201,\"-\",$F201,\"-\",L$3),'Raw Data'!$A$2:$D$690331,4,FALSE),\"N/A\")","v":"N/A"},{"$f":"_xlfn.IFNA(VLOOKUP(_xlfn.CONCAT($C$2,\"-\",$E201,\"-\",$F201,\"-\",M$3),'Raw Data'!$A$2:$D$690331,4,FALSE),\"N/A\")","v":"N/A"},{"$f":"_xlfn.IFNA(VLOOKUP(_xlfn.CONCAT($C$2,\"-\",$E201,\"-\",$F201,\"-\",N$3),'Raw Data'!$A$2:$D$690331,4,FALSE),\"N/A\")","v":"N/A"},{"$f":"_xlfn.IFNA(VLOOKUP(_xlfn.CONCAT($C$2,\"-\",$E201,\"-\",$F201,\"-\",O$3),'Raw Data'!$A$2:$D$690331,4,FALSE),\"N/A\")","v":"N/A"},{"$f":"_xlfn.IFNA(VLOOKUP(_xlfn.CONCAT($C$2,\"-\",$E201,\"-\",$F201,\"-\",P$3),'Raw Data'!$A$2:$D$690331,4,FALSE),\"N/A\")","v":"N/A"},{"$f":"_xlfn.IFNA(VLOOKUP(_xlfn.CONCAT($C$2,\"-\",$E201,\"-\",$F201,\"-\",Q$3),'Raw Data'!$A$2:$D$690331,4,FALSE),\"N/A\")","v":"N/A"},{"$f":"_xlfn.IFNA(VLOOKUP(_xlfn.CONCAT($C$2,\"-\",$E201,\"-\",$F201,\"-\",R$3),'Raw Data'!$A$2:$D$690331,4,FALSE),\"N/A\")","v":"N/A"},{"$f":"_xlfn.IFNA(VLOOKUP(_xlfn.CONCAT($C$2,\"-\",$E201,\"-\",$F201,\"-\",S$3),'Raw Data'!$A$2:$D$690331,4,FALSE),\"N/A\")","v":"N/A"}]
[null,null,null,null,17,7,null,{"$f":"_xlfn.IFNA(VLOOKUP(_xlfn.CONCAT($C$2,\"-\",$E202,\"-\",$F202,\"-\",H$3),'Raw Data'!$A$2:$D$690331,4,FALSE),\"N/A\")","v":"N/A"},{"$f":"_xlfn.IFNA(VLOOKUP(_xlfn.CONCAT($C$2,\"-\",$E202,\"-\",$F202,\"-\",I$3),'Raw Data'!$A$2:$D$690331,4,FALSE),\"N/A\")","v":"N/A"},{"$f":"_xlfn.IFNA(VLOOKUP(_xlfn.CONCAT($C$2,\"-\",$E202,\"-\",$F202,\"-\",J$3),'Raw Data'!$A$2:$D$690331,4,FALSE),\"N/A\")","v":"N/A"},{"$f":"_xlfn.IFNA(VLOOKUP(_xlfn.CONCAT($C$2,\"-\",$E202,\"-\",$F202,\"-\",K$3),'Raw Data'!$A$2:$D$690331,4,FALSE),\"N/A\")","v":"N/A"},{"$f":"_xlfn.IFNA(VLOOKUP(_xlfn.CONCAT($C$2,\"-\",$E202,\"-\",$F202,\"-\",L$3),'Raw Data'!$A$2:$D$690331,4,FALSE),\"N/A\")","v":"N/A"},{"$f":"_xlfn.IFNA(VLOOKUP(_xlfn.CONCAT($C$2,\"-\",$E202,\"-\",$F202,\"-\",M$3),'Raw Data'!$A$2:$D$690331,4,FALSE),\"N/A\")","v":"N/A"},{"$f":"_xlfn.IFNA(VLOOKUP(_xlfn.CONCAT($C$2,\"-\",$E202,\"-\",$F202,\"-\",N$3),'Raw Data'!$A$2:$D$690331,4,FALSE),\"N/A\")","v":"N/A"},{"$f":"_xlfn.IFNA(VLOOKUP(_xlfn.CONCAT($C$2,\"-\",$E202,\"-\",$F202,\"-\",O$3),'Raw Data'!$A$2:$D$690331,4,FALSE),\"N/A\")","v":"N/A"},{"$f":"_xlfn.IFNA(VLOOKUP(_xlfn.CONCAT($C$2,\"-\",$E202,\"-\",$F202,\"-\",P$3),'Raw Data'!$A$2:$D$690331,4,FALSE),\"N/A\")","v":"N/A"},{"$f":"_xlfn.IFNA(VLOOKUP(_xlfn.CONCAT($C$2,\"-\",$E202,\"-\",$F202,\"-\",Q$3),'Raw Data'!$A$2:$D$690331,4,FALSE),\"N/A\")","v":"N/A"},{"$f":"_xlfn.IFNA(VLOOKUP(_xlfn.CONCAT($C$2,\"-\",$E202,\"-\",$F202,\"-\",R$3),'Raw Data'!$A$2:$D$690331,4,FALSE),\"N/A\")","v":"N/A"},{"$f":"_xlfn.IFNA(VLOOKUP(_xlfn.CONCAT($C$2,\"-\",$E202,\"-\",$F202,\"-\",S$3),'Raw Data'!$A$2:$D$690331,4,FALSE),\"N/A\")","v":"N/A"}]
[null,null,null,null,18,7,null,{"$f":"_xlfn.IFNA(VLOOKUP(_xlfn.CONCAT($C$2,\"-\",$E203,\"-\",$F203,\"-\",H$3),'Raw Data'!$A$2:$D$690331,4,FALSE),\"N/A\")","v":"N/A"},{"$f":"_xlfn.IFNA(VLOOKUP(_xlfn.CONCAT($C$2,\"-\",$E203,\"-\",$F203,\"-\",I$3),'Raw Data'!$A$2:$D$690331,4,FALSE),\"N/A\")","v":"N/A"},{"$f":"_xlfn.IFNA(VLOOKUP(_xlfn.CONCAT($C$2,\"-\",$E203,\"-\",$F203,\"-\",J$3),'Raw Data'!$A$2:$D$690331,4,FALSE),\"N/A\")","v":"N/A"},{"$f":"_xlfn.IFNA(VLOOKUP(_xlfn.CONCAT($C$2,\"-\",$E203,\"-\",$F203,\"-\",K$3),'Raw Data'!$A$2:$D$690331,4,FALSE),\"N/A\")","v":"N/A"},{"$f":"_xlfn.IFNA(VLOOKUP(_xlfn.CONCAT($C$2,\"-\",$E203,\"-\",$F203,\"-\",L$3),'Raw Data'!$A$2:$D$690331,4,FALSE),\"N/A\")","v":"N/A"},{"$f":"_xlfn.IFNA(VLOOKUP(_xlfn.CONCAT($C$2,\"-\",$E203,\"-\",$F203,\"-\",M$3),'Raw Data'!$A$2:$D$690331,4,FALSE),\"N/A\")","v":"N/A"},{"$f":"_xlfn.IFNA(VLOOKUP(_xlfn.CONCAT($C$2,\"-\",$E203,\"-\",$F203,\"-\",N$3),'Raw Data'!$A$2:$D$690331,4,FALSE),\"N/A\")","v":"N/A"},{"$f":"_xlfn.IFNA(VLOOKUP(_xlfn.CONCAT($C$2,\"-\",$E203,\"-\",$F203,\"-\",O$3),'Raw Data'!$A$2:$D$690331,4,FALSE),\"N/A\")","v":"N/A"},{"$f":"_xlfn.IFNA(VLOOKUP(_xlfn.CONCAT($C$2,\"-\",$E203,\"-\",$F203,\"-\",P$3),'Raw Data'!$A$2:$D$690331,4,FALSE),\"N/A\")","v":"N/A"},{"$f":"_xlfn.IFNA(VLOOKUP(_xlfn.CONCAT($C$2,\"-\",$E203,\"-\",$F203,\"-\",Q$3),'Raw Data'!$A$2:$D$690331,4,FALSE),\"N/A\")","v":"N/A"},{"$f":"_xlfn.IFNA(VLOOKUP(_xlfn.CONCAT($C$2,\"-\",$E203,\"-\",$F203,\"-\",R$3),'Raw Data'!$A$2:$D$690331,4,FALSE),\"N/A\")","v":"N/A"},{"$f":"_xlfn.IFNA(VLOOKUP(_xlfn.CONCAT($C$2,\"-\",$E203,\"-\",$F203,\"-\",S$3),'Raw Data'!$A$2:$D$690331,4,FALSE),\"N/A\")","v":"N/A"}]
[null,null,null,null,19,7,null,{"$f":"_xlfn.IFNA(VLOOKUP(_xlfn.CONCAT($C$2,\"-\",$E204,\"-\",$F204,\"-\",H$3),'Raw Data'!$A$2:$D$690331,4,FALSE),\"N/A\")","v":"N/A"},{"$f":"_xlfn.IFNA(VLOOKUP(_xlfn.CONCAT($C$2,\"-\",$E204,\"-\",$F204,\"-\",I$3),'Raw Data'!$A$2:$D$690331,4,FALSE),\"N/A\")","v":"N/A"},{"$f":"_xlfn.IFNA(VLOOKUP(_xlfn.CONCAT($C$2,\"-\",$E204,\"-\",$F204,\"-\",J$3),'Raw Data'!$A$2:$D$690331,4,FALSE),\"N/A\")","v":"N/A"},{"$f":"_xlfn.IFNA(VLOOKUP(_xlfn.CONCAT($C$2,\"-\",$E204,\"-\",$F204,\"-\",K$3),'Raw Data'!$A$2:$D$690331,4,FALSE),\"N/A\")","v":"N/A"},{"$f":"_xlfn.IFNA(VLOOKUP(_xlfn.CONCAT($C$2,\"-\",$E204,\"-\",$F204,\"-\",L$3),'Raw Data'!$A$2:$D$690331,4,FALSE),\"N/A\")","v":"N/A"},{"$f":"_xlfn.IFNA(VLOOKUP(_xlfn.CONCAT($C$2,\"-\",$E204,\"-\",$F204,\"-\",M$3),'Raw Data'!$A$2:$D$690331,4,FALSE),\"N/A\")","v":"N/A"},{"$f":"_xlfn.IFNA(VLOOKUP(_xlfn.CONCAT($C$2,\"-\",$E204,\"-\",$F204,\"-\",N$3),'Raw Data'!$A$2:$D$690331,4,FALSE),\"N/A\")","v":"N/A"},{"$f":"_xlfn.IFNA(VLOOKUP(_xlfn.CONCAT($C$2,\"-\",$E204,\"-\",$F204,\"-\",O$3),'Raw Data'!$A$2:$D$690331,4,FALSE),\"N/A\")","v":"N/A"},{"$f":"_xlfn.IFNA(VLOOKUP(_xlfn.CONCAT($C$2,\"-\",$E204,\"-\",$F204,\"-\",P$3),'Raw Data'!$A$2:$D$690331,4,FALSE),\"N/A\")","v":"N/A"},{"$f":"_xlfn.IFNA(VLOOKUP(_xlfn.CONCAT($C$2,\"-\",$E204,\"-\",$F204,\"-\",Q$3),'Raw Data'!$A$2:$D$690331,4,FALSE),\"N/A\")","v":"N/A"},{"$f":"_xlfn.IFNA(VLOOKUP(_xlfn.CONCAT($C$2,\"-\",$E204,\"-\",$F204,\"-\",R$3),'Raw Data'!$A$2:$D$690331,4,FALSE),\"N/A\")","v":"N/A"},{"$f":"_xlfn.IFNA(VLOOKUP(_xlfn.CONCAT($C$2,\"-\",$E204,\"-\",$F204,\"-\",S$3),'Raw Data'!$A$2:$D$690331,4,FALSE),\"N/A\")","v":"N/A"}]
[null,null,null,null,20,7,null,{"$f":"_xlfn.IFNA(VLOOKUP(_xlfn.CONCAT($C$2,\"-\",$E205,\"-\",$F205,\"-\",H$3),'Raw Data'!$A$2:$D$690331,4,FALSE),\"N/A\")","v":"N/A"},{"$f":"_xlfn.IFNA(VLOOKUP(_xlfn.CONCAT($C$2,\"-\",$E205,\"-\",$F205,\"-\",I$3),'Raw Data'!$A$2:$D$690331,4,FALSE),\"N/A\")","v":"N/A"},{"$f":"_xlfn.IFNA(VLOOKUP(_xlfn.CONCAT($C$2,\"-\",$E205,\"-\",$F205,\"-\",J$3),'Raw Data'!$A$2:$D$690331,4,FALSE),\"N/A\")","v":"N/A"},{"$f":"_xlfn.IFNA(VLOOKUP(_xlfn.CONCAT($C$2,\"-\",$E205,\"-\",$F205,\"-\",K$3),'Raw Data'!$A$2:$D$690331,4,FALSE),\"N/A\")","v":"N/A"},{"$f":"_xlfn.IFNA(VLOOKUP(_xlfn.CONCAT($C$2,\"-\",$E205,\"-\",$F205,\"-\",L$3),'Raw Data'!$A$2:$D$690331,4,FALSE),\"N/A\")","v":"N/A"},{"$f":"_xlfn.IFNA(VLOOKUP(_xlfn.CONCAT($C$2,\"-\",$E205,\"-\",$F205,\"-\",M$3),'Raw Data'!$A$2:$D$690331,4,FALSE),\"N/A\")","v":"N/A"},{"$f":"_xlfn.IFNA(VLOOKUP(_xlfn.CONCAT($C$2,\"-\",$E205,\"-\",$F205,\"-\",N$3),'Raw Data'!$A$2:$D$690331,4,FALSE),\"N/A\")","v":"N/A"},{"$f":"_xlfn.IFNA(VLOOKUP(_xlfn.CONCAT($C$2,\"-\",$E205,\"-\",$F205,\"-\",O$3),'Raw Data'!$A$2:$D$690331,4,FALSE),\"N/A\")","v":"N/A"},{"$f":"_xlfn.IFNA(VLOOKUP(_xlfn.CONCAT($C$2,\"-\",$E205,\"-\",$F205,\"-\",P$3),'Raw Data'!$A$2:$D$690331,4,FALSE),\"N/A\")","v":"N/A"},{"$f":"_xlfn.IFNA(VLOOKUP(_xlfn.CONCAT($C$2,\"-\",$E205,\"-\",$F205,\"-\",Q$3),'Raw Data'!$A$2:$D$690331,4,FALSE),\"N/A\")","v":"N/A"},{"$f":"_xlfn.IFNA(VLOOKUP(_xlfn.CONCAT($C$2,\"-\",$E205,\"-\",$F205,\"-\",R$3),'Raw Data'!$A$2:$D$690331,4,FALSE),\"N/A\")","v":"N/A"},{"$f":"_xlfn.IFNA(VLOOKUP(_xlfn.CONCAT($C$2,\"-\",$E205,\"-\",$F205,\"-\",S$3),'Raw Data'!$A$2:$D$690331,4,FALSE),\"N/A\")","v":"N/A"}]
[null,null,null,null,21,7,null,{"$f":"_xlfn.IFNA(VLOOKUP(_xlfn.CONCAT($C$2,\"-\",$E206,\"-\",$F206,\"-\",H$3),'Raw Data'!$A$2:$D$690331,4,FALSE),\"N/A\")","v":"N/A"},{"$f":"_xlfn.IFNA(VLOOKUP(_xlfn.CONCAT($C$2,\"-\",$E206,\"-\",$F206,\"-\",I$3),'Raw Data'!$A$2:$D$690331,4,FALSE),\"N/A\")","v":"N/A"},{"$f":"_xlfn.IFNA(VLOOKUP(_xlfn.CONCAT($C$2,\"-\",$E206,\"-\",$F206,\"-\",J$3),'Raw Data'!$A$2:$D$690331,4,FALSE),\"N/A\")","v":"N/A"},{"$f":"_xlfn.IFNA(VLOOKUP(_xlfn.CONCAT($C$2,\"-\",$E206,\"-\",$F206,\"-\",K$3),'Raw Data'!$A$2:$D$690331,4,FALSE),\"N/A\")","v":"N/A"},{"$f":"_xlfn.IFNA(VLOOKUP(_xlfn.CONCAT($C$2,\"-\",$E206,\"-\",$F206,\"-\",L$3),'Raw Data'!$A$2:$D$690331,4,FALSE),\"N/A\")","v":"N/A"},{"$f":"_xlfn.IFNA(VLOOKUP(_xlfn.CONCAT($C$2,\"-\",$E206,\"-\",$F206,\"-\",M$3),'Raw Data'!$A$2:$D$690331,4,FALSE),\"N/A\")","v":"N/A"},{"$f":"_xlfn.IFNA(VLOOKUP(_xlfn.CONCAT($C$2,\"-\",$E206,\"-\",$F206,\"-\",N$3),'Raw Data'!$A$2:$D$690331,4,FALSE),\"N/A\")","v":"N/A"},{"$f":"_xlfn.IFNA(VLOOKUP(_xlfn.CONCAT($C$2,\"-\",$E206,\"-\",$F206,\"-\",O$3),'Raw Data'!$A$2:$D$690331,4,FALSE),\"N/A\")","v":"N/A"},{"$f":"_xlfn.IFNA(VLOOKUP(_xlfn.CONCAT($C$2,\"-\",$E206,\"-\",$F206,\"-\",P$3),'Raw Data'!$A$2:$D$690331,4,FALSE),\"N/A\")","v":"N/A"},{"$f":"_xlfn.IFNA(VLOOKUP(_xlfn.CONCAT($C$2,\"-\",$E206,\"-\",$F206,\"-\",Q$3),'Raw Data'!$A$2:$D$690331,4,FALSE),\"N/A\")","v":"N/A"},{"$f":"_xlfn.IFNA(VLOOKUP(_xlfn.CONCAT($C$2,\"-\",$E206,\"-\",$F206,\"-\",R$3),'Raw Data'!$A$2:$D$690331,4,FALSE),\"N/A\")","v":"N/A"},{"$f":"_xlfn.IFNA(VLOOKUP(_xlfn.CONCAT($C$2,\"-\",$E206,\"-\",$F206,\"-\",S$3),'Raw Data'!$A$2:$D$690331,4,FALSE),\"N/A\")","v":"N/A"}]
[null,null,null,null,22,7,null,{"$f":"_xlfn.IFNA(VLOOKUP(_xlfn.CONCAT($C$2,\"-\",$E207,\"-\",$F207,\"-\",H$3),'Raw Data'!$A$2:$D$690331,4,FALSE),\"N/A\")","v":"N/A"},{"$f":"_xlfn.IFNA(VLOOKUP(_xlfn.CONCAT($C$2,\"-\",$E207,\"-\",$F207,\"-\",I$3),'Raw Data'!$A$2:$D$690331,4,FALSE),\"N/A\")","v":"N/A"},{"$f":"_xlfn.IFNA(VLOOKUP(_xlfn.CONCAT($C$2,\"-\",$E207,\"-\",$F207,\"-\",J$3),'Raw Data'!$A$2:$D$690331,4,FALSE),\"N/A\")","v":"N/A"},{"$f":"_xlfn.IFNA(VLOOKUP(_xlfn.CONCAT($C$2,\"-\",$E207,\"-\",$F207,\"-\",K$3),'Raw Data'!$A$2:$D$690331,4,FALSE),\"N/A\")","v":"N/A"},{"$f":"_xlfn.IFNA(VLOOKUP(_xlfn.CONCAT($C$2,\"-\",$E207,\"-\",$F207,\"-\",L$3),'Raw Data'!$A$2:$D$690331,4,FALSE),\"N/A\")","v":"N/A"},{"$f":"_xlfn.IFNA(VLOOKUP(_xlfn.CONCAT($C$2,\"-\",$E207,\"-\",$F207,\"-\",M$3),'Raw Data'!$A$2:$D$690331,4,FALSE),\"N/A\")","v":"N/A"},{"$f":"_xlfn.IFNA(VLOOKUP(_xlfn.CONCAT($C$2,\"-\",$E207,\"-\",$F207,\"-\",N$3),'Raw Data'!$A$2:$D$690331,4,FALSE),\"N/A\")","v":"N/A"},{"$f":"_xlfn.IFNA(VLOOKUP(_xlfn.CONCAT($C$2,\"-\",$E207,\"-\",$F207,\"-\",O$3),'Raw Data'!$A$2:$D$690331,4,FALSE),\"N/A\")","v":"N/A"},{"$f":"_xlfn.IFNA(VLOOKUP(_xlfn.CONCAT($C$2,\"-\",$E207,\"-\",$F207,\"-\",P$3),'Raw Data'!$A$2:$D$690331,4,FALSE),\"N/A\")","v":"N/A"},{"$f":"_xlfn.IFNA(VLOOKUP(_xlfn.CONCAT($C$2,\"-\",$E207,\"-\",$F207,\"-\",Q$3),'Raw Data'!$A$2:$D$690331,4,FALSE),\"N/A\")","v":"N/A"},{"$f":"_xlfn.IFNA(VLOOKUP(_xlfn.CONCAT($C$2,\"-\",$E207,\"-\",$F207,\"-\",R$3),'Raw Data'!$A$2:$D$690331,4,FALSE),\"N/A\")","v":"N/A"},{"$f":"_xlfn.IFNA(VLOOKUP(_xlfn.CONCAT($C$2,\"-\",$E207,\"-\",$F207,\"-\",S$3),'Raw Data'!$A$2:$D$690331,4,FALSE),\"N/A\")","v":"N/A"}]
[null,null,null,null,23,7,null,{"$f":"_xlfn.IFNA(VLOOKUP(_xlfn.CONCAT($C$2,\"-\",$E208,\"-\",$F208,\"-\",H$3),'Raw Data'!$A$2:$D$690331,4,FALSE),\"N/A\")","v":"N/A"},{"$f":"_xlfn.IFNA(VLOOKUP(_xlfn.CONCAT($C$2,\"-\",$E208,\"-\",$F208,\"-\",I$3),'Raw Data'!$A$2:$D$690331,4,FALSE),\"N/A\")","v":"N/A"},{"$f":"_xlfn.IFNA(VLOOKUP(_xlfn.CONCAT($C$2,\"-\",$E208,\"-\",$F208,\"-\",J$3),'Raw Data'!$A$2:$D$690331,4,FALSE),\"N/A\")","v":"N/A"},{"$f":"_xlfn.IFNA(VLOOKUP(_xlfn.CONCAT($C$2,\"-\",$E208,\"-\",$F208,\"-\",K$3),'Raw Data'!$A$2:$D$690331,4,FALSE),\"N/A\")","v":"N/A"},{"$f":"_xlfn.IFNA(VLOOKUP(_xlfn.CONCAT($C$2,\"-\",$E208,\"-\",$F208,\"-\",L$3),'Raw Data'!$A$2:$D$690331,4,FALSE),\"N/A\")","v":"N/A"},{"$f":"_xlfn.IFNA(VLOOKUP(_xlfn.CONCAT($C$2,\"-\",$E208,\"-\",$F208,\"-\",M$3),'Raw Data'!$A$2:$D$690331,4,FALSE),\"N/A\")","v":"N/A"},{"$f":"_xlfn.IFNA(VLOOKUP(_xlfn.CONCAT($C$2,\"-\",$E208,\"-\",$F208,\"-\",N$3),'Raw Data'!$A$2:$D$690331,4,FALSE),\"N/A\")","v":"N/A"},{"$f":"_xlfn.IFNA(VLOOKUP(_xlfn.CONCAT($C$2,\"-\",$E208,\"-\",$F208,\"-\",O$3),'Raw Data'!$A$2:$D$690331,4,FALSE),\"N/A\")","v":"N/A"},{"$f":"_xlfn.IFNA(VLOOKUP(_xlfn.CONCAT($C$2,\"-\",$E208,\"-\",$F208,\"-\",P$3),'Raw Data'!$A$2:$D$690331,4,FALSE),\"N/A\")","v":"N/A"},{"$f":"_xlfn.IFNA(VLOOKUP(_xlfn.CONCAT($C$2,\"-\",$E208,\"-\",$F208,\"-\",Q$3),'Raw Data'!$A$2:$D$690331,4,FALSE),\"N/A\")","v":"N/A"},{"$f":"_xlfn.IFNA(VLOOKUP(_xlfn.CONCAT($C$2,\"-\",$E208,\"-\",$F208,\"-\",R$3),'Raw Data'!$A$2:$D$690331,4,FALSE),\"N/A\")","v":"N/A"},{"$f":"_xlfn.IFNA(VLOOKUP(_xlfn.CONCAT($C$2,\"-\",$E208,\"-\",$F208,\"-\",S$3),'Raw Data'!$A$2:$D$690331,4,FALSE),\"N/A\")","v":"N/A"}]
[null,null,null,null,24,7,null,{"$f":"_xlfn.IFNA(VLOOKUP(_xlfn.CONCAT($C$2,\"-\",$E209,\"-\",$F209,\"-\",H$3),'Raw Data'!$A$2:$D$690331,4,FALSE),\"N/A\")","v":"N/A"},{"$f":"_xlfn.IFNA(VLOOKUP(_xlfn.CONCAT($C$2,\"-\",$E209,\"-\",$F209,\"-\",I$3),'Raw Data'!$A$2:$D$690331,4,FALSE),\"N/A\")","v":"N/A"},{"$f":"_xlfn.IFNA(VLOOKUP(_xlfn.CONCAT($C$2,\"-\",$E209,\"-\",$F209,\"-\",J$3),'Raw Data'!$A$2:$D$690331,4,FALSE),\"N/A\")","v":"N/A"},{"$f":"_xlfn.IFNA(VLOOKUP(_xlfn.CONCAT($C$2,\"-\",$E209,\"-\",$F209,\"-\",K$3),'Raw Data'!$A$2:$D$690331,4,FALSE),\"N/A\")","v":"N/A"},{"$f":"_xlfn.IFNA(VLOOKUP(_xlfn.CONCAT($C$2,\"-\",$E209,\"-\",$F209,\"-\",L$3),'Raw Data'!$A$2:$D$690331,4,FALSE),\"N/A\")","v":"N/A"},{"$f":"_xlfn.IFNA(VLOOKUP(_xlfn.CONCAT($C$2,\"-\",$E209,\"-\",$F209,\"-\",M$3),'Raw Data'!$A$2:$D$690331,4,FALSE),\"N/A\")","v":"N/A"},{"$f":"_xlfn.IFNA(VLOOKUP(_xlfn.CONCAT($C$2,\"-\",$E209,\"-\",$F209,\"-\",N$3),'Raw Data'!$A$2:$D$690331,4,FALSE),\"N/A\")","v":"N/A"},{"$f":"_xlfn.IFNA(VLOOKUP(_xlfn.CONCAT($C$2,\"-\",$E209,\"-\",$F209,\"-\",O$3),'Raw Data'!$A$2:$D$690331,4,FALSE),\"N/A\")","v":"N/A"},{"$f":"_xlfn.IFNA(VLOOKUP(_xlfn.CONCAT($C$2,\"-\",$E209,\"-\",$F209,\"-\",P$3),'Raw Data'!$A$2:$D$690331,4,FALSE),\"N/A\")","v":"N/A"},{"$f":"_xlfn.IFNA(VLOOKUP(_xlfn.CONCAT($C$2,\"-\",$E209,\"-\",$F209,\"-\",Q$3),'Raw Data'!$A$2:$D$690331,4,FALSE),\"N/A\")","v":"N/A"},{"$f":"_xlfn.IFNA(VLOOKUP(_xlfn.CONCAT($C$2,\"-\",$E209,\"-\",$F209,\"-\",R$3),'Raw Data'!$A$2:$D$690331,4,FALSE),\"N/A\")","v":"N/A"},{"$f":"_xlfn.IFNA(VLOOKUP(_xlfn.CONCAT($C$2,\"-\",$E209,\"-\",$F209,\"-\",S$3),'Raw Data'!$A$2:$D$690331,4,FALSE),\"N/A\")","v":"N/A"}]
[null,null,null,null,25,7,null,{"$f":"_xlfn.IFNA(VLOOKUP(_xlfn.CONCAT($C$2,\"-\",$E210,\"-\",$F210,\"-\",H$3),'Raw Data'!$A$2:$D$690331,4,FALSE),\"N/A\")","v":"N/A"},{"$f":"_xlfn.IFNA(VLOOKUP(_xlfn.CONCAT($C$2,\"-\",$E210,\"-\",$F210,\"-\",I$3),'Raw Data'!$A$2:$D$690331,4,FALSE),\"N/A\")","v":"N/A"},{"$f":"_xlfn.IFNA(VLOOKUP(_xlfn.CONCAT($C$2,\"-\",$E210,\"-\",$F210,\"-\",J$3),'Raw Data'!$A$2:$D$690331,4,FALSE),\"N/A\")","v":"N/A"},{"$f":"_xlfn.IFNA(VLOOKUP(_xlfn.CONCAT($C$2,\"-\",$E210,\"-\",$F210,\"-\",K$3),'Raw Data'!$A$2:$D$690331,4,FALSE),\"N/A\")","v":"N/A"},{"$f":"_xlfn.IFNA(VLOOKUP(_xlfn.CONCAT($C$2,\"-\",$E210,\"-\",$F210,\"-\",L$3),'Raw Data'!$A$2:$D$690331,4,FALSE),\"N/A\")","v":"N/A"},{"$f":"_xlfn.IFNA(VLOOKUP(_xlfn.CONCAT($C$2,\"-\",$E210,\"-\",$F210,\"-\",M$3),'Raw Data'!$A$2:$D$690331,4,FALSE),\"N/A\")","v":"N/A"},{"$f":"_xlfn.IFNA(VLOOKUP(_xlfn.CONCAT($C$2,\"-\",$E210,\"-\",$F210,\"-\",N$3),'Raw Data'!$A$2:$D$690331,4,FALSE),\"N/A\")","v":"N/A"},{"$f":"_xlfn.IFNA(VLOOKUP(_xlfn.CONCAT($C$2,\"-\",$E210,\"-\",$F210,\"-\",O$3),'Raw Data'!$A$2:$D$690331,4,FALSE),\"N/A\")","v":"N/A"},{"$f":"_xlfn.IFNA(VLOOKUP(_xlfn.CONCAT($C$2,\"-\",$E210,\"-\",$F210,\"-\",P$3),'Raw Data'!$A$2:$D$690331,4,FALSE),\"N/A\")","v":"N/A"},{"$f":"_xlfn.IFNA(VLOOKUP(_xlfn.CONCAT($C$2,\"-\",$E210,\"-\",$F210,\"-\",Q$3),'Raw Data'!$A$2:$D$690331,4,FALSE),\"N/A\")","v":"N/A"},{"$f":"_xlfn.IFNA(VLOOKUP(_xlfn.CONCAT($C$2,\"-\",$E210,\"-\",$F210,\"-\",R$3),'Raw Data'!$A$2:$D$690331,4,FALSE),\"N/A\")","v":"N/A"},{"$f":"_xlfn.IFNA(VLOOKUP(_xlfn.CONCAT($C$2,\"-\",$E210,\"-\",$F210,\"-\",S$3),'Raw Data'!$A$2:$D$690331,4,FALSE),\"N/A\")","v":"N/A"}]
[null,null,null,null,26,7,null,{"$f":"_xlfn.IFNA(VLOOKUP(_xlfn.CONCAT($C$2,\"-\",$E211,\"-\",$F211,\"-\",H$3),'Raw Data'!$A$2:$D$690331,4,FALSE),\"N/A\")","v":"N/A"},{"$f":"_xlfn.IFNA(VLOOKUP(_xlfn.CONCAT($C$2,\"-\",$E211,\"-\",$F211,\"-\",I$3),'Raw Data'!$A$2:$D$690331,4,FALSE),\"N/A\")","v":"N/A"},{"$f":"_xlfn.IFNA(VLOOKUP(_xlfn.CONCAT($C$2,\"-\",$E211,\"-\",$F211,\"-\",J$3),'Raw Data'!$A$2:$D$690331,4,FALSE),\"N/A\")","v":"N/A"},{"$f":"_xlfn.IFNA(VLOOKUP(_xlfn.CONCAT($C$2,\"-\",$E211,\"-\",$F211,\"-\",K$3),'Raw Data'!$A$2:$D$690331,4,FALSE),\"N/A\")","v":"N/A"},{"$f":"_xlfn.IFNA(VLOOKUP(_xlfn.CONCAT($C$2,\"-\",$E211,\"-\",$F211,\"-\",L$3),'Raw Data'!$A$2:$D$690331,4,FALSE),\"N/A\")","v":"N/A"},{"$f":"_xlfn.IFNA(VLOOKUP(_xlfn.CONCAT($C$2,\"-\",$E211,\"-\",$F211,\"-\",M$3),'Raw Data'!$A$2:$D$690331,4,FALSE),\"N/A\")","v":"N/A"},{"$f":"_xlfn.IFNA(VLOOKUP(_xlfn.CONCAT($C$2,\"-\",$E211,\"-\",$F211,\"-\",N$3),'Raw Data'!$A$2:$D$690331,4,FALSE),\"N/A\")","v":"N/A"},{"$f":"_xlfn.IFNA(VLOOKUP(_xlfn.CONCAT($C$2,\"-\",$E211,\"-\",$F211,\"-\",O$3),'Raw Data'!$A$2:$D$690331,4,FALSE),\"N/A\")","v":"N/A"},{"$f":"_xlfn.IFNA(VLOOKUP(_xlfn.CONCAT($C$2,\"-\",$E211,\"-\",$F211,\"-\",P$3),'Raw Data'!$A$2:$D$690331,4,FALSE),\"N/A\")","v":"N/A"},{"$f":"_xlfn.IFNA(VLOOKUP(_xlfn.CONCAT($C$2,\"-\",$E211,\"-\",$F211,\"-\",Q$3),'Raw Data'!$A$2:$D$690331,4,FALSE),\"N/A\")","v":"N/A"},{"$f":"_xlfn.IFNA(VLOOKUP(_xlfn.CONCAT($C$2,\"-\",$E211,\"-\",$F211,\"-\",R$3),'Raw Data'!$A$2:$D$690331,4,FALSE),\"N/A\")","v":"N/A"},{"$f":"_xlfn.IFNA(VLOOKUP(_xlfn.CONCAT($C$2,\"-\",$E211,\"-\",$F211,\"-\",S$3),'Raw Data'!$A$2:$D$690331,4,FALSE),\"N/A\")","v":"N/A"}]
[null,null,null,null,27,7,null,{"$f":"_xlfn.IFNA(VLOOKUP(_xlfn.CONCAT($C$2,\"-\",$E212,\"-\",$F212,\"-\",H$3),'Raw Data'!$A$2:$D$690331,4,FALSE),\"N/A\")","v":"N/A"},{"$f":"_xlfn.IFNA(VLOOKUP(_xlfn.CONCAT($C$2,\"-\",$E212,\"-\",$F212,\"-\",I$3),'Raw Data'!$A$2:$D$690331,4,FALSE),\"N/A\")","v":"N/A"},{"$f":"_xlfn.IFNA(VLOOKUP(_xlfn.CONCAT($C$2,\"-\",$E212,\"-\",$F212,\"-\",J$3),'Raw Data'!$A$2:$D$690331,4,FALSE),\"N/A\")","v":"N/A"},{"$f":"_xlfn.IFNA(VLOOKUP(_xlfn.CONCAT($C$2,\"-\",$E212,\"-\",$F212,\"-\",K$3),'Raw Data'!$A$2:$D$690331,4,FALSE),\"N/A\")","v":"N/A"},{"$f":"_xlfn.IFNA(VLOOKUP(_xlfn.CONCAT($C$2,\"-\",$E212,\"-\",$F212,\"-\",L$3),'Raw Data'!$A$2:$D$690331,4,FALSE),\"N/A\")","v":"N/A"},{"$f":"_xlfn.IFNA(VLOOKUP(_xlfn.CONCAT($C$2,\"-\",$E212,\"-\",$F212,\"-\",M$3),'Raw Data'!$A$2:$D$690331,4,FALSE),\"N/A\")","v":"N/A"},{"$f":"_xlfn.IFNA(VLOOKUP(_xlfn.CONCAT($C$2,\"-\",$E212,\"-\",$F212,\"-\",N$3),'Raw Data'!$A$2:$D$690331,4,FALSE),\"N/A\")","v":"N/A"},{"$f":"_xlfn.IFNA(VLOOKUP(_xlfn.CONCAT($C$2,\"-\",$E212,\"-\",$F212,\"-\",O$3),'Raw Data'!$A$2:$D$690331,4,FALSE),\"N/A\")","v":"N/A"},{"$f":"_xlfn.IFNA(VLOOKUP(_xlfn.CONCAT($C$2,\"-\",$E212,\"-\",$F212,\"-\",P$3),'Raw Data'!$A$2:$D$690331,4,FALSE),\"N/A\")","v":"N/A"},{"$f":"_xlfn.IFNA(VLOOKUP(_xlfn.CONCAT($C$2,\"-\",$E212,\"-\",$F212,\"-\",Q$3),'Raw Data'!$A$2:$D$690331,4,FALSE),\"N/A\")","v":"N/A"},{"$f":"_xlfn.IFNA(VLOOKUP(_xlfn.CONCAT($C$2,\"-\",$E212,\"-\",$F212,\"-\",R$3),'Raw Data'!$A$2:$D$690331,4,FALSE),\"N/A\")","v":"N/A"},{"$f":"_xlfn.IFNA(VLOOKUP(_xlfn.CONCAT($C$2,\"-\",$E212,\"-\",$F212,\"-\",S$3),'Raw Data'!$A$2:$D$690331,4,FALSE),\"N/A\")","v":"N/A"}]
[null,null,null,null,28,7,null,{"$f":"_xlfn.IFNA(VLOOKUP(_xlfn.CONCAT($C$2,\"-\",$E213,\"-\",$F213,\"-\",H$3),'Raw Data'!$A$2:$D$690331,4,FALSE),\"N/A\")","v":"N/A"},{"$f":"_xlfn.IFNA(VLOOKUP(_xlfn.CONCAT($C$2,\"-\",$E213,\"-\",$F213,\"-\",I$3),'Raw Data'!$A$2:$D$690331,4,FALSE),\"N/A\")","v":"N/A"},{"$f":"_xlfn.IFNA(VLOOKUP(_xlfn.CONCAT($C$2,\"-\",$E213,\"-\",$F213,\"-\",J$3),'Raw Data'!$A$2:$D$690331,4,FALSE),\"N/A\")","v":"N/A"},{"$f":"_xlfn.IFNA(VLOOKUP(_xlfn.CONCAT($C$2,\"-\",$E213,\"-\",$F213,\"-\",K$3),'Raw Data'!$A$2:$D$690331,4,FALSE),\"N/A\")","v":"N/A"},{"$f":"_xlfn.IFNA(VLOOKUP(_xlfn.CONCAT($C$2,\"-\",$E213,\"-\",$F213,\"-\",L$3),'Raw Data'!$A$2:$D$690331,4,FALSE),\"N/A\")","v":"N/A"},{"$f":"_xlfn.IFNA(VLOOKUP(_xlfn.CONCAT($C$2,\"-\",$E213,\"-\",$F213,\"-\",M$3),'Raw Data'!$A$2:$D$690331,4,FALSE),\"N/A\")","v":"N/A"},{"$f":"_xlfn.IFNA(VLOOKUP(_xlfn.CONCAT($C$2,\"-\",$E213,\"-\",$F213,\"-\",N$3),'Raw Data'!$A$2:$D$690331,4,FALSE),\"N/A\")","v":"N/A"},{"$f":"_xlfn.IFNA(VLOOKUP(_xlfn.CONCAT($C$2,\"-\",$E213,\"-\",$F213,\"-\",O$3),'Raw Data'!$A$2:$D$690331,4,FALSE),\"N/A\")","v":"N/A"},{"$f":"_xlfn.IFNA(VLOOKUP(_xlfn.CONCAT($C$2,\"-\",$E213,\"-\",$F213,\"-\",P$3),'Raw Data'!$A$2:$D$690331,4,FALSE),\"N/A\")","v":"N/A"},{"$f":"_xlfn.IFNA(VLOOKUP(_xlfn.CONCAT($C$2,\"-\",$E213,\"-\",$F213,\"-\",Q$3),'Raw Data'!$A$2:$D$690331,4,FALSE),\"N/A\")","v":"N/A"},{"$f":"_xlfn.IFNA(VLOOKUP(_xlfn.CONCAT($C$2,\"-\",$E213,\"-\",$F213,\"-\",R$3),'Raw Data'!$A$2:$D$690331,4,FALSE),\"N/A\")","v":"N/A"},{"$f":"_xlfn.IFNA(VLOOKUP(_xlfn.CONCAT($C$2,\"-\",$E213,\"-\",$F213,\"-\",S$3),'Raw Data'!$A$2:$D$690331,4,FALSE),\"N/A\")","v":"N/A"}]
[null,null,null,null,29,7,null,{"$f":"_xlfn.IFNA(VLOOKUP(_xlfn.CONCAT($C$2,\"-\",$E214,\"-\",$F214,\"-\",H$3),'Raw Data'!$A$2:$D$690331,4,FALSE),\"N/A\")","v":"N/A"},{"$f":"_xlfn.IFNA(VLOOKUP(_xlfn.CONCAT($C$2,\"-\",$E214,\"-\",$F214,\"-\",I$3),'Raw Data'!$A$2:$D$690331,4,FALSE),\"N/A\")","v":"N/A"},{"$f":"_xlfn.IFNA(VLOOKUP(_xlfn.CONCAT($C$2,\"-\",$E214,\"-\",$F214,\"-\",J$3),'Raw Data'!$A$2:$D$690331,4,FALSE),\"N/A\")","v":"N/A"},{"$f":"_xlfn.IFNA(VLOOKUP(_xlfn.CONCAT($C$2,\"-\",$E214,\"-\",$F214,\"-\",K$3),'Raw Data'!$A$2:$D$690331,4,FALSE),\"N/A\")","v":"N/A"},{"$f":"_xlfn.IFNA(VLOOKUP(_xlfn.CONCAT($C$2,\"-\",$E214,\"-\",$F214,\"-\",L$3),'Raw Data'!$A$2:$D$690331,4,FALSE),\"N/A\")","v":"N/A"},{"$f":"_xlfn.IFNA(VLOOKUP(_xlfn.CONCAT($C$2,\"-\",$E214,\"-\",$F214,\"-\",M$3),'Raw Data'!$A$2:$D$690331,4,FALSE),\"N/A\")","v":"N/A"},{"$f":"_xlfn.IFNA(VLOOKUP(_xlfn.CONCAT($C$2,\"-\",$E214,\"-\",$F214,\"-\",N$3),'Raw Data'!$A$2:$D$690331,4,FALSE),\"N/A\")","v":"N/A"},{"$f":"_xlfn.IFNA(VLOOKUP(_xlfn.CONCAT($C$2,\"-\",$E214,\"-\",$F214,\"-\",O$3),'Raw Data'!$A$2:$D$690331,4,FALSE),\"N/A\")","v":"N/A"},{"$f":"_xlfn.IFNA(VLOOKUP(_xlfn.CONCAT($C$2,\"-\",$E214,\"-\",$F214,\"-\",P$3),'Raw Data'!$A$2:$D$690331,4,FALSE),\"N/A\")","v":"N/A"},{"$f":"_xlfn.IFNA(VLOOKUP(_xlfn.CONCAT($C$2,\"-\",$E214,\"-\",$F214,\"-\",Q$3),'Raw Data'!$A$2:$D$690331,4,FALSE),\"N/A\")","v":"N/A"},{"$f":"_xlfn.IFNA(VLOOKUP(_xlfn.CONCAT($C$2,\"-\",$E214,\"-\",$F214,\"-\",R$3),'Raw Data'!$A$2:$D$690331,4,FALSE),\"N/A\")","v":"N/A"},{"$f":"_xlfn.IFNA(VLOOKUP(_xlfn.CONCAT($C$2,\"-\",$E214,\"-\",$F214,\"-\",S$3),'Raw Data'!$A$2:$D$690331,4,FALSE),\"N/A\")","v":"N/A"}]
[null,null,null,null,30,7,null,{"$f":"_xlfn.IFNA(VLOOKUP(_xlfn.CONCAT($C$2,\"-\",$E215,\"-\",$F215,\"-\",H$3),'Raw Data'!$A$2:$D$690331,4,FALSE),\"N/A\")","v":"N/A"},{"$f":"_xlfn.IFNA(VLOOKUP(_xlfn.CONCAT($C$2,\"-\",$E215,\"-\",$F215,\"-\",I$3),'Raw Data'!$A$2:$D$690331,4,FALSE),\"N/A\")","v":"N/A"},{"$f":"_xlfn.IFNA(VLOOKUP(_xlfn.CONCAT($C$2,\"-\",$E215,\"-\",$F215,\"-\",J$3),'Raw Data'!$A$2:$D$690331,4,FALSE),\"N/A\")","v":"N/A"},{"$f":"_xlfn.IFNA(VLOOKUP(_xlfn.CONCAT($C$2,\"-\",$E215,\"-\",$F215,\"-\",K$3),'Raw Data'!$A$2:$D$690331,4,FALSE),\"N/A\")","v":"N/A"},{"$f":"_xlfn.IFNA(VLOOKUP(_xlfn.CONCAT($C$2,\"-\",$E215,\"-\",$F215,\"-\",L$3),'Raw Data'!$A$2:$D$690331,4,FALSE),\"N/A\")","v":"N/A"},{"$f":"_xlfn.IFNA(VLOOKUP(_xlfn.CONCAT($C$2,\"-\",$E215,\"-\",$F215,\"-\",M$3),'Raw Data'!$A$2:$D$690331,4,FALSE),\"N/A\")","v":"N/A"},{"$f":"_xlfn.IFNA(VLOOKUP(_xlfn.CONCAT($C$2,\"-\",$E215,\"-\",$F215,\"-\",N$3),'Raw Data'!$A$2:$D$690331,4,FALSE),\"N/A\")","v":"N/A"},{"$f":"_xlfn.IFNA(VLOOKUP(_xlfn.CONCAT($C$2,\"-\",$E215,\"-\",$F215,\"-\",O$3),'Raw Data'!$A$2:$D$690331,4,FALSE),\"N/A\")","v":"N/A"},{"$f":"_xlfn.IFNA(VLOOKUP(_xlfn.CONCAT($C$2,\"-\",$E215,\"-\",$F215,\"-\",P$3),'Raw Data'!$A$2:$D$690331,4,FALSE),\"N/A\")","v":"N/A"},{"$f":"_xlfn.IFNA(VLOOKUP(_xlfn.CONCAT($C$2,\"-\",$E215,\"-\",$F215,\"-\",Q$3),'Raw Data'!$A$2:$D$690331,4,FALSE),\"N/A\")","v":"N/A"},{"$f":"_xlfn.IFNA(VLOOKUP(_xlfn.CONCAT($C$2,\"-\",$E215,\"-\",$F215,\"-\",R$3),'Raw Data'!$A$2:$D$690331,4,FALSE),\"N/A\")","v":"N/A"},{"$f":"_xlfn.IFNA(VLOOKUP(_xlfn.CONCAT($C$2,\"-\",$E215,\"-\",$F215,\"-\",S$3),'Raw Data'!$A$2:$D$690331,4,FALSE),\"N/A\")","v":"N/A"}]
[null,null,null,null,31,7,null,{"$f":"_xlfn.IFNA(VLOOKUP(_xlfn.CONCAT($C$2,\"-\",$E216,\"-\",$F216,\"-\",H$3),'Raw Data'!$A$2:$D$690331,4,FALSE),\"N/A\")","v":"N/A"},{"$f":"_xlfn.IFNA(VLOOKUP(_xlfn.CONCAT($C$2,\"-\",$E216,\"-\",$F216,\"-\",I$3),'Raw Data'!$A$2:$D$690331,4,FALSE),\"N/A\")","v":"N/A"},{"$f":"_xlfn.IFNA(VLOOKUP(_xlfn.CONCAT($C$2,\"-\",$E216,\"-\",$F216,\"-\",J$3),'Raw Data'!$A$2:$D$690331,4,FALSE),\"N/A\")","v":"N/A"},{"$f":"_xlfn.IFNA(VLOOKUP(_xlfn.CONCAT($C$2,\"-\",$E216,\"-\",$F216,\"-\",K$3),'Raw Data'!$A$2:$D$690331,4,FALSE),\"N/A\")","v":"N/A"},{"$f":"_xlfn.IFNA(VLOOKUP(_xlfn.CONCAT($C$2,\"-\",$E216,\"-\",$F216,\"-\",L$3),'Raw Data'!$A$2:$D$690331,4,FALSE),\"N/A\")","v":"N/A"},{"$f":"_xlfn.IFNA(VLOOKUP(_xlfn.CONCAT($C$2,\"-\",$E216,\"-\",$F216,\"-\",M$3),'Raw Data'!$A$2:$D$690331,4,FALSE),\"N/A\")","v":"N/A"},{"$f":"_xlfn.IFNA(VLOOKUP(_xlfn.CONCAT($C$2,\"-\",$E216,\"-\",$F216,\"-\",N$3),'Raw Data'!$A$2:$D$690331,4,FALSE),\"N/A\")","v":"N/A"},{"$f":"_xlfn.IFNA(VLOOKUP(_xlfn.CONCAT($C$2,\"-\",$E216,\"-\",$F216,\"-\",O$3),'Raw Data'!$A$2:$D$690331,4,FALSE),\"N/A\")","v":"N/A"},{"$f":"_xlfn.IFNA(VLOOKUP(_xlfn.CONCAT($C$2,\"-\",$E216,\"-\",$F216,\"-\",P$3),'Raw Data'!$A$2:$D$690331,4,FALSE),\"N/A\")","v":"N/A"},{"$f":"_xlfn.IFNA(VLOOKUP(_xlfn.CONCAT($C$2,\"-\",$E216,\"-\",$F216,\"-\",Q$3),'Raw Data'!$A$2:$D$690331,4,FALSE),\"N/A\")","v":"N/A"},{"$f":"_xlfn.IFNA(VLOOKUP(_xlfn.CONCAT($C$2,\"-\",$E216,\"-\",$F216,\"-\",R$3),'Raw Data'!$A$2:$D$690331,4,FALSE),\"N/A\")","v":"N/A"},{"$f":"_xlfn.IFNA(VLOOKUP(_xlfn.CONCAT($C$2,\"-\",$E216,\"-\",$F216,\"-\",S$3),'Raw Data'!$A$2:$D$690331,4,FALSE),\"N/A\")","v":"N/A"}]
[null,null,null,null,1,8,null,{"$f":"_xlfn.IFNA(VLOOKUP(_xlfn.CONCAT($C$2,\"-\",$E217,\"-\",$F217,\"-\",H$3),'Raw Data'!$A$2:$D$690331,4,FALSE),\"N/A\")","v":"N/A"},{"$f":"_xlfn.IFNA(VLOOKUP(_xlfn.CONCAT($C$2,\"-\",$E217,\"-\",$F217,\"-\",I$3),'Raw Data'!$A$2:$D$690331,4,FALSE),\"N/A\")","v":"N/A"},{"$f":"_xlfn.IFNA(VLOOKUP(_xlfn.CONCAT($C$2,\"-\",$E217,\"-\",$F217,\"-\",J$3),'Raw Data'!$A$2:$D$690331,4,FALSE),\"N/A\")","v":"N/A"},{"$f":"_xlfn.IFNA(VLOOKUP(_xlfn.CONCAT($C$2,\"-\",$E217,\"-\",$F217,\"-\",K$3),'Raw Data'!$A$2:$D$690331,4,FALSE),\"N/A\")","v":"N/A"},{"$f":"_xlfn.IFNA(VLOOKUP(_xlfn.CONCAT($C$2,\"-\",$E217,\"-\",$F217,\"-\",L$3),'Raw Data'!$A$2:$D$690331,4,FALSE),\"N/A\")","v":"N/A"},{"$f":"_xlfn.IFNA(VLOOKUP(_xlfn.CONCAT($C$2,\"-\",$E217,\"-\",$F217,\"-\",M$3),'Raw Data'!$A$2:$D$690331,4,FALSE),\"N/A\")","v":"N/A"},{"$f":"_xlfn.IFNA(VLOOKUP(_xlfn.CONCAT($C$2,\"-\",$E217,\"-\",$F217,\"-\",N$3),'Raw Data'!$A$2:$D$690331,4,FALSE),\"N/A\")","v":"N/A"},{"$f":"_xlfn.IFNA(VLOOKUP(_xlfn.CONCAT($C$2,\"-\",$E217,\"-\",$F217,\"-\",O$3),'Raw Data'!$A$2:$D$690331,4,FALSE),\"N/A\")","v":"N/A"},{"$f":"_xlfn.IFNA(VLOOKUP(_xlfn.CONCAT($C$2,\"-\",$E217,\"-\",$F217,\"-\",P$3),'Raw Data'!$A$2:$D$690331,4,FALSE),\"N/A\")","v":"N/A"},{"$f":"_xlfn.IFNA(VLOOKUP(_xlfn.CONCAT($C$2,\"-\",$E217,\"-\",$F217,\"-\",Q$3),'Raw Data'!$A$2:$D$690331,4,FALSE),\"N/A\")","v":"N/A"},{"$f":"_xlfn.IFNA(VLOOKUP(_xlfn.CONCAT($C$2,\"-\",$E217,\"-\",$F217,\"-\",R$3),'Raw Data'!$A$2:$D$690331,4,FALSE),\"N/A\")","v":"N/A"},{"$f":"_xlfn.IFNA(VLOOKUP(_xlfn.CONCAT($C$2,\"-\",$E217,\"-\",$F217,\"-\",S$3),'Raw Data'!$A$2:$D$690331,4,FALSE),\"N/A\")","v":"N/A"}]
[null,null,null,null,2,8,null,{"$f":"_xlfn.IFNA(VLOOKUP(_xlfn.CONCAT($C$2,\"-\",$E218,\"-\",$F218,\"-\",H$3),'Raw Data'!$A$2:$D$690331,4,FALSE),\"N/A\")","v":"N/A"},{"$f":"_xlfn.IFNA(VLOOKUP(_xlfn.CONCAT($C$2,\"-\",$E218,\"-\",$F218,\"-\",I$3),'Raw Data'!$A$2:$D$690331,4,FALSE),\"N/A\")","v":"N/A"},{"$f":"_xlfn.IFNA(VLOOKUP(_xlfn.CONCAT($C$2,\"-\",$E218,\"-\",$F218,\"-\",J$3),'Raw Data'!$A$2:$D$690331,4,FALSE),\"N/A\")","v":"N/A"},{"$f":"_xlfn.IFNA(VLOOKUP(_xlfn.CONCAT($C$2,\"-\",$E218,\"-\",$F218,\"-\",K$3),'Raw Data'!$A$2:$D$690331,4,FALSE),\"N/A\")","v":"N/A"},{"$f":"_xlfn.IFNA(VLOOKUP(_xlfn.CONCAT($C$2,\"-\",$E218,\"-\",$F218,\"-\",L$3),'Raw Data'!$A$2:$D$690331,4,FALSE),\"N/A\")","v":"N/A"},{"$f":"_xlfn.IFNA(VLOOKUP(_xlfn.CONCAT($C$2,\"-\",$E218,\"-\",$F218,\"-\",M$3),'Raw Data'!$A$2:$D$690331,4,FALSE),\"N/A\")","v":"N/A"},{"$f":"_xlfn.IFNA(VLOOKUP(_xlfn.CONCAT($C$2,\"-\",$E218,\"-\",$F218,\"-\",N$3),'Raw Data'!$A$2:$D$690331,4,FALSE),\"N/A\")","v":"N/A"},{"$f":"_xlfn.IFNA(VLOOKUP(_xlfn.CONCAT($C$2,\"-\",$E218,\"-\",$F218,\"-\",O$3),'Raw Data'!$A$2:$D$690331,4,FALSE),\"N/A\")","v":"N/A"},{"$f":"_xlfn.IFNA(VLOOKUP(_xlfn.CONCAT($C$2,\"-\",$E218,\"-\",$F218,\"-\",P$3),'Raw Data'!$A$2:$D$690331,4,FALSE),\"N/A\")","v":"N/A"},{"$f":"_xlfn.IFNA(VLOOKUP(_xlfn.CONCAT($C$2,\"-\",$E218,\"-\",$F218,\"-\",Q$3),'Raw Data'!$A$2:$D$690331,4,FALSE),\"N/A\")","v":"N/A"},{"$f":"_xlfn.IFNA(VLOOKUP(_xlfn.CONCAT($C$2,\"-\",$E218,\"-\",$F218,\"-\",R$3),'Raw Data'!$A$2:$D$690331,4,FALSE),\"N/A\")","v":"N/A"},{"$f":"_xlfn.IFNA(VLOOKUP(_xlfn.CONCAT($C$2,\"-\",$E218,\"-\",$F218,\"-\",S$3),'Raw Data'!$A$2:$D$690331,4,FALSE),\"N/A\")","v":"N/A"}]
[null,null,null,null,3,8,null,{"$f":"_xlfn.IFNA(VLOOKUP(_xlfn.CONCAT($C$2,\"-\",$E219,\"-\",$F219,\"-\",H$3),'Raw Data'!$A$2:$D$690331,4,FALSE),\"N/A\")","v":"N/A"},{"$f":"_xlfn.IFNA(VLOOKUP(_xlfn.CONCAT($C$2,\"-\",$E219,\"-\",$F219,\"-\",I$3),'Raw Data'!$A$2:$D$690331,4,FALSE),\"N/A\")","v":"N/A"},{"$f":"_xlfn.IFNA(VLOOKUP(_xlfn.CONCAT($C$2,\"-\",$E219,\"-\",$F219,\"-\",J$3),'Raw Data'!$A$2:$D$690331,4,FALSE),\"N/A\")","v":"N/A"},{"$f":"_xlfn.IFNA(VLOOKUP(_xlfn.CONCAT($C$2,\"-\",$E219,\"-\",$F219,\"-\",K$3),'Raw Data'!$A$2:$D$690331,4,FALSE),\"N/A\")","v":"N/A"},{"$f":"_xlfn.IFNA(VLOOKUP(_xlfn.CONCAT($C$2,\"-\",$E219,\"-\",$F219,\"-\",L$3),'Raw Data'!$A$2:$D$690331,4,FALSE),\"N/A\")","v":"N/A"},{"$f":"_xlfn.IFNA(VLOOKUP(_xlfn.CONCAT($C$2,\"-\",$E219,\"-\",$F219,\"-\",M$3),'Raw Data'!$A$2:$D$690331,4,FALSE),\"N/A\")","v":"N/A"},{"$f":"_xlfn.IFNA(VLOOKUP(_xlfn.CONCAT($C$2,\"-\",$E219,\"-\",$F219,\"-\",N$3),'Raw Data'!$A$2:$D$690331,4,FALSE),\"N/A\")","v":"N/A"},{"$f":"_xlfn.IFNA(VLOOKUP(_xlfn.CONCAT($C$2,\"-\",$E219,\"-\",$F219,\"-\",O$3),'Raw Data'!$A$2:$D$690331,4,FALSE),\"N/A\")","v":"N/A"},{"$f":"_xlfn.IFNA(VLOOKUP(_xlfn.CONCAT($C$2,\"-\",$E219,\"-\",$F219,\"-\",P$3),'Raw Data'!$A$2:$D$690331,4,FALSE),\"N/A\")","v":"N/A"},{"$f":"_xlfn.IFNA(VLOOKUP(_xlfn.CONCAT($C$2,\"-\",$E219,\"-\",$F219,\"-\",Q$3),'Raw Data'!$A$2:$D$690331,4,FALSE),\"N/A\")","v":"N/A"},{"$f":"_xlfn.IFNA(VLOOKUP(_xlfn.CONCAT($C$2,\"-\",$E219,\"-\",$F219,\"-\",R$3),'Raw Data'!$A$2:$D$690331,4,FALSE),\"N/A\")","v":"N/A"},{"$f":"_xlfn.IFNA(VLOOKUP(_xlfn.CONCAT($C$2,\"-\",$E219,\"-\",$F219,\"-\",S$3),'Raw Data'!$A$2:$D$690331,4,FALSE),\"N/A\")","v":"N/A"}]
[null,null,null,null,4,8,null,{"$f":"_xlfn.IFNA(VLOOKUP(_xlfn.CONCAT($C$2,\"-\",$E220,\"-\",$F220,\"-\",H$3),'Raw Data'!$A$2:$D$690331,4,FALSE),\"N/A\")","v":"N/A"},{"$f":"_xlfn.IFNA(VLOOKUP(_xlfn.CONCAT($C$2,\"-\",$E220,\"-\",$F220,\"-\",I$3),'Raw Data'!$A$2:$D$690331,4,FALSE),\"N/A\")","v":"N/A"},{"$f":"_xlfn.IFNA(VLOOKUP(_xlfn.CONCAT($C$2,\"-\",$E220,\"-\",$F220,\"-\",J$3),'Raw Data'!$A$2:$D$690331,4,FALSE),\"N/A\")","v":"N/A"},{"$f":"_xlfn.IFNA(VLOOKUP(_xlfn.CONCAT($C$2,\"-\",$E220,\"-\",$F220,\"-\",K$3),'Raw Data'!$A$2:$D$690331,4,FALSE),\"N/A\")","v":"N/A"},{"$f":"_xlfn.IFNA(VLOOKUP(_xlfn.CONCAT($C$2,\"-\",$E220,\"-\",$F220,\"-\",L$3),'Raw Data'!$A$2:$D$690331,4,FALSE),\"N/A\")","v":"N/A"},{"$f":"_xlfn.IFNA(VLOOKUP(_xlfn.CONCAT($C$2,\"-\",$E220,\"-\",$F220,\"-\",M$3),'Raw Data'!$A$2:$D$690331,4,FALSE),\"N/A\")","v":"N/A"},{"$f":"_xlfn.IFNA(VLOOKUP(_xlfn.CONCAT($C$2,\"-\",$E220,\"-\",$F220,\"-\",N$3),'Raw Data'!$A$2:$D$690331,4,FALSE),\"N/A\")","v":"N/A"},{"$f":"_xlfn.IFNA(VLOOKUP(_xlfn.CONCAT($C$2,\"-\",$E220,\"-\",$F220,\"-\",O$3),'Raw Data'!$A$2:$D$690331,4,FALSE),\"N/A\")","v":"N/A"},{"$f":"_xlfn.IFNA(VLOOKUP(_xlfn.CONCAT($C$2,\"-\",$E220,\"-\",$F220,\"-\",P$3),'Raw Data'!$A$2:$D$690331,4,FALSE),\"N/A\")","v":"N/A"},{"$f":"_xlfn.IFNA(VLOOKUP(_xlfn.CONCAT($C$2,\"-\",$E220,\"-\",$F220,\"-\",Q$3),'Raw Data'!$A$2:$D$690331,4,FALSE),\"N/A\")","v":"N/A"},{"$f":"_xlfn.IFNA(VLOOKUP(_xlfn.CONCAT($C$2,\"-\",$E220,\"-\",$F220,\"-\",R$3),'Raw Data'!$A$2:$D$690331,4,FALSE),\"N/A\")","v":"N/A"},{"$f":"_xlfn.IFNA(VLOOKUP(_xlfn.CONCAT($C$2,\"-\",$E220,\"-\",$F220,\"-\",S$3),'Raw Data'!$A$2:$D$690331,4,FALSE),\"N/A\")","v":"N/A"}]
[null,null,null,null,5,8,null,{"$f":"_xlfn.IFNA(VLOOKUP(_xlfn.CONCAT($C$2,\"-\",$E221,\"-\",$F221,\"-\",H$3),'Raw Data'!$A$2:$D$690331,4,FALSE),\"N/A\")","v":"N/A"},{"$f":"_xlfn.IFNA(VLOOKUP(_xlfn.CONCAT($C$2,\"-\",$E221,\"-\",$F221,\"-\",I$3),'Raw Data'!$A$2:$D$690331,4,FALSE),\"N/A\")","v":"N/A"},{"$f":"_xlfn.IFNA(VLOOKUP(_xlfn.CONCAT($C$2,\"-\",$E221,\"-\",$F221,\"-\",J$3),'Raw Data'!$A$2:$D$690331,4,FALSE),\"N/A\")","v":"N/A"},{"$f":"_xlfn.IFNA(VLOOKUP(_xlfn.CONCAT($C$2,\"-\",$E221,\"-\",$F221,\"-\",K$3),'Raw Data'!$A$2:$D$690331,4,FALSE),\"N/A\")","v":"N/A"},{"$f":"_xlfn.IFNA(VLOOKUP(_xlfn.CONCAT($C$2,\"-\",$E221,\"-\",$F221,\"-\",L$3),'Raw Data'!$A$2:$D$690331,4,FALSE),\"N/A\")","v":"N/A"},{"$f":"_xlfn.IFNA(VLOOKUP(_xlfn.CONCAT($C$2,\"-\",$E221,\"-\",$F221,\"-\",M$3),'Raw Data'!$A$2:$D$690331,4,FALSE),\"N/A\")","v":"N/A"},{"$f":"_xlfn.IFNA(VLOOKUP(_xlfn.CONCAT($C$2,\"-\",$E221,\"-\",$F221,\"-\",N$3),'Raw Data'!$A$2:$D$690331,4,FALSE),\"N/A\")","v":"N/A"},{"$f":"_xlfn.IFNA(VLOOKUP(_xlfn.CONCAT($C$2,\"-\",$E221,\"-\",$F221,\"-\",O$3),'Raw Data'!$A$2:$D$690331,4,FALSE),\"N/A\")","v":"N/A"},{"$f":"_xlfn.IFNA(VLOOKUP(_xlfn.CONCAT($C$2,\"-\",$E221,\"-\",$F221,\"-\",P$3),'Raw Data'!$A$2:$D$690331,4,FALSE),\"N/A\")","v":"N/A"},{"$f":"_xlfn.IFNA(VLOOKUP(_xlfn.CONCAT($C$2,\"-\",$E221,\"-\",$F221,\"-\",Q$3),'Raw Data'!$A$2:$D$690331,4,FALSE),\"N/A\")","v":"N/A"},{"$f":"_xlfn.IFNA(VLOOKUP(_xlfn.CONCAT($C$2,\"-\",$E221,\"-\",$F221,\"-\",R$3),'Raw Data'!$A$2:$D$690331,4,FALSE),\"N/A\")","v":"N/A"},{"$f":"_xlfn.IFNA(VLOOKUP(_xlfn.CONCAT($C$2,\"-\",$E221,\"-\",$F221,\"-\",S$3),'Raw Data'!$A$2:$D$690331,4,FALSE),\"N/A\")","v":"N/A"}]
[null,null,null,null,6,8,null,{"$f":"_xlfn.IFNA(VLOOKUP(_xlfn.CONCAT($C$2,\"-\",$E222,\"-\",$F222,\"-\",H$3),'Raw Data'!$A$2:$D$690331,4,FALSE),\"N/A\")","v":"N/A"},{"$f":"_xlfn.IFNA(VLOOKUP(_xlfn.CONCAT($C$2,\"-\",$E222,\"-\",$F222,\"-\",I$3),'Raw Data'!$A$2:$D$690331,4,FALSE),\"N/A\")","v":"N/A"},{"$f":"_xlfn.IFNA(VLOOKUP(_xlfn.CONCAT($C$2,\"-\",$E222,\"-\",$F222,\"-\",J$3),'Raw Data'!$A$2:$D$690331,4,FALSE),\"N/A\")","v":"N/A"},{"$f":"_xlfn.IFNA(VLOOKUP(_xlfn.CONCAT($C$2,\"-\",$E222,\"-\",$F222,\"-\",K$3),'Raw Data'!$A$2:$D$690331,4,FALSE),\"N/A\")","v":"N/A"},{"$f":"_xlfn.IFNA(VLOOKUP(_xlfn.CONCAT($C$2,\"-\",$E222,\"-\",$F222,\"-\",L$3),'Raw Data'!$A$2:$D$690331,4,FALSE),\"N/A\")","v":"N/A"},{"$f":"_xlfn.IFNA(VLOOKUP(_xlfn.CONCAT($C$2,\"-\",$E222,\"-\",$F222,\"-\",M$3),'Raw Data'!$A$2:$D$690331,4,FALSE),\"N/A\")","v":"N/A"},{"$f":"_xlfn.IFNA(VLOOKUP(_xlfn.CONCAT($C$2,\"-\",$E222,\"-\",$F222,\"-\",N$3),'Raw Data'!$A$2:$D$690331,4,FALSE),\"N/A\")","v":"N/A"},{"$f":"_xlfn.IFNA(VLOOKUP(_xlfn.CONCAT($C$2,\"-\",$E222,\"-\",$F222,\"-\",O$3),'Raw Data'!$A$2:$D$690331,4,FALSE),\"N/A\")","v":"N/A"},{"$f":"_xlfn.IFNA(VLOOKUP(_xlfn.CONCAT($C$2,\"-\",$E222,\"-\",$F222,\"-\",P$3),'Raw Data'!$A$2:$D$690331,4,FALSE),\"N/A\")","v":"N/A"},{"$f":"_xlfn.IFNA(VLOOKUP(_xlfn.CONCAT($C$2,\"-\",$E222,\"-\",$F222,\"-\",Q$3),'Raw Data'!$A$2:$D$690331,4,FALSE),\"N/A\")","v":"N/A"},{"$f":"_xlfn.IFNA(VLOOKUP(_xlfn.CONCAT($C$2,\"-\",$E222,\"-\",$F222,\"-\",R$3),'Raw Data'!$A$2:$D$690331,4,FALSE),\"N/A\")","v":"N/A"},{"$f":"_xlfn.IFNA(VLOOKUP(_xlfn.CONCAT($C$2,\"-\",$E222,\"-\",$F222,\"-\",S$3),'Raw Data'!$A$2:$D$690331,4,FALSE),\"N/A\")","v":"N/A"}]
[null,null,null,null,7,8,null,{"$f":"_xlfn.IFNA(VLOOKUP(_xlfn.CONCAT($C$2,\"-\",$E223,\"-\",$F223,\"-\",H$3),'Raw Data'!$A$2:$D$690331,4,FALSE),\"N/A\")","v":"N/A"},{"$f":"_xlfn.IFNA(VLOOKUP(_xlfn.CONCAT($C$2,\"-\",$E223,\"-\",$F223,\"-\",I$3),'Raw Data'!$A$2:$D$690331,4,FALSE),\"N/A\")","v":"N/A"},{"$f":"_xlfn.IFNA(VLOOKUP(_xlfn.CONCAT($C$2,\"-\",$E223,\"-\",$F223,\"-\",J$3),'Raw Data'!$A$2:$D$690331,4,FALSE),\"N/A\")","v":"N/A"},{"$f":"_xlfn.IFNA(VLOOKUP(_xlfn.CONCAT($C$2,\"-\",$E223,\"-\",$F223,\"-\",K$3),'Raw Data'!$A$2:$D$690331,4,FALSE),\"N/A\")","v":"N/A"},{"$f":"_xlfn.IFNA(VLOOKUP(_xlfn.CONCAT($C$2,\"-\",$E223,\"-\",$F223,\"-\",L$3),'Raw Data'!$A$2:$D$690331,4,FALSE),\"N/A\")","v":"N/A"},{"$f":"_xlfn.IFNA(VLOOKUP(_xlfn.CONCAT($C$2,\"-\",$E223,\"-\",$F223,\"-\",M$3),'Raw Data'!$A$2:$D$690331,4,FALSE),\"N/A\")","v":"N/A"},{"$f":"_xlfn.IFNA(VLOOKUP(_xlfn.CONCAT($C$2,\"-\",$E223,\"-\",$F223,\"-\",N$3),'Raw Data'!$A$2:$D$690331,4,FALSE),\"N/A\")","v":"N/A"},{"$f":"_xlfn.IFNA(VLOOKUP(_xlfn.CONCAT($C$2,\"-\",$E223,\"-\",$F223,\"-\",O$3),'Raw Data'!$A$2:$D$690331,4,FALSE),\"N/A\")","v":"N/A"},{"$f":"_xlfn.IFNA(VLOOKUP(_xlfn.CONCAT($C$2,\"-\",$E223,\"-\",$F223,\"-\",P$3),'Raw Data'!$A$2:$D$690331,4,FALSE),\"N/A\")","v":"N/A"},{"$f":"_xlfn.IFNA(VLOOKUP(_xlfn.CONCAT($C$2,\"-\",$E223,\"-\",$F223,\"-\",Q$3),'Raw Data'!$A$2:$D$690331,4,FALSE),\"N/A\")","v":"N/A"},{"$f":"_xlfn.IFNA(VLOOKUP(_xlfn.CONCAT($C$2,\"-\",$E223,\"-\",$F223,\"-\",R$3),'Raw Data'!$A$2:$D$690331,4,FALSE),\"N/A\")","v":"N/A"},{"$f":"_xlfn.IFNA(VLOOKUP(_xlfn.CONCAT($C$2,\"-\",$E223,\"-\",$F223,\"-\",S$3),'Raw Data'!$A$2:$D$690331,4,FALSE),\"N/A\")","v":"N/A"}]
[null,null,null,null,8,8,null,{"$f":"_xlfn.IFNA(VLOOKUP(_xlfn.CONCAT($C$2,\"-\",$E224,\"-\",$F224,\"-\",H$3),'Raw Data'!$A$2:$D$690331,4,FALSE),\"N/A\")","v":"N/A"},{"$f":"_xlfn.IFNA(VLOOKUP(_xlfn.CONCAT($C$2,\"-\",$E224,\"-\",$F224,\"-\",I$3),'Raw Data'!$A$2:$D$690331,4,FALSE),\"N/A\")","v":"N/A"},{"$f":"_xlfn.IFNA(VLOOKUP(_xlfn.CONCAT($C$2,\"-\",$E224,\"-\",$F224,\"-\",J$3),'Raw Data'!$A$2:$D$690331,4,FALSE),\"N/A\")","v":"N/A"},{"$f":"_xlfn.IFNA(VLOOKUP(_xlfn.CONCAT($C$2,\"-\",$E224,\"-\",$F224,\"-\",K$3),'Raw Data'!$A$2:$D$690331,4,FALSE),\"N/A\")","v":"N/A"},{"$f":"_xlfn.IFNA(VLOOKUP(_xlfn.CONCAT($C$2,\"-\",$E224,\"-\",$F224,\"-\",L$3),'Raw Data'!$A$2:$D$690331,4,FALSE),\"N/A\")","v":"N/A"},{"$f":"_xlfn.IFNA(VLOOKUP(_xlfn.CONCAT($C$2,\"-\",$E224,\"-\",$F224,\"-\",M$3),'Raw Data'!$A$2:$D$690331,4,FALSE),\"N/A\")","v":"N/A"},{"$f":"_xlfn.IFNA(VLOOKUP(_xlfn.CONCAT($C$2,\"-\",$E224,\"-\",$F224,\"-\",N$3),'Raw Data'!$A$2:$D$690331,4,FALSE),\"N/A\")","v":"N/A"},{"$f":"_xlfn.IFNA(VLOOKUP(_xlfn.CONCAT($C$2,\"-\",$E224,\"-\",$F224,\"-\",O$3),'Raw Data'!$A$2:$D$690331,4,FALSE),\"N/A\")","v":"N/A"},{"$f":"_xlfn.IFNA(VLOOKUP(_xlfn.CONCAT($C$2,\"-\",$E224,\"-\",$F224,\"-\",P$3),'Raw Data'!$A$2:$D$690331,4,FALSE),\"N/A\")","v":"N/A"},{"$f":"_xlfn.IFNA(VLOOKUP(_xlfn.CONCAT($C$2,\"-\",$E224,\"-\",$F224,\"-\",Q$3),'Raw Data'!$A$2:$D$690331,4,FALSE),\"N/A\")","v":"N/A"},{"$f":"_xlfn.IFNA(VLOOKUP(_xlfn.CONCAT($C$2,\"-\",$E224,\"-\",$F224,\"-\",R$3),'Raw Data'!$A$2:$D$690331,4,FALSE),\"N/A\")","v":"N/A"},{"$f":"_xlfn.IFNA(VLOOKUP(_xlfn.CONCAT($C$2,\"-\",$E224,\"-\",$F224,\"-\",S$3),'Raw Data'!$A$2:$D$690331,4,FALSE),\"N/A\")","v":"N/A"}]
[null,null,null,null,9,8,null,{"$f":"_xlfn.IFNA(VLOOKUP(_xlfn.CONCAT($C$2,\"-\",$E225,\"-\",$F225,\"-\",H$3),'Raw Data'!$A$2:$D$690331,4,FALSE),\"N/A\")","v":"N/A"},{"$f":"_xlfn.IFNA(VLOOKUP(_xlfn.CONCAT($C$2,\"-\",$E225,\"-\",$F225,\"-\",I$3),'Raw Data'!$A$2:$D$690331,4,FALSE),\"N/A\")","v":"N/A"},{"$f":"_xlfn.IFNA(VLOOKUP(_xlfn.CONCAT($C$2,\"-\",$E225,\"-\",$F225,\"-\",J$3),'Raw Data'!$A$2:$D$690331,4,FALSE),\"N/A\")","v":"N/A"},{"$f":"_xlfn.IFNA(VLOOKUP(_xlfn.CONCAT($C$2,\"-\",$E225,\"-\",$F225,\"-\",K$3),'Raw Data'!$A$2:$D$690331,4,FALSE),\"N/A\")","v":"N/A"},{"$f":"_xlfn.IFNA(VLOOKUP(_xlfn.CONCAT($C$2,\"-\",$E225,\"-\",$F225,\"-\",L$3),'Raw Data'!$A$2:$D$690331,4,FALSE),\"N/A\")","v":"N/A"},{"$f":"_xlfn.IFNA(VLOOKUP(_xlfn.CONCAT($C$2,\"-\",$E225,\"-\",$F225,\"-\",M$3),'Raw Data'!$A$2:$D$690331,4,FALSE),\"N/A\")","v":"N/A"},{"$f":"_xlfn.IFNA(VLOOKUP(_xlfn.CONCAT($C$2,\"-\",$E225,\"-\",$F225,\"-\",N$3),'Raw Data'!$A$2:$D$690331,4,FALSE),\"N/A\")","v":"N/A"},{"$f":"_xlfn.IFNA(VLOOKUP(_xlfn.CONCAT($C$2,\"-\",$E225,\"-\",$F225,\"-\",O$3),'Raw Data'!$A$2:$D$690331,4,FALSE),\"N/A\")","v":"N/A"},{"$f":"_xlfn.IFNA(VLOOKUP(_xlfn.CONCAT($C$2,\"-\",$E225,\"-\",$F225,\"-\",P$3),'Raw Data'!$A$2:$D$690331,4,FALSE),\"N/A\")","v":"N/A"},{"$f":"_xlfn.IFNA(VLOOKUP(_xlfn.CONCAT($C$2,\"-\",$E225,\"-\",$F225,\"-\",Q$3),'Raw Data'!$A$2:$D$690331,4,FALSE),\"N/A\")","v":"N/A"},{"$f":"_xlfn.IFNA(VLOOKUP(_xlfn.CONCAT($C$2,\"-\",$E225,\"-\",$F225,\"-\",R$3),'Raw Data'!$A$2:$D$690331,4,FALSE),\"N/A\")","v":"N/A"},{"$f":"_xlfn.IFNA(VLOOKUP(_xlfn.CONCAT($C$2,\"-\",$E225,\"-\",$F225,\"-\",S$3),'Raw Data'!$A$2:$D$690331,4,FALSE),\"N/A\")","v":"N/A"}]
[null,null,null,null,10,8,null,{"$f":"_xlfn.IFNA(VLOOKUP(_xlfn.CONCAT($C$2,\"-\",$E226,\"-\",$F226,\"-\",H$3),'Raw Data'!$A$2:$D$690331,4,FALSE),\"N/A\")","v":"N/A"},{"$f":"_xlfn.IFNA(VLOOKUP(_xlfn.CONCAT($C$2,\"-\",$E226,\"-\",$F226,\"-\",I$3),'Raw Data'!$A$2:$D$690331,4,FALSE),\"N/A\")","v":"N/A"},{"$f":"_xlfn.IFNA(VLOOKUP(_xlfn.CONCAT($C$2,\"-\",$E226,\"-\",$F226,\"-\",J$3),'Raw Data'!$A$2:$D$690331,4,FALSE),\"N/A\")","v":"N/A"},{"$f":"_xlfn.IFNA(VLOOKUP(_xlfn.CONCAT($C$2,\"-\",$E226,\"-\",$F226,\"-\",K$3),'Raw Data'!$A$2:$D$690331,4,FALSE),\"N/A\")","v":"N/A"},{"$f":"_xlfn.IFNA(VLOOKUP(_xlfn.CONCAT($C$2,\"-\",$E226,\"-\",$F226,\"-\",L$3),'Raw Data'!$A$2:$D$690331,4,FALSE),\"N/A\")","v":"N/A"},{"$f":"_xlfn.IFNA(VLOOKUP(_xlfn.CONCAT($C$2,\"-\",$E226,\"-\",$F226,\"-\",M$3),'Raw Data'!$A$2:$D$690331,4,FALSE),\"N/A\")","v":"N/A"},{"$f":"_xlfn.IFNA(VLOOKUP(_xlfn.CONCAT($C$2,\"-\",$E226,\"-\",$F226,\"-\",N$3),'Raw Data'!$A$2:$D$690331,4,FALSE),\"N/A\")","v":"N/A"},{"$f":"_xlfn.IFNA(VLOOKUP(_xlfn.CONCAT($C$2,\"-\",$E226,\"-\",$F226,\"-\",O$3),'Raw Data'!$A$2:$D$690331,4,FALSE),\"N/A\")","v":"N/A"},{"$f":"_xlfn.IFNA(VLOOKUP(_xlfn.CONCAT($C$2,\"-\",$E226,\"-\",$F226,\"-\",P$3),'Raw Data'!$A$2:$D$690331,4,FALSE),\"N/A\")","v":"N/A"},{"$f":"_xlfn.IFNA(VLOOKUP(_xlfn.CONCAT($C$2,\"-\",$E226,\"-\",$F226,\"-\",Q$3),'Raw Data'!$A$2:$D$690331,4,FALSE),\"N/A\")","v":"N/A"},{"$f":"_xlfn.IFNA(VLOOKUP(_xlfn.CONCAT($C$2,\"-\",$E226,\"-\",$F226,\"-\",R$3),'Raw Data'!$A$2:$D$690331,4,FALSE),\"N/A\")","v":"N/A"},{"$f":"_xlfn.IFNA(VLOOKUP(_xlfn.CONCAT($C$2,\"-\",$E226,\"-\",$F226,\"-\",S$3),'Raw Data'!$A$2:$D$690331,4,FALSE),\"N/A\")","v":"N/A"}]
[null,null,null,null,11,8,null,{"$f":"_xlfn.IFNA(VLOOKUP(_xlfn.CONCAT($C$2,\"-\",$E227,\"-\",$F227,\"-\",H$3),'Raw Data'!$A$2:$D$690331,4,FALSE),\"N/A\")","v":"N/A"},{"$f":"_xlfn.IFNA(VLOOKUP(_xlfn.CONCAT($C$2,\"-\",$E227,\"-\",$F227,\"-\",I$3),'Raw Data'!$A$2:$D$690331,4,FALSE),\"N/A\")","v":"N/A"},{"$f":"_xlfn.IFNA(VLOOKUP(_xlfn.CONCAT($C$2,\"-\",$E227,\"-\",$F227,\"-\",J$3),'Raw Data'!$A$2:$D$690331,4,FALSE),\"N/A\")","v":"N/A"},{"$f":"_xlfn.IFNA(VLOOKUP(_xlfn.CONCAT($C$2,\"-\",$E227,\"-\",$F227,\"-\",K$3),'Raw Data'!$A$2:$D$690331,4,FALSE),\"N/A\")","v":"N/A"},{"$f":"_xlfn.IFNA(VLOOKUP(_xlfn.CONCAT($C$2,\"-\",$E227,\"-\",$F227,\"-\",L$3),'Raw Data'!$A$2:$D$690331,4,FALSE),\"N/A\")","v":"N/A"},{"$f":"_xlfn.IFNA(VLOOKUP(_xlfn.CONCAT($C$2,\"-\",$E227,\"-\",$F227,\"-\",M$3),'Raw Data'!$A$2:$D$690331,4,FALSE),\"N/A\")","v":"N/A"},{"$f":"_xlfn.IFNA(VLOOKUP(_xlfn.CONCAT($C$2,\"-\",$E227,\"-\",$F227,\"-\",N$3),'Raw Data'!$A$2:$D$690331,4,FALSE),\"N/A\")","v":"N/A"},{"$f":"_xlfn.IFNA(VLOOKUP(_xlfn.CONCAT($C$2,\"-\",$E227,\"-\",$F227,\"-\",O$3),'Raw Data'!$A$2:$D$690331,4,FALSE),\"N/A\")","v":"N/A"},{"$f":"_xlfn.IFNA(VLOOKUP(_xlfn.CONCAT($C$2,\"-\",$E227,\"-\",$F227,\"-\",P$3),'Raw Data'!$A$2:$D$690331,4,FALSE),\"N/A\")","v":"N/A"},{"$f":"_xlfn.IFNA(VLOOKUP(_xlfn.CONCAT($C$2,\"-\",$E227,\"-\",$F227,\"-\",Q$3),'Raw Data'!$A$2:$D$690331,4,FALSE),\"N/A\")","v":"N/A"},{"$f":"_xlfn.IFNA(VLOOKUP(_xlfn.CONCAT($C$2,\"-\",$E227,\"-\",$F227,\"-\",R$3),'Raw Data'!$A$2:$D$690331,4,FALSE),\"N/A\")","v":"N/A"},{"$f":"_xlfn.IFNA(VLOOKUP(_xlfn.CONCAT($C$2,\"-\",$E227,\"-\",$F227,\"-\",S$3),'Raw Data'!$A$2:$D$690331,4,FALSE),\"N/A\")","v":"N/A"}]
[null,null,null,null,12,8,null,{"$f":"_xlfn.IFNA(VLOOKUP(_xlfn.CONCAT($C$2,\"-\",$E228,\"-\",$F228,\"-\",H$3),'Raw Data'!$A$2:$D$690331,4,FALSE),\"N/A\")","v":"N/A"},{"$f":"_xlfn.IFNA(VLOOKUP(_xlfn.CONCAT($C$2,\"-\",$E228,\"-\",$F228,\"-\",I$3),'Raw Data'!$A$2:$D$690331,4,FALSE),\"N/A\")","v":"N/A"},{"$f":"_xlfn.IFNA(VLOOKUP(_xlfn.CONCAT($C$2,\"-\",$E228,\"-\",$F228,\"-\",J$3),'Raw Data'!$A$2:$D$690331,4,FALSE),\"N/A\")","v":"N/A"},{"$f":"_xlfn.IFNA(VLOOKUP(_xlfn.CONCAT($C$2,\"-\",$E228,\"-\",$F228,\"-\",K$3),'Raw Data'!$A$2:$D$690331,4,FALSE),\"N/A\")","v":"N/A"},{"$f":"_xlfn.IFNA(VLOOKUP(_xlfn.CONCAT($C$2,\"-\",$E228,\"-\",$F228,\"-\",L$3),'Raw Data'!$A$2:$D$690331,4,FALSE),\"N/A\")","v":"N/A"},{"$f":"_xlfn.IFNA(VLOOKUP(_xlfn.CONCAT($C$2,\"-\",$E228,\"-\",$F228,\"-\",M$3),'Raw Data'!$A$2:$D$690331,4,FALSE),\"N/A\")","v":"N/A"},{"$f":"_xlfn.IFNA(VLOOKUP(_xlfn.CONCAT($C$2,\"-\",$E228,\"-\",$F228,\"-\",N$3),'Raw Data'!$A$2:$D$690331,4,FALSE),\"N/A\")","v":"N/A"},{"$f":"_xlfn.IFNA(VLOOKUP(_xlfn.CONCAT($C$2,\"-\",$E228,\"-\",$F228,\"-\",O$3),'Raw Data'!$A$2:$D$690331,4,FALSE),\"N/A\")","v":"N/A"},{"$f":"_xlfn.IFNA(VLOOKUP(_xlfn.CONCAT($C$2,\"-\",$E228,\"-\",$F228,\"-\",P$3),'Raw Data'!$A$2:$D$690331,4,FALSE),\"N/A\")","v":"N/A"},{"$f":"_xlfn.IFNA(VLOOKUP(_xlfn.CONCAT($C$2,\"-\",$E228,\"-\",$F228,\"-\",Q$3),'Raw Data'!$A$2:$D$690331,4,FALSE),\"N/A\")","v":"N/A"},{"$f":"_xlfn.IFNA(VLOOKUP(_xlfn.CONCAT($C$2,\"-\",$E228,\"-\",$F228,\"-\",R$3),'Raw Data'!$A$2:$D$690331,4,FALSE),\"N/A\")","v":"N/A"},{"$f":"_xlfn.IFNA(VLOOKUP(_xlfn.CONCAT($C$2,\"-\",$E228,\"-\",$F228,\"-\",S$3),'Raw Data'!$A$2:$D$690331,4,FALSE),\"N/A\")","v":"N/A"}]
[null,null,null,null,13,8,null,{"$f":"_xlfn.IFNA(VLOOKUP(_xlfn.CONCAT($C$2,\"-\",$E229,\"-\",$F229,\"-\",H$3),'Raw Data'!$A$2:$D$690331,4,FALSE),\"N/A\")","v":"N/A"},{"$f":"_xlfn.IFNA(VLOOKUP(_xlfn.CONCAT($C$2,\"-\",$E229,\"-\",$F229,\"-\",I$3),'Raw Data'!$A$2:$D$690331,4,FALSE),\"N/A\")","v":"N/A"},{"$f":"_xlfn.IFNA(VLOOKUP(_xlfn.CONCAT($C$2,\"-\",$E229,\"-\",$F229,\"-\",J$3),'Raw Data'!$A$2:$D$690331,4,FALSE),\"N/A\")","v":"N/A"},{"$f":"_xlfn.IFNA(VLOOKUP(_xlfn.CONCAT($C$2,\"-\",$E229,\"-\",$F229,\"-\",K$3),'Raw Data'!$A$2:$D$690331,4,FALSE),\"N/A\")","v":"N/A"},{"$f":"_xlfn.IFNA(VLOOKUP(_xlfn.CONCAT($C$2,\"-\",$E229,\"-\",$F229,\"-\",L$3),'Raw Data'!$A$2:$D$690331,4,FALSE),\"N/A\")","v":"N/A"},{"$f":"_xlfn.IFNA(VLOOKUP(_xlfn.CONCAT($C$2,\"-\",$E229,\"-\",$F229,\"-\",M$3),'Raw Data'!$A$2:$D$690331,4,FALSE),\"N/A\")","v":"N/A"},{"$f":"_xlfn.IFNA(VLOOKUP(_xlfn.CONCAT($C$2,\"-\",$E229,\"-\",$F229,\"-\",N$3),'Raw Data'!$A$2:$D$690331,4,FALSE),\"N/A\")","v":"N/A"},{"$f":"_xlfn.IFNA(VLOOKUP(_xlfn.CONCAT($C$2,\"-\",$E229,\"-\",$F229,\"-\",O$3),'Raw Data'!$A$2:$D$690331,4,FALSE),\"N/A\")","v":"N/A"},{"$f":"_xlfn.IFNA(VLOOKUP(_xlfn.CONCAT($C$2,\"-\",$E229,\"-\",$F229,\"-\",P$3),'Raw Data'!$A$2:$D$690331,4,FALSE),\"N/A\")","v":"N/A"},{"$f":"_xlfn.IFNA(VLOOKUP(_xlfn.CONCAT($C$2,\"-\",$E229,\"-\",$F229,\"-\",Q$3),'Raw Data'!$A$2:$D$690331,4,FALSE),\"N/A\")","v":"N/A"},{"$f":"_xlfn.IFNA(VLOOKUP(_xlfn.CONCAT($C$2,\"-\",$E229,\"-\",$F229,\"-\",R$3),'Raw Data'!$A$2:$D$690331,4,FALSE),\"N/A\")","v":"N/A"},{"$f":"_xlfn.IFNA(VLOOKUP(_xlfn.CONCAT($C$2,\"-\",$E229,\"-\",$F229,\"-\",S$3),'Raw Data'!$A$2:$D$690331,4,FALSE),\"N/A\")","v":"N/A"}]
[null,null,null,null,14,8,null,{"$f":"_xlfn.IFNA(VLOOKUP(_xlfn.CONCAT($C$2,\"-\",$E230,\"-\",$F230,\"-\",H$3),'Raw Data'!$A$2:$D$690331,4,FALSE),\"N/A\")","v":"N/A"},{"$f":"_xlfn.IFNA(VLOOKUP(_xlfn.CONCAT($C$2,\"-\",$E230,\"-\",$F230,\"-\",I$3),'Raw Data'!$A$2:$D$690331,4,FALSE),\"N/A\")","v":"N/A"},{"$f":"_xlfn.IFNA(VLOOKUP(_xlfn.CONCAT($C$2,\"-\",$E230,\"-\",$F230,\"-\",J$3),'Raw Data'!$A$2:$D$690331,4,FALSE),\"N/A\")","v":"N/A"},{"$f":"_xlfn.IFNA(VLOOKUP(_xlfn.CONCAT($C$2,\"-\",$E230,\"-\",$F230,\"-\",K$3),'Raw Data'!$A$2:$D$690331,4,FALSE),\"N/A\")","v":"N/A"},{"$f":"_xlfn.IFNA(VLOOKUP(_xlfn.CONCAT($C$2,\"-\",$E230,\"-\",$F230,\"-\",L$3),'Raw Data'!$A$2:$D$690331,4,FALSE),\"N/A\")","v":"N/A"},{"$f":"_xlfn.IFNA(VLOOKUP(_xlfn.CONCAT($C$2,\"-\",$E230,\"-\",$F230,\"-\",M$3),'Raw Data'!$A$2:$D$690331,4,FALSE),\"N/A\")","v":"N/A"},{"$f":"_xlfn.IFNA(VLOOKUP(_xlfn.CONCAT($C$2,\"-\",$E230,\"-\",$F230,\"-\",N$3),'Raw Data'!$A$2:$D$690331,4,FALSE),\"N/A\")","v":"N/A"},{"$f":"_xlfn.IFNA(VLOOKUP(_xlfn.CONCAT($C$2,\"-\",$E230,\"-\",$F230,\"-\",O$3),'Raw Data'!$A$2:$D$690331,4,FALSE),\"N/A\")","v":"N/A"},{"$f":"_xlfn.IFNA(VLOOKUP(_xlfn.CONCAT($C$2,\"-\",$E230,\"-\",$F230,\"-\",P$3),'Raw Data'!$A$2:$D$690331,4,FALSE),\"N/A\")","v":"N/A"},{"$f":"_xlfn.IFNA(VLOOKUP(_xlfn.CONCAT($C$2,\"-\",$E230,\"-\",$F230,\"-\",Q$3),'Raw Data'!$A$2:$D$690331,4,FALSE),\"N/A\")","v":"N/A"},{"$f":"_xlfn.IFNA(VLOOKUP(_xlfn.CONCAT($C$2,\"-\",$E230,\"-\",$F230,\"-\",R$3),'Raw Data'!$A$2:$D$690331,4,FALSE),\"N/A\")","v":"N/A"},{"$f":"_xlfn.IFNA(VLOOKUP(_xlfn.CONCAT($C$2,\"-\",$E230,\"-\",$F230,\"-\",S$3),'Raw Data'!$A$2:$D$690331,4,FALSE),\"N/A\")","v":"N/A"}]
[null,null,null,null,15,8,null,{"$f":"_xlfn.IFNA(VLOOKUP(_xlfn.CONCAT($C$2,\"-\",$E231,\"-\",$F231,\"-\",H$3),'Raw Data'!$A$2:$D$690331,4,FALSE),\"N/A\")","v":"N/A"},{"$f":"_xlfn.IFNA(VLOOKUP(_xlfn.CONCAT($C$2,\"-\",$E231,\"-\",$F231,\"-\",I$3),'Raw Data'!$A$2:$D$690331,4,FALSE),\"N/A\")","v":"N/A"},{"$f":"_xlfn.IFNA(VLOOKUP(_xlfn.CONCAT($C$2,\"-\",$E231,\"-\",$F231,\"-\",J$3),'Raw Data'!$A$2:$D$690331,4,FALSE),\"N/A\")","v":"N/A"},{"$f":"_xlfn.IFNA(VLOOKUP(_xlfn.CONCAT($C$2,\"-\",$E231,\"-\",$F231,\"-\",K$3),'Raw Data'!$A$2:$D$690331,4,FALSE),\"N/A\")","v":"N/A"},{"$f":"_xlfn.IFNA(VLOOKUP(_xlfn.CONCAT($C$2,\"-\",$E231,\"-\",$F231,\"-\",L$3),'Raw Data'!$A$2:$D$690331,4,FALSE),\"N/A\")","v":"N/A"},{"$f":"_xlfn.IFNA(VLOOKUP(_xlfn.CONCAT($C$2,\"-\",$E231,\"-\",$F231,\"-\",M$3),'Raw Data'!$A$2:$D$690331,4,FALSE),\"N/A\")","v":"N/A"},{"$f":"_xlfn.IFNA(VLOOKUP(_xlfn.CONCAT($C$2,\"-\",$E231,\"-\",$F231,\"-\",N$3),'Raw Data'!$A$2:$D$690331,4,FALSE),\"N/A\")","v":"N/A"},{"$f":"_xlfn.IFNA(VLOOKUP(_xlfn.CONCAT($C$2,\"-\",$E231,\"-\",$F231,\"-\",O$3),'Raw Data'!$A$2:$D$690331,4,FALSE),\"N/A\")","v":"N/A"},{"$f":"_xlfn.IFNA(VLOOKUP(_xlfn.CONCAT($C$2,\"-\",$E231,\"-\",$F231,\"-\",P$3),'Raw Data'!$A$2:$D$690331,4,FALSE),\"N/A\")","v":"N/A"},{"$f":"_xlfn.IFNA(VLOOKUP(_xlfn.CONCAT($C$2,\"-\",$E231,\"-\",$F231,\"-\",Q$3),'Raw Data'!$A$2:$D$690331,4,FALSE),\"N/A\")","v":"N/A"},{"$f":"_xlfn.IFNA(VLOOKUP(_xlfn.CONCAT($C$2,\"-\",$E231,\"-\",$F231,\"-\",R$3),'Raw Data'!$A$2:$D$690331,4,FALSE),\"N/A\")","v":"N/A"},{"$f":"_xlfn.IFNA(VLOOKUP(_xlfn.CONCAT($C$2,\"-\",$E231,\"-\",$F231,\"-\",S$3),'Raw Data'!$A$2:$D$690331,4,FALSE),\"N/A\")","v":"N/A"}]
[null,null,null,null,16,8,null,{"$f":"_xlfn.IFNA(VLOOKUP(_xlfn.CONCAT($C$2,\"-\",$E232,\"-\",$F232,\"-\",H$3),'Raw Data'!$A$2:$D$690331,4,FALSE),\"N/A\")","v":"N/A"},{"$f":"_xlfn.IFNA(VLOOKUP(_xlfn.CONCAT($C$2,\"-\",$E232,\"-\",$F232,\"-\",I$3),'Raw Data'!$A$2:$D$690331,4,FALSE),\"N/A\")","v":"N/A"},{"$f":"_xlfn.IFNA(VLOOKUP(_xlfn.CONCAT($C$2,\"-\",$E232,\"-\",$F232,\"-\",J$3),'Raw Data'!$A$2:$D$690331,4,FALSE),\"N/A\")","v":"N/A"},{"$f":"_xlfn.IFNA(VLOOKUP(_xlfn.CONCAT($C$2,\"-\",$E232,\"-\",$F232,\"-\",K$3),'Raw Data'!$A$2:$D$690331,4,FALSE),\"N/A\")","v":"N/A"},{"$f":"_xlfn.IFNA(VLOOKUP(_xlfn.CONCAT($C$2,\"-\",$E232,\"-\",$F232,\"-\",L$3),'Raw Data'!$A$2:$D$690331,4,FALSE),\"N/A\")","v":"N/A"},{"$f":"_xlfn.IFNA(VLOOKUP(_xlfn.CONCAT($C$2,\"-\",$E232,\"-\",$F232,\"-\",M$3),'Raw Data'!$A$2:$D$690331,4,FALSE),\"N/A\")","v":"N/A"},{"$f":"_xlfn.IFNA(VLOOKUP(_xlfn.CONCAT($C$2,\"-\",$E232,\"-\",$F232,\"-\",N$3),'Raw Data'!$A$2:$D$690331,4,FALSE),\"N/A\")","v":"N/A"},{"$f":"_xlfn.IFNA(VLOOKUP(_xlfn.CONCAT($C$2,\"-\",$E232,\"-\",$F232,\"-\",O$3),'Raw Data'!$A$2:$D$690331,4,FALSE),\"N/A\")","v":"N/A"},{"$f":"_xlfn.IFNA(VLOOKUP(_xlfn.CONCAT($C$2,\"-\",$E232,\"-\",$F232,\"-\",P$3),'Raw Data'!$A$2:$D$690331,4,FALSE),\"N/A\")","v":"N/A"},{"$f":"_xlfn.IFNA(VLOOKUP(_xlfn.CONCAT($C$2,\"-\",$E232,\"-\",$F232,\"-\",Q$3),'Raw Data'!$A$2:$D$690331,4,FALSE),\"N/A\")","v":"N/A"},{"$f":"_xlfn.IFNA(VLOOKUP(_xlfn.CONCAT($C$2,\"-\",$E232,\"-\",$F232,\"-\",R$3),'Raw Data'!$A$2:$D$690331,4,FALSE),\"N/A\")","v":"N/A"},{"$f":"_xlfn.IFNA(VLOOKUP(_xlfn.CONCAT($C$2,\"-\",$E232,\"-\",$F232,\"-\",S$3),'Raw Data'!$A$2:$D$690331,4,FALSE),\"N/A\")","v":"N/A"}]
[null,null,null,null,17,8,null,{"$f":"_xlfn.IFNA(VLOOKUP(_xlfn.CONCAT($C$2,\"-\",$E233,\"-\",$F233,\"-\",H$3),'Raw Data'!$A$2:$D$690331,4,FALSE),\"N/A\")","v":"N/A"},{"$f":"_xlfn.IFNA(VLOOKUP(_xlfn.CONCAT($C$2,\"-\",$E233,\"-\",$F233,\"-\",I$3),'Raw Data'!$A$2:$D$690331,4,FALSE),\"N/A\")","v":"N/A"},{"$f":"_xlfn.IFNA(VLOOKUP(_xlfn.CONCAT($C$2,\"-\",$E233,\"-\",$F233,\"-\",J$3),'Raw Data'!$A$2:$D$690331,4,FALSE),\"N/A\")","v":"N/A"},{"$f":"_xlfn.IFNA(VLOOKUP(_xlfn.CONCAT($C$2,\"-\",$E233,\"-\",$F233,\"-\",K$3),'Raw Data'!$A$2:$D$690331,4,FALSE),\"N/A\")","v":"N/A"},{"$f":"_xlfn.IFNA(VLOOKUP(_xlfn.CONCAT($C$2,\"-\",$E233,\"-\",$F233,\"-\",L$3),'Raw Data'!$A$2:$D$690331,4,FALSE),\"N/A\")","v":"N/A"},{"$f":"_xlfn.IFNA(VLOOKUP(_xlfn.CONCAT($C$2,\"-\",$E233,\"-\",$F233,\"-\",M$3),'Raw Data'!$A$2:$D$690331,4,FALSE),\"N/A\")","v":"N/A"},{"$f":"_xlfn.IFNA(VLOOKUP(_xlfn.CONCAT($C$2,\"-\",$E233,\"-\",$F233,\"-\",N$3),'Raw Data'!$A$2:$D$690331,4,FALSE),\"N/A\")","v":"N/A"},{"$f":"_xlfn.IFNA(VLOOKUP(_xlfn.CONCAT($C$2,\"-\",$E233,\"-\",$F233,\"-\",O$3),'Raw Data'!$A$2:$D$690331,4,FALSE),\"N/A\")","v":"N/A"},{"$f":"_xlfn.IFNA(VLOOKUP(_xlfn.CONCAT($C$2,\"-\",$E233,\"-\",$F233,\"-\",P$3),'Raw Data'!$A$2:$D$690331,4,FALSE),\"N/A\")","v":"N/A"},{"$f":"_xlfn.IFNA(VLOOKUP(_xlfn.CONCAT($C$2,\"-\",$E233,\"-\",$F233,\"-\",Q$3),'Raw Data'!$A$2:$D$690331,4,FALSE),\"N/A\")","v":"N/A"},{"$f":"_xlfn.IFNA(VLOOKUP(_xlfn.CONCAT($C$2,\"-\",$E233,\"-\",$F233,\"-\",R$3),'Raw Data'!$A$2:$D$690331,4,FALSE),\"N/A\")","v":"N/A"},{"$f":"_xlfn.IFNA(VLOOKUP(_xlfn.CONCAT($C$2,\"-\",$E233,\"-\",$F233,\"-\",S$3),'Raw Data'!$A$2:$D$690331,4,FALSE),\"N/A\")","v":"N/A"}]
[null,null,null,null,18,8,null,{"$f":"_xlfn.IFNA(VLOOKUP(_xlfn.CONCAT($C$2,\"-\",$E234,\"-\",$F234,\"-\",H$3),'Raw Data'!$A$2:$D$690331,4,FALSE),\"N/A\")","v":"N/A"},{"$f":"_xlfn.IFNA(VLOOKUP(_xlfn.CONCAT($C$2,\"-\",$E234,\"-\",$F234,\"-\",I$3),'Raw Data'!$A$2:$D$690331,4,FALSE),\"N/A\")","v":"N/A"},{"$f":"_xlfn.IFNA(VLOOKUP(_xlfn.CONCAT($C$2,\"-\",$E234,\"-\",$F234,\"-\",J$3),'Raw Data'!$A$2:$D$690331,4,FALSE),\"N/A\")","v":"N/A"},{"$f":"_xlfn.IFNA(VLOOKUP(_xlfn.CONCAT($C$2,\"-\",$E234,\"-\",$F234,\"-\",K$3),'Raw Data'!$A$2:$D$690331,4,FALSE),\"N/A\")","v":"N/A"},{"$f":"_xlfn.IFNA(VLOOKUP(_xlfn.CONCAT($C$2,\"-\",$E234,\"-\",$F234,\"-\",L$3),'Raw Data'!$A$2:$D$690331,4,FALSE),\"N/A\")","v":"N/A"},{"$f":"_xlfn.IFNA(VLOOKUP(_xlfn.CONCAT($C$2,\"-\",$E234,\"-\",$F234,\"-\",M$3),'Raw Data'!$A$2:$D$690331,4,FALSE),\"N/A\")","v":"N/A"},{"$f":"_xlfn.IFNA(VLOOKUP(_xlfn.CONCAT($C$2,\"-\",$E234,\"-\",$F234,\"-\",N$3),'Raw Data'!$A$2:$D$690331,4,FALSE),\"N/A\")","v":"N/A"},{"$f":"_xlfn.IFNA(VLOOKUP(_xlfn.CONCAT($C$2,\"-\",$E234,\"-\",$F234,\"-\",O$3),'Raw Data'!$A$2:$D$690331,4,FALSE),\"N/A\")","v":"N/A"},{"$f":"_xlfn.IFNA(VLOOKUP(_xlfn.CONCAT($C$2,\"-\",$E234,\"-\",$F234,\"-\",P$3),'Raw Data'!$A$2:$D$690331,4,FALSE),\"N/A\")","v":"N/A"},{"$f":"_xlfn.IFNA(VLOOKUP(_xlfn.CONCAT($C$2,\"-\",$E234,\"-\",$F234,\"-\",Q$3),'Raw Data'!$A$2:$D$690331,4,FALSE),\"N/A\")","v":"N/A"},{"$f":"_xlfn.IFNA(VLOOKUP(_xlfn.CONCAT($C$2,\"-\",$E234,\"-\",$F234,\"-\",R$3),'Raw Data'!$A$2:$D$690331,4,FALSE),\"N/A\")","v":"N/A"},{"$f":"_xlfn.IFNA(VLOOKUP(_xlfn.CONCAT($C$2,\"-\",$E234,\"-\",$F234,\"-\",S$3),'Raw Data'!$A$2:$D$690331,4,FALSE),\"N/A\")","v":"N/A"}]
[null,null,null,null,19,8,null,{"$f":"_xlfn.IFNA(VLOOKUP(_xlfn.CONCAT($C$2,\"-\",$E235,\"-\",$F235,\"-\",H$3),'Raw Data'!$A$2:$D$690331,4,FALSE),\"N/A\")","v":"N/A"},{"$f":"_xlfn.IFNA(VLOOKUP(_xlfn.CONCAT($C$2,\"-\",$E235,\"-\",$F235,\"-\",I$3),'Raw Data'!$A$2:$D$690331,4,FALSE),\"N/A\")","v":"N/A"},{"$f":"_xlfn.IFNA(VLOOKUP(_xlfn.CONCAT($C$2,\"-\",$E235,\"-\",$F235,\"-\",J$3),'Raw Data'!$A$2:$D$690331,4,FALSE),\"N/A\")","v":"N/A"},{"$f":"_xlfn.IFNA(VLOOKUP(_xlfn.CONCAT($C$2,\"-\",$E235,\"-\",$F235,\"-\",K$3),'Raw Data'!$A$2:$D$690331,4,FALSE),\"N/A\")","v":"N/A"},{"$f":"_xlfn.IFNA(VLOOKUP(_xlfn.CONCAT($C$2,\"-\",$E235,\"-\",$F235,\"-\",L$3),'Raw Data'!$A$2:$D$690331,4,FALSE),\"N/A\")","v":"N/A"},{"$f":"_xlfn.IFNA(VLOOKUP(_xlfn.CONCAT($C$2,\"-\",$E235,\"-\",$F235,\"-\",M$3),'Raw Data'!$A$2:$D$690331,4,FALSE),\"N/A\")","v":"N/A"},{"$f":"_xlfn.IFNA(VLOOKUP(_xlfn.CONCAT($C$2,\"-\",$E235,\"-\",$F235,\"-\",N$3),'Raw Data'!$A$2:$D$690331,4,FALSE),\"N/A\")","v":"N/A"},{"$f":"_xlfn.IFNA(VLOOKUP(_xlfn.CONCAT($C$2,\"-\",$E235,\"-\",$F235,\"-\",O$3),'Raw Data'!$A$2:$D$690331,4,FALSE),\"N/A\")","v":"N/A"},{"$f":"_xlfn.IFNA(VLOOKUP(_xlfn.CONCAT($C$2,\"-\",$E235,\"-\",$F235,\"-\",P$3),'Raw Data'!$A$2:$D$690331,4,FALSE),\"N/A\")","v":"N/A"},{"$f":"_xlfn.IFNA(VLOOKUP(_xlfn.CONCAT($C$2,\"-\",$E235,\"-\",$F235,\"-\",Q$3),'Raw Data'!$A$2:$D$690331,4,FALSE),\"N/A\")","v":"N/A"},{"$f":"_xlfn.IFNA(VLOOKUP(_xlfn.CONCAT($C$2,\"-\",$E235,\"-\",$F235,\"-\",R$3),'Raw Data'!$A$2:$D$690331,4,FALSE),\"N/A\")","v":"N/A"},{"$f":"_xlfn.IFNA(VLOOKUP(_xlfn.CONCAT($C$2,\"-\",$E235,\"-\",$F235,\"-\",S$3),'Raw Data'!$A$2:$D$690331,4,FALSE),\"N/A\")","v":"N/A"}]
[null,null,null,null,20,8,null,{"$f":"_xlfn.IFNA(VLOOKUP(_xlfn.CONCAT($C$2,\"-\",$E236,\"-\",$F236,\"-\",H$3),'Raw Data'!$A$2:$D$690331,4,FALSE),\"N/A\")","v":"N/A"},{"$f":"_xlfn.IFNA(VLOOKUP(_xlfn.CONCAT($C$2,\"-\",$E236,\"-\",$F236,\"-\",I$3),'Raw Data'!$A$2:$D$690331,4,FALSE),\"N/A\")","v":"N/A"},{"$f":"_xlfn.IFNA(VLOOKUP(_xlfn.CONCAT($C$2,\"-\",$E236,\"-\",$F236,\"-\",J$3),'Raw Data'!$A$2:$D$690331,4,FALSE),\"N/A\")","v":"N/A"},{"$f":"_xlfn.IFNA(VLOOKUP(_xlfn.CONCAT($C$2,\"-\",$E236,\"-\",$F236,\"-\",K$3),'Raw Data'!$A$2:$D$690331,4,FALSE),\"N/A\")","v":"N/A"},{"$f":"_xlfn.IFNA(VLOOKUP(_xlfn.CONCAT($C$2,\"-\",$E236,\"-\",$F236,\"-\",L$3),'Raw Data'!$A$2:$D$690331,4,FALSE),\"N/A\")","v":"N/A"},{"$f":"_xlfn.IFNA(VLOOKUP(_xlfn.CONCAT($C$2,\"-\",$E236,\"-\",$F236,\"-\",M$3),'Raw Data'!$A$2:$D$690331,4,FALSE),\"N/A\")","v":"N/A"},{"$f":"_xlfn.IFNA(VLOOKUP(_xlfn.CONCAT($C$2,\"-\",$E236,\"-\",$F236,\"-\",N$3),'Raw Data'!$A$2:$D$690331,4,FALSE),\"N/A\")","v":"N/A"},{"$f":"_xlfn.IFNA(VLOOKUP(_xlfn.CONCAT($C$2,\"-\",$E236,\"-\",$F236,\"-\",O$3),'Raw Data'!$A$2:$D$690331,4,FALSE),\"N/A\")","v":"N/A"},{"$f":"_xlfn.IFNA(VLOOKUP(_xlfn.CONCAT($C$2,\"-\",$E236,\"-\",$F236,\"-\",P$3),'Raw Data'!$A$2:$D$690331,4,FALSE),\"N/A\")","v":"N/A"},{"$f":"_xlfn.IFNA(VLOOKUP(_xlfn.CONCAT($C$2,\"-\",$E236,\"-\",$F236,\"-\",Q$3),'Raw Data'!$A$2:$D$690331,4,FALSE),\"N/A\")","v":"N/A"},{"$f":"_xlfn.IFNA(VLOOKUP(_xlfn.CONCAT($C$2,\"-\",$E236,\"-\",$F236,\"-\",R$3),'Raw Data'!$A$2:$D$690331,4,FALSE),\"N/A\")","v":"N/A"},{"$f":"_xlfn.IFNA(VLOOKUP(_xlfn.CONCAT($C$2,\"-\",$E236,\"-\",$F236,\"-\",S$3),'Raw Data'!$A$2:$D$690331,4,FALSE),\"N/A\")","v":"N/A"}]
[null,null,null,null,21,8,null,{"$f":"_xlfn.IFNA(VLOOKUP(_xlfn.CONCAT($C$2,\"-\",$E237,\"-\",$F237,\"-\",H$3),'Raw Data'!$A$2:$D$690331,4,FALSE),\"N/A\")","v":"N/A"},{"$f":"_xlfn.IFNA(VLOOKUP(_xlfn.CONCAT($C$2,\"-\",$E237,\"-\",$F237,\"-\",I$3),'Raw Data'!$A$2:$D$690331,4,FALSE),\"N/A\")","v":"N/A"},{"$f":"_xlfn.IFNA(VLOOKUP(_xlfn.CONCAT($C$2,\"-\",$E237,\"-\",$F237,\"-\",J$3),'Raw Data'!$A$2:$D$690331,4,FALSE),\"N/A\")","v":"N/A"},{"$f":"_xlfn.IFNA(VLOOKUP(_xlfn.CONCAT($C$2,\"-\",$E237,\"-\",$F237,\"-\",K$3),'Raw Data'!$A$2:$D$690331,4,FALSE),\"N/A\")","v":"N/A"},{"$f":"_xlfn.IFNA(VLOOKUP(_xlfn.CONCAT($C$2,\"-\",$E237,\"-\",$F237,\"-\",L$3),'Raw Data'!$A$2:$D$690331,4,FALSE),\"N/A\")","v":"N/A"},{"$f":"_xlfn.IFNA(VLOOKUP(_xlfn.CONCAT($C$2,\"-\",$E237,\"-\",$F237,\"-\",M$3),'Raw Data'!$A$2:$D$690331,4,FALSE),\"N/A\")","v":"N/A"},{"$f":"_xlfn.IFNA(VLOOKUP(_xlfn.CONCAT($C$2,\"-\",$E237,\"-\",$F237,\"-\",N$3),'Raw Data'!$A$2:$D$690331,4,FALSE),\"N/A\")","v":"N/A"},{"$f":"_xlfn.IFNA(VLOOKUP(_xlfn.CONCAT($C$2,\"-\",$E237,\"-\",$F237,\"-\",O$3),'Raw Data'!$A$2:$D$690331,4,FALSE),\"N/A\")","v":"N/A"},{"$f":"_xlfn.IFNA(VLOOKUP(_xlfn.CONCAT($C$2,\"-\",$E237,\"-\",$F237,\"-\",P$3),'Raw Data'!$A$2:$D$690331,4,FALSE),\"N/A\")","v":"N/A"},{"$f":"_xlfn.IFNA(VLOOKUP(_xlfn.CONCAT($C$2,\"-\",$E237,\"-\",$F237,\"-\",Q$3),'Raw Data'!$A$2:$D$690331,4,FALSE),\"N/A\")","v":"N/A"},{"$f":"_xlfn.IFNA(VLOOKUP(_xlfn.CONCAT($C$2,\"-\",$E237,\"-\",$F237,\"-\",R$3),'Raw Data'!$A$2:$D$690331,4,FALSE),\"N/A\")","v":"N/A"},{"$f":"_xlfn.IFNA(VLOOKUP(_xlfn.CONCAT($C$2,\"-\",$E237,\"-\",$F237,\"-\",S$3),'Raw Data'!$A$2:$D$690331,4,FALSE),\"N/A\")","v":"N/A"}]
[null,null,null,null,22,8,null,{"$f":"_xlfn.IFNA(VLOOKUP(_xlfn.CONCAT($C$2,\"-\",$E238,\"-\",$F238,\"-\",H$3),'Raw Data'!$A$2:$D$690331,4,FALSE),\"N/A\")","v":"N/A"},{"$f":"_xlfn.IFNA(VLOOKUP(_xlfn.CONCAT($C$2,\"-\",$E238,\"-\",$F238,\"-\",I$3),'Raw Data'!$A$2:$D$690331,4,FALSE),\"N/A\")","v":"N/A"},{"$f":"_xlfn.IFNA(VLOOKUP(_xlfn.CONCAT($C$2,\"-\",$E238,\"-\",$F238,\"-\",J$3),'Raw Data'!$A$2:$D$690331,4,FALSE),\"N/A\")","v":"N/A"},{"$f":"_xlfn.IFNA(VLOOKUP(_xlfn.CONCAT($C$2,\"-\",$E238,\"-\",$F238,\"-\",K$3),'Raw Data'!$A$2:$D$690331,4,FALSE),\"N/A\")","v":"N/A"},{"$f":"_xlfn.IFNA(VLOOKUP(_xlfn.CONCAT($C$2,\"-\",$E238,\"-\",$F238,\"-\",L$3),'Raw Data'!$A$2:$D$690331,4,FALSE),\"N/A\")","v":"N/A"},{"$f":"_xlfn.IFNA(VLOOKUP(_xlfn.CONCAT($C$2,\"-\",$E238,\"-\",$F238,\"-\",M$3),'Raw Data'!$A$2:$D$690331,4,FALSE),\"N/A\")","v":"N/A"},{"$f":"_xlfn.IFNA(VLOOKUP(_xlfn.CONCAT($C$2,\"-\",$E238,\"-\",$F238,\"-\",N$3),'Raw Data'!$A$2:$D$690331,4,FALSE),\"N/A\")","v":"N/A"},{"$f":"_xlfn.IFNA(VLOOKUP(_xlfn.CONCAT($C$2,\"-\",$E238,\"-\",$F238,\"-\",O$3),'Raw Data'!$A$2:$D$690331,4,FALSE),\"N/A\")","v":"N/A"},{"$f":"_xlfn.IFNA(VLOOKUP(_xlfn.CONCAT($C$2,\"-\",$E238,\"-\",$F238,\"-\",P$3),'Raw Data'!$A$2:$D$690331,4,FALSE),\"N/A\")","v":"N/A"},{"$f":"_xlfn.IFNA(VLOOKUP(_xlfn.CONCAT($C$2,\"-\",$E238,\"-\",$F238,\"-\",Q$3),'Raw Data'!$A$2:$D$690331,4,FALSE),\"N/A\")","v":"N/A"},{"$f":"_xlfn.IFNA(VLOOKUP(_xlfn.CONCAT($C$2,\"-\",$E238,\"-\",$F238,\"-\",R$3),'Raw Data'!$A$2:$D$690331,4,FALSE),\"N/A\")","v":"N/A"},{"$f":"_xlfn.IFNA(VLOOKUP(_xlfn.CONCAT($C$2,\"-\",$E238,\"-\",$F238,\"-\",S$3),'Raw Data'!$A$2:$D$690331,4,FALSE),\"N/A\")","v":"N/A"}]
[null,null,null,null,23,8,null,{"$f":"_xlfn.IFNA(VLOOKUP(_xlfn.CONCAT($C$2,\"-\",$E239,\"-\",$F239,\"-\",H$3),'Raw Data'!$A$2:$D$690331,4,FALSE),\"N/A\")","v":"N/A"},{"$f":"_xlfn.IFNA(VLOOKUP(_xlfn.CONCAT($C$2,\"-\",$E239,\"-\",$F239,\"-\",I$3),'Raw Data'!$A$2:$D$690331,4,FALSE),\"N/A\")","v":"N/A"},{"$f":"_xlfn.IFNA(VLOOKUP(_xlfn.CONCAT($C$2,\"-\",$E239,\"-\",$F239,\"-\",J$3),'Raw Data'!$A$2:$D$690331,4,FALSE),\"N/A\")","v":"N/A"},{"$f":"_xlfn.IFNA(VLOOKUP(_xlfn.CONCAT($C$2,\"-\",$E239,\"-\",$F239,\"-\",K$3),'Raw Data'!$A$2:$D$690331,4,FALSE),\"N/A\")","v":"N/A"},{"$f":"_xlfn.IFNA(VLOOKUP(_xlfn.CONCAT($C$2,\"-\",$E239,\"-\",$F239,\"-\",L$3),'Raw Data'!$A$2:$D$690331,4,FALSE),\"N/A\")","v":"N/A"},{"$f":"_xlfn.IFNA(VLOOKUP(_xlfn.CONCAT($C$2,\"-\",$E239,\"-\",$F239,\"-\",M$3),'Raw Data'!$A$2:$D$690331,4,FALSE),\"N/A\")","v":"N/A"},{"$f":"_xlfn.IFNA(VLOOKUP(_xlfn.CONCAT($C$2,\"-\",$E239,\"-\",$F239,\"-\",N$3),'Raw Data'!$A$2:$D$690331,4,FALSE),\"N/A\")","v":"N/A"},{"$f":"_xlfn.IFNA(VLOOKUP(_xlfn.CONCAT($C$2,\"-\",$E239,\"-\",$F239,\"-\",O$3),'Raw Data'!$A$2:$D$690331,4,FALSE),\"N/A\")","v":"N/A"},{"$f":"_xlfn.IFNA(VLOOKUP(_xlfn.CONCAT($C$2,\"-\",$E239,\"-\",$F239,\"-\",P$3),'Raw Data'!$A$2:$D$690331,4,FALSE),\"N/A\")","v":"N/A"},{"$f":"_xlfn.IFNA(VLOOKUP(_xlfn.CONCAT($C$2,\"-\",$E239,\"-\",$F239,\"-\",Q$3),'Raw Data'!$A$2:$D$690331,4,FALSE),\"N/A\")","v":"N/A"},{"$f":"_xlfn.IFNA(VLOOKUP(_xlfn.CONCAT($C$2,\"-\",$E239,\"-\",$F239,\"-\",R$3),'Raw Data'!$A$2:$D$690331,4,FALSE),\"N/A\")","v":"N/A"},{"$f":"_xlfn.IFNA(VLOOKUP(_xlfn.CONCAT($C$2,\"-\",$E239,\"-\",$F239,\"-\",S$3),'Raw Data'!$A$2:$D$690331,4,FALSE),\"N/A\")","v":"N/A"}]
[null,null,null,null,24,8,null,{"$f":"_xlfn.IFNA(VLOOKUP(_xlfn.CONCAT($C$2,\"-\",$E240,\"-\",$F240,\"-\",H$3),'Raw Data'!$A$2:$D$690331,4,FALSE),\"N/A\")","v":"N/A"},{"$f":"_xlfn.IFNA(VLOOKUP(_xlfn.CONCAT($C$2,\"-\",$E240,\"-\",$F240,\"-\",I$3),'Raw Data'!$A$2:$D$690331,4,FALSE),\"N/A\")","v":"N/A"},{"$f":"_xlfn.IFNA(VLOOKUP(_xlfn.CONCAT($C$2,\"-\",$E240,\"-\",$F240,\"-\",J$3),'Raw Data'!$A$2:$D$690331,4,FALSE),\"N/A\")","v":"N/A"},{"$f":"_xlfn.IFNA(VLOOKUP(_xlfn.CONCAT($C$2,\"-\",$E240,\"-\",$F240,\"-\",K$3),'Raw Data'!$A$2:$D$690331,4,FALSE),\"N/A\")","v":"N/A"},{"$f":"_xlfn.IFNA(VLOOKUP(_xlfn.CONCAT($C$2,\"-\",$E240,\"-\",$F240,\"-\",L$3),'Raw Data'!$A$2:$D$690331,4,FALSE),\"N/A\")","v":"N/A"},{"$f":"_xlfn.IFNA(VLOOKUP(_xlfn.CONCAT($C$2,\"-\",$E240,\"-\",$F240,\"-\",M$3),'Raw Data'!$A$2:$D$690331,4,FALSE),\"N/A\")","v":"N/A"},{"$f":"_xlfn.IFNA(VLOOKUP(_xlfn.CONCAT($C$2,\"-\",$E240,\"-\",$F240,\"-\",N$3),'Raw Data'!$A$2:$D$690331,4,FALSE),\"N/A\")","v":"N/A"},{"$f":"_xlfn.IFNA(VLOOKUP(_xlfn.CONCAT($C$2,\"-\",$E240,\"-\",$F240,\"-\",O$3),'Raw Data'!$A$2:$D$690331,4,FALSE),\"N/A\")","v":"N/A"},{"$f":"_xlfn.IFNA(VLOOKUP(_xlfn.CONCAT($C$2,\"-\",$E240,\"-\",$F240,\"-\",P$3),'Raw Data'!$A$2:$D$690331,4,FALSE),\"N/A\")","v":"N/A"},{"$f":"_xlfn.IFNA(VLOOKUP(_xlfn.CONCAT($C$2,\"-\",$E240,\"-\",$F240,\"-\",Q$3),'Raw Data'!$A$2:$D$690331,4,FALSE),\"N/A\")","v":"N/A"},{"$f":"_xlfn.IFNA(VLOOKUP(_xlfn.CONCAT($C$2,\"-\",$E240,\"-\",$F240,\"-\",R$3),'Raw Data'!$A$2:$D$690331,4,FALSE),\"N/A\")","v":"N/A"},{"$f":"_xlfn.IFNA(VLOOKUP(_xlfn.CONCAT($C$2,\"-\",$E240,\"-\",$F240,\"-\",S$3),'Raw Data'!$A$2:$D$690331,4,FALSE),\"N/A\")","v":"N/A"}]
[null,null,null,null,25,8,null,{"$f":"_xlfn.IFNA(VLOOKUP(_xlfn.CONCAT($C$2,\"-\",$E241,\"-\",$F241,\"-\",H$3),'Raw Data'!$A$2:$D$690331,4,FALSE),\"N/A\")","v":"N/A"},{"$f":"_xlfn.IFNA(VLOOKUP(_xlfn.CONCAT($C$2,\"-\",$E241,\"-\",$F241,\"-\",I$3),'Raw Data'!$A$2:$D$690331,4,FALSE),\"N/A\")","v":"N/A"},{"$f":"_xlfn.IFNA(VLOOKUP(_xlfn.CONCAT($C$2,\"-\",$E241,\"-\",$F241,\"-\",J$3),'Raw Data'!$A$2:$D$690331,4,FALSE),\"N/A\")","v":"N/A"},{"$f":"_xlfn.IFNA(VLOOKUP(_xlfn.CONCAT($C$2,\"-\",$E241,\"-\",$F241,\"-\",K$3),'Raw Data'!$A$2:$D$690331,4,FALSE),\"N/A\")","v":"N/A"},{"$f":"_xlfn.IFNA(VLOOKUP(_xlfn.CONCAT($C$2,\"-\",$E241,\"-\",$F241,\"-\",L$3),'Raw Data'!$A$2:$D$690331,4,FALSE),\"N/A\")","v":"N/A"},{"$f":"_xlfn.IFNA(VLOOKUP(_xlfn.CONCAT($C$2,\"-\",$E241,\"-\",$F241,\"-\",M$3),'Raw Data'!$A$2:$D$690331,4,FALSE),\"N/A\")","v":"N/A"},{"$f":"_xlfn.IFNA(VLOOKUP(_xlfn.CONCAT($C$2,\"-\",$E241,\"-\",$F241,\"-\",N$3),'Raw Data'!$A$2:$D$690331,4,FALSE),\"N/A\")","v":"N/A"},{"$f":"_xlfn.IFNA(VLOOKUP(_xlfn.CONCAT($C$2,\"-\",$E241,\"-\",$F241,\"-\",O$3),'Raw Data'!$A$2:$D$690331,4,FALSE),\"N/A\")","v":"N/A"},{"$f":"_xlfn.IFNA(VLOOKUP(_xlfn.CONCAT($C$2,\"-\",$E241,\"-\",$F241,\"-\",P$3),'Raw Data'!$A$2:$D$690331,4,FALSE),\"N/A\")","v":"N/A"},{"$f":"_xlfn.IFNA(VLOOKUP(_xlfn.CONCAT($C$2,\"-\",$E241,\"-\",$F241,\"-\",Q$3),'Raw Data'!$A$2:$D$690331,4,FALSE),\"N/A\")","v":"N/A"},{"$f":"_xlfn.IFNA(VLOOKUP(_xlfn.CONCAT($C$2,\"-\",$E241,\"-\",$F241,\"-\",R$3),'Raw Data'!$A$2:$D$690331,4,FALSE),\"N/A\")","v":"N/A"},{"$f":"_xlfn.IFNA(VLOOKUP(_xlfn.CONCAT($C$2,\"-\",$E241,\"-\",$F241,\"-\",S$3),'Raw Data'!$A$2:$D$690331,4,FALSE),\"N/A\")","v":"N/A"}]
[null,null,null,null,26,8,null,{"$f":"_xlfn.IFNA(VLOOKUP(_xlfn.CONCAT($C$2,\"-\",$E242,\"-\",$F242,\"-\",H$3),'Raw Data'!$A$2:$D$690331,4,FALSE),\"N/A\")","v":"N/A"},{"$f":"_xlfn.IFNA(VLOOKUP(_xlfn.CONCAT($C$2,\"-\",$E242,\"-\",$F242,\"-\",I$3),'Raw Data'!$A$2:$D$690331,4,FALSE),\"N/A\")","v":"N/A"},{"$f":"_xlfn.IFNA(VLOOKUP(_xlfn.CONCAT($C$2,\"-\",$E242,\"-\",$F242,\"-\",J$3),'Raw Data'!$A$2:$D$690331,4,FALSE),\"N/A\")","v":"N/A"},{"$f":"_xlfn.IFNA(VLOOKUP(_xlfn.CONCAT($C$2,\"-\",$E242,\"-\",$F242,\"-\",K$3),'Raw Data'!$A$2:$D$690331,4,FALSE),\"N/A\")","v":"N/A"},{"$f":"_xlfn.IFNA(VLOOKUP(_xlfn.CONCAT($C$2,\"-\",$E242,\"-\",$F242,\"-\",L$3),'Raw Data'!$A$2:$D$690331,4,FALSE),\"N/A\")","v":"N/A"},{"$f":"_xlfn.IFNA(VLOOKUP(_xlfn.CONCAT($C$2,\"-\",$E242,\"-\",$F242,\"-\",M$3),'Raw Data'!$A$2:$D$690331,4,FALSE),\"N/A\")","v":"N/A"},{"$f":"_xlfn.IFNA(VLOOKUP(_xlfn.CONCAT($C$2,\"-\",$E242,\"-\",$F242,\"-\",N$3),'Raw Data'!$A$2:$D$690331,4,FALSE),\"N/A\")","v":"N/A"},{"$f":"_xlfn.IFNA(VLOOKUP(_xlfn.CONCAT($C$2,\"-\",$E242,\"-\",$F242,\"-\",O$3),'Raw Data'!$A$2:$D$690331,4,FALSE),\"N/A\")","v":"N/A"},{"$f":"_xlfn.IFNA(VLOOKUP(_xlfn.CONCAT($C$2,\"-\",$E242,\"-\",$F242,\"-\",P$3),'Raw Data'!$A$2:$D$690331,4,FALSE),\"N/A\")","v":"N/A"},{"$f":"_xlfn.IFNA(VLOOKUP(_xlfn.CONCAT($C$2,\"-\",$E242,\"-\",$F242,\"-\",Q$3),'Raw Data'!$A$2:$D$690331,4,FALSE),\"N/A\")","v":"N/A"},{"$f":"_xlfn.IFNA(VLOOKUP(_xlfn.CONCAT($C$2,\"-\",$E242,\"-\",$F242,\"-\",R$3),'Raw Data'!$A$2:$D$690331,4,FALSE),\"N/A\")","v":"N/A"},{"$f":"_xlfn.IFNA(VLOOKUP(_xlfn.CONCAT($C$2,\"-\",$E242,\"-\",$F242,\"-\",S$3),'Raw Data'!$A$2:$D$690331,4,FALSE),\"N/A\")","v":"N/A"}]
[null,null,null,null,27,8,null,{"$f":"_xlfn.IFNA(VLOOKUP(_xlfn.CONCAT($C$2,\"-\",$E243,\"-\",$F243,\"-\",H$3),'Raw Data'!$A$2:$D$690331,4,FALSE),\"N/A\")","v":"N/A"},{"$f":"_xlfn.IFNA(VLOOKUP(_xlfn.CONCAT($C$2,\"-\",$E243,\"-\",$F243,\"-\",I$3),'Raw Data'!$A$2:$D$690331,4,FALSE),\"N/A\")","v":"N/A"},{"$f":"_xlfn.IFNA(VLOOKUP(_xlfn.CONCAT($C$2,\"-\",$E243,\"-\",$F243,\"-\",J$3),'Raw Data'!$A$2:$D$690331,4,FALSE),\"N/A\")","v":"N/A"},{"$f":"_xlfn.IFNA(VLOOKUP(_xlfn.CONCAT($C$2,\"-\",$E243,\"-\",$F243,\"-\",K$3),'Raw Data'!$A$2:$D$690331,4,FALSE),\"N/A\")","v":"N/A"},{"$f":"_xlfn.IFNA(VLOOKUP(_xlfn.CONCAT($C$2,\"-\",$E243,\"-\",$F243,\"-\",L$3),'Raw Data'!$A$2:$D$690331,4,FALSE),\"N/A\")","v":"N/A"},{"$f":"_xlfn.IFNA(VLOOKUP(_xlfn.CONCAT($C$2,\"-\",$E243,\"-\",$F243,\"-\",M$3),'Raw Data'!$A$2:$D$690331,4,FALSE),\"N/A\")","v":"N/A"},{"$f":"_xlfn.IFNA(VLOOKUP(_xlfn.CONCAT($C$2,\"-\",$E243,\"-\",$F243,\"-\",N$3),'Raw Data'!$A$2:$D$690331,4,FALSE),\"N/A\")","v":"N/A"},{"$f":"_xlfn.IFNA(VLOOKUP(_xlfn.CONCAT($C$2,\"-\",$E243,\"-\",$F243,\"-\",O$3),'Raw Data'!$A$2:$D$690331,4,FALSE),\"N/A\")","v":"N/A"},{"$f":"_xlfn.IFNA(VLOOKUP(_xlfn.CONCAT($C$2,\"-\",$E243,\"-\",$F243,\"-\",P$3),'Raw Data'!$A$2:$D$690331,4,FALSE),\"N/A\")","v":"N/A"},{"$f":"_xlfn.IFNA(VLOOKUP(_xlfn.CONCAT($C$2,\"-\",$E243,\"-\",$F243,\"-\",Q$3),'Raw Data'!$A$2:$D$690331,4,FALSE),\"N/A\")","v":"N/A"},{"$f":"_xlfn.IFNA(VLOOKUP(_xlfn.CONCAT($C$2,\"-\",$E243,\"-\",$F243,\"-\",R$3),'Raw Data'!$A$2:$D$690331,4,FALSE),\"N/A\")","v":"N/A"},{"$f":"_xlfn.IFNA(VLOOKUP(_xlfn.CONCAT($C$2,\"-\",$E243,\"-\",$F243,\"-\",S$3),'Raw Data'!$A$2:$D$690331,4,FALSE),\"N/A\")","v":"N/A"}]
[null,null,null,null,28,8,null,{"$f":"_xlfn.IFNA(VLOOKUP(_xlfn.CONCAT($C$2,\"-\",$E244,\"-\",$F244,\"-\",H$3),'Raw Data'!$A$2:$D$690331,4,FALSE),\"N/A\")","v":"N/A"},{"$f":"_xlfn.IFNA(VLOOKUP(_xlfn.CONCAT($C$2,\"-\",$E244,\"-\",$F244,\"-\",I$3),'Raw Data'!$A$2:$D$690331,4,FALSE),\"N/A\")","v":"N/A"},{"$f":"_xlfn.IFNA(VLOOKUP(_xlfn.CONCAT($C$2,\"-\",$E244,\"-\",$F244,\"-\",J$3),'Raw Data'!$A$2:$D$690331,4,FALSE),\"N/A\")","v":"N/A"},{"$f":"_xlfn.IFNA(VLOOKUP(_xlfn.CONCAT($C$2,\"-\",$E244,\"-\",$F244,\"-\",K$3),'Raw Data'!$A$2:$D$690331,4,FALSE),\"N/A\")","v":"N/A"},{"$f":"_xlfn.IFNA(VLOOKUP(_xlfn.CONCAT($C$2,\"-\",$E244,\"-\",$F244,\"-\",L$3),'Raw Data'!$A$2:$D$690331,4,FALSE),\"N/A\")","v":"N/A"},{"$f":"_xlfn.IFNA(VLOOKUP(_xlfn.CONCAT($C$2,\"-\",$E244,\"-\",$F244,\"-\",M$3),'Raw Data'!$A$2:$D$690331,4,FALSE),\"N/A\")","v":"N/A"},{"$f":"_xlfn.IFNA(VLOOKUP(_xlfn.CONCAT($C$2,\"-\",$E244,\"-\",$F244,\"-\",N$3),'Raw Data'!$A$2:$D$690331,4,FALSE),\"N/A\")","v":"N/A"},{"$f":"_xlfn.IFNA(VLOOKUP(_xlfn.CONCAT($C$2,\"-\",$E244,\"-\",$F244,\"-\",O$3),'Raw Data'!$A$2:$D$690331,4,FALSE),\"N/A\")","v":"N/A"},{"$f":"_xlfn.IFNA(VLOOKUP(_xlfn.CONCAT($C$2,\"-\",$E244,\"-\",$F244,\"-\",P$3),'Raw Data'!$A$2:$D$690331,4,FALSE),\"N/A\")","v":"N/A"},{"$f":"_xlfn.IFNA(VLOOKUP(_xlfn.CONCAT($C$2,\"-\",$E244,\"-\",$F244,\"-\",Q$3),'Raw Data'!$A$2:$D$690331,4,FALSE),\"N/A\")","v":"N/A"},{"$f":"_xlfn.IFNA(VLOOKUP(_xlfn.CONCAT($C$2,\"-\",$E244,\"-\",$F244,\"-\",R$3),'Raw Data'!$A$2:$D$690331,4,FALSE),\"N/A\")","v":"N/A"},{"$f":"_xlfn.IFNA(VLOOKUP(_xlfn.CONCAT($C$2,\"-\",$E244,\"-\",$F244,\"-\",S$3),'Raw Data'!$A$2:$D$690331,4,FALSE),\"N/A\")","v":"N/A"}]
[null,null,null,null,29,8,null,{"$f":"_xlfn.IFNA(VLOOKUP(_xlfn.CONCAT($C$2,\"-\",$E245,\"-\",$F245,\"-\",H$3),'Raw Data'!$A$2:$D$690331,4,FALSE),\"N/A\")","v":"N/A"},{"$f":"_xlfn.IFNA(VLOOKUP(_xlfn.CONCAT($C$2,\"-\",$E245,\"-\",$F245,\"-\",I$3),'Raw Data'!$A$2:$D$690331,4,FALSE),\"N/A\")","v":"N/A"},{"$f":"_xlfn.IFNA(VLOOKUP(_xlfn.CONCAT($C$2,\"-\",$E245,\"-\",$F245,\"-\",J$3),'Raw Data'!$A$2:$D$690331,4,FALSE),\"N/A\")","v":"N/A"},{"$f":"_xlfn.IFNA(VLOOKUP(_xlfn.CONCAT($C$2,\"-\",$E245,\"-\",$F245,\"-\",K$3),'Raw Data'!$A$2:$D$690331,4,FALSE),\"N/A\")","v":"N/A"},{"$f":"_xlfn.IFNA(VLOOKUP(_xlfn.CONCAT($C$2,\"-\",$E245,\"-\",$F245,\"-\",L$3),'Raw Data'!$A$2:$D$690331,4,FALSE),\"N/A\")","v":"N/A"},{"$f":"_xlfn.IFNA(VLOOKUP(_xlfn.CONCAT($C$2,\"-\",$E245,\"-\",$F245,\"-\",M$3),'Raw Data'!$A$2:$D$690331,4,FALSE),\"N/A\")","v":"N/A"},{"$f":"_xlfn.IFNA(VLOOKUP(_xlfn.CONCAT($C$2,\"-\",$E245,\"-\",$F245,\"-\",N$3),'Raw Data'!$A$2:$D$690331,4,FALSE),\"N/A\")","v":"N/A"},{"$f":"_xlfn.IFNA(VLOOKUP(_xlfn.CONCAT($C$2,\"-\",$E245,\"-\",$F245,\"-\",O$3),'Raw Data'!$A$2:$D$690331,4,FALSE),\"N/A\")","v":"N/A"},{"$f":"_xlfn.IFNA(VLOOKUP(_xlfn.CONCAT($C$2,\"-\",$E245,\"-\",$F245,\"-\",P$3),'Raw Data'!$A$2:$D$690331,4,FALSE),\"N/A\")","v":"N/A"},{"$f":"_xlfn.IFNA(VLOOKUP(_xlfn.CONCAT($C$2,\"-\",$E245,\"-\",$F245,\"-\",Q$3),'Raw Data'!$A$2:$D$690331,4,FALSE),\"N/A\")","v":"N/A"},{"$f":"_xlfn.IFNA(VLOOKUP(_xlfn.CONCAT($C$2,\"-\",$E245,\"-\",$F245,\"-\",R$3),'Raw Data'!$A$2:$D$690331,4,FALSE),\"N/A\")","v":"N/A"},{"$f":"_xlfn.IFNA(VLOOKUP(_xlfn.CONCAT($C$2,\"-\",$E245,\"-\",$F245,\"-\",S$3),'Raw Data'!$A$2:$D$690331,4,FALSE),\"N/A\")","v":"N/A"}]
[null,null,null,null,30,8,null,{"$f":"_xlfn.IFNA(VLOOKUP(_xlfn.CONCAT($C$2,\"-\",$E246,\"-\",$F246,\"-\",H$3),'Raw Data'!$A$2:$D$690331,4,FALSE),\"N/A\")","v":"N/A"},{"$f":"_xlfn.IFNA(VLOOKUP(_xlfn.CONCAT($C$2,\"-\",$E246,\"-\",$F246,\"-\",I$3),'Raw Data'!$A$2:$D$690331,4,FALSE),\"N/A\")","v":"N/A"},{"$f":"_xlfn.IFNA(VLOOKUP(_xlfn.CONCAT($C$2,\"-\",$E246,\"-\",$F246,\"-\",J$3),'Raw Data'!$A$2:$D$690331,4,FALSE),\"N/A\")","v":"N/A"},{"$f":"_xlfn.IFNA(VLOOKUP(_xlfn.CONCAT($C$2,\"-\",$E246,\"-\",$F246,\"-\",K$3),'Raw Data'!$A$2:$D$690331,4,FALSE),\"N/A\")","v":"N/A"},{"$f":"_xlfn.IFNA(VLOOKUP(_xlfn.CONCAT($C$2,\"-\",$E246,\"-\",$F246,\"-\",L$3),'Raw Data'!$A$2:$D$690331,4,FALSE),\"N/A\")","v":"N/A"},{"$f":"_xlfn.IFNA(VLOOKUP(_xlfn.CONCAT($C$2,\"-\",$E246,\"-\",$F246,\"-\",M$3),'Raw Data'!$A$2:$D$690331,4,FALSE),\"N/A\")","v":"N/A"},{"$f":"_xlfn.IFNA(VLOOKUP(_xlfn.CONCAT($C$2,\"-\",$E246,\"-\",$F246,\"-\",N$3),'Raw Data'!$A$2:$D$690331,4,FALSE),\"N/A\")","v":"N/A"},{"$f":"_xlfn.IFNA(VLOOKUP(_xlfn.CONCAT($C$2,\"-\",$E246,\"-\",$F246,\"-\",O$3),'Raw Data'!$A$2:$D$690331,4,FALSE),\"N/A\")","v":"N/A"},{"$f":"_xlfn.IFNA(VLOOKUP(_xlfn.CONCAT($C$2,\"-\",$E246,\"-\",$F246,\"-\",P$3),'Raw Data'!$A$2:$D$690331,4,FALSE),\"N/A\")","v":"N/A"},{"$f":"_xlfn.IFNA(VLOOKUP(_xlfn.CONCAT($C$2,\"-\",$E246,\"-\",$F246,\"-\",Q$3),'Raw Data'!$A$2:$D$690331,4,FALSE),\"N/A\")","v":"N/A"},{"$f":"_xlfn.IFNA(VLOOKUP(_xlfn.CONCAT($C$2,\"-\",$E246,\"-\",$F246,\"-\",R$3),'Raw Data'!$A$2:$D$690331,4,FALSE),\"N/A\")","v":"N/A"},{"$f":"_xlfn.IFNA(VLOOKUP(_xlfn.CONCAT($C$2,\"-\",$E246,\"-\",$F246,\"-\",S$3),'Raw Data'!$A$2:$D$690331,4,FALSE),\"N/A\")","v":"N/A"}]
[null,null,null,null,31,8,null,{"$f":"_xlfn.IFNA(VLOOKUP(_xlfn.CONCAT($C$2,\"-\",$E247,\"-\",$F247,\"-\",H$3),'Raw Data'!$A$2:$D$690331,4,FALSE),\"N/A\")","v":"N/A"},{"$f":"_xlfn.IFNA(VLOOKUP(_xlfn.CONCAT($C$2,\"-\",$E247,\"-\",$F247,\"-\",I$3),'Raw Data'!$A$2:$D$690331,4,FALSE),\"N/A\")","v":"N/A"},{"$f":"_xlfn.IFNA(VLOOKUP(_xlfn.CONCAT($C$2,\"-\",$E247,\"-\",$F247,\"-\",J$3),'Raw Data'!$A$2:$D$690331,4,FALSE),\"N/A\")","v":"N/A"},{"$f":"_xlfn.IFNA(VLOOKUP(_xlfn.CONCAT($C$2,\"-\",$E247,\"-\",$F247,\"-\",K$3),'Raw Data'!$A$2:$D$690331,4,FALSE),\"N/A\")","v":"N/A"},{"$f":"_xlfn.IFNA(VLOOKUP(_xlfn.CONCAT($C$2,\"-\",$E247,\"-\",$F247,\"-\",L$3),'Raw Data'!$A$2:$D$690331,4,FALSE),\"N/A\")","v":"N/A"},{"$f":"_xlfn.IFNA(VLOOKUP(_xlfn.CONCAT($C$2,\"-\",$E247,\"-\",$F247,\"-\",M$3),'Raw Data'!$A$2:$D$690331,4,FALSE),\"N/A\")","v":"N/A"},{"$f":"_xlfn.IFNA(VLOOKUP(_xlfn.CONCAT($C$2,\"-\",$E247,\"-\",$F247,\"-\",N$3),'Raw Data'!$A$2:$D$690331,4,FALSE),\"N/A\")","v":"N/A"},{"$f":"_xlfn.IFNA(VLOOKUP(_xlfn.CONCAT($C$2,\"-\",$E247,\"-\",$F247,\"-\",O$3),'Raw Data'!$A$2:$D$690331,4,FALSE),\"N/A\")","v":"N/A"},{"$f":"_xlfn.IFNA(VLOOKUP(_xlfn.CONCAT($C$2,\"-\",$E247,\"-\",$F247,\"-\",P$3),'Raw Data'!$A$2:$D$690331,4,FALSE),\"N/A\")","v":"N/A"},{"$f":"_xlfn.IFNA(VLOOKUP(_xlfn.CONCAT($C$2,\"-\",$E247,\"-\",$F247,\"-\",Q$3),'Raw Data'!$A$2:$D$690331,4,FALSE),\"N/A\")","v":"N/A"},{"$f":"_xlfn.IFNA(VLOOKUP(_xlfn.CONCAT($C$2,\"-\",$E247,\"-\",$F247,\"-\",R$3),'Raw Data'!$A$2:$D$690331,4,FALSE),\"N/A\")","v":"N/A"},{"$f":"_xlfn.IFNA(VLOOKUP(_xlfn.CONCAT($C$2,\"-\",$E247,\"-\",$F247,\"-\",S$3),'Raw Data'!$A$2:$D$690331,4,FALSE),\"N/A\")","v":"N/A"}]
[null,null,null,null,1,9,null,{"$f":"_xlfn.IFNA(VLOOKUP(_xlfn.CONCAT($C$2,\"-\",$E248,\"-\",$F248,\"-\",H$3),'Raw Data'!$A$2:$D$690331,4,FALSE),\"N/A\")","v":"N/A"},{"$f":"_xlfn.IFNA(VLOOKUP(_xlfn.CONCAT($C$2,\"-\",$E248,\"-\",$F248,\"-\",I$3),'Raw Data'!$A$2:$D$690331,4,FALSE),\"N/A\")","v":"N/A"},{"$f":"_xlfn.IFNA(VLOOKUP(_xlfn.CONCAT($C$2,\"-\",$E248,\"-\",$F248,\"-\",J$3),'Raw Data'!$A$2:$D$690331,4,FALSE),\"N/A\")","v":"N/A"},{"$f":"_xlfn.IFNA(VLOOKUP(_xlfn.CONCAT($C$2,\"-\",$E248,\"-\",$F248,\"-\",K$3),'Raw Data'!$A$2:$D$690331,4,FALSE),\"N/A\")","v":"N/A"},{"$f":"_xlfn.IFNA(VLOOKUP(_xlfn.CONCAT($C$2,\"-\",$E248,\"-\",$F248,\"-\",L$3),'Raw Data'!$A$2:$D$690331,4,FALSE),\"N/A\")","v":"N/A"},{"$f":"_xlfn.IFNA(VLOOKUP(_xlfn.CONCAT($C$2,\"-\",$E248,\"-\",$F248,\"-\",M$3),'Raw Data'!$A$2:$D$690331,4,FALSE),\"N/A\")","v":"N/A"},{"$f":"_xlfn.IFNA(VLOOKUP(_xlfn.CONCAT($C$2,\"-\",$E248,\"-\",$F248,\"-\",N$3),'Raw Data'!$A$2:$D$690331,4,FALSE),\"N/A\")","v":"N/A"},{"$f":"_xlfn.IFNA(VLOOKUP(_xlfn.CONCAT($C$2,\"-\",$E248,\"-\",$F248,\"-\",O$3),'Raw Data'!$A$2:$D$690331,4,FALSE),\"N/A\")","v":"N/A"},{"$f":"_xlfn.IFNA(VLOOKUP(_xlfn.CONCAT($C$2,\"-\",$E248,\"-\",$F248,\"-\",P$3),'Raw Data'!$A$2:$D$690331,4,FALSE),\"N/A\")","v":"N/A"},{"$f":"_xlfn.IFNA(VLOOKUP(_xlfn.CONCAT($C$2,\"-\",$E248,\"-\",$F248,\"-\",Q$3),'Raw Data'!$A$2:$D$690331,4,FALSE),\"N/A\")","v":"N/A"},{"$f":"_xlfn.IFNA(VLOOKUP(_xlfn.CONCAT($C$2,\"-\",$E248,\"-\",$F248,\"-\",R$3),'Raw Data'!$A$2:$D$690331,4,FALSE),\"N/A\")","v":"N/A"},{"$f":"_xlfn.IFNA(VLOOKUP(_xlfn.CONCAT($C$2,\"-\",$E248,\"-\",$F248,\"-\",S$3),'Raw Data'!$A$2:$D$690331,4,FALSE),\"N/A\")","v":"N/A"}]
[null,null,null,null,2,9,null,{"$f":"_xlfn.IFNA(VLOOKUP(_xlfn.CONCAT($C$2,\"-\",$E249,\"-\",$F249,\"-\",H$3),'Raw Data'!$A$2:$D$690331,4,FALSE),\"N/A\")","v":"N/A"},{"$f":"_xlfn.IFNA(VLOOKUP(_xlfn.CONCAT($C$2,\"-\",$E249,\"-\",$F249,\"-\",I$3),'Raw Data'!$A$2:$D$690331,4,FALSE),\"N/A\")","v":"N/A"},{"$f":"_xlfn.IFNA(VLOOKUP(_xlfn.CONCAT($C$2,\"-\",$E249,\"-\",$F249,\"-\",J$3),'Raw Data'!$A$2:$D$690331,4,FALSE),\"N/A\")","v":"N/A"},{"$f":"_xlfn.IFNA(VLOOKUP(_xlfn.CONCAT($C$2,\"-\",$E249,\"-\",$F249,\"-\",K$3),'Raw Data'!$A$2:$D$690331,4,FALSE),\"N/A\")","v":"N/A"},{"$f":"_xlfn.IFNA(VLOOKUP(_xlfn.CONCAT($C$2,\"-\",$E249,\"-\",$F249,\"-\",L$3),'Raw Data'!$A$2:$D$690331,4,FALSE),\"N/A\")","v":"N/A"},{"$f":"_xlfn.IFNA(VLOOKUP(_xlfn.CONCAT($C$2,\"-\",$E249,\"-\",$F249,\"-\",M$3),'Raw Data'!$A$2:$D$690331,4,FALSE),\"N/A\")","v":"N/A"},{"$f":"_xlfn.IFNA(VLOOKUP(_xlfn.CONCAT($C$2,\"-\",$E249,\"-\",$F249,\"-\",N$3),'Raw Data'!$A$2:$D$690331,4,FALSE),\"N/A\")","v":"N/A"},{"$f":"_xlfn.IFNA(VLOOKUP(_xlfn.CONCAT($C$2,\"-\",$E249,\"-\",$F249,\"-\",O$3),'Raw Data'!$A$2:$D$690331,4,FALSE),\"N/A\")","v":"N/A"},{"$f":"_xlfn.IFNA(VLOOKUP(_xlfn.CONCAT($C$2,\"-\",$E249,\"-\",$F249,\"-\",P$3),'Raw Data'!$A$2:$D$690331,4,FALSE),\"N/A\")","v":"N/A"},{"$f":"_xlfn.IFNA(VLOOKUP(_xlfn.CONCAT($C$2,\"-\",$E249,\"-\",$F249,\"-\",Q$3),'Raw Data'!$A$2:$D$690331,4,FALSE),\"N/A\")","v":"N/A"},{"$f":"_xlfn.IFNA(VLOOKUP(_xlfn.CONCAT($C$2,\"-\",$E249,\"-\",$F249,\"-\",R$3),'Raw Data'!$A$2:$D$690331,4,FALSE),\"N/A\")","v":"N/A"},{"$f":"_xlfn.IFNA(VLOOKUP(_xlfn.CONCAT($C$2,\"-\",$E249,\"-\",$F249,\"-\",S$3),'Raw Data'!$A$2:$D$690331,4,FALSE),\"N/A\")","v":"N/A"}]
[null,null,null,null,3,9,null,{"$f":"_xlfn.IFNA(VLOOKUP(_xlfn.CONCAT($C$2,\"-\",$E250,\"-\",$F250,\"-\",H$3),'Raw Data'!$A$2:$D$690331,4,FALSE),\"N/A\")","v":"N/A"},{"$f":"_xlfn.IFNA(VLOOKUP(_xlfn.CONCAT($C$2,\"-\",$E250,\"-\",$F250,\"-\",I$3),'Raw Data'!$A$2:$D$690331,4,FALSE),\"N/A\")","v":"N/A"},{"$f":"_xlfn.IFNA(VLOOKUP(_xlfn.CONCAT($C$2,\"-\",$E250,\"-\",$F250,\"-\",J$3),'Raw Data'!$A$2:$D$690331,4,FALSE),\"N/A\")","v":"N/A"},{"$f":"_xlfn.IFNA(VLOOKUP(_xlfn.CONCAT($C$2,\"-\",$E250,\"-\",$F250,\"-\",K$3),'Raw Data'!$A$2:$D$690331,4,FALSE),\"N/A\")","v":"N/A"},{"$f":"_xlfn.IFNA(VLOOKUP(_xlfn.CONCAT($C$2,\"-\",$E250,\"-\",$F250,\"-\",L$3),'Raw Data'!$A$2:$D$690331,4,FALSE),\"N/A\")","v":"N/A"},{"$f":"_xlfn.IFNA(VLOOKUP(_xlfn.CONCAT($C$2,\"-\",$E250,\"-\",$F250,\"-\",M$3),'Raw Data'!$A$2:$D$690331,4,FALSE),\"N/A\")","v":"N/A"},{"$f":"_xlfn.IFNA(VLOOKUP(_xlfn.CONCAT($C$2,\"-\",$E250,\"-\",$F250,\"-\",N$3),'Raw Data'!$A$2:$D$690331,4,FALSE),\"N/A\")","v":"N/A"},{"$f":"_xlfn.IFNA(VLOOKUP(_xlfn.CONCAT($C$2,\"-\",$E250,\"-\",$F250,\"-\",O$3),'Raw Data'!$A$2:$D$690331,4,FALSE),\"N/A\")","v":"N/A"},{"$f":"_xlfn.IFNA(VLOOKUP(_xlfn.CONCAT($C$2,\"-\",$E250,\"-\",$F250,\"-\",P$3),'Raw Data'!$A$2:$D$690331,4,FALSE),\"N/A\")","v":"N/A"},{"$f":"_xlfn.IFNA(VLOOKUP(_xlfn.CONCAT($C$2,\"-\",$E250,\"-\",$F250,\"-\",Q$3),'Raw Data'!$A$2:$D$690331,4,FALSE),\"N/A\")","v":"N/A"},{"$f":"_xlfn.IFNA(VLOOKUP(_xlfn.CONCAT($C$2,\"-\",$E250,\"-\",$F250,\"-\",R$3),'Raw Data'!$A$2:$D$690331,4,FALSE),\"N/A\")","v":"N/A"},{"$f":"_xlfn.IFNA(VLOOKUP(_xlfn.CONCAT($C$2,\"-\",$E250,\"-\",$F250,\"-\",S$3),'Raw Data'!$A$2:$D$690331,4,FALSE),\"N/A\")","v":"N/A"}]
[null,null,null,null,4,9,null,{"$f":"_xlfn.IFNA(VLOOKUP(_xlfn.CONCAT($C$2,\"-\",$E251,\"-\",$F251,\"-\",H$3),'Raw Data'!$A$2:$D$690331,4,FALSE),\"N/A\")","v":"N/A"},{"$f":"_xlfn.IFNA(VLOOKUP(_xlfn.CONCAT($C$2,\"-\",$E251,\"-\",$F251,\"-\",I$3),'Raw Data'!$A$2:$D$690331,4,FALSE),\"N/A\")","v":"N/A"},{"$f":"_xlfn.IFNA(VLOOKUP(_xlfn.CONCAT($C$2,\"-\",$E251,\"-\",$F251,\"-\",J$3),'Raw Data'!$A$2:$D$690331,4,FALSE),\"N/A\")","v":"N/A"},{"$f":"_xlfn.IFNA(VLOOKUP(_xlfn.CONCAT($C$2,\"-\",$E251,\"-\",$F251,\"-\",K$3),'Raw Data'!$A$2:$D$690331,4,FALSE),\"N/A\")","v":"N/A"},{"$f":"_xlfn.IFNA(VLOOKUP(_xlfn.CONCAT($C$2,\"-\",$E251,\"-\",$F251,\"-\",L$3),'Raw Data'!$A$2:$D$690331,4,FALSE),\"N/A\")","v":"N/A"},{"$f":"_xlfn.IFNA(VLOOKUP(_xlfn.CONCAT($C$2,\"-\",$E251,\"-\",$F251,\"-\",M$3),'Raw Data'!$A$2:$D$690331,4,FALSE),\"N/A\")","v":"N/A"},{"$f":"_xlfn.IFNA(VLOOKUP(_xlfn.CONCAT($C$2,\"-\",$E251,\"-\",$F251,\"-\",N$3),'Raw Data'!$A$2:$D$690331,4,FALSE),\"N/A\")","v":"N/A"},{"$f":"_xlfn.IFNA(VLOOKUP(_xlfn.CONCAT($C$2,\"-\",$E251,\"-\",$F251,\"-\",O$3),'Raw Data'!$A$2:$D$690331,4,FALSE),\"N/A\")","v":"N/A"},{"$f":"_xlfn.IFNA(VLOOKUP(_xlfn.CONCAT($C$2,\"-\",$E251,\"-\",$F251,\"-\",P$3),'Raw Data'!$A$2:$D$690331,4,FALSE),\"N/A\")","v":"N/A"},{"$f":"_xlfn.IFNA(VLOOKUP(_xlfn.CONCAT($C$2,\"-\",$E251,\"-\",$F251,\"-\",Q$3),'Raw Data'!$A$2:$D$690331,4,FALSE),\"N/A\")","v":"N/A"},{"$f":"_xlfn.IFNA(VLOOKUP(_xlfn.CONCAT($C$2,\"-\",$E251,\"-\",$F251,\"-\",R$3),'Raw Data'!$A$2:$D$690331,4,FALSE),\"N/A\")","v":"N/A"},{"$f":"_xlfn.IFNA(VLOOKUP(_xlfn.CONCAT($C$2,\"-\",$E251,\"-\",$F251,\"-\",S$3),'Raw Data'!$A$2:$D$690331,4,FALSE),\"N/A\")","v":"N/A"}]
[null,null,null,null,5,9,null,{"$f":"_xlfn.IFNA(VLOOKUP(_xlfn.CONCAT($C$2,\"-\",$E252,\"-\",$F252,\"-\",H$3),'Raw Data'!$A$2:$D$690331,4,FALSE),\"N/A\")","v":"N/A"},{"$f":"_xlfn.IFNA(VLOOKUP(_xlfn.CONCAT($C$2,\"-\",$E252,\"-\",$F252,\"-\",I$3),'Raw Data'!$A$2:$D$690331,4,FALSE),\"N/A\")","v":"N/A"},{"$f":"_xlfn.IFNA(VLOOKUP(_xlfn.CONCAT($C$2,\"-\",$E252,\"-\",$F252,\"-\",J$3),'Raw Data'!$A$2:$D$690331,4,FALSE),\"N/A\")","v":"N/A"},{"$f":"_xlfn.IFNA(VLOOKUP(_xlfn.CONCAT($C$2,\"-\",$E252,\"-\",$F252,\"-\",K$3),'Raw Data'!$A$2:$D$690331,4,FALSE),\"N/A\")","v":"N/A"},{"$f":"_xlfn.IFNA(VLOOKUP(_xlfn.CONCAT($C$2,\"-\",$E252,\"-\",$F252,\"-\",L$3),'Raw Data'!$A$2:$D$690331,4,FALSE),\"N/A\")","v":"N/A"},{"$f":"_xlfn.IFNA(VLOOKUP(_xlfn.CONCAT($C$2,\"-\",$E252,\"-\",$F252,\"-\",M$3),'Raw Data'!$A$2:$D$690331,4,FALSE),\"N/A\")","v":"N/A"},{"$f":"_xlfn.IFNA(VLOOKUP(_xlfn.CONCAT($C$2,\"-\",$E252,\"-\",$F252,\"-\",N$3),'Raw Data'!$A$2:$D$690331,4,FALSE),\"N/A\")","v":"N/A"},{"$f":"_xlfn.IFNA(VLOOKUP(_xlfn.CONCAT($C$2,\"-\",$E252,\"-\",$F252,\"-\",O$3),'Raw Data'!$A$2:$D$690331,4,FALSE),\"N/A\")","v":"N/A"},{"$f":"_xlfn.IFNA(VLOOKUP(_xlfn.CONCAT($C$2,\"-\",$E252,\"-\",$F252,\"-\",P$3),'Raw Data'!$A$2:$D$690331,4,FALSE),\"N/A\")","v":"N/A"},{"$f":"_xlfn.IFNA(VLOOKUP(_xlfn.CONCAT($C$2,\"-\",$E252,\"-\",$F252,\"-\",Q$3),'Raw Data'!$A$2:$D$690331,4,FALSE),\"N/A\")","v":"N/A"},{"$f":"_xlfn.IFNA(VLOOKUP(_xlfn.CONCAT($C$2,\"-\",$E252,\"-\",$F252,\"-\",R$3),'Raw Data'!$A$2:$D$690331,4,FALSE),\"N/A\")","v":"N/A"},{"$f":"_xlfn.IFNA(VLOOKUP(_xlfn.CONCAT($C$2,\"-\",$E252,\"-\",$F252,\"-\",S$3),'Raw Data'!$A$2:$D$690331,4,FALSE),\"N/A\")","v":"N/A"}]
[null,null,null,null,6,9,null,{"$f":"_xlfn.IFNA(VLOOKUP(_xlfn.CONCAT($C$2,\"-\",$E253,\"-\",$F253,\"-\",H$3),'Raw Data'!$A$2:$D$690331,4,FALSE),\"N/A\")","v":"N/A"},{"$f":"_xlfn.IFNA(VLOOKUP(_xlfn.CONCAT($C$2,\"-\",$E253,\"-\",$F253,\"-\",I$3),'Raw Data'!$A$2:$D$690331,4,FALSE),\"N/A\")","v":"N/A"},{"$f":"_xlfn.IFNA(VLOOKUP(_xlfn.CONCAT($C$2,\"-\",$E253,\"-\",$F253,\"-\",J$3),'Raw Data'!$A$2:$D$690331,4,FALSE),\"N/A\")","v":"N/A"},{"$f":"_xlfn.IFNA(VLOOKUP(_xlfn.CONCAT($C$2,\"-\",$E253,\"-\",$F253,\"-\",K$3),'Raw Data'!$A$2:$D$690331,4,FALSE),\"N/A\")","v":"N/A"},{"$f":"_xlfn.IFNA(VLOOKUP(_xlfn.CONCAT($C$2,\"-\",$E253,\"-\",$F253,\"-\",L$3),'Raw Data'!$A$2:$D$690331,4,FALSE),\"N/A\")","v":"N/A"},{"$f":"_xlfn.IFNA(VLOOKUP(_xlfn.CONCAT($C$2,\"-\",$E253,\"-\",$F253,\"-\",M$3),'Raw Data'!$A$2:$D$690331,4,FALSE),\"N/A\")","v":"N/A"},{"$f":"_xlfn.IFNA(VLOOKUP(_xlfn.CONCAT($C$2,\"-\",$E253,\"-\",$F253,\"-\",N$3),'Raw Data'!$A$2:$D$690331,4,FALSE),\"N/A\")","v":"N/A"},{"$f":"_xlfn.IFNA(VLOOKUP(_xlfn.CONCAT($C$2,\"-\",$E253,\"-\",$F253,\"-\",O$3),'Raw Data'!$A$2:$D$690331,4,FALSE),\"N/A\")","v":"N/A"},{"$f":"_xlfn.IFNA(VLOOKUP(_xlfn.CONCAT($C$2,\"-\",$E253,\"-\",$F253,\"-\",P$3),'Raw Data'!$A$2:$D$690331,4,FALSE),\"N/A\")","v":"N/A"},{"$f":"_xlfn.IFNA(VLOOKUP(_xlfn.CONCAT($C$2,\"-\",$E253,\"-\",$F253,\"-\",Q$3),'Raw Data'!$A$2:$D$690331,4,FALSE),\"N/A\")","v":"N/A"},{"$f":"_xlfn.IFNA(VLOOKUP(_xlfn.CONCAT($C$2,\"-\",$E253,\"-\",$F253,\"-\",R$3),'Raw Data'!$A$2:$D$690331,4,FALSE),\"N/A\")","v":"N/A"},{"$f":"_xlfn.IFNA(VLOOKUP(_xlfn.CONCAT($C$2,\"-\",$E253,\"-\",$F253,\"-\",S$3),'Raw Data'!$A$2:$D$690331,4,FALSE),\"N/A\")","v":"N/A"}]
[null,null,null,null,7,9,null,{"$f":"_xlfn.IFNA(VLOOKUP(_xlfn.CONCAT($C$2,\"-\",$E254,\"-\",$F254,\"-\",H$3),'Raw Data'!$A$2:$D$690331,4,FALSE),\"N/A\")","v":"N/A"},{"$f":"_xlfn.IFNA(VLOOKUP(_xlfn.CONCAT($C$2,\"-\",$E254,\"-\",$F254,\"-\",I$3),'Raw Data'!$A$2:$D$690331,4,FALSE),\"N/A\")","v":"N/A"},{"$f":"_xlfn.IFNA(VLOOKUP(_xlfn.CONCAT($C$2,\"-\",$E254,\"-\",$F254,\"-\",J$3),'Raw Data'!$A$2:$D$690331,4,FALSE),\"N/A\")","v":"N/A"},{"$f":"_xlfn.IFNA(VLOOKUP(_xlfn.CONCAT($C$2,\"-\",$E254,\"-\",$F254,\"-\",K$3),'Raw Data'!$A$2:$D$690331,4,FALSE),\"N/A\")","v":"N/A"},{"$f":"_xlfn.IFNA(VLOOKUP(_xlfn.CONCAT($C$2,\"-\",$E254,\"-\",$F254,\"-\",L$3),'Raw Data'!$A$2:$D$690331,4,FALSE),\"N/A\")","v":"N/A"},{"$f":"_xlfn.IFNA(VLOOKUP(_xlfn.CONCAT($C$2,\"-\",$E254,\"-\",$F254,\"-\",M$3),'Raw Data'!$A$2:$D$690331,4,FALSE),\"N/A\")","v":"N/A"},{"$f":"_xlfn.IFNA(VLOOKUP(_xlfn.CONCAT($C$2,\"-\",$E254,\"-\",$F254,\"-\",N$3),'Raw Data'!$A$2:$D$690331,4,FALSE),\"N/A\")","v":"N/A"},{"$f":"_xlfn.IFNA(VLOOKUP(_xlfn.CONCAT($C$2,\"-\",$E254,\"-\",$F254,\"-\",O$3),'Raw Data'!$A$2:$D$690331,4,FALSE),\"N/A\")","v":"N/A"},{"$f":"_xlfn.IFNA(VLOOKUP(_xlfn.CONCAT($C$2,\"-\",$E254,\"-\",$F254,\"-\",P$3),'Raw Data'!$A$2:$D$690331,4,FALSE),\"N/A\")","v":"N/A"},{"$f":"_xlfn.IFNA(VLOOKUP(_xlfn.CONCAT($C$2,\"-\",$E254,\"-\",$F254,\"-\",Q$3),'Raw Data'!$A$2:$D$690331,4,FALSE),\"N/A\")","v":"N/A"},{"$f":"_xlfn.IFNA(VLOOKUP(_xlfn.CONCAT($C$2,\"-\",$E254,\"-\",$F254,\"-\",R$3),'Raw Data'!$A$2:$D$690331,4,FALSE),\"N/A\")","v":"N/A"},{"$f":"_xlfn.IFNA(VLOOKUP(_xlfn.CONCAT($C$2,\"-\",$E254,\"-\",$F254,\"-\",S$3),'Raw Data'!$A$2:$D$690331,4,FALSE),\"N/A\")","v":"N/A"}]
[null,null,null,null,8,9,null,{"$f":"_xlfn.IFNA(VLOOKUP(_xlfn.CONCAT($C$2,\"-\",$E255,\"-\",$F255,\"-\",H$3),'Raw Data'!$A$2:$D$690331,4,FALSE),\"N/A\")","v":"N/A"},{"$f":"_xlfn.IFNA(VLOOKUP(_xlfn.CONCAT($C$2,\"-\",$E255,\"-\",$F255,\"-\",I$3),'Raw Data'!$A$2:$D$690331,4,FALSE),\"N/A\")","v":"N/A"},{"$f":"_xlfn.IFNA(VLOOKUP(_xlfn.CONCAT($C$2,\"-\",$E255,\"-\",$F255,\"-\",J$3),'Raw Data'!$A$2:$D$690331,4,FALSE),\"N/A\")","v":"N/A"},{"$f":"_xlfn.IFNA(VLOOKUP(_xlfn.CONCAT($C$2,\"-\",$E255,\"-\",$F255,\"-\",K$3),'Raw Data'!$A$2:$D$690331,4,FALSE),\"N/A\")","v":"N/A"},{"$f":"_xlfn.IFNA(VLOOKUP(_xlfn.CONCAT($C$2,\"-\",$E255,\"-\",$F255,\"-\",L$3),'Raw Data'!$A$2:$D$690331,4,FALSE),\"N/A\")","v":"N/A"},{"$f":"_xlfn.IFNA(VLOOKUP(_xlfn.CONCAT($C$2,\"-\",$E255,\"-\",$F255,\"-\",M$3),'Raw Data'!$A$2:$D$690331,4,FALSE),\"N/A\")","v":"N/A"},{"$f":"_xlfn.IFNA(VLOOKUP(_xlfn.CONCAT($C$2,\"-\",$E255,\"-\",$F255,\"-\",N$3),'Raw Data'!$A$2:$D$690331,4,FALSE),\"N/A\")","v":"N/A"},{"$f":"_xlfn.IFNA(VLOOKUP(_xlfn.CONCAT($C$2,\"-\",$E255,\"-\",$F255,\"-\",O$3),'Raw Data'!$A$2:$D$690331,4,FALSE),\"N/A\")","v":"N/A"},{"$f":"_xlfn.IFNA(VLOOKUP(_xlfn.CONCAT($C$2,\"-\",$E255,\"-\",$F255,\"-\",P$3),'Raw Data'!$A$2:$D$690331,4,FALSE),\"N/A\")","v":"N/A"},{"$f":"_xlfn.IFNA(VLOOKUP(_xlfn.CONCAT($C$2,\"-\",$E255,\"-\",$F255,\"-\",Q$3),'Raw Data'!$A$2:$D$690331,4,FALSE),\"N/A\")","v":"N/A"},{"$f":"_xlfn.IFNA(VLOOKUP(_xlfn.CONCAT($C$2,\"-\",$E255,\"-\",$F255,\"-\",R$3),'Raw Data'!$A$2:$D$690331,4,FALSE),\"N/A\")","v":"N/A"},{"$f":"_xlfn.IFNA(VLOOKUP(_xlfn.CONCAT($C$2,\"-\",$E255,\"-\",$F255,\"-\",S$3),'Raw Data'!$A$2:$D$690331,4,FALSE),\"N/A\")","v":"N/A"}]
[null,null,null,null,9,9,null,{"$f":"_xlfn.IFNA(VLOOKUP(_xlfn.CONCAT($C$2,\"-\",$E256,\"-\",$F256,\"-\",H$3),'Raw Data'!$A$2:$D$690331,4,FALSE),\"N/A\")","v":"N/A"},{"$f":"_xlfn.IFNA(VLOOKUP(_xlfn.CONCAT($C$2,\"-\",$E256,\"-\",$F256,\"-\",I$3),'Raw Data'!$A$2:$D$690331,4,FALSE),\"N/A\")","v":"N/A"},{"$f":"_xlfn.IFNA(VLOOKUP(_xlfn.CONCAT($C$2,\"-\",$E256,\"-\",$F256,\"-\",J$3),'Raw Data'!$A$2:$D$690331,4,FALSE),\"N/A\")","v":"N/A"},{"$f":"_xlfn.IFNA(VLOOKUP(_xlfn.CONCAT($C$2,\"-\",$E256,\"-\",$F256,\"-\",K$3),'Raw Data'!$A$2:$D$690331,4,FALSE),\"N/A\")","v":"N/A"},{"$f":"_xlfn.IFNA(VLOOKUP(_xlfn.CONCAT($C$2,\"-\",$E256,\"-\",$F256,\"-\",L$3),'Raw Data'!$A$2:$D$690331,4,FALSE),\"N/A\")","v":"N/A"},{"$f":"_xlfn.IFNA(VLOOKUP(_xlfn.CONCAT($C$2,\"-\",$E256,\"-\",$F256,\"-\",M$3),'Raw Data'!$A$2:$D$690331,4,FALSE),\"N/A\")","v":"N/A"},{"$f":"_xlfn.IFNA(VLOOKUP(_xlfn.CONCAT($C$2,\"-\",$E256,\"-\",$F256,\"-\",N$3),'Raw Data'!$A$2:$D$690331,4,FALSE),\"N/A\")","v":"N/A"},{"$f":"_xlfn.IFNA(VLOOKUP(_xlfn.CONCAT($C$2,\"-\",$E256,\"-\",$F256,\"-\",O$3),'Raw Data'!$A$2:$D$690331,4,FALSE),\"N/A\")","v":"N/A"},{"$f":"_xlfn.IFNA(VLOOKUP(_xlfn.CONCAT($C$2,\"-\",$E256,\"-\",$F256,\"-\",P$3),'Raw Data'!$A$2:$D$690331,4,FALSE),\"N/A\")","v":"N/A"},{"$f":"_xlfn.IFNA(VLOOKUP(_xlfn.CONCAT($C$2,\"-\",$E256,\"-\",$F256,\"-\",Q$3),'Raw Data'!$A$2:$D$690331,4,FALSE),\"N/A\")","v":"N/A"},{"$f":"_xlfn.IFNA(VLOOKUP(_xlfn.CONCAT($C$2,\"-\",$E256,\"-\",$F256,\"-\",R$3),'Raw Data'!$A$2:$D$690331,4,FALSE),\"N/A\")","v":"N/A"},{"$f":"_xlfn.IFNA(VLOOKUP(_xlfn.CONCAT($C$2,\"-\",$E256,\"-\",$F256,\"-\",S$3),'Raw Data'!$A$2:$D$690331,4,FALSE),\"N/A\")","v":"N/A"}]
[null,null,null,null,10,9,null,{"$f":"_xlfn.IFNA(VLOOKUP(_xlfn.CONCAT($C$2,\"-\",$E257,\"-\",$F257,\"-\",H$3),'Raw Data'!$A$2:$D$690331,4,FALSE),\"N/A\")","v":"N/A"},{"$f":"_xlfn.IFNA(VLOOKUP(_xlfn.CONCAT($C$2,\"-\",$E257,\"-\",$F257,\"-\",I$3),'Raw Data'!$A$2:$D$690331,4,FALSE),\"N/A\")","v":"N/A"},{"$f":"_xlfn.IFNA(VLOOKUP(_xlfn.CONCAT($C$2,\"-\",$E257,\"-\",$F257,\"-\",J$3),'Raw Data'!$A$2:$D$690331,4,FALSE),\"N/A\")","v":"N/A"},{"$f":"_xlfn.IFNA(VLOOKUP(_xlfn.CONCAT($C$2,\"-\",$E257,\"-\",$F257,\"-\",K$3),'Raw Data'!$A$2:$D$690331,4,FALSE),\"N/A\")","v":"N/A"},{"$f":"_xlfn.IFNA(VLOOKUP(_xlfn.CONCAT($C$2,\"-\",$E257,\"-\",$F257,\"-\",L$3),'Raw Data'!$A$2:$D$690331,4,FALSE),\"N/A\")","v":"N/A"},{"$f":"_xlfn.IFNA(VLOOKUP(_xlfn.CONCAT($C$2,\"-\",$E257,\"-\",$F257,\"-\",M$3),'Raw Data'!$A$2:$D$690331,4,FALSE),\"N/A\")","v":"N/A"},{"$f":"_xlfn.IFNA(VLOOKUP(_xlfn.CONCAT($C$2,\"-\",$E257,\"-\",$F257,\"-\",N$3),'Raw Data'!$A$2:$D$690331,4,FALSE),\"N/A\")","v":"N/A"},{"$f":"_xlfn.IFNA(VLOOKUP(_xlfn.CONCAT($C$2,\"-\",$E257,\"-\",$F257,\"-\",O$3),'Raw Data'!$A$2:$D$690331,4,FALSE),\"N/A\")","v":"N/A"},{"$f":"_xlfn.IFNA(VLOOKUP(_xlfn.CONCAT($C$2,\"-\",$E257,\"-\",$F257,\"-\",P$3),'Raw Data'!$A$2:$D$690331,4,FALSE),\"N/A\")","v":"N/A"},{"$f":"_xlfn.IFNA(VLOOKUP(_xlfn.CONCAT($C$2,\"-\",$E257,\"-\",$F257,\"-\",Q$3),'Raw Data'!$A$2:$D$690331,4,FALSE),\"N/A\")","v":"N/A"},{"$f":"_xlfn.IFNA(VLOOKUP(_xlfn.CONCAT($C$2,\"-\",$E257,\"-\",$F257,\"-\",R$3),'Raw Data'!$A$2:$D$690331,4,FALSE),\"N/A\")","v":"N/A"},{"$f":"_xlfn.IFNA(VLOOKUP(_xlfn.CONCAT($C$2,\"-\",$E257,\"-\",$F257,\"-\",S$3),'Raw Data'!$A$2:$D$690331,4,FALSE),\"N/A\")","v":"N/A"}]
[null,null,null,null,11,9,null,{"$f":"_xlfn.IFNA(VLOOKUP(_xlfn.CONCAT($C$2,\"-\",$E258,\"-\",$F258,\"-\",H$3),'Raw Data'!$A$2:$D$690331,4,FALSE),\"N/A\")","v":"N/A"},{"$f":"_xlfn.IFNA(VLOOKUP(_xlfn.CONCAT($C$2,\"-\",$E258,\"-\",$F258,\"-\",I$3),'Raw Data'!$A$2:$D$690331,4,FALSE),\"N/A\")","v":"N/A"},{"$f":"_xlfn.IFNA(VLOOKUP(_xlfn.CONCAT($C$2,\"-\",$E258,\"-\",$F258,\"-\",J$3),'Raw Data'!$A$2:$D$690331,4,FALSE),\"N/A\")","v":"N/A"},{"$f":"_xlfn.IFNA(VLOOKUP(_xlfn.CONCAT($C$2,\"-\",$E258,\"-\",$F258,\"-\",K$3),'Raw Data'!$A$2:$D$690331,4,FALSE),\"N/A\")","v":"N/A"},{"$f":"_xlfn.IFNA(VLOOKUP(_xlfn.CONCAT($C$2,\"-\",$E258,\"-\",$F258,\"-\",L$3),'Raw Data'!$A$2:$D$690331,4,FALSE),\"N/A\")","v":"N/A"},{"$f":"_xlfn.IFNA(VLOOKUP(_xlfn.CONCAT($C$2,\"-\",$E258,\"-\",$F258,\"-\",M$3),'Raw Data'!$A$2:$D$690331,4,FALSE),\"N/A\")","v":"N/A"},{"$f":"_xlfn.IFNA(VLOOKUP(_xlfn.CONCAT($C$2,\"-\",$E258,\"-\",$F258,\"-\",N$3),'Raw Data'!$A$2:$D$690331,4,FALSE),\"N/A\")","v":"N/A"},{"$f":"_xlfn.IFNA(VLOOKUP(_xlfn.CONCAT($C$2,\"-\",$E258,\"-\",$F258,\"-\",O$3),'Raw Data'!$A$2:$D$690331,4,FALSE),\"N/A\")","v":"N/A"},{"$f":"_xlfn.IFNA(VLOOKUP(_xlfn.CONCAT($C$2,\"-\",$E258,\"-\",$F258,\"-\",P$3),'Raw Data'!$A$2:$D$690331,4,FALSE),\"N/A\")","v":"N/A"},{"$f":"_xlfn.IFNA(VLOOKUP(_xlfn.CONCAT($C$2,\"-\",$E258,\"-\",$F258,\"-\",Q$3),'Raw Data'!$A$2:$D$690331,4,FALSE),\"N/A\")","v":"N/A"},{"$f":"_xlfn.IFNA(VLOOKUP(_xlfn.CONCAT($C$2,\"-\",$E258,\"-\",$F258,\"-\",R$3),'Raw Data'!$A$2:$D$690331,4,FALSE),\"N/A\")","v":"N/A"},{"$f":"_xlfn.IFNA(VLOOKUP(_xlfn.CONCAT($C$2,\"-\",$E258,\"-\",$F258,\"-\",S$3),'Raw Data'!$A$2:$D$690331,4,FALSE),\"N/A\")","v":"N/A"}]
[null,null,null,null,12,9,null,{"$f":"_xlfn.IFNA(VLOOKUP(_xlfn.CONCAT($C$2,\"-\",$E259,\"-\",$F259,\"-\",H$3),'Raw Data'!$A$2:$D$690331,4,FALSE),\"N/A\")","v":"N/A"},{"$f":"_xlfn.IFNA(VLOOKUP(_xlfn.CONCAT($C$2,\"-\",$E259,\"-\",$F259,\"-\",I$3),'Raw Data'!$A$2:$D$690331,4,FALSE),\"N/A\")","v":"N/A"},{"$f":"_xlfn.IFNA(VLOOKUP(_xlfn.CONCAT($C$2,\"-\",$E259,\"-\",$F259,\"-\",J$3),'Raw Data'!$A$2:$D$690331,4,FALSE),\"N/A\")","v":"N/A"},{"$f":"_xlfn.IFNA(VLOOKUP(_xlfn.CONCAT($C$2,\"-\",$E259,\"-\",$F259,\"-\",K$3),'Raw Data'!$A$2:$D$690331,4,FALSE),\"N/A\")","v":"N/A"},{"$f":"_xlfn.IFNA(VLOOKUP(_xlfn.CONCAT($C$2,\"-\",$E259,\"-\",$F259,\"-\",L$3),'Raw Data'!$A$2:$D$690331,4,FALSE),\"N/A\")","v":"N/A"},{"$f":"_xlfn.IFNA(VLOOKUP(_xlfn.CONCAT($C$2,\"-\",$E259,\"-\",$F259,\"-\",M$3),'Raw Data'!$A$2:$D$690331,4,FALSE),\"N/A\")","v":"N/A"},{"$f":"_xlfn.IFNA(VLOOKUP(_xlfn.CONCAT($C$2,\"-\",$E259,\"-\",$F259,\"-\",N$3),'Raw Data'!$A$2:$D$690331,4,FALSE),\"N/A\")","v":"N/A"},{"$f":"_xlfn.IFNA(VLOOKUP(_xlfn.CONCAT($C$2,\"-\",$E259,\"-\",$F259,\"-\",O$3),'Raw Data'!$A$2:$D$690331,4,FALSE),\"N/A\")","v":"N/A"},{"$f":"_xlfn.IFNA(VLOOKUP(_xlfn.CONCAT($C$2,\"-\",$E259,\"-\",$F259,\"-\",P$3),'Raw Data'!$A$2:$D$690331,4,FALSE),\"N/A\")","v":"N/A"},{"$f":"_xlfn.IFNA(VLOOKUP(_xlfn.CONCAT($C$2,\"-\",$E259,\"-\",$F259,\"-\",Q$3),'Raw Data'!$A$2:$D$690331,4,FALSE),\"N/A\")","v":"N/A"},{"$f":"_xlfn.IFNA(VLOOKUP(_xlfn.CONCAT($C$2,\"-\",$E259,\"-\",$F259,\"-\",R$3),'Raw Data'!$A$2:$D$690331,4,FALSE),\"N/A\")","v":"N/A"},{"$f":"_xlfn.IFNA(VLOOKUP(_xlfn.CONCAT($C$2,\"-\",$E259,\"-\",$F259,\"-\",S$3),'Raw Data'!$A$2:$D$690331,4,FALSE),\"N/A\")","v":"N/A"}]
[null,null,null,null,13,9,null,{"$f":"_xlfn.IFNA(VLOOKUP(_xlfn.CONCAT($C$2,\"-\",$E260,\"-\",$F260,\"-\",H$3),'Raw Data'!$A$2:$D$690331,4,FALSE),\"N/A\")","v":"N/A"},{"$f":"_xlfn.IFNA(VLOOKUP(_xlfn.CONCAT($C$2,\"-\",$E260,\"-\",$F260,\"-\",I$3),'Raw Data'!$A$2:$D$690331,4,FALSE),\"N/A\")","v":"N/A"},{"$f":"_xlfn.IFNA(VLOOKUP(_xlfn.CONCAT($C$2,\"-\",$E260,\"-\",$F260,\"-\",J$3),'Raw Data'!$A$2:$D$690331,4,FALSE),\"N/A\")","v":"N/A"},{"$f":"_xlfn.IFNA(VLOOKUP(_xlfn.CONCAT($C$2,\"-\",$E260,\"-\",$F260,\"-\",K$3),'Raw Data'!$A$2:$D$690331,4,FALSE),\"N/A\")","v":"N/A"},{"$f":"_xlfn.IFNA(VLOOKUP(_xlfn.CONCAT($C$2,\"-\",$E260,\"-\",$F260,\"-\",L$3),'Raw Data'!$A$2:$D$690331,4,FALSE),\"N/A\")","v":"N/A"},{"$f":"_xlfn.IFNA(VLOOKUP(_xlfn.CONCAT($C$2,\"-\",$E260,\"-\",$F260,\"-\",M$3),'Raw Data'!$A$2:$D$690331,4,FALSE),\"N/A\")","v":"N/A"},{"$f":"_xlfn.IFNA(VLOOKUP(_xlfn.CONCAT($C$2,\"-\",$E260,\"-\",$F260,\"-\",N$3),'Raw Data'!$A$2:$D$690331,4,FALSE),\"N/A\")","v":"N/A"},{"$f":"_xlfn.IFNA(VLOOKUP(_xlfn.CONCAT($C$2,\"-\",$E260,\"-\",$F260,\"-\",O$3),'Raw Data'!$A$2:$D$690331,4,FALSE),\"N/A\")","v":"N/A"},{"$f":"_xlfn.IFNA(VLOOKUP(_xlfn.CONCAT($C$2,\"-\",$E260,\"-\",$F260,\"-\",P$3),'Raw Data'!$A$2:$D$690331,4,FALSE),\"N/A\")","v":"N/A"},{"$f":"_xlfn.IFNA(VLOOKUP(_xlfn.CONCAT($C$2,\"-\",$E260,\"-\",$F260,\"-\",Q$3),'Raw Data'!$A$2:$D$690331,4,FALSE),\"N/A\")","v":"N/A"},{"$f":"_xlfn.IFNA(VLOOKUP(_xlfn.CONCAT($C$2,\"-\",$E260,\"-\",$F260,\"-\",R$3),'Raw Data'!$A$2:$D$690331,4,FALSE),\"N/A\")","v":"N/A"},{"$f":"_xlfn.IFNA(VLOOKUP(_xlfn.CONCAT($C$2,\"-\",$E260,\"-\",$F260,\"-\",S$3),'Raw Data'!$A$2:$D$690331,4,FALSE),\"N/A\")","v":"N/A"}]
[null,null,null,null,14,9,null,{"$f":"_xlfn.IFNA(VLOOKUP(_xlfn.CONCAT($C$2,\"-\",$E261,\"-\",$F261,\"-\",H$3),'Raw Data'!$A$2:$D$690331,4,FALSE),\"N/A\")","v":"N/A"},{"$f":"_xlfn.IFNA(VLOOKUP(_xlfn.CONCAT($C$2,\"-\",$E261,\"-\",$F261,\"-\",I$3),'Raw Data'!$A$2:$D$690331,4,FALSE),\"N/A\")","v":"N/A"},{"$f":"_xlfn.IFNA(VLOOKUP(_xlfn.CONCAT($C$2,\"-\",$E261,\"-\",$F261,\"-\",J$3),'Raw Data'!$A$2:$D$690331,4,FALSE),\"N/A\")","v":"N/A"},{"$f":"_xlfn.IFNA(VLOOKUP(_xlfn.CONCAT($C$2,\"-\",$E261,\"-\",$F261,\"-\",K$3),'Raw Data'!$A$2:$D$690331,4,FALSE),\"N/A\")","v":"N/A"},{"$f":"_xlfn.IFNA(VLOOKUP(_xlfn.CONCAT($C$2,\"-\",$E261,\"-\",$F261,\"-\",L$3),'Raw Data'!$A$2:$D$690331,4,FALSE),\"N/A\")","v":"N/A"},{"$f":"_xlfn.IFNA(VLOOKUP(_xlfn.CONCAT($C$2,\"-\",$E261,\"-\",$F261,\"-\",M$3),'Raw Data'!$A$2:$D$690331,4,FALSE),\"N/A\")","v":"N/A"},{"$f":"_xlfn.IFNA(VLOOKUP(_xlfn.CONCAT($C$2,\"-\",$E261,\"-\",$F261,\"-\",N$3),'Raw Data'!$A$2:$D$690331,4,FALSE),\"N/A\")","v":"N/A"},{"$f":"_xlfn.IFNA(VLOOKUP(_xlfn.CONCAT($C$2,\"-\",$E261,\"-\",$F261,\"-\",O$3),'Raw Data'!$A$2:$D$690331,4,FALSE),\"N/A\")","v":"N/A"},{"$f":"_xlfn.IFNA(VLOOKUP(_xlfn.CONCAT($C$2,\"-\",$E261,\"-\",$F261,\"-\",P$3),'Raw Data'!$A$2:$D$690331,4,FALSE),\"N/A\")","v":"N/A"},{"$f":"_xlfn.IFNA(VLOOKUP(_xlfn.CONCAT($C$2,\"-\",$E261,\"-\",$F261,\"-\",Q$3),'Raw Data'!$A$2:$D$690331,4,FALSE),\"N/A\")","v":"N/A"},{"$f":"_xlfn.IFNA(VLOOKUP(_xlfn.CONCAT($C$2,\"-\",$E261,\"-\",$F261,\"-\",R$3),'Raw Data'!$A$2:$D$690331,4,FALSE),\"N/A\")","v":"N/A"},{"$f":"_xlfn.IFNA(VLOOKUP(_xlfn.CONCAT($C$2,\"-\",$E261,\"-\",$F261,\"-\",S$3),'Raw Data'!$A$2:$D$690331,4,FALSE),\"N/A\")","v":"N/A"}]
[null,null,null,null,15,9,null,{"$f":"_xlfn.IFNA(VLOOKUP(_xlfn.CONCAT($C$2,\"-\",$E262,\"-\",$F262,\"-\",H$3),'Raw Data'!$A$2:$D$690331,4,FALSE),\"N/A\")","v":"N/A"},{"$f":"_xlfn.IFNA(VLOOKUP(_xlfn.CONCAT($C$2,\"-\",$E262,\"-\",$F262,\"-\",I$3),'Raw Data'!$A$2:$D$690331,4,FALSE),\"N/A\")","v":"N/A"},{"$f":"_xlfn.IFNA(VLOOKUP(_xlfn.CONCAT($C$2,\"-\",$E262,\"-\",$F262,\"-\",J$3),'Raw Data'!$A$2:$D$690331,4,FALSE),\"N/A\")","v":"N/A"},{"$f":"_xlfn.IFNA(VLOOKUP(_xlfn.CONCAT($C$2,\"-\",$E262,\"-\",$F262,\"-\",K$3),'Raw Data'!$A$2:$D$690331,4,FALSE),\"N/A\")","v":"N/A"},{"$f":"_xlfn.IFNA(VLOOKUP(_xlfn.CONCAT($C$2,\"-\",$E262,\"-\",$F262,\"-\",L$3),'Raw Data'!$A$2:$D$690331,4,FALSE),\"N/A\")","v":"N/A"},{"$f":"_xlfn.IFNA(VLOOKUP(_xlfn.CONCAT($C$2,\"-\",$E262,\"-\",$F262,\"-\",M$3),'Raw Data'!$A$2:$D$690331,4,FALSE),\"N/A\")","v":"N/A"},{"$f":"_xlfn.IFNA(VLOOKUP(_xlfn.CONCAT($C$2,\"-\",$E262,\"-\",$F262,\"-\",N$3),'Raw Data'!$A$2:$D$690331,4,FALSE),\"N/A\")","v":"N/A"},{"$f":"_xlfn.IFNA(VLOOKUP(_xlfn.CONCAT($C$2,\"-\",$E262,\"-\",$F262,\"-\",O$3),'Raw Data'!$A$2:$D$690331,4,FALSE),\"N/A\")","v":"N/A"},{"$f":"_xlfn.IFNA(VLOOKUP(_xlfn.CONCAT($C$2,\"-\",$E262,\"-\",$F262,\"-\",P$3),'Raw Data'!$A$2:$D$690331,4,FALSE),\"N/A\")","v":"N/A"},{"$f":"_xlfn.IFNA(VLOOKUP(_xlfn.CONCAT($C$2,\"-\",$E262,\"-\",$F262,\"-\",Q$3),'Raw Data'!$A$2:$D$690331,4,FALSE),\"N/A\")","v":"N/A"},{"$f":"_xlfn.IFNA(VLOOKUP(_xlfn.CONCAT($C$2,\"-\",$E262,\"-\",$F262,\"-\",R$3),'Raw Data'!$A$2:$D$690331,4,FALSE),\"N/A\")","v":"N/A"},{"$f":"_xlfn.IFNA(VLOOKUP(_xlfn.CONCAT($C$2,\"-\",$E262,\"-\",$F262,\"-\",S$3),'Raw Data'!$A$2:$D$690331,4,FALSE),\"N/A\")","v":"N/A"}]
[null,null,null,null,16,9,null,{"$f":"_xlfn.IFNA(VLOOKUP(_xlfn.CONCAT($C$2,\"-\",$E263,\"-\",$F263,\"-\",H$3),'Raw Data'!$A$2:$D$690331,4,FALSE),\"N/A\")","v":"N/A"},{"$f":"_xlfn.IFNA(VLOOKUP(_xlfn.CONCAT($C$2,\"-\",$E263,\"-\",$F263,\"-\",I$3),'Raw Data'!$A$2:$D$690331,4,FALSE),\"N/A\")","v":"N/A"},{"$f":"_xlfn.IFNA(VLOOKUP(_xlfn.CONCAT($C$2,\"-\",$E263,\"-\",$F263,\"-\",J$3),'Raw Data'!$A$2:$D$690331,4,FALSE),\"N/A\")","v":"N/A"},{"$f":"_xlfn.IFNA(VLOOKUP(_xlfn.CONCAT($C$2,\"-\",$E263,\"-\",$F263,\"-\",K$3),'Raw Data'!$A$2:$D$690331,4,FALSE),\"N/A\")","v":"N/A"},{"$f":"_xlfn.IFNA(VLOOKUP(_xlfn.CONCAT($C$2,\"-\",$E263,\"-\",$F263,\"-\",L$3),'Raw Data'!$A$2:$D$690331,4,FALSE),\"N/A\")","v":"N/A"},{"$f":"_xlfn.IFNA(VLOOKUP(_xlfn.CONCAT($C$2,\"-\",$E263,\"-\",$F263,\"-\",M$3),'Raw Data'!$A$2:$D$690331,4,FALSE),\"N/A\")","v":"N/A"},{"$f":"_xlfn.IFNA(VLOOKUP(_xlfn.CONCAT($C$2,\"-\",$E263,\"-\",$F263,\"-\",N$3),'Raw Data'!$A$2:$D$690331,4,FALSE),\"N/A\")","v":"N/A"},{"$f":"_xlfn.IFNA(VLOOKUP(_xlfn.CONCAT($C$2,\"-\",$E263,\"-\",$F263,\"-\",O$3),'Raw Data'!$A$2:$D$690331,4,FALSE),\"N/A\")","v":"N/A"},{"$f":"_xlfn.IFNA(VLOOKUP(_xlfn.CONCAT($C$2,\"-\",$E263,\"-\",$F263,\"-\",P$3),'Raw Data'!$A$2:$D$690331,4,FALSE),\"N/A\")","v":"N/A"},{"$f":"_xlfn.IFNA(VLOOKUP(_xlfn.CONCAT($C$2,\"-\",$E263,\"-\",$F263,\"-\",Q$3),'Raw Data'!$A$2:$D$690331,4,FALSE),\"N/A\")","v":"N/A"},{"$f":"_xlfn.IFNA(VLOOKUP(_xlfn.CONCAT($C$2,\"-\",$E263,\"-\",$F263,\"-\",R$3),'Raw Data'!$A$2:$D$690331,4,FALSE),\"N/A\")","v":"N/A"},{"$f":"_xlfn.IFNA(VLOOKUP(_xlfn.CONCAT($C$2,\"-\",$E263,\"-\",$F263,\"-\",S$3),'Raw Data'!$A$2:$D$690331,4,FALSE),\"N/A\")","v":"N/A"}]
[null,null,null,null,17,9,null,{"$f":"_xlfn.IFNA(VLOOKUP(_xlfn.CONCAT($C$2,\"-\",$E264,\"-\",$F264,\"-\",H$3),'Raw Data'!$A$2:$D$690331,4,FALSE),\"N/A\")","v":"N/A"},{"$f":"_xlfn.IFNA(VLOOKUP(_xlfn.CONCAT($C$2,\"-\",$E264,\"-\",$F264,\"-\",I$3),'Raw Data'!$A$2:$D$690331,4,FALSE),\"N/A\")","v":"N/A"},{"$f":"_xlfn.IFNA(VLOOKUP(_xlfn.CONCAT($C$2,\"-\",$E264,\"-\",$F264,\"-\",J$3),'Raw Data'!$A$2:$D$690331,4,FALSE),\"N/A\")","v":"N/A"},{"$f":"_xlfn.IFNA(VLOOKUP(_xlfn.CONCAT($C$2,\"-\",$E264,\"-\",$F264,\"-\",K$3),'Raw Data'!$A$2:$D$690331,4,FALSE),\"N/A\")","v":"N/A"},{"$f":"_xlfn.IFNA(VLOOKUP(_xlfn.CONCAT($C$2,\"-\",$E264,\"-\",$F264,\"-\",L$3),'Raw Data'!$A$2:$D$690331,4,FALSE),\"N/A\")","v":"N/A"},{"$f":"_xlfn.IFNA(VLOOKUP(_xlfn.CONCAT($C$2,\"-\",$E264,\"-\",$F264,\"-\",M$3),'Raw Data'!$A$2:$D$690331,4,FALSE),\"N/A\")","v":"N/A"},{"$f":"_xlfn.IFNA(VLOOKUP(_xlfn.CONCAT($C$2,\"-\",$E264,\"-\",$F264,\"-\",N$3),'Raw Data'!$A$2:$D$690331,4,FALSE),\"N/A\")","v":"N/A"},{"$f":"_xlfn.IFNA(VLOOKUP(_xlfn.CONCAT($C$2,\"-\",$E264,\"-\",$F264,\"-\",O$3),'Raw Data'!$A$2:$D$690331,4,FALSE),\"N/A\")","v":"N/A"},{"$f":"_xlfn.IFNA(VLOOKUP(_xlfn.CONCAT($C$2,\"-\",$E264,\"-\",$F264,\"-\",P$3),'Raw Data'!$A$2:$D$690331,4,FALSE),\"N/A\")","v":"N/A"},{"$f":"_xlfn.IFNA(VLOOKUP(_xlfn.CONCAT($C$2,\"-\",$E264,\"-\",$F264,\"-\",Q$3),'Raw Data'!$A$2:$D$690331,4,FALSE),\"N/A\")","v":"N/A"},{"$f":"_xlfn.IFNA(VLOOKUP(_xlfn.CONCAT($C$2,\"-\",$E264,\"-\",$F264,\"-\",R$3),'Raw Data'!$A$2:$D$690331,4,FALSE),\"N/A\")","v":"N/A"},{"$f":"_xlfn.IFNA(VLOOKUP(_xlfn.CONCAT($C$2,\"-\",$E264,\"-\",$F264,\"-\",S$3),'Raw Data'!$A$2:$D$690331,4,FALSE),\"N/A\")","v":"N/A"}]
[null,null,null,null,18,9,null,{"$f":"_xlfn.IFNA(VLOOKUP(_xlfn.CONCAT($C$2,\"-\",$E265,\"-\",$F265,\"-\",H$3),'Raw Data'!$A$2:$D$690331,4,FALSE),\"N/A\")","v":"N/A"},{"$f":"_xlfn.IFNA(VLOOKUP(_xlfn.CONCAT($C$2,\"-\",$E265,\"-\",$F265,\"-\",I$3),'Raw Data'!$A$2:$D$690331,4,FALSE),\"N/A\")","v":"N/A"},{"$f":"_xlfn.IFNA(VLOOKUP(_xlfn.CONCAT($C$2,\"-\",$E265,\"-\",$F265,\"-\",J$3),'Raw Data'!$A$2:$D$690331,4,FALSE),\"N/A\")","v":"N/A"},{"$f":"_xlfn.IFNA(VLOOKUP(_xlfn.CONCAT($C$2,\"-\",$E265,\"-\",$F265,\"-\",K$3),'Raw Data'!$A$2:$D$690331,4,FALSE),\"N/A\")","v":"N/A"},{"$f":"_xlfn.IFNA(VLOOKUP(_xlfn.CONCAT($C$2,\"-\",$E265,\"-\",$F265,\"-\",L$3),'Raw Data'!$A$2:$D$690331,4,FALSE),\"N/A\")","v":"N/A"},{"$f":"_xlfn.IFNA(VLOOKUP(_xlfn.CONCAT($C$2,\"-\",$E265,\"-\",$F265,\"-\",M$3),'Raw Data'!$A$2:$D$690331,4,FALSE),\"N/A\")","v":"N/A"},{"$f":"_xlfn.IFNA(VLOOKUP(_xlfn.CONCAT($C$2,\"-\",$E265,\"-\",$F265,\"-\",N$3),'Raw Data'!$A$2:$D$690331,4,FALSE),\"N/A\")","v":"N/A"},{"$f":"_xlfn.IFNA(VLOOKUP(_xlfn.CONCAT($C$2,\"-\",$E265,\"-\",$F265,\"-\",O$3),'Raw Data'!$A$2:$D$690331,4,FALSE),\"N/A\")","v":"N/A"},{"$f":"_xlfn.IFNA(VLOOKUP(_xlfn.CONCAT($C$2,\"-\",$E265,\"-\",$F265,\"-\",P$3),'Raw Data'!$A$2:$D$690331,4,FALSE),\"N/A\")","v":"N/A"},{"$f":"_xlfn.IFNA(VLOOKUP(_xlfn.CONCAT($C$2,\"-\",$E265,\"-\",$F265,\"-\",Q$3),'Raw Data'!$A$2:$D$690331,4,FALSE),\"N/A\")","v":"N/A"},{"$f":"_xlfn.IFNA(VLOOKUP(_xlfn.CONCAT($C$2,\"-\",$E265,\"-\",$F265,\"-\",R$3),'Raw Data'!$A$2:$D$690331,4,FALSE),\"N/A\")","v":"N/A"},{"$f":"_xlfn.IFNA(VLOOKUP(_xlfn.CONCAT($C$2,\"-\",$E265,\"-\",$F265,\"-\",S$3),'Raw Data'!$A$2:$D$690331,4,FALSE),\"N/A\")","v":"N/A"}]
[null,null,null,null,19,9,null,{"$f":"_xlfn.IFNA(VLOOKUP(_xlfn.CONCAT($C$2,\"-\",$E266,\"-\",$F266,\"-\",H$3),'Raw Data'!$A$2:$D$690331,4,FALSE),\"N/A\")","v":"N/A"},{"$f":"_xlfn.IFNA(VLOOKUP(_xlfn.CONCAT($C$2,\"-\",$E266,\"-\",$F266,\"-\",I$3),'Raw Data'!$A$2:$D$690331,4,FALSE),\"N/A\")","v":"N/A"},{"$f":"_xlfn.IFNA(VLOOKUP(_xlfn.CONCAT($C$2,\"-\",$E266,\"-\",$F266,\"-\",J$3),'Raw Data'!$A$2:$D$690331,4,FALSE),\"N/A\")","v":"N/A"},{"$f":"_xlfn.IFNA(VLOOKUP(_xlfn.CONCAT($C$2,\"-\",$E266,\"-\",$F266,\"-\",K$3),'Raw Data'!$A$2:$D$690331,4,FALSE),\"N/A\")","v":"N/A"},{"$f":"_xlfn.IFNA(VLOOKUP(_xlfn.CONCAT($C$2,\"-\",$E266,\"-\",$F266,\"-\",L$3),'Raw Data'!$A$2:$D$690331,4,FALSE),\"N/A\")","v":"N/A"},{"$f":"_xlfn.IFNA(VLOOKUP(_xlfn.CONCAT($C$2,\"-\",$E266,\"-\",$F266,\"-\",M$3),'Raw Data'!$A$2:$D$690331,4,FALSE),\"N/A\")","v":"N/A"},{"$f":"_xlfn.IFNA(VLOOKUP(_xlfn.CONCAT($C$2,\"-\",$E266,\"-\",$F266,\"-\",N$3),'Raw Data'!$A$2:$D$690331,4,FALSE),\"N/A\")","v":"N/A"},{"$f":"_xlfn.IFNA(VLOOKUP(_xlfn.CONCAT($C$2,\"-\",$E266,\"-\",$F266,\"-\",O$3),'Raw Data'!$A$2:$D$690331,4,FALSE),\"N/A\")","v":"N/A"},{"$f":"_xlfn.IFNA(VLOOKUP(_xlfn.CONCAT($C$2,\"-\",$E266,\"-\",$F266,\"-\",P$3),'Raw Data'!$A$2:$D$690331,4,FALSE),\"N/A\")","v":"N/A"},{"$f":"_xlfn.IFNA(VLOOKUP(_xlfn.CONCAT($C$2,\"-\",$E266,\"-\",$F266,\"-\",Q$3),'Raw Data'!$A$2:$D$690331,4,FALSE),\"N/A\")","v":"N/A"},{"$f":"_xlfn.IFNA(VLOOKUP(_xlfn.CONCAT($C$2,\"-\",$E266,\"-\",$F266,\"-\",R$3),'Raw Data'!$A$2:$D$690331,4,FALSE),\"N/A\")","v":"N/A"},{"$f":"_xlfn.IFNA(VLOOKUP(_xlfn.CONCAT($C$2,\"-\",$E266,\"-\",$F266,\"-\",S$3),'Raw Data'!$A$2:$D$690331,4,FALSE),\"N/A\")","v":"N/A"}]
[null,null,null,null,20,9,null,{"$f":"_xlfn.IFNA(VLOOKUP(_xlfn.CONCAT($C$2,\"-\",$E267,\"-\",$F267,\"-\",H$3),'Raw Data'!$A$2:$D$690331,4,FALSE),\"N/A\")","v":"N/A"},{"$f":"_xlfn.IFNA(VLOOKUP(_xlfn.CONCAT($C$2,\"-\",$E267,\"-\",$F267,\"-\",I$3),'Raw Data'!$A$2:$D$690331,4,FALSE),\"N/A\")","v":"N/A"},{"$f":"_xlfn.IFNA(VLOOKUP(_xlfn.CONCAT($C$2,\"-\",$E267,\"-\",$F267,\"-\",J$3),'Raw Data'!$A$2:$D$690331,4,FALSE),\"N/A\")","v":"N/A"},{"$f":"_xlfn.IFNA(VLOOKUP(_xlfn.CONCAT($C$2,\"-\",$E267,\"-\",$F267,\"-\",K$3),'Raw Data'!$A$2:$D$690331,4,FALSE),\"N/A\")","v":"N/A"},{"$f":"_xlfn.IFNA(VLOOKUP(_xlfn.CONCAT($C$2,\"-\",$E267,\"-\",$F267,\"-\",L$3),'Raw Data'!$A$2:$D$690331,4,FALSE),\"N/A\")","v":"N/A"},{"$f":"_xlfn.IFNA(VLOOKUP(_xlfn.CONCAT($C$2,\"-\",$E267,\"-\",$F267,\"-\",M$3),'Raw Data'!$A$2:$D$690331,4,FALSE),\"N/A\")","v":"N/A"},{"$f":"_xlfn.IFNA(VLOOKUP(_xlfn.CONCAT($C$2,\"-\",$E267,\"-\",$F267,\"-\",N$3),'Raw Data'!$A$2:$D$690331,4,FALSE),\"N/A\")","v":"N/A"},{"$f":"_xlfn.IFNA(VLOOKUP(_xlfn.CONCAT($C$2,\"-\",$E267,\"-\",$F267,\"-\",O$3),'Raw Data'!$A$2:$D$690331,4,FALSE),\"N/A\")","v":"N/A"},{"$f":"_xlfn.IFNA(VLOOKUP(_xlfn.CONCAT($C$2,\"-\",$E267,\"-\",$F267,\"-\",P$3),'Raw Data'!$A$2:$D$690331,4,FALSE),\"N/A\")","v":"N/A"},{"$f":"_xlfn.IFNA(VLOOKUP(_xlfn.CONCAT($C$2,\"-\",$E267,\"-\",$F267,\"-\",Q$3),'Raw Data'!$A$2:$D$690331,4,FALSE),\"N/A\")","v":"N/A"},{"$f":"_xlfn.IFNA(VLOOKUP(_xlfn.CONCAT($C$2,\"-\",$E267,\"-\",$F267,\"-\",R$3),'Raw Data'!$A$2:$D$690331,4,FALSE),\"N/A\")","v":"N/A"},{"$f":"_xlfn.IFNA(VLOOKUP(_xlfn.CONCAT($C$2,\"-\",$E267,\"-\",$F267,\"-\",S$3),'Raw Data'!$A$2:$D$690331,4,FALSE),\"N/A\")","v":"N/A"}]
[null,null,null,null,21,9,null,{"$f":"_xlfn.IFNA(VLOOKUP(_xlfn.CONCAT($C$2,\"-\",$E268,\"-\",$F268,\"-\",H$3),'Raw Data'!$A$2:$D$690331,4,FALSE),\"N/A\")","v":"N/A"},{"$f":"_xlfn.IFNA(VLOOKUP(_xlfn.CONCAT($C$2,\"-\",$E268,\"-\",$F268,\"-\",I$3),'Raw Data'!$A$2:$D$690331,4,FALSE),\"N/A\")","v":"N/A"},{"$f":"_xlfn.IFNA(VLOOKUP(_xlfn.CONCAT($C$2,\"-\",$E268,\"-\",$F268,\"-\",J$3),'Raw Data'!$A$2:$D$690331,4,FALSE),\"N/A\")","v":"N/A"},{"$f":"_xlfn.IFNA(VLOOKUP(_xlfn.CONCAT($C$2,\"-\",$E268,\"-\",$F268,\"-\",K$3),'Raw Data'!$A$2:$D$690331,4,FALSE),\"N/A\")","v":"N/A"},{"$f":"_xlfn.IFNA(VLOOKUP(_xlfn.CONCAT($C$2,\"-\",$E268,\"-\",$F268,\"-\",L$3),'Raw Data'!$A$2:$D$690331,4,FALSE),\"N/A\")","v":"N/A"},{"$f":"_xlfn.IFNA(VLOOKUP(_xlfn.CONCAT($C$2,\"-\",$E268,\"-\",$F268,\"-\",M$3),'Raw Data'!$A$2:$D$690331,4,FALSE),\"N/A\")","v":"N/A"},{"$f":"_xlfn.IFNA(VLOOKUP(_xlfn.CONCAT($C$2,\"-\",$E268,\"-\",$F268,\"-\",N$3),'Raw Data'!$A$2:$D$690331,4,FALSE),\"N/A\")","v":"N/A"},{"$f":"_xlfn.IFNA(VLOOKUP(_xlfn.CONCAT($C$2,\"-\",$E268,\"-\",$F268,\"-\",O$3),'Raw Data'!$A$2:$D$690331,4,FALSE),\"N/A\")","v":"N/A"},{"$f":"_xlfn.IFNA(VLOOKUP(_xlfn.CONCAT($C$2,\"-\",$E268,\"-\",$F268,\"-\",P$3),'Raw Data'!$A$2:$D$690331,4,FALSE),\"N/A\")","v":"N/A"},{"$f":"_xlfn.IFNA(VLOOKUP(_xlfn.CONCAT($C$2,\"-\",$E268,\"-\",$F268,\"-\",Q$3),'Raw Data'!$A$2:$D$690331,4,FALSE),\"N/A\")","v":"N/A"},{"$f":"_xlfn.IFNA(VLOOKUP(_xlfn.CONCAT($C$2,\"-\",$E268,\"-\",$F268,\"-\",R$3),'Raw Data'!$A$2:$D$690331,4,FALSE),\"N/A\")","v":"N/A"},{"$f":"_xlfn.IFNA(VLOOKUP(_xlfn.CONCAT($C$2,\"-\",$E268,\"-\",$F268,\"-\",S$3),'Raw Data'!$A$2:$D$690331,4,FALSE),\"N/A\")","v":"N/A"}]
[null,null,null,null,22,9,null,{"$f":"_xlfn.IFNA(VLOOKUP(_xlfn.CONCAT($C$2,\"-\",$E269,\"-\",$F269,\"-\",H$3),'Raw Data'!$A$2:$D$690331,4,FALSE),\"N/A\")","v":"N/A"},{"$f":"_xlfn.IFNA(VLOOKUP(_xlfn.CONCAT($C$2,\"-\",$E269,\"-\",$F269,\"-\",I$3),'Raw Data'!$A$2:$D$690331,4,FALSE),\"N/A\")","v":"N/A"},{"$f":"_xlfn.IFNA(VLOOKUP(_xlfn.CONCAT($C$2,\"-\",$E269,\"-\",$F269,\"-\",J$3),'Raw Data'!$A$2:$D$690331,4,FALSE),\"N/A\")","v":"N/A"},{"$f":"_xlfn.IFNA(VLOOKUP(_xlfn.CONCAT($C$2,\"-\",$E269,\"-\",$F269,\"-\",K$3),'Raw Data'!$A$2:$D$690331,4,FALSE),\"N/A\")","v":"N/A"},{"$f":"_xlfn.IFNA(VLOOKUP(_xlfn.CONCAT($C$2,\"-\",$E269,\"-\",$F269,\"-\",L$3),'Raw Data'!$A$2:$D$690331,4,FALSE),\"N/A\")","v":"N/A"},{"$f":"_xlfn.IFNA(VLOOKUP(_xlfn.CONCAT($C$2,\"-\",$E269,\"-\",$F269,\"-\",M$3),'Raw Data'!$A$2:$D$690331,4,FALSE),\"N/A\")","v":"N/A"},{"$f":"_xlfn.IFNA(VLOOKUP(_xlfn.CONCAT($C$2,\"-\",$E269,\"-\",$F269,\"-\",N$3),'Raw Data'!$A$2:$D$690331,4,FALSE),\"N/A\")","v":"N/A"},{"$f":"_xlfn.IFNA(VLOOKUP(_xlfn.CONCAT($C$2,\"-\",$E269,\"-\",$F269,\"-\",O$3),'Raw Data'!$A$2:$D$690331,4,FALSE),\"N/A\")","v":"N/A"},{"$f":"_xlfn.IFNA(VLOOKUP(_xlfn.CONCAT($C$2,\"-\",$E269,\"-\",$F269,\"-\",P$3),'Raw Data'!$A$2:$D$690331,4,FALSE),\"N/A\")","v":"N/A"},{"$f":"_xlfn.IFNA(VLOOKUP(_xlfn.CONCAT($C$2,\"-\",$E269,\"-\",$F269,\"-\",Q$3),'Raw Data'!$A$2:$D$690331,4,FALSE),\"N/A\")","v":"N/A"},{"$f":"_xlfn.IFNA(VLOOKUP(_xlfn.CONCAT($C$2,\"-\",$E269,\"-\",$F269,\"-\",R$3),'Raw Data'!$A$2:$D$690331,4,FALSE),\"N/A\")","v":"N/A"},{"$f":"_xlfn.IFNA(VLOOKUP(_xlfn.CONCAT($C$2,\"-\",$E269,\"-\",$F269,\"-\",S$3),'Raw Data'!$A$2:$D$690331,4,FALSE),\"N/A\")","v":"N/A"}]
[null,null,null,null,23,9,null,{"$f":"_xlfn.IFNA(VLOOKUP(_xlfn.CONCAT($C$2,\"-\",$E270,\"-\",$F270,\"-\",H$3),'Raw Data'!$A$2:$D$690331,4,FALSE),\"N/A\")","v":"N/A"},{"$f":"_xlfn.IFNA(VLOOKUP(_xlfn.CONCAT($C$2,\"-\",$E270,\"-\",$F270,\"-\",I$3),'Raw Data'!$A$2:$D$690331,4,FALSE),\"N/A\")","v":"N/A"},{"$f":"_xlfn.IFNA(VLOOKUP(_xlfn.CONCAT($C$2,\"-\",$E270,\"-\",$F270,\"-\",J$3),'Raw Data'!$A$2:$D$690331,4,FALSE),\"N/A\")","v":"N/A"},{"$f":"_xlfn.IFNA(VLOOKUP(_xlfn.CONCAT($C$2,\"-\",$E270,\"-\",$F270,\"-\",K$3),'Raw Data'!$A$2:$D$690331,4,FALSE),\"N/A\")","v":"N/A"},{"$f":"_xlfn.IFNA(VLOOKUP(_xlfn.CONCAT($C$2,\"-\",$E270,\"-\",$F270,\"-\",L$3),'Raw Data'!$A$2:$D$690331,4,FALSE),\"N/A\")","v":"N/A"},{"$f":"_xlfn.IFNA(VLOOKUP(_xlfn.CONCAT($C$2,\"-\",$E270,\"-\",$F270,\"-\",M$3),'Raw Data'!$A$2:$D$690331,4,FALSE),\"N/A\")","v":"N/A"},{"$f":"_xlfn.IFNA(VLOOKUP(_xlfn.CONCAT($C$2,\"-\",$E270,\"-\",$F270,\"-\",N$3),'Raw Data'!$A$2:$D$690331,4,FALSE),\"N/A\")","v":"N/A"},{"$f":"_xlfn.IFNA(VLOOKUP(_xlfn.CONCAT($C$2,\"-\",$E270,\"-\",$F270,\"-\",O$3),'Raw Data'!$A$2:$D$690331,4,FALSE),\"N/A\")","v":"N/A"},{"$f":"_xlfn.IFNA(VLOOKUP(_xlfn.CONCAT($C$2,\"-\",$E270,\"-\",$F270,\"-\",P$3),'Raw Data'!$A$2:$D$690331,4,FALSE),\"N/A\")","v":"N/A"},{"$f":"_xlfn.IFNA(VLOOKUP(_xlfn.CONCAT($C$2,\"-\",$E270,\"-\",$F270,\"-\",Q$3),'Raw Data'!$A$2:$D$690331,4,FALSE),\"N/A\")","v":"N/A"},{"$f":"_xlfn.IFNA(VLOOKUP(_xlfn.CONCAT($C$2,\"-\",$E270,\"-\",$F270,\"-\",R$3),'Raw Data'!$A$2:$D$690331,4,FALSE),\"N/A\")","v":"N/A"},{"$f":"_xlfn.IFNA(VLOOKUP(_xlfn.CONCAT($C$2,\"-\",$E270,\"-\",$F270,\"-\",S$3),'Raw Data'!$A$2:$D$690331,4,FALSE),\"N/A\")","v":"N/A"}]
[null,null,null,null,24,9,null,{"$f":"_xlfn.IFNA(VLOOKUP(_xlfn.CONCAT($C$2,\"-\",$E271,\"-\",$F271,\"-\",H$3),'Raw Data'!$A$2:$D$690331,4,FALSE),\"N/A\")","v":"N/A"},{"$f":"_xlfn.IFNA(VLOOKUP(_xlfn.CONCAT($C$2,\"-\",$E271,\"-\",$F271,\"-\",I$3),'Raw Data'!$A$2:$D$690331,4,FALSE),\"N/A\")","v":"N/A"},{"$f":"_xlfn.IFNA(VLOOKUP(_xlfn.CONCAT($C$2,\"-\",$E271,\"-\",$F271,\"-\",J$3),'Raw Data'!$A$2:$D$690331,4,FALSE),\"N/A\")","v":"N/A"},{"$f":"_xlfn.IFNA(VLOOKUP(_xlfn.CONCAT($C$2,\"-\",$E271,\"-\",$F271,\"-\",K$3),'Raw Data'!$A$2:$D$690331,4,FALSE),\"N/A\")","v":"N/A"},{"$f":"_xlfn.IFNA(VLOOKUP(_xlfn.CONCAT($C$2,\"-\",$E271,\"-\",$F271,\"-\",L$3),'Raw Data'!$A$2:$D$690331,4,FALSE),\"N/A\")","v":"N/A"},{"$f":"_xlfn.IFNA(VLOOKUP(_xlfn.CONCAT($C$2,\"-\",$E271,\"-\",$F271,\"-\",M$3),'Raw Data'!$A$2:$D$690331,4,FALSE),\"N/A\")","v":"N/A"},{"$f":"_xlfn.IFNA(VLOOKUP(_xlfn.CONCAT($C$2,\"-\",$E271,\"-\",$F271,\"-\",N$3),'Raw Data'!$A$2:$D$690331,4,FALSE),\"N/A\")","v":"N/A"},{"$f":"_xlfn.IFNA(VLOOKUP(_xlfn.CONCAT($C$2,\"-\",$E271,\"-\",$F271,\"-\",O$3),'Raw Data'!$A$2:$D$690331,4,FALSE),\"N/A\")","v":"N/A"},{"$f":"_xlfn.IFNA(VLOOKUP(_xlfn.CONCAT($C$2,\"-\",$E271,\"-\",$F271,\"-\",P$3),'Raw Data'!$A$2:$D$690331,4,FALSE),\"N/A\")","v":"N/A"},{"$f":"_xlfn.IFNA(VLOOKUP(_xlfn.CONCAT($C$2,\"-\",$E271,\"-\",$F271,\"-\",Q$3),'Raw Data'!$A$2:$D$690331,4,FALSE),\"N/A\")","v":"N/A"},{"$f":"_xlfn.IFNA(VLOOKUP(_xlfn.CONCAT($C$2,\"-\",$E271,\"-\",$F271,\"-\",R$3),'Raw Data'!$A$2:$D$690331,4,FALSE),\"N/A\")","v":"N/A"},{"$f":"_xlfn.IFNA(VLOOKUP(_xlfn.CONCAT($C$2,\"-\",$E271,\"-\",$F271,\"-\",S$3),'Raw Data'!$A$2:$D$690331,4,FALSE),\"N/A\")","v":"N/A"}]
[null,null,null,null,25,9,null,{"$f":"_xlfn.IFNA(VLOOKUP(_xlfn.CONCAT($C$2,\"-\",$E272,\"-\",$F272,\"-\",H$3),'Raw Data'!$A$2:$D$690331,4,FALSE),\"N/A\")","v":"N/A"},{"$f":"_xlfn.IFNA(VLOOKUP(_xlfn.CONCAT($C$2,\"-\",$E272,\"-\",$F272,\"-\",I$3),'Raw Data'!$A$2:$D$690331,4,FALSE),\"N/A\")","v":"N/A"},{"$f":"_xlfn.IFNA(VLOOKUP(_xlfn.CONCAT($C$2,\"-\",$E272,\"-\",$F272,\"-\",J$3),'Raw Data'!$A$2:$D$690331,4,FALSE),\"N/A\")","v":"N/A"},{"$f":"_xlfn.IFNA(VLOOKUP(_xlfn.CONCAT($C$2,\"-\",$E272,\"-\",$F272,\"-\",K$3),'Raw Data'!$A$2:$D$690331,4,FALSE),\"N/A\")","v":"N/A"},{"$f":"_xlfn.IFNA(VLOOKUP(_xlfn.CONCAT($C$2,\"-\",$E272,\"-\",$F272,\"-\",L$3),'Raw Data'!$A$2:$D$690331,4,FALSE),\"N/A\")","v":"N/A"},{"$f":"_xlfn.IFNA(VLOOKUP(_xlfn.CONCAT($C$2,\"-\",$E272,\"-\",$F272,\"-\",M$3),'Raw Data'!$A$2:$D$690331,4,FALSE),\"N/A\")","v":"N/A"},{"$f":"_xlfn.IFNA(VLOOKUP(_xlfn.CONCAT($C$2,\"-\",$E272,\"-\",$F272,\"-\",N$3),'Raw Data'!$A$2:$D$690331,4,FALSE),\"N/A\")","v":"N/A"},{"$f":"_xlfn.IFNA(VLOOKUP(_xlfn.CONCAT($C$2,\"-\",$E272,\"-\",$F272,\"-\",O$3),'Raw Data'!$A$2:$D$690331,4,FALSE),\"N/A\")","v":"N/A"},{"$f":"_xlfn.IFNA(VLOOKUP(_xlfn.CONCAT($C$2,\"-\",$E272,\"-\",$F272,\"-\",P$3),'Raw Data'!$A$2:$D$690331,4,FALSE),\"N/A\")","v":"N/A"},{"$f":"_xlfn.IFNA(VLOOKUP(_xlfn.CONCAT($C$2,\"-\",$E272,\"-\",$F272,\"-\",Q$3),'Raw Data'!$A$2:$D$690331,4,FALSE),\"N/A\")","v":"N/A"},{"$f":"_xlfn.IFNA(VLOOKUP(_xlfn.CONCAT($C$2,\"-\",$E272,\"-\",$F272,\"-\",R$3),'Raw Data'!$A$2:$D$690331,4,FALSE),\"N/A\")","v":"N/A"},{"$f":"_xlfn.IFNA(VLOOKUP(_xlfn.CONCAT($C$2,\"-\",$E272,\"-\",$F272,\"-\",S$3),'Raw Data'!$A$2:$D$690331,4,FALSE),\"N/A\")","v":"N/A"}]
[null,null,null,null,26,9,null,{"$f":"_xlfn.IFNA(VLOOKUP(_xlfn.CONCAT($C$2,\"-\",$E273,\"-\",$F273,\"-\",H$3),'Raw Data'!$A$2:$D$690331,4,FALSE),\"N/A\")","v":"N/A"},{"$f":"_xlfn.IFNA(VLOOKUP(_xlfn.CONCAT($C$2,\"-\",$E273,\"-\",$F273,\"-\",I$3),'Raw Data'!$A$2:$D$690331,4,FALSE),\"N/A\")","v":"N/A"},{"$f":"_xlfn.IFNA(VLOOKUP(_xlfn.CONCAT($C$2,\"-\",$E273,\"-\",$F273,\"-\",J$3),'Raw Data'!$A$2:$D$690331,4,FALSE),\"N/A\")","v":"N/A"},{"$f":"_xlfn.IFNA(VLOOKUP(_xlfn.CONCAT($C$2,\"-\",$E273,\"-\",$F273,\"-\",K$3),'Raw Data'!$A$2:$D$690331,4,FALSE),\"N/A\")","v":"N/A"},{"$f":"_xlfn.IFNA(VLOOKUP(_xlfn.CONCAT($C$2,\"-\",$E273,\"-\",$F273,\"-\",L$3),'Raw Data'!$A$2:$D$690331,4,FALSE),\"N/A\")","v":"N/A"},{"$f":"_xlfn.IFNA(VLOOKUP(_xlfn.CONCAT($C$2,\"-\",$E273,\"-\",$F273,\"-\",M$3),'Raw Data'!$A$2:$D$690331,4,FALSE),\"N/A\")","v":"N/A"},{"$f":"_xlfn.IFNA(VLOOKUP(_xlfn.CONCAT($C$2,\"-\",$E273,\"-\",$F273,\"-\",N$3),'Raw Data'!$A$2:$D$690331,4,FALSE),\"N/A\")","v":"N/A"},{"$f":"_xlfn.IFNA(VLOOKUP(_xlfn.CONCAT($C$2,\"-\",$E273,\"-\",$F273,\"-\",O$3),'Raw Data'!$A$2:$D$690331,4,FALSE),\"N/A\")","v":"N/A"},{"$f":"_xlfn.IFNA(VLOOKUP(_xlfn.CONCAT($C$2,\"-\",$E273,\"-\",$F273,\"-\",P$3),'Raw Data'!$A$2:$D$690331,4,FALSE),\"N/A\")","v":"N/A"},{"$f":"_xlfn.IFNA(VLOOKUP(_xlfn.CONCAT($C$2,\"-\",$E273,\"-\",$F273,\"-\",Q$3),'Raw Data'!$A$2:$D$690331,4,FALSE),\"N/A\")","v":"N/A"},{"$f":"_xlfn.IFNA(VLOOKUP(_xlfn.CONCAT($C$2,\"-\",$E273,\"-\",$F273,\"-\",R$3),'Raw Data'!$A$2:$D$690331,4,FALSE),\"N/A\")","v":"N/A"},{"$f":"_xlfn.IFNA(VLOOKUP(_xlfn.CONCAT($C$2,\"-\",$E273,\"-\",$F273,\"-\",S$3),'Raw Data'!$A$2:$D$690331,4,FALSE),\"N/A\")","v":"N/A"}]
[null,null,null,null,27,9,null,{"$f":"_xlfn.IFNA(VLOOKUP(_xlfn.CONCAT($C$2,\"-\",$E274,\"-\",$F274,\"-\",H$3),'Raw Data'!$A$2:$D$690331,4,FALSE),\"N/A\")","v":"N/A"},{"$f":"_xlfn.IFNA(VLOOKUP(_xlfn.CONCAT($C$2,\"-\",$E274,\"-\",$F274,\"-\",I$3),'Raw Data'!$A$2:$D$690331,4,FALSE),\"N/A\")","v":"N/A"},{"$f":"_xlfn.IFNA(VLOOKUP(_xlfn.CONCAT($C$2,\"-\",$E274,\"-\",$F274,\"-\",J$3),'Raw Data'!$A$2:$D$690331,4,FALSE),\"N/A\")","v":"N/A"},{"$f":"_xlfn.IFNA(VLOOKUP(_xlfn.CONCAT($C$2,\"-\",$E274,\"-\",$F274,\"-\",K$3),'Raw Data'!$A$2:$D$690331,4,FALSE),\"N/A\")","v":"N/A"},{"$f":"_xlfn.IFNA(VLOOKUP(_xlfn.CONCAT($C$2,\"-\",$E274,\"-\",$F274,\"-\",L$3),'Raw Data'!$A$2:$D$690331,4,FALSE),\"N/A\")","v":"N/A"},{"$f":"_xlfn.IFNA(VLOOKUP(_xlfn.CONCAT($C$2,\"-\",$E274,\"-\",$F274,\"-\",M$3),'Raw Data'!$A$2:$D$690331,4,FALSE),\"N/A\")","v":"N/A"},{"$f":"_xlfn.IFNA(VLOOKUP(_xlfn.CONCAT($C$2,\"-\",$E274,\"-\",$F274,\"-\",N$3),'Raw Data'!$A$2:$D$690331,4,FALSE),\"N/A\")","v":"N/A"},{"$f":"_xlfn.IFNA(VLOOKUP(_xlfn.CONCAT($C$2,\"-\",$E274,\"-\",$F274,\"-\",O$3),'Raw Data'!$A$2:$D$690331,4,FALSE),\"N/A\")","v":"N/A"},{"$f":"_xlfn.IFNA(VLOOKUP(_xlfn.CONCAT($C$2,\"-\",$E274,\"-\",$F274,\"-\",P$3),'Raw Data'!$A$2:$D$690331,4,FALSE),\"N/A\")","v":"N/A"},{"$f":"_xlfn.IFNA(VLOOKUP(_xlfn.CONCAT($C$2,\"-\",$E274,\"-\",$F274,\"-\",Q$3),'Raw Data'!$A$2:$D$690331,4,FALSE),\"N/A\")","v":"N/A"},{"$f":"_xlfn.IFNA(VLOOKUP(_xlfn.CONCAT($C$2,\"-\",$E274,\"-\",$F274,\"-\",R$3),'Raw Data'!$A$2:$D$690331,4,FALSE),\"N/A\")","v":"N/A"},{"$f":"_xlfn.IFNA(VLOOKUP(_xlfn.CONCAT($C$2,\"-\",$E274,\"-\",$F274,\"-\",S$3),'Raw Data'!$A$2:$D$690331,4,FALSE),\"N/A\")","v":"N/A"}]
[null,null,null,null,28,9,null,{"$f":"_xlfn.IFNA(VLOOKUP(_xlfn.CONCAT($C$2,\"-\",$E275,\"-\",$F275,\"-\",H$3),'Raw Data'!$A$2:$D$690331,4,FALSE),\"N/A\")","v":"N/A"},{"$f":"_xlfn.IFNA(VLOOKUP(_xlfn.CONCAT($C$2,\"-\",$E275,\"-\",$F275,\"-\",I$3),'Raw Data'!$A$2:$D$690331,4,FALSE),\"N/A\")","v":"N/A"},{"$f":"_xlfn.IFNA(VLOOKUP(_xlfn.CONCAT($C$2,\"-\",$E275,\"-\",$F275,\"-\",J$3),'Raw Data'!$A$2:$D$690331,4,FALSE),\"N/A\")","v":"N/A"},{"$f":"_xlfn.IFNA(VLOOKUP(_xlfn.CONCAT($C$2,\"-\",$E275,\"-\",$F275,\"-\",K$3),'Raw Data'!$A$2:$D$690331,4,FALSE),\"N/A\")","v":"N/A"},{"$f":"_xlfn.IFNA(VLOOKUP(_xlfn.CONCAT($C$2,\"-\",$E275,\"-\",$F275,\"-\",L$3),'Raw Data'!$A$2:$D$690331,4,FALSE),\"N/A\")","v":"N/A"},{"$f":"_xlfn.IFNA(VLOOKUP(_xlfn.CONCAT($C$2,\"-\",$E275,\"-\",$F275,\"-\",M$3),'Raw Data'!$A$2:$D$690331,4,FALSE),\"N/A\")","v":"N/A"},{"$f":"_xlfn.IFNA(VLOOKUP(_xlfn.CONCAT($C$2,\"-\",$E275,\"-\",$F275,\"-\",N$3),'Raw Data'!$A$2:$D$690331,4,FALSE),\"N/A\")","v":"N/A"},{"$f":"_xlfn.IFNA(VLOOKUP(_xlfn.CONCAT($C$2,\"-\",$E275,\"-\",$F275,\"-\",O$3),'Raw Data'!$A$2:$D$690331,4,FALSE),\"N/A\")","v":"N/A"},{"$f":"_xlfn.IFNA(VLOOKUP(_xlfn.CONCAT($C$2,\"-\",$E275,\"-\",$F275,\"-\",P$3),'Raw Data'!$A$2:$D$690331,4,FALSE),\"N/A\")","v":"N/A"},{"$f":"_xlfn.IFNA(VLOOKUP(_xlfn.CONCAT($C$2,\"-\",$E275,\"-\",$F275,\"-\",Q$3),'Raw Data'!$A$2:$D$690331,4,FALSE),\"N/A\")","v":"N/A"},{"$f":"_xlfn.IFNA(VLOOKUP(_xlfn.CONCAT($C$2,\"-\",$E275,\"-\",$F275,\"-\",R$3),'Raw Data'!$A$2:$D$690331,4,FALSE),\"N/A\")","v":"N/A"},{"$f":"_xlfn.IFNA(VLOOKUP(_xlfn.CONCAT($C$2,\"-\",$E275,\"-\",$F275,\"-\",S$3),'Raw Data'!$A$2:$D$690331,4,FALSE),\"N/A\")","v":"N/A"}]
[null,null,null,null,29,9,null,{"$f":"_xlfn.IFNA(VLOOKUP(_xlfn.CONCAT($C$2,\"-\",$E276,\"-\",$F276,\"-\",H$3),'Raw Data'!$A$2:$D$690331,4,FALSE),\"N/A\")","v":"N/A"},{"$f":"_xlfn.IFNA(VLOOKUP(_xlfn.CONCAT($C$2,\"-\",$E276,\"-\",$F276,\"-\",I$3),'Raw Data'!$A$2:$D$690331,4,FALSE),\"N/A\")","v":"N/A"},{"$f":"_xlfn.IFNA(VLOOKUP(_xlfn.CONCAT($C$2,\"-\",$E276,\"-\",$F276,\"-\",J$3),'Raw Data'!$A$2:$D$690331,4,FALSE),\"N/A\")","v":"N/A"},{"$f":"_xlfn.IFNA(VLOOKUP(_xlfn.CONCAT($C$2,\"-\",$E276,\"-\",$F276,\"-\",K$3),'Raw Data'!$A$2:$D$690331,4,FALSE),\"N/A\")","v":"N/A"},{"$f":"_xlfn.IFNA(VLOOKUP(_xlfn.CONCAT($C$2,\"-\",$E276,\"-\",$F276,\"-\",L$3),'Raw Data'!$A$2:$D$690331,4,FALSE),\"N/A\")","v":"N/A"},{"$f":"_xlfn.IFNA(VLOOKUP(_xlfn.CONCAT($C$2,\"-\",$E276,\"-\",$F276,\"-\",M$3),'Raw Data'!$A$2:$D$690331,4,FALSE),\"N/A\")","v":"N/A"},{"$f":"_xlfn.IFNA(VLOOKUP(_xlfn.CONCAT($C$2,\"-\",$E276,\"-\",$F276,\"-\",N$3),'Raw Data'!$A$2:$D$690331,4,FALSE),\"N/A\")","v":"N/A"},{"$f":"_xlfn.IFNA(VLOOKUP(_xlfn.CONCAT($C$2,\"-\",$E276,\"-\",$F276,\"-\",O$3),'Raw Data'!$A$2:$D$690331,4,FALSE),\"N/A\")","v":"N/A"},{"$f":"_xlfn.IFNA(VLOOKUP(_xlfn.CONCAT($C$2,\"-\",$E276,\"-\",$F276,\"-\",P$3),'Raw Data'!$A$2:$D$690331,4,FALSE),\"N/A\")","v":"N/A"},{"$f":"_xlfn.IFNA(VLOOKUP(_xlfn.CONCAT($C$2,\"-\",$E276,\"-\",$F276,\"-\",Q$3),'Raw Data'!$A$2:$D$690331,4,FALSE),\"N/A\")","v":"N/A"},{"$f":"_xlfn.IFNA(VLOOKUP(_xlfn.CONCAT($C$2,\"-\",$E276,\"-\",$F276,\"-\",R$3),'Raw Data'!$A$2:$D$690331,4,FALSE),\"N/A\")","v":"N/A"},{"$f":"_xlfn.IFNA(VLOOKUP(_xlfn.CONCAT($C$2,\"-\",$E276,\"-\",$F276,\"-\",S$3),'Raw Data'!$A$2:$D$690331,4,FALSE),\"N/A\")","v":"N/A"}]
[null,null,null,null,30,9,null,{"$f":"_xlfn.IFNA(VLOOKUP(_xlfn.CONCAT($C$2,\"-\",$E277,\"-\",$F277,\"-\",H$3),'Raw Data'!$A$2:$D$690331,4,FALSE),\"N/A\")","v":"N/A"},{"$f":"_xlfn.IFNA(VLOOKUP(_xlfn.CONCAT($C$2,\"-\",$E277,\"-\",$F277,\"-\",I$3),'Raw Data'!$A$2:$D$690331,4,FALSE),\"N/A\")","v":"N/A"},{"$f":"_xlfn.IFNA(VLOOKUP(_xlfn.CONCAT($C$2,\"-\",$E277,\"-\",$F277,\"-\",J$3),'Raw Data'!$A$2:$D$690331,4,FALSE),\"N/A\")","v":"N/A"},{"$f":"_xlfn.IFNA(VLOOKUP(_xlfn.CONCAT($C$2,\"-\",$E277,\"-\",$F277,\"-\",K$3),'Raw Data'!$A$2:$D$690331,4,FALSE),\"N/A\")","v":"N/A"},{"$f":"_xlfn.IFNA(VLOOKUP(_xlfn.CONCAT($C$2,\"-\",$E277,\"-\",$F277,\"-\",L$3),'Raw Data'!$A$2:$D$690331,4,FALSE),\"N/A\")","v":"N/A"},{"$f":"_xlfn.IFNA(VLOOKUP(_xlfn.CONCAT($C$2,\"-\",$E277,\"-\",$F277,\"-\",M$3),'Raw Data'!$A$2:$D$690331,4,FALSE),\"N/A\")","v":"N/A"},{"$f":"_xlfn.IFNA(VLOOKUP(_xlfn.CONCAT($C$2,\"-\",$E277,\"-\",$F277,\"-\",N$3),'Raw Data'!$A$2:$D$690331,4,FALSE),\"N/A\")","v":"N/A"},{"$f":"_xlfn.IFNA(VLOOKUP(_xlfn.CONCAT($C$2,\"-\",$E277,\"-\",$F277,\"-\",O$3),'Raw Data'!$A$2:$D$690331,4,FALSE),\"N/A\")","v":"N/A"},{"$f":"_xlfn.IFNA(VLOOKUP(_xlfn.CONCAT($C$2,\"-\",$E277,\"-\",$F277,\"-\",P$3),'Raw Data'!$A$2:$D$690331,4,FALSE),\"N/A\")","v":"N/A"},{"$f":"_xlfn.IFNA(VLOOKUP(_xlfn.CONCAT($C$2,\"-\",$E277,\"-\",$F277,\"-\",Q$3),'Raw Data'!$A$2:$D$690331,4,FALSE),\"N/A\")","v":"N/A"},{"$f":"_xlfn.IFNA(VLOOKUP(_xlfn.CONCAT($C$2,\"-\",$E277,\"-\",$F277,\"-\",R$3),'Raw Data'!$A$2:$D$690331,4,FALSE),\"N/A\")","v":"N/A"},{"$f":"_xlfn.IFNA(VLOOKUP(_xlfn.CONCAT($C$2,\"-\",$E277,\"-\",$F277,\"-\",S$3),'Raw Data'!$A$2:$D$690331,4,FALSE),\"N/A\")","v":"N/A"}]
[null,null,null,null,1,10,null,{"$f":"_xlfn.IFNA(VLOOKUP(_xlfn.CONCAT($C$2,\"-\",$E278,\"-\",$F278,\"-\",H$3),'Raw Data'!$A$2:$D$690331,4,FALSE),\"N/A\")","v":"N/A"},{"$f":"_xlfn.IFNA(VLOOKUP(_xlfn.CONCAT($C$2,\"-\",$E278,\"-\",$F278,\"-\",I$3),'Raw Data'!$A$2:$D$690331,4,FALSE),\"N/A\")","v":"N/A"},{"$f":"_xlfn.IFNA(VLOOKUP(_xlfn.CONCAT($C$2,\"-\",$E278,\"-\",$F278,\"-\",J$3),'Raw Data'!$A$2:$D$690331,4,FALSE),\"N/A\")","v":"N/A"},{"$f":"_xlfn.IFNA(VLOOKUP(_xlfn.CONCAT($C$2,\"-\",$E278,\"-\",$F278,\"-\",K$3),'Raw Data'!$A$2:$D$690331,4,FALSE),\"N/A\")","v":"N/A"},{"$f":"_xlfn.IFNA(VLOOKUP(_xlfn.CONCAT($C$2,\"-\",$E278,\"-\",$F278,\"-\",L$3),'Raw Data'!$A$2:$D$690331,4,FALSE),\"N/A\")","v":"N/A"},{"$f":"_xlfn.IFNA(VLOOKUP(_xlfn.CONCAT($C$2,\"-\",$E278,\"-\",$F278,\"-\",M$3),'Raw Data'!$A$2:$D$690331,4,FALSE),\"N/A\")","v":"N/A"},{"$f":"_xlfn.IFNA(VLOOKUP(_xlfn.CONCAT($C$2,\"-\",$E278,\"-\",$F278,\"-\",N$3),'Raw Data'!$A$2:$D$690331,4,FALSE),\"N/A\")","v":"N/A"},{"$f":"_xlfn.IFNA(VLOOKUP(_xlfn.CONCAT($C$2,\"-\",$E278,\"-\",$F278,\"-\",O$3),'Raw Data'!$A$2:$D$690331,4,FALSE),\"N/A\")","v":"N/A"},{"$f":"_xlfn.IFNA(VLOOKUP(_xlfn.CONCAT($C$2,\"-\",$E278,\"-\",$F278,\"-\",P$3),'Raw Data'!$A$2:$D$690331,4,FALSE),\"N/A\")","v":"N/A"},{"$f":"_xlfn.IFNA(VLOOKUP(_xlfn.CONCAT($C$2,\"-\",$E278,\"-\",$F278,\"-\",Q$3),'Raw Data'!$A$2:$D$690331,4,FALSE),\"N/A\")","v":"N/A"},{"$f":"_xlfn.IFNA(VLOOKUP(_xlfn.CONCAT($C$2,\"-\",$E278,\"-\",$F278,\"-\",R$3),'Raw Data'!$A$2:$D$690331,4,FALSE),\"N/A\")","v":"N/A"},{"$f":"_xlfn.IFNA(VLOOKUP(_xlfn.CONCAT($C$2,\"-\",$E278,\"-\",$F278,\"-\",S$3),'Raw Data'!$A$2:$D$690331,4,FALSE),\"N/A\")","v":"N/A"}]
[null,null,null,null,2,10,null,{"$f":"_xlfn.IFNA(VLOOKUP(_xlfn.CONCAT($C$2,\"-\",$E279,\"-\",$F279,\"-\",H$3),'Raw Data'!$A$2:$D$690331,4,FALSE),\"N/A\")","v":"N/A"},{"$f":"_xlfn.IFNA(VLOOKUP(_xlfn.CONCAT($C$2,\"-\",$E279,\"-\",$F279,\"-\",I$3),'Raw Data'!$A$2:$D$690331,4,FALSE),\"N/A\")","v":"N/A"},{"$f":"_xlfn.IFNA(VLOOKUP(_xlfn.CONCAT($C$2,\"-\",$E279,\"-\",$F279,\"-\",J$3),'Raw Data'!$A$2:$D$690331,4,FALSE),\"N/A\")","v":"N/A"},{"$f":"_xlfn.IFNA(VLOOKUP(_xlfn.CONCAT($C$2,\"-\",$E279,\"-\",$F279,\"-\",K$3),'Raw Data'!$A$2:$D$690331,4,FALSE),\"N/A\")","v":"N/A"},{"$f":"_xlfn.IFNA(VLOOKUP(_xlfn.CONCAT($C$2,\"-\",$E279,\"-\",$F279,\"-\",L$3),'Raw Data'!$A$2:$D$690331,4,FALSE),\"N/A\")","v":"N/A"},{"$f":"_xlfn.IFNA(VLOOKUP(_xlfn.CONCAT($C$2,\"-\",$E279,\"-\",$F279,\"-\",M$3),'Raw Data'!$A$2:$D$690331,4,FALSE),\"N/A\")","v":"N/A"},{"$f":"_xlfn.IFNA(VLOOKUP(_xlfn.CONCAT($C$2,\"-\",$E279,\"-\",$F279,\"-\",N$3),'Raw Data'!$A$2:$D$690331,4,FALSE),\"N/A\")","v":"N/A"},{"$f":"_xlfn.IFNA(VLOOKUP(_xlfn.CONCAT($C$2,\"-\",$E279,\"-\",$F279,\"-\",O$3),'Raw Data'!$A$2:$D$690331,4,FALSE),\"N/A\")","v":"N/A"},{"$f":"_xlfn.IFNA(VLOOKUP(_xlfn.CONCAT($C$2,\"-\",$E279,\"-\",$F279,\"-\",P$3),'Raw Data'!$A$2:$D$690331,4,FALSE),\"N/A\")","v":"N/A"},{"$f":"_xlfn.IFNA(VLOOKUP(_xlfn.CONCAT($C$2,\"-\",$E279,\"-\",$F279,\"-\",Q$3),'Raw Data'!$A$2:$D$690331,4,FALSE),\"N/A\")","v":"N/A"},{"$f":"_xlfn.IFNA(VLOOKUP(_xlfn.CONCAT($C$2,\"-\",$E279,\"-\",$F279,\"-\",R$3),'Raw Data'!$A$2:$D$690331,4,FALSE),\"N/A\")","v":"N/A"},{"$f":"_xlfn.IFNA(VLOOKUP(_xlfn.CONCAT($C$2,\"-\",$E279,\"-\",$F279,\"-\",S$3),'Raw Data'!$A$2:$D$690331,4,FALSE),\"N/A\")","v":"N/A"}]
[null,null,null,null,3,10,null,{"$f":"_xlfn.IFNA(VLOOKUP(_xlfn.CONCAT($C$2,\"-\",$E280,\"-\",$F280,\"-\",H$3),'Raw Data'!$A$2:$D$690331,4,FALSE),\"N/A\")","v":"N/A"},{"$f":"_xlfn.IFNA(VLOOKUP(_xlfn.CONCAT($C$2,\"-\",$E280,\"-\",$F280,\"-\",I$3),'Raw Data'!$A$2:$D$690331,4,FALSE),\"N/A\")","v":"N/A"},{"$f":"_xlfn.IFNA(VLOOKUP(_xlfn.CONCAT($C$2,\"-\",$E280,\"-\",$F280,\"-\",J$3),'Raw Data'!$A$2:$D$690331,4,FALSE),\"N/A\")","v":"N/A"},{"$f":"_xlfn.IFNA(VLOOKUP(_xlfn.CONCAT($C$2,\"-\",$E280,\"-\",$F280,\"-\",K$3),'Raw Data'!$A$2:$D$690331,4,FALSE),\"N/A\")","v":"N/A"},{"$f":"_xlfn.IFNA(VLOOKUP(_xlfn.CONCAT($C$2,\"-\",$E280,\"-\",$F280,\"-\",L$3),'Raw Data'!$A$2:$D$690331,4,FALSE),\"N/A\")","v":"N/A"},{"$f":"_xlfn.IFNA(VLOOKUP(_xlfn.CONCAT($C$2,\"-\",$E280,\"-\",$F280,\"-\",M$3),'Raw Data'!$A$2:$D$690331,4,FALSE),\"N/A\")","v":"N/A"},{"$f":"_xlfn.IFNA(VLOOKUP(_xlfn.CONCAT($C$2,\"-\",$E280,\"-\",$F280,\"-\",N$3),'Raw Data'!$A$2:$D$690331,4,FALSE),\"N/A\")","v":"N/A"},{"$f":"_xlfn.IFNA(VLOOKUP(_xlfn.CONCAT($C$2,\"-\",$E280,\"-\",$F280,\"-\",O$3),'Raw Data'!$A$2:$D$690331,4,FALSE),\"N/A\")","v":"N/A"},{"$f":"_xlfn.IFNA(VLOOKUP(_xlfn.CONCAT($C$2,\"-\",$E280,\"-\",$F280,\"-\",P$3),'Raw Data'!$A$2:$D$690331,4,FALSE),\"N/A\")","v":"N/A"},{"$f":"_xlfn.IFNA(VLOOKUP(_xlfn.CONCAT($C$2,\"-\",$E280,\"-\",$F280,\"-\",Q$3),'Raw Data'!$A$2:$D$690331,4,FALSE),\"N/A\")","v":"N/A"},{"$f":"_xlfn.IFNA(VLOOKUP(_xlfn.CONCAT($C$2,\"-\",$E280,\"-\",$F280,\"-\",R$3),'Raw Data'!$A$2:$D$690331,4,FALSE),\"N/A\")","v":"N/A"},{"$f":"_xlfn.IFNA(VLOOKUP(_xlfn.CONCAT($C$2,\"-\",$E280,\"-\",$F280,\"-\",S$3),'Raw Data'!$A$2:$D$690331,4,FALSE),\"N/A\")","v":"N/A"}]
[null,null,null,null,4,10,null,{"$f":"_xlfn.IFNA(VLOOKUP(_xlfn.CONCAT($C$2,\"-\",$E281,\"-\",$F281,\"-\",H$3),'Raw Data'!$A$2:$D$690331,4,FALSE),\"N/A\")","v":"N/A"},{"$f":"_xlfn.IFNA(VLOOKUP(_xlfn.CONCAT($C$2,\"-\",$E281,\"-\",$F281,\"-\",I$3),'Raw Data'!$A$2:$D$690331,4,FALSE),\"N/A\")","v":"N/A"},{"$f":"_xlfn.IFNA(VLOOKUP(_xlfn.CONCAT($C$2,\"-\",$E281,\"-\",$F281,\"-\",J$3),'Raw Data'!$A$2:$D$690331,4,FALSE),\"N/A\")","v":"N/A"},{"$f":"_xlfn.IFNA(VLOOKUP(_xlfn.CONCAT($C$2,\"-\",$E281,\"-\",$F281,\"-\",K$3),'Raw Data'!$A$2:$D$690331,4,FALSE),\"N/A\")","v":"N/A"},{"$f":"_xlfn.IFNA(VLOOKUP(_xlfn.CONCAT($C$2,\"-\",$E281,\"-\",$F281,\"-\",L$3),'Raw Data'!$A$2:$D$690331,4,FALSE),\"N/A\")","v":"N/A"},{"$f":"_xlfn.IFNA(VLOOKUP(_xlfn.CONCAT($C$2,\"-\",$E281,\"-\",$F281,\"-\",M$3),'Raw Data'!$A$2:$D$690331,4,FALSE),\"N/A\")","v":"N/A"},{"$f":"_xlfn.IFNA(VLOOKUP(_xlfn.CONCAT($C$2,\"-\",$E281,\"-\",$F281,\"-\",N$3),'Raw Data'!$A$2:$D$690331,4,FALSE),\"N/A\")","v":"N/A"},{"$f":"_xlfn.IFNA(VLOOKUP(_xlfn.CONCAT($C$2,\"-\",$E281,\"-\",$F281,\"-\",O$3),'Raw Data'!$A$2:$D$690331,4,FALSE),\"N/A\")","v":"N/A"},{"$f":"_xlfn.IFNA(VLOOKUP(_xlfn.CONCAT($C$2,\"-\",$E281,\"-\",$F281,\"-\",P$3),'Raw Data'!$A$2:$D$690331,4,FALSE),\"N/A\")","v":"N/A"},{"$f":"_xlfn.IFNA(VLOOKUP(_xlfn.CONCAT($C$2,\"-\",$E281,\"-\",$F281,\"-\",Q$3),'Raw Data'!$A$2:$D$690331,4,FALSE),\"N/A\")","v":"N/A"},{"$f":"_xlfn.IFNA(VLOOKUP(_xlfn.CONCAT($C$2,\"-\",$E281,\"-\",$F281,\"-\",R$3),'Raw Data'!$A$2:$D$690331,4,FALSE),\"N/A\")","v":"N/A"},{"$f":"_xlfn.IFNA(VLOOKUP(_xlfn.CONCAT($C$2,\"-\",$E281,\"-\",$F281,\"-\",S$3),'Raw Data'!$A$2:$D$690331,4,FALSE),\"N/A\")","v":"N/A"}]
[null,null,null,null,5,10,null,{"$f":"_xlfn.IFNA(VLOOKUP(_xlfn.CONCAT($C$2,\"-\",$E282,\"-\",$F282,\"-\",H$3),'Raw Data'!$A$2:$D$690331,4,FALSE),\"N/A\")","v":"N/A"},{"$f":"_xlfn.IFNA(VLOOKUP(_xlfn.CONCAT($C$2,\"-\",$E282,\"-\",$F282,\"-\",I$3),'Raw Data'!$A$2:$D$690331,4,FALSE),\"N/A\")","v":"N/A"},{"$f":"_xlfn.IFNA(VLOOKUP(_xlfn.CONCAT($C$2,\"-\",$E282,\"-\",$F282,\"-\",J$3),'Raw Data'!$A$2:$D$690331,4,FALSE),\"N/A\")","v":"N/A"},{"$f":"_xlfn.IFNA(VLOOKUP(_xlfn.CONCAT($C$2,\"-\",$E282,\"-\",$F282,\"-\",K$3),'Raw Data'!$A$2:$D$690331,4,FALSE),\"N/A\")","v":"N/A"},{"$f":"_xlfn.IFNA(VLOOKUP(_xlfn.CONCAT($C$2,\"-\",$E282,\"-\",$F282,\"-\",L$3),'Raw Data'!$A$2:$D$690331,4,FALSE),\"N/A\")","v":"N/A"},{"$f":"_xlfn.IFNA(VLOOKUP(_xlfn.CONCAT($C$2,\"-\",$E282,\"-\",$F282,\"-\",M$3),'Raw Data'!$A$2:$D$690331,4,FALSE),\"N/A\")","v":"N/A"},{"$f":"_xlfn.IFNA(VLOOKUP(_xlfn.CONCAT($C$2,\"-\",$E282,\"-\",$F282,\"-\",N$3),'Raw Data'!$A$2:$D$690331,4,FALSE),\"N/A\")","v":"N/A"},{"$f":"_xlfn.IFNA(VLOOKUP(_xlfn.CONCAT($C$2,\"-\",$E282,\"-\",$F282,\"-\",O$3),'Raw Data'!$A$2:$D$690331,4,FALSE),\"N/A\")","v":"N/A"},{"$f":"_xlfn.IFNA(VLOOKUP(_xlfn.CONCAT($C$2,\"-\",$E282,\"-\",$F282,\"-\",P$3),'Raw Data'!$A$2:$D$690331,4,FALSE),\"N/A\")","v":"N/A"},{"$f":"_xlfn.IFNA(VLOOKUP(_xlfn.CONCAT($C$2,\"-\",$E282,\"-\",$F282,\"-\",Q$3),'Raw Data'!$A$2:$D$690331,4,FALSE),\"N/A\")","v":"N/A"},{"$f":"_xlfn.IFNA(VLOOKUP(_xlfn.CONCAT($C$2,\"-\",$E282,\"-\",$F282,\"-\",R$3),'Raw Data'!$A$2:$D$690331,4,FALSE),\"N/A\")","v":"N/A"},{"$f":"_xlfn.IFNA(VLOOKUP(_xlfn.CONCAT($C$2,\"-\",$E282,\"-\",$F282,\"-\",S$3),'Raw Data'!$A$2:$D$690331,4,FALSE),\"N/A\")","v":"N/A"}]
[null,null,null,null,6,10,null,{"$f":"_xlfn.IFNA(VLOOKUP(_xlfn.CONCAT($C$2,\"-\",$E283,\"-\",$F283,\"-\",H$3),'Raw Data'!$A$2:$D$690331,4,FALSE),\"N/A\")","v":"N/A"},{"$f":"_xlfn.IFNA(VLOOKUP(_xlfn.CONCAT($C$2,\"-\",$E283,\"-\",$F283,\"-\",I$3),'Raw Data'!$A$2:$D$690331,4,FALSE),\"N/A\")","v":"N/A"},{"$f":"_xlfn.IFNA(VLOOKUP(_xlfn.CONCAT($C$2,\"-\",$E283,\"-\",$F283,\"-\",J$3),'Raw Data'!$A$2:$D$690331,4,FALSE),\"N/A\")","v":"N/A"},{"$f":"_xlfn.IFNA(VLOOKUP(_xlfn.CONCAT($C$2,\"-\",$E283,\"-\",$F283,\"-\",K$3),'Raw Data'!$A$2:$D$690331,4,FALSE),\"N/A\")","v":"N/A"},{"$f":"_xlfn.IFNA(VLOOKUP(_xlfn.CONCAT($C$2,\"-\",$E283,\"-\",$F283,\"-\",L$3),'Raw Data'!$A$2:$D$690331,4,FALSE),\"N/A\")","v":"N/A"},{"$f":"_xlfn.IFNA(VLOOKUP(_xlfn.CONCAT($C$2,\"-\",$E283,\"-\",$F283,\"-\",M$3),'Raw Data'!$A$2:$D$690331,4,FALSE),\"N/A\")","v":"N/A"},{"$f":"_xlfn.IFNA(VLOOKUP(_xlfn.CONCAT($C$2,\"-\",$E283,\"-\",$F283,\"-\",N$3),'Raw Data'!$A$2:$D$690331,4,FALSE),\"N/A\")","v":"N/A"},{"$f":"_xlfn.IFNA(VLOOKUP(_xlfn.CONCAT($C$2,\"-\",$E283,\"-\",$F283,\"-\",O$3),'Raw Data'!$A$2:$D$690331,4,FALSE),\"N/A\")","v":"N/A"},{"$f":"_xlfn.IFNA(VLOOKUP(_xlfn.CONCAT($C$2,\"-\",$E283,\"-\",$F283,\"-\",P$3),'Raw Data'!$A$2:$D$690331,4,FALSE),\"N/A\")","v":"N/A"},{"$f":"_xlfn.IFNA(VLOOKUP(_xlfn.CONCAT($C$2,\"-\",$E283,\"-\",$F283,\"-\",Q$3),'Raw Data'!$A$2:$D$690331,4,FALSE),\"N/A\")","v":"N/A"},{"$f":"_xlfn.IFNA(VLOOKUP(_xlfn.CONCAT($C$2,\"-\",$E283,\"-\",$F283,\"-\",R$3),'Raw Data'!$A$2:$D$690331,4,FALSE),\"N/A\")","v":"N/A"},{"$f":"_xlfn.IFNA(VLOOKUP(_xlfn.CONCAT($C$2,\"-\",$E283,\"-\",$F283,\"-\",S$3),'Raw Data'!$A$2:$D$690331,4,FALSE),\"N/A\")","v":"N/A"}]
[null,null,null,null,7,10,null,{"$f":"_xlfn.IFNA(VLOOKUP(_xlfn.CONCAT($C$2,\"-\",$E284,\"-\",$F284,\"-\",H$3),'Raw Data'!$A$2:$D$690331,4,FALSE),\"N/A\")","v":"N/A"},{"$f":"_xlfn.IFNA(VLOOKUP(_xlfn.CONCAT($C$2,\"-\",$E284,\"-\",$F284,\"-\",I$3),'Raw Data'!$A$2:$D$690331,4,FALSE),\"N/A\")","v":"N/A"},{"$f":"_xlfn.IFNA(VLOOKUP(_xlfn.CONCAT($C$2,\"-\",$E284,\"-\",$F284,\"-\",J$3),'Raw Data'!$A$2:$D$690331,4,FALSE),\"N/A\")","v":"N/A"},{"$f":"_xlfn.IFNA(VLOOKUP(_xlfn.CONCAT($C$2,\"-\",$E284,\"-\",$F284,\"-\",K$3),'Raw Data'!$A$2:$D$690331,4,FALSE),\"N/A\")","v":"N/A"},{"$f":"_xlfn.IFNA(VLOOKUP(_xlfn.CONCAT($C$2,\"-\",$E284,\"-\",$F284,\"-\",L$3),'Raw Data'!$A$2:$D$690331,4,FALSE),\"N/A\")","v":"N/A"},{"$f":"_xlfn.IFNA(VLOOKUP(_xlfn.CONCAT($C$2,\"-\",$E284,\"-\",$F284,\"-\",M$3),'Raw Data'!$A$2:$D$690331,4,FALSE),\"N/A\")","v":"N/A"},{"$f":"_xlfn.IFNA(VLOOKUP(_xlfn.CONCAT($C$2,\"-\",$E284,\"-\",$F284,\"-\",N$3),'Raw Data'!$A$2:$D$690331,4,FALSE),\"N/A\")","v":"N/A"},{"$f":"_xlfn.IFNA(VLOOKUP(_xlfn.CONCAT($C$2,\"-\",$E284,\"-\",$F284,\"-\",O$3),'Raw Data'!$A$2:$D$690331,4,FALSE),\"N/A\")","v":"N/A"},{"$f":"_xlfn.IFNA(VLOOKUP(_xlfn.CONCAT($C$2,\"-\",$E284,\"-\",$F284,\"-\",P$3),'Raw Data'!$A$2:$D$690331,4,FALSE),\"N/A\")","v":"N/A"},{"$f":"_xlfn.IFNA(VLOOKUP(_xlfn.CONCAT($C$2,\"-\",$E284,\"-\",$F284,\"-\",Q$3),'Raw Data'!$A$2:$D$690331,4,FALSE),\"N/A\")","v":"N/A"},{"$f":"_xlfn.IFNA(VLOOKUP(_xlfn.CONCAT($C$2,\"-\",$E284,\"-\",$F284,\"-\",R$3),'Raw Data'!$A$2:$D$690331,4,FALSE),\"N/A\")","v":"N/A"},{"$f":"_xlfn.IFNA(VLOOKUP(_xlfn.CONCAT($C$2,\"-\",$E284,\"-\",$F284,\"-\",S$3),'Raw Data'!$A$2:$D$690331,4,FALSE),\"N/A\")","v":"N/A"}]
[null,null,null,null,8,10,null,{"$f":"_xlfn.IFNA(VLOOKUP(_xlfn.CONCAT($C$2,\"-\",$E285,\"-\",$F285,\"-\",H$3),'Raw Data'!$A$2:$D$690331,4,FALSE),\"N/A\")","v":"N/A"},{"$f":"_xlfn.IFNA(VLOOKUP(_xlfn.CONCAT($C$2,\"-\",$E285,\"-\",$F285,\"-\",I$3),'Raw Data'!$A$2:$D$690331,4,FALSE),\"N/A\")","v":"N/A"},{"$f":"_xlfn.IFNA(VLOOKUP(_xlfn.CONCAT($C$2,\"-\",$E285,\"-\",$F285,\"-\",J$3),'Raw Data'!$A$2:$D$690331,4,FALSE),\"N/A\")","v":"N/A"},{"$f":"_xlfn.IFNA(VLOOKUP(_xlfn.CONCAT($C$2,\"-\",$E285,\"-\",$F285,\"-\",K$3),'Raw Data'!$A$2:$D$690331,4,FALSE),\"N/A\")","v":"N/A"},{"$f":"_xlfn.IFNA(VLOOKUP(_xlfn.CONCAT($C$2,\"-\",$E285,\"-\",$F285,\"-\",L$3),'Raw Data'!$A$2:$D$690331,4,FALSE),\"N/A\")","v":"N/A"},{"$f":"_xlfn.IFNA(VLOOKUP(_xlfn.CONCAT($C$2,\"-\",$E285,\"-\",$F285,\"-\",M$3),'Raw Data'!$A$2:$D$690331,4,FALSE),\"N/A\")","v":"N/A"},{"$f":"_xlfn.IFNA(VLOOKUP(_xlfn.CONCAT($C$2,\"-\",$E285,\"-\",$F285,\"-\",N$3),'Raw Data'!$A$2:$D$690331,4,FALSE),\"N/A\")","v":"N/A"},{"$f":"_xlfn.IFNA(VLOOKUP(_xlfn.CONCAT($C$2,\"-\",$E285,\"-\",$F285,\"-\",O$3),'Raw Data'!$A$2:$D$690331,4,FALSE),\"N/A\")","v":"N/A"},{"$f":"_xlfn.IFNA(VLOOKUP(_xlfn.CONCAT($C$2,\"-\",$E285,\"-\",$F285,\"-\",P$3),'Raw Data'!$A$2:$D$690331,4,FALSE),\"N/A\")","v":"N/A"},{"$f":"_xlfn.IFNA(VLOOKUP(_xlfn.CONCAT($C$2,\"-\",$E285,\"-\",$F285,\"-\",Q$3),'Raw Data'!$A$2:$D$690331,4,FALSE),\"N/A\")","v":"N/A"},{"$f":"_xlfn.IFNA(VLOOKUP(_xlfn.CONCAT($C$2,\"-\",$E285,\"-\",$F285,\"-\",R$3),'Raw Data'!$A$2:$D$690331,4,FALSE),\"N/A\")","v":"N/A"},{"$f":"_xlfn.IFNA(VLOOKUP(_xlfn.CONCAT($C$2,\"-\",$E285,\"-\",$F285,\"-\",S$3),'Raw Data'!$A$2:$D$690331,4,FALSE),\"N/A\")","v":"N/A"}]
[null,null,null,null,9,10,null,{"$f":"_xlfn.IFNA(VLOOKUP(_xlfn.CONCAT($C$2,\"-\",$E286,\"-\",$F286,\"-\",H$3),'Raw Data'!$A$2:$D$690331,4,FALSE),\"N/A\")","v":"N/A"},{"$f":"_xlfn.IFNA(VLOOKUP(_xlfn.CONCAT($C$2,\"-\",$E286,\"-\",$F286,\"-\",I$3),'Raw Data'!$A$2:$D$690331,4,FALSE),\"N/A\")","v":"N/A"},{"$f":"_xlfn.IFNA(VLOOKUP(_xlfn.CONCAT($C$2,\"-\",$E286,\"-\",$F286,\"-\",J$3),'Raw Data'!$A$2:$D$690331,4,FALSE),\"N/A\")","v":"N/A"},{"$f":"_xlfn.IFNA(VLOOKUP(_xlfn.CONCAT($C$2,\"-\",$E286,\"-\",$F286,\"-\",K$3),'Raw Data'!$A$2:$D$690331,4,FALSE),\"N/A\")","v":"N/A"},{"$f":"_xlfn.IFNA(VLOOKUP(_xlfn.CONCAT($C$2,\"-\",$E286,\"-\",$F286,\"-\",L$3),'Raw Data'!$A$2:$D$690331,4,FALSE),\"N/A\")","v":"N/A"},{"$f":"_xlfn.IFNA(VLOOKUP(_xlfn.CONCAT($C$2,\"-\",$E286,\"-\",$F286,\"-\",M$3),'Raw Data'!$A$2:$D$690331,4,FALSE),\"N/A\")","v":"N/A"},{"$f":"_xlfn.IFNA(VLOOKUP(_xlfn.CONCAT($C$2,\"-\",$E286,\"-\",$F286,\"-\",N$3),'Raw Data'!$A$2:$D$690331,4,FALSE),\"N/A\")","v":"N/A"},{"$f":"_xlfn.IFNA(VLOOKUP(_xlfn.CONCAT($C$2,\"-\",$E286,\"-\",$F286,\"-\",O$3),'Raw Data'!$A$2:$D$690331,4,FALSE),\"N/A\")","v":"N/A"},{"$f":"_xlfn.IFNA(VLOOKUP(_xlfn.CONCAT($C$2,\"-\",$E286,\"-\",$F286,\"-\",P$3),'Raw Data'!$A$2:$D$690331,4,FALSE),\"N/A\")","v":"N/A"},{"$f":"_xlfn.IFNA(VLOOKUP(_xlfn.CONCAT($C$2,\"-\",$E286,\"-\",$F286,\"-\",Q$3),'Raw Data'!$A$2:$D$690331,4,FALSE),\"N/A\")","v":"N/A"},{"$f":"_xlfn.IFNA(VLOOKUP(_xlfn.CONCAT($C$2,\"-\",$E286,\"-\",$F286,\"-\",R$3),'Raw Data'!$A$2:$D$690331,4,FALSE),\"N/A\")","v":"N/A"},{"$f":"_xlfn.IFNA(VLOOKUP(_xlfn.CONCAT($C$2,\"-\",$E286,\"-\",$F286,\"-\",S$3),'Raw Data'!$A$2:$D$690331,4,FALSE),\"N/A\")","v":"N/A"}]
[null,null,null,null,10,10,null,{"$f":"_xlfn.IFNA(VLOOKUP(_xlfn.CONCAT($C$2,\"-\",$E287,\"-\",$F287,\"-\",H$3),'Raw Data'!$A$2:$D$690331,4,FALSE),\"N/A\")","v":"N/A"},{"$f":"_xlfn.IFNA(VLOOKUP(_xlfn.CONCAT($C$2,\"-\",$E287,\"-\",$F287,\"-\",I$3),'Raw Data'!$A$2:$D$690331,4,FALSE),\"N/A\")","v":"N/A"},{"$f":"_xlfn.IFNA(VLOOKUP(_xlfn.CONCAT($C$2,\"-\",$E287,\"-\",$F287,\"-\",J$3),'Raw Data'!$A$2:$D$690331,4,FALSE),\"N/A\")","v":"N/A"},{"$f":"_xlfn.IFNA(VLOOKUP(_xlfn.CONCAT($C$2,\"-\",$E287,\"-\",$F287,\"-\",K$3),'Raw Data'!$A$2:$D$690331,4,FALSE),\"N/A\")","v":"N/A"},{"$f":"_xlfn.IFNA(VLOOKUP(_xlfn.CONCAT($C$2,\"-\",$E287,\"-\",$F287,\"-\",L$3),'Raw Data'!$A$2:$D$690331,4,FALSE),\"N/A\")","v":"N/A"},{"$f":"_xlfn.IFNA(VLOOKUP(_xlfn.CONCAT($C$2,\"-\",$E287,\"-\",$F287,\"-\",M$3),'Raw Data'!$A$2:$D$690331,4,FALSE),\"N/A\")","v":"N/A"},{"$f":"_xlfn.IFNA(VLOOKUP(_xlfn.CONCAT($C$2,\"-\",$E287,\"-\",$F287,\"-\",N$3),'Raw Data'!$A$2:$D$690331,4,FALSE),\"N/A\")","v":"N/A"},{"$f":"_xlfn.IFNA(VLOOKUP(_xlfn.CONCAT($C$2,\"-\",$E287,\"-\",$F287,\"-\",O$3),'Raw Data'!$A$2:$D$690331,4,FALSE),\"N/A\")","v":"N/A"},{"$f":"_xlfn.IFNA(VLOOKUP(_xlfn.CONCAT($C$2,\"-\",$E287,\"-\",$F287,\"-\",P$3),'Raw Data'!$A$2:$D$690331,4,FALSE),\"N/A\")","v":"N/A"},{"$f":"_xlfn.IFNA(VLOOKUP(_xlfn.CONCAT($C$2,\"-\",$E287,\"-\",$F287,\"-\",Q$3),'Raw Data'!$A$2:$D$690331,4,FALSE),\"N/A\")","v":"N/A"},{"$f":"_xlfn.IFNA(VLOOKUP(_xlfn.CONCAT($C$2,\"-\",$E287,\"-\",$F287,\"-\",R$3),'Raw Data'!$A$2:$D$690331,4,FALSE),\"N/A\")","v":"N/A"},{"$f":"_xlfn.IFNA(VLOOKUP(_xlfn.CONCAT($C$2,\"-\",$E287,\"-\",$F287,\"-\",S$3),'Raw Data'!$A$2:$D$690331,4,FALSE),\"N/A\")","v":"N/A"}]
[null,null,null,null,11,10,null,{"$f":"_xlfn.IFNA(VLOOKUP(_xlfn.CONCAT($C$2,\"-\",$E288,\"-\",$F288,\"-\",H$3),'Raw Data'!$A$2:$D$690331,4,FALSE),\"N/A\")","v":"N/A"},{"$f":"_xlfn.IFNA(VLOOKUP(_xlfn.CONCAT($C$2,\"-\",$E288,\"-\",$F288,\"-\",I$3),'Raw Data'!$A$2:$D$690331,4,FALSE),\"N/A\")","v":"N/A"},{"$f":"_xlfn.IFNA(VLOOKUP(_xlfn.CONCAT($C$2,\"-\",$E288,\"-\",$F288,\"-\",J$3),'Raw Data'!$A$2:$D$690331,4,FALSE),\"N/A\")","v":"N/A"},{"$f":"_xlfn.IFNA(VLOOKUP(_xlfn.CONCAT($C$2,\"-\",$E288,\"-\",$F288,\"-\",K$3),'Raw Data'!$A$2:$D$690331,4,FALSE),\"N/A\")","v":"N/A"},{"$f":"_xlfn.IFNA(VLOOKUP(_xlfn.CONCAT($C$2,\"-\",$E288,\"-\",$F288,\"-\",L$3),'Raw Data'!$A$2:$D$690331,4,FALSE),\"N/A\")","v":"N/A"},{"$f":"_xlfn.IFNA(VLOOKUP(_xlfn.CONCAT($C$2,\"-\",$E288,\"-\",$F288,\"-\",M$3),'Raw Data'!$A$2:$D$690331,4,FALSE),\"N/A\")","v":"N/A"},{"$f":"_xlfn.IFNA(VLOOKUP(_xlfn.CONCAT($C$2,\"-\",$E288,\"-\",$F288,\"-\",N$3),'Raw Data'!$A$2:$D$690331,4,FALSE),\"N/A\")","v":"N/A"},{"$f":"_xlfn.IFNA(VLOOKUP(_xlfn.CONCAT($C$2,\"-\",$E288,\"-\",$F288,\"-\",O$3),'Raw Data'!$A$2:$D$690331,4,FALSE),\"N/A\")","v":"N/A"},{"$f":"_xlfn.IFNA(VLOOKUP(_xlfn.CONCAT($C$2,\"-\",$E288,\"-\",$F288,\"-\",P$3),'Raw Data'!$A$2:$D$690331,4,FALSE),\"N/A\")","v":"N/A"},{"$f":"_xlfn.IFNA(VLOOKUP(_xlfn.CONCAT($C$2,\"-\",$E288,\"-\",$F288,\"-\",Q$3),'Raw Data'!$A$2:$D$690331,4,FALSE),\"N/A\")","v":"N/A"},{"$f":"_xlfn.IFNA(VLOOKUP(_xlfn.CONCAT($C$2,\"-\",$E288,\"-\",$F288,\"-\",R$3),'Raw Data'!$A$2:$D$690331,4,FALSE),\"N/A\")","v":"N/A"},{"$f":"_xlfn.IFNA(VLOOKUP(_xlfn.CONCAT($C$2,\"-\",$E288,\"-\",$F288,\"-\",S$3),'Raw Data'!$A$2:$D$690331,4,FALSE),\"N/A\")","v":"N/A"}]
[null,null,null,null,12,10,null,{"$f":"_xlfn.IFNA(VLOOKUP(_xlfn.CONCAT($C$2,\"-\",$E289,\"-\",$F289,\"-\",H$3),'Raw Data'!$A$2:$D$690331,4,FALSE),\"N/A\")","v":"N/A"},{"$f":"_xlfn.IFNA(VLOOKUP(_xlfn.CONCAT($C$2,\"-\",$E289,\"-\",$F289,\"-\",I$3),'Raw Data'!$A$2:$D$690331,4,FALSE),\"N/A\")","v":"N/A"},{"$f":"_xlfn.IFNA(VLOOKUP(_xlfn.CONCAT($C$2,\"-\",$E289,\"-\",$F289,\"-\",J$3),'Raw Data'!$A$2:$D$690331,4,FALSE),\"N/A\")","v":"N/A"},{"$f":"_xlfn.IFNA(VLOOKUP(_xlfn.CONCAT($C$2,\"-\",$E289,\"-\",$F289,\"-\",K$3),'Raw Data'!$A$2:$D$690331,4,FALSE),\"N/A\")","v":"N/A"},{"$f":"_xlfn.IFNA(VLOOKUP(_xlfn.CONCAT($C$2,\"-\",$E289,\"-\",$F289,\"-\",L$3),'Raw Data'!$A$2:$D$690331,4,FALSE),\"N/A\")","v":"N/A"},{"$f":"_xlfn.IFNA(VLOOKUP(_xlfn.CONCAT($C$2,\"-\",$E289,\"-\",$F289,\"-\",M$3),'Raw Data'!$A$2:$D$690331,4,FALSE),\"N/A\")","v":"N/A"},{"$f":"_xlfn.IFNA(VLOOKUP(_xlfn.CONCAT($C$2,\"-\",$E289,\"-\",$F289,\"-\",N$3),'Raw Data'!$A$2:$D$690331,4,FALSE),\"N/A\")","v":"N/A"},{"$f":"_xlfn.IFNA(VLOOKUP(_xlfn.CONCAT($C$2,\"-\",$E289,\"-\",$F289,\"-\",O$3),'Raw Data'!$A$2:$D$690331,4,FALSE),\"N/A\")","v":"N/A"},{"$f":"_xlfn.IFNA(VLOOKUP(_xlfn.CONCAT($C$2,\"-\",$E289,\"-\",$F289,\"-\",P$3),'Raw Data'!$A$2:$D$690331,4,FALSE),\"N/A\")","v":"N/A"},{"$f":"_xlfn.IFNA(VLOOKUP(_xlfn.CONCAT($C$2,\"-\",$E289,\"-\",$F289,\"-\",Q$3),'Raw Data'!$A$2:$D$690331,4,FALSE),\"N/A\")","v":"N/A"},{"$f":"_xlfn.IFNA(VLOOKUP(_xlfn.CONCAT($C$2,\"-\",$E289,\"-\",$F289,\"-\",R$3),'Raw Data'!$A$2:$D$690331,4,FALSE),\"N/A\")","v":"N/A"},{"$f":"_xlfn.IFNA(VLOOKUP(_xlfn.CONCAT($C$2,\"-\",$E289,\"-\",$F289,\"-\",S$3),'Raw Data'!$A$2:$D$690331,4,FALSE),\"N/A\")","v":"N/A"}]
[null,null,null,null,13,10,null,{"$f":"_xlfn.IFNA(VLOOKUP(_xlfn.CONCAT($C$2,\"-\",$E290,\"-\",$F290,\"-\",H$3),'Raw Data'!$A$2:$D$690331,4,FALSE),\"N/A\")","v":"N/A"},{"$f":"_xlfn.IFNA(VLOOKUP(_xlfn.CONCAT($C$2,\"-\",$E290,\"-\",$F290,\"-\",I$3),'Raw Data'!$A$2:$D$690331,4,FALSE),\"N/A\")","v":"N/A"},{"$f":"_xlfn.IFNA(VLOOKUP(_xlfn.CONCAT($C$2,\"-\",$E290,\"-\",$F290,\"-\",J$3),'Raw Data'!$A$2:$D$690331,4,FALSE),\"N/A\")","v":"N/A"},{"$f":"_xlfn.IFNA(VLOOKUP(_xlfn.CONCAT($C$2,\"-\",$E290,\"-\",$F290,\"-\",K$3),'Raw Data'!$A$2:$D$690331,4,FALSE),\"N/A\")","v":"N/A"},{"$f":"_xlfn.IFNA(VLOOKUP(_xlfn.CONCAT($C$2,\"-\",$E290,\"-\",$F290,\"-\",L$3),'Raw Data'!$A$2:$D$690331,4,FALSE),\"N/A\")","v":"N/A"},{"$f":"_xlfn.IFNA(VLOOKUP(_xlfn.CONCAT($C$2,\"-\",$E290,\"-\",$F290,\"-\",M$3),'Raw Data'!$A$2:$D$690331,4,FALSE),\"N/A\")","v":"N/A"},{"$f":"_xlfn.IFNA(VLOOKUP(_xlfn.CONCAT($C$2,\"-\",$E290,\"-\",$F290,\"-\",N$3),'Raw Data'!$A$2:$D$690331,4,FALSE),\"N/A\")","v":"N/A"},{"$f":"_xlfn.IFNA(VLOOKUP(_xlfn.CONCAT($C$2,\"-\",$E290,\"-\",$F290,\"-\",O$3),'Raw Data'!$A$2:$D$690331,4,FALSE),\"N/A\")","v":"N/A"},{"$f":"_xlfn.IFNA(VLOOKUP(_xlfn.CONCAT($C$2,\"-\",$E290,\"-\",$F290,\"-\",P$3),'Raw Data'!$A$2:$D$690331,4,FALSE),\"N/A\")","v":"N/A"},{"$f":"_xlfn.IFNA(VLOOKUP(_xlfn.CONCAT($C$2,\"-\",$E290,\"-\",$F290,\"-\",Q$3),'Raw Data'!$A$2:$D$690331,4,FALSE),\"N/A\")","v":"N/A"},{"$f":"_xlfn.IFNA(VLOOKUP(_xlfn.CONCAT($C$2,\"-\",$E290,\"-\",$F290,\"-\",R$3),'Raw Data'!$A$2:$D$690331,4,FALSE),\"N/A\")","v":"N/A"},{"$f":"_xlfn.IFNA(VLOOKUP(_xlfn.CONCAT($C$2,\"-\",$E290,\"-\",$F290,\"-\",S$3),'Raw Data'!$A$2:$D$690331,4,FALSE),\"N/A\")","v":"N/A"}]
[null,null,null,null,14,10,null,{"$f":"_xlfn.IFNA(VLOOKUP(_xlfn.CONCAT($C$2,\"-\",$E291,\"-\",$F291,\"-\",H$3),'Raw Data'!$A$2:$D$690331,4,FALSE),\"N/A\")","v":"N/A"},{"$f":"_xlfn.IFNA(VLOOKUP(_xlfn.CONCAT($C$2,\"-\",$E291,\"-\",$F291,\"-\",I$3),'Raw Data'!$A$2:$D$690331,4,FALSE),\"N/A\")","v":"N/A"},{"$f":"_xlfn.IFNA(VLOOKUP(_xlfn.CONCAT($C$2,\"-\",$E291,\"-\",$F291,\"-\",J$3),'Raw Data'!$A$2:$D$690331,4,FALSE),\"N/A\")","v":"N/A"},{"$f":"_xlfn.IFNA(VLOOKUP(_xlfn.CONCAT($C$2,\"-\",$E291,\"-\",$F291,\"-\",K$3),'Raw Data'!$A$2:$D$690331,4,FALSE),\"N/A\")","v":"N/A"},{"$f":"_xlfn.IFNA(VLOOKUP(_xlfn.CONCAT($C$2,\"-\",$E291,\"-\",$F291,\"-\",L$3),'Raw Data'!$A$2:$D$690331,4,FALSE),\"N/A\")","v":"N/A"},{"$f":"_xlfn.IFNA(VLOOKUP(_xlfn.CONCAT($C$2,\"-\",$E291,\"-\",$F291,\"-\",M$3),'Raw Data'!$A$2:$D$690331,4,FALSE),\"N/A\")","v":"N/A"},{"$f":"_xlfn.IFNA(VLOOKUP(_xlfn.CONCAT($C$2,\"-\",$E291,\"-\",$F291,\"-\",N$3),'Raw Data'!$A$2:$D$690331,4,FALSE),\"N/A\")","v":"N/A"},{"$f":"_xlfn.IFNA(VLOOKUP(_xlfn.CONCAT($C$2,\"-\",$E291,\"-\",$F291,\"-\",O$3),'Raw Data'!$A$2:$D$690331,4,FALSE),\"N/A\")","v":"N/A"},{"$f":"_xlfn.IFNA(VLOOKUP(_xlfn.CONCAT($C$2,\"-\",$E291,\"-\",$F291,\"-\",P$3),'Raw Data'!$A$2:$D$690331,4,FALSE),\"N/A\")","v":"N/A"},{"$f":"_xlfn.IFNA(VLOOKUP(_xlfn.CONCAT($C$2,\"-\",$E291,\"-\",$F291,\"-\",Q$3),'Raw Data'!$A$2:$D$690331,4,FALSE),\"N/A\")","v":"N/A"},{"$f":"_xlfn.IFNA(VLOOKUP(_xlfn.CONCAT($C$2,\"-\",$E291,\"-\",$F291,\"-\",R$3),'Raw Data'!$A$2:$D$690331,4,FALSE),\"N/A\")","v":"N/A"},{"$f":"_xlfn.IFNA(VLOOKUP(_xlfn.CONCAT($C$2,\"-\",$E291,\"-\",$F291,\"-\",S$3),'Raw Data'!$A$2:$D$690331,4,FALSE),\"N/A\")","v":"N/A"}]
[null,null,null,null,15,10,null,{"$f":"_xlfn.IFNA(VLOOKUP(_xlfn.CONCAT($C$2,\"-\",$E292,\"-\",$F292,\"-\",H$3),'Raw Data'!$A$2:$D$690331,4,FALSE),\"N/A\")","v":"N/A"},{"$f":"_xlfn.IFNA(VLOOKUP(_xlfn.CONCAT($C$2,\"-\",$E292,\"-\",$F292,\"-\",I$3),'Raw Data'!$A$2:$D$690331,4,FALSE),\"N/A\")","v":"N/A"},{"$f":"_xlfn.IFNA(VLOOKUP(_xlfn.CONCAT($C$2,\"-\",$E292,\"-\",$F292,\"-\",J$3),'Raw Data'!$A$2:$D$690331,4,FALSE),\"N/A\")","v":"N/A"},{"$f":"_xlfn.IFNA(VLOOKUP(_xlfn.CONCAT($C$2,\"-\",$E292,\"-\",$F292,\"-\",K$3),'Raw Data'!$A$2:$D$690331,4,FALSE),\"N/A\")","v":"N/A"},{"$f":"_xlfn.IFNA(VLOOKUP(_xlfn.CONCAT($C$2,\"-\",$E292,\"-\",$F292,\"-\",L$3),'Raw Data'!$A$2:$D$690331,4,FALSE),\"N/A\")","v":"N/A"},{"$f":"_xlfn.IFNA(VLOOKUP(_xlfn.CONCAT($C$2,\"-\",$E292,\"-\",$F292,\"-\",M$3),'Raw Data'!$A$2:$D$690331,4,FALSE),\"N/A\")","v":"N/A"},{"$f":"_xlfn.IFNA(VLOOKUP(_xlfn.CONCAT($C$2,\"-\",$E292,\"-\",$F292,\"-\",N$3),'Raw Data'!$A$2:$D$690331,4,FALSE),\"N/A\")","v":"N/A"},{"$f":"_xlfn.IFNA(VLOOKUP(_xlfn.CONCAT($C$2,\"-\",$E292,\"-\",$F292,\"-\",O$3),'Raw Data'!$A$2:$D$690331,4,FALSE),\"N/A\")","v":"N/A"},{"$f":"_xlfn.IFNA(VLOOKUP(_xlfn.CONCAT($C$2,\"-\",$E292,\"-\",$F292,\"-\",P$3),'Raw Data'!$A$2:$D$690331,4,FALSE),\"N/A\")","v":"N/A"},{"$f":"_xlfn.IFNA(VLOOKUP(_xlfn.CONCAT($C$2,\"-\",$E292,\"-\",$F292,\"-\",Q$3),'Raw Data'!$A$2:$D$690331,4,FALSE),\"N/A\")","v":"N/A"},{"$f":"_xlfn.IFNA(VLOOKUP(_xlfn.CONCAT($C$2,\"-\",$E292,\"-\",$F292,\"-\",R$3),'Raw Data'!$A$2:$D$690331,4,FALSE),\"N/A\")","v":"N/A"},{"$f":"_xlfn.IFNA(VLOOKUP(_xlfn.CONCAT($C$2,\"-\",$E292,\"-\",$F292,\"-\",S$3),'Raw Data'!$A$2:$D$690331,4,FALSE),\"N/A\")","v":"N/A"}]
[null,null,null,null,16,10,null,{"$f":"_xlfn.IFNA(VLOOKUP(_xlfn.CONCAT($C$2,\"-\",$E293,\"-\",$F293,\"-\",H$3),'Raw Data'!$A$2:$D$690331,4,FALSE),\"N/A\")","v":"N/A"},{"$f":"_xlfn.IFNA(VLOOKUP(_xlfn.CONCAT($C$2,\"-\",$E293,\"-\",$F293,\"-\",I$3),'Raw Data'!$A$2:$D$690331,4,FALSE),\"N/A\")","v":"N/A"},{"$f":"_xlfn.IFNA(VLOOKUP(_xlfn.CONCAT($C$2,\"-\",$E293,\"-\",$F293,\"-\",J$3),'Raw Data'!$A$2:$D$690331,4,FALSE),\"N/A\")","v":"N/A"},{"$f":"_xlfn.IFNA(VLOOKUP(_xlfn.CONCAT($C$2,\"-\",$E293,\"-\",$F293,\"-\",K$3),'Raw Data'!$A$2:$D$690331,4,FALSE),\"N/A\")","v":"N/A"},{"$f":"_xlfn.IFNA(VLOOKUP(_xlfn.CONCAT($C$2,\"-\",$E293,\"-\",$F293,\"-\",L$3),'Raw Data'!$A$2:$D$690331,4,FALSE),\"N/A\")","v":"N/A"},{"$f":"_xlfn.IFNA(VLOOKUP(_xlfn.CONCAT($C$2,\"-\",$E293,\"-\",$F293,\"-\",M$3),'Raw Data'!$A$2:$D$690331,4,FALSE),\"N/A\")","v":"N/A"},{"$f":"_xlfn.IFNA(VLOOKUP(_xlfn.CONCAT($C$2,\"-\",$E293,\"-\",$F293,\"-\",N$3),'Raw Data'!$A$2:$D$690331,4,FALSE),\"N/A\")","v":"N/A"},{"$f":"_xlfn.IFNA(VLOOKUP(_xlfn.CONCAT($C$2,\"-\",$E293,\"-\",$F293,\"-\",O$3),'Raw Data'!$A$2:$D$690331,4,FALSE),\"N/A\")","v":"N/A"},{"$f":"_xlfn.IFNA(VLOOKUP(_xlfn.CONCAT($C$2,\"-\",$E293,\"-\",$F293,\"-\",P$3),'Raw Data'!$A$2:$D$690331,4,FALSE),\"N/A\")","v":"N/A"},{"$f":"_xlfn.IFNA(VLOOKUP(_xlfn.CONCAT($C$2,\"-\",$E293,\"-\",$F293,\"-\",Q$3),'Raw Data'!$A$2:$D$690331,4,FALSE),\"N/A\")","v":"N/A"},{"$f":"_xlfn.IFNA(VLOOKUP(_xlfn.CONCAT($C$2,\"-\",$E293,\"-\",$F293,\"-\",R$3),'Raw Data'!$A$2:$D$690331,4,FALSE),\"N/A\")","v":"N/A"},{"$f":"_xlfn.IFNA(VLOOKUP(_xlfn.CONCAT($C$2,\"-\",$E293,\"-\",$F293,\"-\",S$3),'Raw Data'!$A$2:$D$690331,4,FALSE),\"N/A\")","v":"N/A"}]
[null,null,null,null,17,10,null,{"$f":"_xlfn.IFNA(VLOOKUP(_xlfn.CONCAT($C$2,\"-\",$E294,\"-\",$F294,\"-\",H$3),'Raw Data'!$A$2:$D$690331,4,FALSE),\"N/A\")","v":"N/A"},{"$f":"_xlfn.IFNA(VLOOKUP(_xlfn.CONCAT($C$2,\"-\",$E294,\"-\",$F294,\"-\",I$3),'Raw Data'!$A$2:$D$690331,4,FALSE),\"N/A\")","v":"N/A"},{"$f":"_xlfn.IFNA(VLOOKUP(_xlfn.CONCAT($C$2,\"-\",$E294,\"-\",$F294,\"-\",J$3),'Raw Data'!$A$2:$D$690331,4,FALSE),\"N/A\")","v":"N/A"},{"$f":"_xlfn.IFNA(VLOOKUP(_xlfn.CONCAT($C$2,\"-\",$E294,\"-\",$F294,\"-\",K$3),'Raw Data'!$A$2:$D$690331,4,FALSE),\"N/A\")","v":"N/A"},{"$f":"_xlfn.IFNA(VLOOKUP(_xlfn.CONCAT($C$2,\"-\",$E294,\"-\",$F294,\"-\",L$3),'Raw Data'!$A$2:$D$690331,4,FALSE),\"N/A\")","v":"N/A"},{"$f":"_xlfn.IFNA(VLOOKUP(_xlfn.CONCAT($C$2,\"-\",$E294,\"-\",$F294,\"-\",M$3),'Raw Data'!$A$2:$D$690331,4,FALSE),\"N/A\")","v":"N/A"},{"$f":"_xlfn.IFNA(VLOOKUP(_xlfn.CONCAT($C$2,\"-\",$E294,\"-\",$F294,\"-\",N$3),'Raw Data'!$A$2:$D$690331,4,FALSE),\"N/A\")","v":"N/A"},{"$f":"_xlfn.IFNA(VLOOKUP(_xlfn.CONCAT($C$2,\"-\",$E294,\"-\",$F294,\"-\",O$3),'Raw Data'!$A$2:$D$690331,4,FALSE),\"N/A\")","v":"N/A"},{"$f":"_xlfn.IFNA(VLOOKUP(_xlfn.CONCAT($C$2,\"-\",$E294,\"-\",$F294,\"-\",P$3),'Raw Data'!$A$2:$D$690331,4,FALSE),\"N/A\")","v":"N/A"},{"$f":"_xlfn.IFNA(VLOOKUP(_xlfn.CONCAT($C$2,\"-\",$E294,\"-\",$F294,\"-\",Q$3),'Raw Data'!$A$2:$D$690331,4,FALSE),\"N/A\")","v":"N/A"},{"$f":"_xlfn.IFNA(VLOOKUP(_xlfn.CONCAT($C$2,\"-\",$E294,\"-\",$F294,\"-\",R$3),'Raw Data'!$A$2:$D$690331,4,FALSE),\"N/A\")","v":"N/A"},{"$f":"_xlfn.IFNA(VLOOKUP(_xlfn.CONCAT($C$2,\"-\",$E294,\"-\",$F294,\"-\",S$3),'Raw Data'!$A$2:$D$690331,4,FALSE),\"N/A\")","v":"N/A"}]
[null,null,null,null,18,10,null,{"$f":"_xlfn.IFNA(VLOOKUP(_xlfn.CONCAT($C$2,\"-\",$E295,\"-\",$F295,\"-\",H$3),'Raw Data'!$A$2:$D$690331,4,FALSE),\"N/A\")","v":"N/A"},{"$f":"_xlfn.IFNA(VLOOKUP(_xlfn.CONCAT($C$2,\"-\",$E295,\"-\",$F295,\"-\",I$3),'Raw Data'!$A$2:$D$690331,4,FALSE),\"N/A\")","v":"N/A"},{"$f":"_xlfn.IFNA(VLOOKUP(_xlfn.CONCAT($C$2,\"-\",$E295,\"-\",$F295,\"-\",J$3),'Raw Data'!$A$2:$D$690331,4,FALSE),\"N/A\")","v":"N/A"},{"$f":"_xlfn.IFNA(VLOOKUP(_xlfn.CONCAT($C$2,\"-\",$E295,\"-\",$F295,\"-\",K$3),'Raw Data'!$A$2:$D$690331,4,FALSE),\"N/A\")","v":"N/A"},{"$f":"_xlfn.IFNA(VLOOKUP(_xlfn.CONCAT($C$2,\"-\",$E295,\"-\",$F295,\"-\",L$3),'Raw Data'!$A$2:$D$690331,4,FALSE),\"N/A\")","v":"N/A"},{"$f":"_xlfn.IFNA(VLOOKUP(_xlfn.CONCAT($C$2,\"-\",$E295,\"-\",$F295,\"-\",M$3),'Raw Data'!$A$2:$D$690331,4,FALSE),\"N/A\")","v":"N/A"},{"$f":"_xlfn.IFNA(VLOOKUP(_xlfn.CONCAT($C$2,\"-\",$E295,\"-\",$F295,\"-\",N$3),'Raw Data'!$A$2:$D$690331,4,FALSE),\"N/A\")","v":"N/A"},{"$f":"_xlfn.IFNA(VLOOKUP(_xlfn.CONCAT($C$2,\"-\",$E295,\"-\",$F295,\"-\",O$3),'Raw Data'!$A$2:$D$690331,4,FALSE),\"N/A\")","v":"N/A"},{"$f":"_xlfn.IFNA(VLOOKUP(_xlfn.CONCAT($C$2,\"-\",$E295,\"-\",$F295,\"-\",P$3),'Raw Data'!$A$2:$D$690331,4,FALSE),\"N/A\")","v":"N/A"},{"$f":"_xlfn.IFNA(VLOOKUP(_xlfn.CONCAT($C$2,\"-\",$E295,\"-\",$F295,\"-\",Q$3),'Raw Data'!$A$2:$D$690331,4,FALSE),\"N/A\")","v":"N/A"},{"$f":"_xlfn.IFNA(VLOOKUP(_xlfn.CONCAT($C$2,\"-\",$E295,\"-\",$F295,\"-\",R$3),'Raw Data'!$A$2:$D$690331,4,FALSE),\"N/A\")","v":"N/A"},{"$f":"_xlfn.IFNA(VLOOKUP(_xlfn.CONCAT($C$2,\"-\",$E295,\"-\",$F295,\"-\",S$3),'Raw Data'!$A$2:$D$690331,4,FALSE),\"N/A\")","v":"N/A"}]
[null,null,null,null,19,10,null,{"$f":"_xlfn.IFNA(VLOOKUP(_xlfn.CONCAT($C$2,\"-\",$E296,\"-\",$F296,\"-\",H$3),'Raw Data'!$A$2:$D$690331,4,FALSE),\"N/A\")","v":"N/A"},{"$f":"_xlfn.IFNA(VLOOKUP(_xlfn.CONCAT($C$2,\"-\",$E296,\"-\",$F296,\"-\",I$3),'Raw Data'!$A$2:$D$690331,4,FALSE),\"N/A\")","v":"N/A"},{"$f":"_xlfn.IFNA(VLOOKUP(_xlfn.CONCAT($C$2,\"-\",$E296,\"-\",$F296,\"-\",J$3),'Raw Data'!$A$2:$D$690331,4,FALSE),\"N/A\")","v":"N/A"},{"$f":"_xlfn.IFNA(VLOOKUP(_xlfn.CONCAT($C$2,\"-\",$E296,\"-\",$F296,\"-\",K$3),'Raw Data'!$A$2:$D$690331,4,FALSE),\"N/A\")","v":"N/A"},{"$f":"_xlfn.IFNA(VLOOKUP(_xlfn.CONCAT($C$2,\"-\",$E296,\"-\",$F296,\"-\",L$3),'Raw Data'!$A$2:$D$690331,4,FALSE),\"N/A\")","v":"N/A"},{"$f":"_xlfn.IFNA(VLOOKUP(_xlfn.CONCAT($C$2,\"-\",$E296,\"-\",$F296,\"-\",M$3),'Raw Data'!$A$2:$D$690331,4,FALSE),\"N/A\")","v":"N/A"},{"$f":"_xlfn.IFNA(VLOOKUP(_xlfn.CONCAT($C$2,\"-\",$E296,\"-\",$F296,\"-\",N$3),'Raw Data'!$A$2:$D$690331,4,FALSE),\"N/A\")","v":"N/A"},{"$f":"_xlfn.IFNA(VLOOKUP(_xlfn.CONCAT($C$2,\"-\",$E296,\"-\",$F296,\"-\",O$3),'Raw Data'!$A$2:$D$690331,4,FALSE),\"N/A\")","v":"N/A"},{"$f":"_xlfn.IFNA(VLOOKUP(_xlfn.CONCAT($C$2,\"-\",$E296,\"-\",$F296,\"-\",P$3),'Raw Data'!$A$2:$D$690331,4,FALSE),\"N/A\")","v":"N/A"},{"$f":"_xlfn.IFNA(VLOOKUP(_xlfn.CONCAT($C$2,\"-\",$E296,\"-\",$F296,\"-\",Q$3),'Raw Data'!$A$2:$D$690331,4,FALSE),\"N/A\")","v":"N/A"},{"$f":"_xlfn.IFNA(VLOOKUP(_xlfn.CONCAT($C$2,\"-\",$E296,\"-\",$F296,\"-\",R$3),'Raw Data'!$A$2:$D$690331,4,FALSE),\"N/A\")","v":"N/A"},{"$f":"_xlfn.IFNA(VLOOKUP(_xlfn.CONCAT($C$2,\"-\",$E296,\"-\",$F296,\"-\",S$3),'Raw Data'!$A$2:$D$690331,4,FALSE),\"N/A\")","v":"N/A"}]
[null,null,null,null,20,10,null,{"$f":"_xlfn.IFNA(VLOOKUP(_xlfn.CONCAT($C$2,\"-\",$E297,\"-\",$F297,\"-\",H$3),'Raw Data'!$A$2:$D$690331,4,FALSE),\"N/A\")","v":"N/A"},{"$f":"_xlfn.IFNA(VLOOKUP(_xlfn.CONCAT($C$2,\"-\",$E297,\"-\",$F297,\"-\",I$3),'Raw Data'!$A$2:$D$690331,4,FALSE),\"N/A\")","v":"N/A"},{"$f":"_xlfn.IFNA(VLOOKUP(_xlfn.CONCAT($C$2,\"-\",$E297,\"-\",$F297,\"-\",J$3),'Raw Data'!$A$2:$D$690331,4,FALSE),\"N/A\")","v":"N/A"},{"$f":"_xlfn.IFNA(VLOOKUP(_xlfn.CONCAT($C$2,\"-\",$E297,\"-\",$F297,\"-\",K$3),'Raw Data'!$A$2:$D$690331,4,FALSE),\"N/A\")","v":"N/A"},{"$f":"_xlfn.IFNA(VLOOKUP(_xlfn.CONCAT($C$2,\"-\",$E297,\"-\",$F297,\"-\",L$3),'Raw Data'!$A$2:$D$690331,4,FALSE),\"N/A\")","v":"N/A"},{"$f":"_xlfn.IFNA(VLOOKUP(_xlfn.CONCAT($C$2,\"-\",$E297,\"-\",$F297,\"-\",M$3),'Raw Data'!$A$2:$D$690331,4,FALSE),\"N/A\")","v":"N/A"},{"$f":"_xlfn.IFNA(VLOOKUP(_xlfn.CONCAT($C$2,\"-\",$E297,\"-\",$F297,\"-\",N$3),'Raw Data'!$A$2:$D$690331,4,FALSE),\"N/A\")","v":"N/A"},{"$f":"_xlfn.IFNA(VLOOKUP(_xlfn.CONCAT($C$2,\"-\",$E297,\"-\",$F297,\"-\",O$3),'Raw Data'!$A$2:$D$690331,4,FALSE),\"N/A\")","v":"N/A"},{"$f":"_xlfn.IFNA(VLOOKUP(_xlfn.CONCAT($C$2,\"-\",$E297,\"-\",$F297,\"-\",P$3),'Raw Data'!$A$2:$D$690331,4,FALSE),\"N/A\")","v":"N/A"},{"$f":"_xlfn.IFNA(VLOOKUP(_xlfn.CONCAT($C$2,\"-\",$E297,\"-\",$F297,\"-\",Q$3),'Raw Data'!$A$2:$D$690331,4,FALSE),\"N/A\")","v":"N/A"},{"$f":"_xlfn.IFNA(VLOOKUP(_xlfn.CONCAT($C$2,\"-\",$E297,\"-\",$F297,\"-\",R$3),'Raw Data'!$A$2:$D$690331,4,FALSE),\"N/A\")","v":"N/A"},{"$f":"_xlfn.IFNA(VLOOKUP(_xlfn.CONCAT($C$2,\"-\",$E297,\"-\",$F297,\"-\",S$3),'Raw Data'!$A$2:$D$690331,4,FALSE),\"N/A\")","v":"N/A"}]
[null,null,null,null,21,10,null,{"$f":"_xlfn.IFNA(VLOOKUP(_xlfn.CONCAT($C$2,\"-\",$E298,\"-\",$F298,\"-\",H$3),'Raw Data'!$A$2:$D$690331,4,FALSE),\"N/A\")","v":"N/A"},{"$f":"_xlfn.IFNA(VLOOKUP(_xlfn.CONCAT($C$2,\"-\",$E298,\"-\",$F298,\"-\",I$3),'Raw Data'!$A$2:$D$690331,4,FALSE),\"N/A\")","v":"N/A"},{"$f":"_xlfn.IFNA(VLOOKUP(_xlfn.CONCAT($C$2,\"-\",$E298,\"-\",$F298,\"-\",J$3),'Raw Data'!$A$2:$D$690331,4,FALSE),\"N/A\")","v":"N/A"},{"$f":"_xlfn.IFNA(VLOOKUP(_xlfn.CONCAT($C$2,\"-\",$E298,\"-\",$F298,\"-\",K$3),'Raw Data'!$A$2:$D$690331,4,FALSE),\"N/A\")","v":"N/A"},{"$f":"_xlfn.IFNA(VLOOKUP(_xlfn.CONCAT($C$2,\"-\",$E298,\"-\",$F298,\"-\",L$3),'Raw Data'!$A$2:$D$690331,4,FALSE),\"N/A\")","v":"N/A"},{"$f":"_xlfn.IFNA(VLOOKUP(_xlfn.CONCAT($C$2,\"-\",$E298,\"-\",$F298,\"-\",M$3),'Raw Data'!$A$2:$D$690331,4,FALSE),\"N/A\")","v":"N/A"},{"$f":"_xlfn.IFNA(VLOOKUP(_xlfn.CONCAT($C$2,\"-\",$E298,\"-\",$F298,\"-\",N$3),'Raw Data'!$A$2:$D$690331,4,FALSE),\"N/A\")","v":"N/A"},{"$f":"_xlfn.IFNA(VLOOKUP(_xlfn.CONCAT($C$2,\"-\",$E298,\"-\",$F298,\"-\",O$3),'Raw Data'!$A$2:$D$690331,4,FALSE),\"N/A\")","v":"N/A"},{"$f":"_xlfn.IFNA(VLOOKUP(_xlfn.CONCAT($C$2,\"-\",$E298,\"-\",$F298,\"-\",P$3),'Raw Data'!$A$2:$D$690331,4,FALSE),\"N/A\")","v":"N/A"},{"$f":"_xlfn.IFNA(VLOOKUP(_xlfn.CONCAT($C$2,\"-\",$E298,\"-\",$F298,\"-\",Q$3),'Raw Data'!$A$2:$D$690331,4,FALSE),\"N/A\")","v":"N/A"},{"$f":"_xlfn.IFNA(VLOOKUP(_xlfn.CONCAT($C$2,\"-\",$E298,\"-\",$F298,\"-\",R$3),'Raw Data'!$A$2:$D$690331,4,FALSE),\"N/A\")","v":"N/A"},{"$f":"_xlfn.IFNA(VLOOKUP(_xlfn.CONCAT($C$2,\"-\",$E298,\"-\",$F298,\"-\",S$3),'Raw Data'!$A$2:$D$690331,4,FALSE),\"N/A\")","v":"N/A"}]
[null,null,null,null,22,10,null,{"$f":"_xlfn.IFNA(VLOOKUP(_xlfn.CONCAT($C$2,\"-\",$E299,\"-\",$F299,\"-\",H$3),'Raw Data'!$A$2:$D$690331,4,FALSE),\"N/A\")","v":"N/A"},{"$f":"_xlfn.IFNA(VLOOKUP(_xlfn.CONCAT($C$2,\"-\",$E299,\"-\",$F299,\"-\",I$3),'Raw Data'!$A$2:$D$690331,4,FALSE),\"N/A\")","v":"N/A"},{"$f":"_xlfn.IFNA(VLOOKUP(_xlfn.CONCAT($C$2,\"-\",$E299,\"-\",$F299,\"-\",J$3),'Raw Data'!$A$2:$D$690331,4,FALSE),\"N/A\")","v":"N/A"},{"$f":"_xlfn.IFNA(VLOOKUP(_xlfn.CONCAT($C$2,\"-\",$E299,\"-\",$F299,\"-\",K$3),'Raw Data'!$A$2:$D$690331,4,FALSE),\"N/A\")","v":"N/A"},{"$f":"_xlfn.IFNA(VLOOKUP(_xlfn.CONCAT($C$2,\"-\",$E299,\"-\",$F299,\"-\",L$3),'Raw Data'!$A$2:$D$690331,4,FALSE),\"N/A\")","v":"N/A"},{"$f":"_xlfn.IFNA(VLOOKUP(_xlfn.CONCAT($C$2,\"-\",$E299,\"-\",$F299,\"-\",M$3),'Raw Data'!$A$2:$D$690331,4,FALSE),\"N/A\")","v":"N/A"},{"$f":"_xlfn.IFNA(VLOOKUP(_xlfn.CONCAT($C$2,\"-\",$E299,\"-\",$F299,\"-\",N$3),'Raw Data'!$A$2:$D$690331,4,FALSE),\"N/A\")","v":"N/A"},{"$f":"_xlfn.IFNA(VLOOKUP(_xlfn.CONCAT($C$2,\"-\",$E299,\"-\",$F299,\"-\",O$3),'Raw Data'!$A$2:$D$690331,4,FALSE),\"N/A\")","v":"N/A"},{"$f":"_xlfn.IFNA(VLOOKUP(_xlfn.CONCAT($C$2,\"-\",$E299,\"-\",$F299,\"-\",P$3),'Raw Data'!$A$2:$D$690331,4,FALSE),\"N/A\")","v":"N/A"},{"$f":"_xlfn.IFNA(VLOOKUP(_xlfn.CONCAT($C$2,\"-\",$E299,\"-\",$F299,\"-\",Q$3),'Raw Data'!$A$2:$D$690331,4,FALSE),\"N/A\")","v":"N/A"},{"$f":"_xlfn.IFNA(VLOOKUP(_xlfn.CONCAT($C$2,\"-\",$E299,\"-\",$F299,\"-\",R$3),'Raw Data'!$A$2:$D$690331,4,FALSE),\"N/A\")","v":"N/A"},{"$f":"_xlfn.IFNA(VLOOKUP(_xlfn.CONCAT($C$2,\"-\",$E299,\"-\",$F299,\"-\",S$3),'Raw Data'!$A$2:$D$690331,4,FALSE),\"N/A\")","v":"N/A"}]
[null,null,null,null,23,10,null,{"$f":"_xlfn.IFNA(VLOOKUP(_xlfn.CONCAT($C$2,\"-\",$E300,\"-\",$F300,\"-\",H$3),'Raw Data'!$A$2:$D$690331,4,FALSE),\"N/A\")","v":"N/A"},{"$f":"_xlfn.IFNA(VLOOKUP(_xlfn.CONCAT($C$2,\"-\",$E300,\"-\",$F300,\"-\",I$3),'Raw Data'!$A$2:$D$690331,4,FALSE),\"N/A\")","v":"N/A"},{"$f":"_xlfn.IFNA(VLOOKUP(_xlfn.CONCAT($C$2,\"-\",$E300,\"-\",$F300,\"-\",J$3),'Raw Data'!$A$2:$D$690331,4,FALSE),\"N/A\")","v":"N/A"},{"$f":"_xlfn.IFNA(VLOOKUP(_xlfn.CONCAT($C$2,\"-\",$E300,\"-\",$F300,\"-\",K$3),'Raw Data'!$A$2:$D$690331,4,FALSE),\"N/A\")","v":"N/A"},{"$f":"_xlfn.IFNA(VLOOKUP(_xlfn.CONCAT($C$2,\"-\",$E300,\"-\",$F300,\"-\",L$3),'Raw Data'!$A$2:$D$690331,4,FALSE),\"N/A\")","v":"N/A"},{"$f":"_xlfn.IFNA(VLOOKUP(_xlfn.CONCAT($C$2,\"-\",$E300,\"-\",$F300,\"-\",M$3),'Raw Data'!$A$2:$D$690331,4,FALSE),\"N/A\")","v":"N/A"},{"$f":"_xlfn.IFNA(VLOOKUP(_xlfn.CONCAT($C$2,\"-\",$E300,\"-\",$F300,\"-\",N$3),'Raw Data'!$A$2:$D$690331,4,FALSE),\"N/A\")","v":"N/A"},{"$f":"_xlfn.IFNA(VLOOKUP(_xlfn.CONCAT($C$2,\"-\",$E300,\"-\",$F300,\"-\",O$3),'Raw Data'!$A$2:$D$690331,4,FALSE),\"N/A\")","v":"N/A"},{"$f":"_xlfn.IFNA(VLOOKUP(_xlfn.CONCAT($C$2,\"-\",$E300,\"-\",$F300,\"-\",P$3),'Raw Data'!$A$2:$D$690331,4,FALSE),\"N/A\")","v":"N/A"},{"$f":"_xlfn.IFNA(VLOOKUP(_xlfn.CONCAT($C$2,\"-\",$E300,\"-\",$F300,\"-\",Q$3),'Raw Data'!$A$2:$D$690331,4,FALSE),\"N/A\")","v":"N/A"},{"$f":"_xlfn.IFNA(VLOOKUP(_xlfn.CONCAT($C$2,\"-\",$E300,\"-\",$F300,\"-\",R$3),'Raw Data'!$A$2:$D$690331,4,FALSE),\"N/A\")","v":"N/A"},{"$f":"_xlfn.IFNA(VLOOKUP(_xlfn.CONCAT($C$2,\"-\",$E300,\"-\",$F300,\"-\",S$3),'Raw Data'!$A$2:$D$690331,4,FALSE),\"N/A\")","v":"N/A"}]
[null,null,null,null,24,10,null,{"$f":"_xlfn.IFNA(VLOOKUP(_xlfn.CONCAT($C$2,\"-\",$E301,\"-\",$F301,\"-\",H$3),'Raw Data'!$A$2:$D$690331,4,FALSE),\"N/A\")","v":"N/A"},{"$f":"_xlfn.IFNA(VLOOKUP(_xlfn.CONCAT($C$2,\"-\",$E301,\"-\",$F301,\"-\",I$3),'Raw Data'!$A$2:$D$690331,4,FALSE),\"N/A\")","v":"N/A"},{"$f":"_xlfn.IFNA(VLOOKUP(_xlfn.CONCAT($C$2,\"-\",$E301,\"-\",$F301,\"-\",J$3),'Raw Data'!$A$2:$D$690331,4,FALSE),\"N/A\")","v":"N/A"},{"$f":"_xlfn.IFNA(VLOOKUP(_xlfn.CONCAT($C$2,\"-\",$E301,\"-\",$F301,\"-\",K$3),'Raw Data'!$A$2:$D$690331,4,FALSE),\"N/A\")","v":"N/A"},{"$f":"_xlfn.IFNA(VLOOKUP(_xlfn.CONCAT($C$2,\"-\",$E301,\"-\",$F301,\"-\",L$3),'Raw Data'!$A$2:$D$690331,4,FALSE),\"N/A\")","v":"N/A"},{"$f":"_xlfn.IFNA(VLOOKUP(_xlfn.CONCAT($C$2,\"-\",$E301,\"-\",$F301,\"-\",M$3),'Raw Data'!$A$2:$D$690331,4,FALSE),\"N/A\")","v":"N/A"},{"$f":"_xlfn.IFNA(VLOOKUP(_xlfn.CONCAT($C$2,\"-\",$E301,\"-\",$F301,\"-\",N$3),'Raw Data'!$A$2:$D$690331,4,FALSE),\"N/A\")","v":"N/A"},{"$f":"_xlfn.IFNA(VLOOKUP(_xlfn.CONCAT($C$2,\"-\",$E301,\"-\",$F301,\"-\",O$3),'Raw Data'!$A$2:$D$690331,4,FALSE),\"N/A\")","v":"N/A"},{"$f":"_xlfn.IFNA(VLOOKUP(_xlfn.CONCAT($C$2,\"-\",$E301,\"-\",$F301,\"-\",P$3),'Raw Data'!$A$2:$D$690331,4,FALSE),\"N/A\")","v":"N/A"},{"$f":"_xlfn.IFNA(VLOOKUP(_xlfn.CONCAT($C$2,\"-\",$E301,\"-\",$F301,\"-\",Q$3),'Raw Data'!$A$2:$D$690331,4,FALSE),\"N/A\")","v":"N/A"},{"$f":"_xlfn.IFNA(VLOOKUP(_xlfn.CONCAT($C$2,\"-\",$E301,\"-\",$F301,\"-\",R$3),'Raw Data'!$A$2:$D$690331,4,FALSE),\"N/A\")","v":"N/A"},{"$f":"_xlfn.IFNA(VLOOKUP(_xlfn.CONCAT($C$2,\"-\",$E301,\"-\",$F301,\"-\",S$3),'Raw Data'!$A$2:$D$690331,4,FALSE),\"N/A\")","v":"N/A"}]
[null,null,null,null,25,10,null,{"$f":"_xlfn.IFNA(VLOOKUP(_xlfn.CONCAT($C$2,\"-\",$E302,\"-\",$F302,\"-\",H$3),'Raw Data'!$A$2:$D$690331,4,FALSE),\"N/A\")","v":"N/A"},{"$f":"_xlfn.IFNA(VLOOKUP(_xlfn.CONCAT($C$2,\"-\",$E302,\"-\",$F302,\"-\",I$3),'Raw Data'!$A$2:$D$690331,4,FALSE),\"N/A\")","v":"N/A"},{"$f":"_xlfn.IFNA(VLOOKUP(_xlfn.CONCAT($C$2,\"-\",$E302,\"-\",$F302,\"-\",J$3),'Raw Data'!$A$2:$D$690331,4,FALSE),\"N/A\")","v":"N/A"},{"$f":"_xlfn.IFNA(VLOOKUP(_xlfn.CONCAT($C$2,\"-\",$E302,\"-\",$F302,\"-\",K$3),'Raw Data'!$A$2:$D$690331,4,FALSE),\"N/A\")","v":"N/A"},{"$f":"_xlfn.IFNA(VLOOKUP(_xlfn.CONCAT($C$2,\"-\",$E302,\"-\",$F302,\"-\",L$3),'Raw Data'!$A$2:$D$690331,4,FALSE),\"N/A\")","v":"N/A"},{"$f":"_xlfn.IFNA(VLOOKUP(_xlfn.CONCAT($C$2,\"-\",$E302,\"-\",$F302,\"-\",M$3),'Raw Data'!$A$2:$D$690331,4,FALSE),\"N/A\")","v":"N/A"},{"$f":"_xlfn.IFNA(VLOOKUP(_xlfn.CONCAT($C$2,\"-\",$E302,\"-\",$F302,\"-\",N$3),'Raw Data'!$A$2:$D$690331,4,FALSE),\"N/A\")","v":"N/A"},{"$f":"_xlfn.IFNA(VLOOKUP(_xlfn.CONCAT($C$2,\"-\",$E302,\"-\",$F302,\"-\",O$3),'Raw Data'!$A$2:$D$690331,4,FALSE),\"N/A\")","v":"N/A"},{"$f":"_xlfn.IFNA(VLOOKUP(_xlfn.CONCAT($C$2,\"-\",$E302,\"-\",$F302,\"-\",P$3),'Raw Data'!$A$2:$D$690331,4,FALSE),\"N/A\")","v":"N/A"},{"$f":"_xlfn.IFNA(VLOOKUP(_xlfn.CONCAT($C$2,\"-\",$E302,\"-\",$F302,\"-\",Q$3),'Raw Data'!$A$2:$D$690331,4,FALSE),\"N/A\")","v":"N/A"},{"$f":"_xlfn.IFNA(VLOOKUP(_xlfn.CONCAT($C$2,\"-\",$E302,\"-\",$F302,\"-\",R$3),'Raw Data'!$A$2:$D$690331,4,FALSE),\"N/A\")","v":"N/A"},{"$f":"_xlfn.IFNA(VLOOKUP(_xlfn.CONCAT($C$2,\"-\",$E302,\"-\",$F302,\"-\",S$3),'Raw Data'!$A$2:$D$690331,4,FALSE),\"N/A\")","v":"N/A"}]
[null,null,null,null,26,10,null,{"$f":"_xlfn.IFNA(VLOOKUP(_xlfn.CONCAT($C$2,\"-\",$E303,\"-\",$F303,\"-\",H$3),'Raw Data'!$A$2:$D$690331,4,FALSE),\"N/A\")","v":"N/A"},{"$f":"_xlfn.IFNA(VLOOKUP(_xlfn.CONCAT($C$2,\"-\",$E303,\"-\",$F303,\"-\",I$3),'Raw Data'!$A$2:$D$690331,4,FALSE),\"N/A\")","v":"N/A"},{"$f":"_xlfn.IFNA(VLOOKUP(_xlfn.CONCAT($C$2,\"-\",$E303,\"-\",$F303,\"-\",J$3),'Raw Data'!$A$2:$D$690331,4,FALSE),\"N/A\")","v":"N/A"},{"$f":"_xlfn.IFNA(VLOOKUP(_xlfn.CONCAT($C$2,\"-\",$E303,\"-\",$F303,\"-\",K$3),'Raw Data'!$A$2:$D$690331,4,FALSE),\"N/A\")","v":"N/A"},{"$f":"_xlfn.IFNA(VLOOKUP(_xlfn.CONCAT($C$2,\"-\",$E303,\"-\",$F303,\"-\",L$3),'Raw Data'!$A$2:$D$690331,4,FALSE),\"N/A\")","v":"N/A"},{"$f":"_xlfn.IFNA(VLOOKUP(_xlfn.CONCAT($C$2,\"-\",$E303,\"-\",$F303,\"-\",M$3),'Raw Data'!$A$2:$D$690331,4,FALSE),\"N/A\")","v":"N/A"},{"$f":"_xlfn.IFNA(VLOOKUP(_xlfn.CONCAT($C$2,\"-\",$E303,\"-\",$F303,\"-\",N$3),'Raw Data'!$A$2:$D$690331,4,FALSE),\"N/A\")","v":"N/A"},{"$f":"_xlfn.IFNA(VLOOKUP(_xlfn.CONCAT($C$2,\"-\",$E303,\"-\",$F303,\"-\",O$3),'Raw Data'!$A$2:$D$690331,4,FALSE),\"N/A\")","v":"N/A"},{"$f":"_xlfn.IFNA(VLOOKUP(_xlfn.CONCAT($C$2,\"-\",$E303,\"-\",$F303,\"-\",P$3),'Raw Data'!$A$2:$D$690331,4,FALSE),\"N/A\")","v":"N/A"},{"$f":"_xlfn.IFNA(VLOOKUP(_xlfn.CONCAT($C$2,\"-\",$E303,\"-\",$F303,\"-\",Q$3),'Raw Data'!$A$2:$D$690331,4,FALSE),\"N/A\")","v":"N/A"},{"$f":"_xlfn.IFNA(VLOOKUP(_xlfn.CONCAT($C$2,\"-\",$E303,\"-\",$F303,\"-\",R$3),'Raw Data'!$A$2:$D$690331,4,FALSE),\"N/A\")","v":"N/A"},{"$f":"_xlfn.IFNA(VLOOKUP(_xlfn.CONCAT($C$2,\"-\",$E303,\"-\",$F303,\"-\",S$3),'Raw Data'!$A$2:$D$690331,4,FALSE),\"N/A\")","v":"N/A"}]
[null,null,null,null,27,10,null,{"$f":"_xlfn.IFNA(VLOOKUP(_xlfn.CONCAT($C$2,\"-\",$E304,\"-\",$F304,\"-\",H$3),'Raw Data'!$A$2:$D$690331,4,FALSE),\"N/A\")","v":"N/A"},{"$f":"_xlfn.IFNA(VLOOKUP(_xlfn.CONCAT($C$2,\"-\",$E304,\"-\",$F304,\"-\",I$3),'Raw Data'!$A$2:$D$690331,4,FALSE),\"N/A\")","v":"N/A"},{"$f":"_xlfn.IFNA(VLOOKUP(_xlfn.CONCAT($C$2,\"-\",$E304,\"-\",$F304,\"-\",J$3),'Raw Data'!$A$2:$D$690331,4,FALSE),\"N/A\")","v":"N/A"},{"$f":"_xlfn.IFNA(VLOOKUP(_xlfn.CONCAT($C$2,\"-\",$E304,\"-\",$F304,\"-\",K$3),'Raw Data'!$A$2:$D$690331,4,FALSE),\"N/A\")","v":"N/A"},{"$f":"_xlfn.IFNA(VLOOKUP(_xlfn.CONCAT($C$2,\"-\",$E304,\"-\",$F304,\"-\",L$3),'Raw Data'!$A$2:$D$690331,4,FALSE),\"N/A\")","v":"N/A"},{"$f":"_xlfn.IFNA(VLOOKUP(_xlfn.CONCAT($C$2,\"-\",$E304,\"-\",$F304,\"-\",M$3),'Raw Data'!$A$2:$D$690331,4,FALSE),\"N/A\")","v":"N/A"},{"$f":"_xlfn.IFNA(VLOOKUP(_xlfn.CONCAT($C$2,\"-\",$E304,\"-\",$F304,\"-\",N$3),'Raw Data'!$A$2:$D$690331,4,FALSE),\"N/A\")","v":"N/A"},{"$f":"_xlfn.IFNA(VLOOKUP(_xlfn.CONCAT($C$2,\"-\",$E304,\"-\",$F304,\"-\",O$3),'Raw Data'!$A$2:$D$690331,4,FALSE),\"N/A\")","v":"N/A"},{"$f":"_xlfn.IFNA(VLOOKUP(_xlfn.CONCAT($C$2,\"-\",$E304,\"-\",$F304,\"-\",P$3),'Raw Data'!$A$2:$D$690331,4,FALSE),\"N/A\")","v":"N/A"},{"$f":"_xlfn.IFNA(VLOOKUP(_xlfn.CONCAT($C$2,\"-\",$E304,\"-\",$F304,\"-\",Q$3),'Raw Data'!$A$2:$D$690331,4,FALSE),\"N/A\")","v":"N/A"},{"$f":"_xlfn.IFNA(VLOOKUP(_xlfn.CONCAT($C$2,\"-\",$E304,\"-\",$F304,\"-\",R$3),'Raw Data'!$A$2:$D$690331,4,FALSE),\"N/A\")","v":"N/A"},{"$f":"_xlfn.IFNA(VLOOKUP(_xlfn.CONCAT($C$2,\"-\",$E304,\"-\",$F304,\"-\",S$3),'Raw Data'!$A$2:$D$690331,4,FALSE),\"N/A\")","v":"N/A"}]
[null,null,null,null,28,10,null,{"$f":"_xlfn.IFNA(VLOOKUP(_xlfn.CONCAT($C$2,\"-\",$E305,\"-\",$F305,\"-\",H$3),'Raw Data'!$A$2:$D$690331,4,FALSE),\"N/A\")","v":"N/A"},{"$f":"_xlfn.IFNA(VLOOKUP(_xlfn.CONCAT($C$2,\"-\",$E305,\"-\",$F305,\"-\",I$3),'Raw Data'!$A$2:$D$690331,4,FALSE),\"N/A\")","v":"N/A"},{"$f":"_xlfn.IFNA(VLOOKUP(_xlfn.CONCAT($C$2,\"-\",$E305,\"-\",$F305,\"-\",J$3),'Raw Data'!$A$2:$D$690331,4,FALSE),\"N/A\")","v":"N/A"},{"$f":"_xlfn.IFNA(VLOOKUP(_xlfn.CONCAT($C$2,\"-\",$E305,\"-\",$F305,\"-\",K$3),'Raw Data'!$A$2:$D$690331,4,FALSE),\"N/A\")","v":"N/A"},{"$f":"_xlfn.IFNA(VLOOKUP(_xlfn.CONCAT($C$2,\"-\",$E305,\"-\",$F305,\"-\",L$3),'Raw Data'!$A$2:$D$690331,4,FALSE),\"N/A\")","v":"N/A"},{"$f":"_xlfn.IFNA(VLOOKUP(_xlfn.CONCAT($C$2,\"-\",$E305,\"-\",$F305,\"-\",M$3),'Raw Data'!$A$2:$D$690331,4,FALSE),\"N/A\")","v":"N/A"},{"$f":"_xlfn.IFNA(VLOOKUP(_xlfn.CONCAT($C$2,\"-\",$E305,\"-\",$F305,\"-\",N$3),'Raw Data'!$A$2:$D$690331,4,FALSE),\"N/A\")","v":"N/A"},{"$f":"_xlfn.IFNA(VLOOKUP(_xlfn.CONCAT($C$2,\"-\",$E305,\"-\",$F305,\"-\",O$3),'Raw Data'!$A$2:$D$690331,4,FALSE),\"N/A\")","v":"N/A"},{"$f":"_xlfn.IFNA(VLOOKUP(_xlfn.CONCAT($C$2,\"-\",$E305,\"-\",$F305,\"-\",P$3),'Raw Data'!$A$2:$D$690331,4,FALSE),\"N/A\")","v":"N/A"},{"$f":"_xlfn.IFNA(VLOOKUP(_xlfn.CONCAT($C$2,\"-\",$E305,\"-\",$F305,\"-\",Q$3),'Raw Data'!$A$2:$D$690331,4,FALSE),\"N/A\")","v":"N/A"},{"$f":"_xlfn.IFNA(VLOOKUP(_xlfn.CONCAT($C$2,\"-\",$E305,\"-\",$F305,\"-\",R$3),'Raw Data'!$A$2:$D$690331,4,FALSE),\"N/A\")","v":"N/A"},{"$f":"_xlfn.IFNA(VLOOKUP(_xlfn.CONCAT($C$2,\"-\",$E305,\"-\",$F305,\"-\",S$3),'Raw Data'!$A$2:$D$690331,4,FALSE),\"N/A\")","v":"N/A"}]
[null,null,null,null,29,10,null,{"$f":"_xlfn.IFNA(VLOOKUP(_xlfn.CONCAT($C$2,\"-\",$E306,\"-\",$F306,\"-\",H$3),'Raw Data'!$A$2:$D$690331,4,FALSE),\"N/A\")","v":"N/A"},{"$f":"_xlfn.IFNA(VLOOKUP(_xlfn.CONCAT($C$2,\"-\",$E306,\"-\",$F306,\"-\",I$3),'Raw Data'!$A$2:$D$690331,4,FALSE),\"N/A\")","v":"N/A"},{"$f":"_xlfn.IFNA(VLOOKUP(_xlfn.CONCAT($C$2,\"-\",$E306,\"-\",$F306,\"-\",J$3),'Raw Data'!$A$2:$D$690331,4,FALSE),\"N/A\")","v":"N/A"},{"$f":"_xlfn.IFNA(VLOOKUP(_xlfn.CONCAT($C$2,\"-\",$E306,\"-\",$F306,\"-\",K$3),'Raw Data'!$A$2:$D$690331,4,FALSE),\"N/A\")","v":"N/A"},{"$f":"_xlfn.IFNA(VLOOKUP(_xlfn.CONCAT($C$2,\"-\",$E306,\"-\",$F306,\"-\",L$3),'Raw Data'!$A$2:$D$690331,4,FALSE),\"N/A\")","v":"N/A"},{"$f":"_xlfn.IFNA(VLOOKUP(_xlfn.CONCAT($C$2,\"-\",$E306,\"-\",$F306,\"-\",M$3),'Raw Data'!$A$2:$D$690331,4,FALSE),\"N/A\")","v":"N/A"},{"$f":"_xlfn.IFNA(VLOOKUP(_xlfn.CONCAT($C$2,\"-\",$E306,\"-\",$F306,\"-\",N$3),'Raw Data'!$A$2:$D$690331,4,FALSE),\"N/A\")","v":"N/A"},{"$f":"_xlfn.IFNA(VLOOKUP(_xlfn.CONCAT($C$2,\"-\",$E306,\"-\",$F306,\"-\",O$3),'Raw Data'!$A$2:$D$690331,4,FALSE),\"N/A\")","v":"N/A"},{"$f":"_xlfn.IFNA(VLOOKUP(_xlfn.CONCAT($C$2,\"-\",$E306,\"-\",$F306,\"-\",P$3),'Raw Data'!$A$2:$D$690331,4,FALSE),\"N/A\")","v":"N/A"},{"$f":"_xlfn.IFNA(VLOOKUP(_xlfn.CONCAT($C$2,\"-\",$E306,\"-\",$F306,\"-\",Q$3),'Raw Data'!$A$2:$D$690331,4,FALSE),\"N/A\")","v":"N/A"},{"$f":"_xlfn.IFNA(VLOOKUP(_xlfn.CONCAT($C$2,\"-\",$E306,\"-\",$F306,\"-\",R$3),'Raw Data'!$A$2:$D$690331,4,FALSE),\"N/A\")","v":"N/A"},{"$f":"_xlfn.IFNA(VLOOKUP(_xlfn.CONCAT($C$2,\"-\",$E306,\"-\",$F306,\"-\",S$3),'Raw Data'!$A$2:$D$690331,4,FALSE),\"N/A\")","v":"N/A"}]
[null,null,null,null,30,10,null,{"$f":"_xlfn.IFNA(VLOOKUP(_xlfn.CONCAT($C$2,\"-\",$E307,\"-\",$F307,\"-\",H$3),'Raw Data'!$A$2:$D$690331,4,FALSE),\"N/A\")","v":"N/A"},{"$f":"_xlfn.IFNA(VLOOKUP(_xlfn.CONCAT($C$2,\"-\",$E307,\"-\",$F307,\"-\",I$3),'Raw Data'!$A$2:$D$690331,4,FALSE),\"N/A\")","v":"N/A"},{"$f":"_xlfn.IFNA(VLOOKUP(_xlfn.CONCAT($C$2,\"-\",$E307,\"-\",$F307,\"-\",J$3),'Raw Data'!$A$2:$D$690331,4,FALSE),\"N/A\")","v":"N/A"},{"$f":"_xlfn.IFNA(VLOOKUP(_xlfn.CONCAT($C$2,\"-\",$E307,\"-\",$F307,\"-\",K$3),'Raw Data'!$A$2:$D$690331,4,FALSE),\"N/A\")","v":"N/A"},{"$f":"_xlfn.IFNA(VLOOKUP(_xlfn.CONCAT($C$2,\"-\",$E307,\"-\",$F307,\"-\",L$3),'Raw Data'!$A$2:$D$690331,4,FALSE),\"N/A\")","v":"N/A"},{"$f":"_xlfn.IFNA(VLOOKUP(_xlfn.CONCAT($C$2,\"-\",$E307,\"-\",$F307,\"-\",M$3),'Raw Data'!$A$2:$D$690331,4,FALSE),\"N/A\")","v":"N/A"},{"$f":"_xlfn.IFNA(VLOOKUP(_xlfn.CONCAT($C$2,\"-\",$E307,\"-\",$F307,\"-\",N$3),'Raw Data'!$A$2:$D$690331,4,FALSE),\"N/A\")","v":"N/A"},{"$f":"_xlfn.IFNA(VLOOKUP(_xlfn.CONCAT($C$2,\"-\",$E307,\"-\",$F307,\"-\",O$3),'Raw Data'!$A$2:$D$690331,4,FALSE),\"N/A\")","v":"N/A"},{"$f":"_xlfn.IFNA(VLOOKUP(_xlfn.CONCAT($C$2,\"-\",$E307,\"-\",$F307,\"-\",P$3),'Raw Data'!$A$2:$D$690331,4,FALSE),\"N/A\")","v":"N/A"},{"$f":"_xlfn.IFNA(VLOOKUP(_xlfn.CONCAT($C$2,\"-\",$E307,\"-\",$F307,\"-\",Q$3),'Raw Data'!$A$2:$D$690331,4,FALSE),\"N/A\")","v":"N/A"},{"$f":"_xlfn.IFNA(VLOOKUP(_xlfn.CONCAT($C$2,\"-\",$E307,\"-\",$F307,\"-\",R$3),'Raw Data'!$A$2:$D$690331,4,FALSE),\"N/A\")","v":"N/A"},{"$f":"_xlfn.IFNA(VLOOKUP(_xlfn.CONCAT($C$2,\"-\",$E307,\"-\",$F307,\"-\",S$3),'Raw Data'!$A$2:$D$690331,4,FALSE),\"N/A\")","v":"N/A"}]
[null,null,null,null,31,10,null,{"$f":"_xlfn.IFNA(VLOOKUP(_xlfn.CONCAT($C$2,\"-\",$E308,\"-\",$F308,\"-\",H$3),'Raw Data'!$A$2:$D$690331,4,FALSE),\"N/A\")","v":"N/A"},{"$f":"_xlfn.IFNA(VLOOKUP(_xlfn.CONCAT($C$2,\"-\",$E308,\"-\",$F308,\"-\",I$3),'Raw Data'!$A$2:$D$690331,4,FALSE),\"N/A\")","v":"N/A"},{"$f":"_xlfn.IFNA(VLOOKUP(_xlfn.CONCAT($C$2,\"-\",$E308,\"-\",$F308,\"-\",J$3),'Raw Data'!$A$2:$D$690331,4,FALSE),\"N/A\")","v":"N/A"},{"$f":"_xlfn.IFNA(VLOOKUP(_xlfn.CONCAT($C$2,\"-\",$E308,\"-\",$F308,\"-\",K$3),'Raw Data'!$A$2:$D$690331,4,FALSE),\"N/A\")","v":"N/A"},{"$f":"_xlfn.IFNA(VLOOKUP(_xlfn.CONCAT($C$2,\"-\",$E308,\"-\",$F308,\"-\",L$3),'Raw Data'!$A$2:$D$690331,4,FALSE),\"N/A\")","v":"N/A"},{"$f":"_xlfn.IFNA(VLOOKUP(_xlfn.CONCAT($C$2,\"-\",$E308,\"-\",$F308,\"-\",M$3),'Raw Data'!$A$2:$D$690331,4,FALSE),\"N/A\")","v":"N/A"},{"$f":"_xlfn.IFNA(VLOOKUP(_xlfn.CONCAT($C$2,\"-\",$E308,\"-\",$F308,\"-\",N$3),'Raw Data'!$A$2:$D$690331,4,FALSE),\"N/A\")","v":"N/A"},{"$f":"_xlfn.IFNA(VLOOKUP(_xlfn.CONCAT($C$2,\"-\",$E308,\"-\",$F308,\"-\",O$3),'Raw Data'!$A$2:$D$690331,4,FALSE),\"N/A\")","v":"N/A"},{"$f":"_xlfn.IFNA(VLOOKUP(_xlfn.CONCAT($C$2,\"-\",$E308,\"-\",$F308,\"-\",P$3),'Raw Data'!$A$2:$D$690331,4,FALSE),\"N/A\")","v":"N/A"},{"$f":"_xlfn.IFNA(VLOOKUP(_xlfn.CONCAT($C$2,\"-\",$E308,\"-\",$F308,\"-\",Q$3),'Raw Data'!$A$2:$D$690331,4,FALSE),\"N/A\")","v":"N/A"},{"$f":"_xlfn.IFNA(VLOOKUP(_xlfn.CONCAT($C$2,\"-\",$E308,\"-\",$F308,\"-\",R$3),'Raw Data'!$A$2:$D$690331,4,FALSE),\"N/A\")","v":"N/A"},{"$f":"_xlfn.IFNA(VLOOKUP(_xlfn.CONCAT($C$2,\"-\",$E308,\"-\",$F308,\"-\",S$3),'Raw Data'!$A$2:$D$690331,4,FALSE),\"N/A\")","v":"N/A"}]
[null,null,null,null,1,11,null,{"$f":"_xlfn.IFNA(VLOOKUP(_xlfn.CONCAT($C$2,\"-\",$E309,\"-\",$F309,\"-\",H$3),'Raw Data'!$A$2:$D$690331,4,FALSE),\"N/A\")","v":"N/A"},{"$f":"_xlfn.IFNA(VLOOKUP(_xlfn.CONCAT($C$2,\"-\",$E309,\"-\",$F309,\"-\",I$3),'Raw Data'!$A$2:$D$690331,4,FALSE),\"N/A\")","v":"N/A"},{"$f":"_xlfn.IFNA(VLOOKUP(_xlfn.CONCAT($C$2,\"-\",$E309,\"-\",$F309,\"-\",J$3),'Raw Data'!$A$2:$D$690331,4,FALSE),\"N/A\")","v":"N/A"},{"$f":"_xlfn.IFNA(VLOOKUP(_xlfn.CONCAT($C$2,\"-\",$E309,\"-\",$F309,\"-\",K$3),'Raw Data'!$A$2:$D$690331,4,FALSE),\"N/A\")","v":"N/A"},{"$f":"_xlfn.IFNA(VLOOKUP(_xlfn.CONCAT($C$2,\"-\",$E309,\"-\",$F309,\"-\",L$3),'Raw Data'!$A$2:$D$690331,4,FALSE),\"N/A\")","v":"N/A"},{"$f":"_xlfn.IFNA(VLOOKUP(_xlfn.CONCAT($C$2,\"-\",$E309,\"-\",$F309,\"-\",M$3),'Raw Data'!$A$2:$D$690331,4,FALSE),\"N/A\")","v":"N/A"},{"$f":"_xlfn.IFNA(VLOOKUP(_xlfn.CONCAT($C$2,\"-\",$E309,\"-\",$F309,\"-\",N$3),'Raw Data'!$A$2:$D$690331,4,FALSE),\"N/A\")","v":"N/A"},{"$f":"_xlfn.IFNA(VLOOKUP(_xlfn.CONCAT($C$2,\"-\",$E309,\"-\",$F309,\"-\",O$3),'Raw Data'!$A$2:$D$690331,4,FALSE),\"N/A\")","v":"N/A"},{"$f":"_xlfn.IFNA(VLOOKUP(_xlfn.CONCAT($C$2,\"-\",$E309,\"-\",$F309,\"-\",P$3),'Raw Data'!$A$2:$D$690331,4,FALSE),\"N/A\")","v":"N/A"},{"$f":"_xlfn.IFNA(VLOOKUP(_xlfn.CONCAT($C$2,\"-\",$E309,\"-\",$F309,\"-\",Q$3),'Raw Data'!$A$2:$D$690331,4,FALSE),\"N/A\")","v":"N/A"},{"$f":"_xlfn.IFNA(VLOOKUP(_xlfn.CONCAT($C$2,\"-\",$E309,\"-\",$F309,\"-\",R$3),'Raw Data'!$A$2:$D$690331,4,FALSE),\"N/A\")","v":"N/A"},{"$f":"_xlfn.IFNA(VLOOKUP(_xlfn.CONCAT($C$2,\"-\",$E309,\"-\",$F309,\"-\",S$3),'Raw Data'!$A$2:$D$690331,4,FALSE),\"N/A\")","v":"N/A"}]
[null,null,null,null,2,11,null,{"$f":"_xlfn.IFNA(VLOOKUP(_xlfn.CONCAT($C$2,\"-\",$E310,\"-\",$F310,\"-\",H$3),'Raw Data'!$A$2:$D$690331,4,FALSE),\"N/A\")","v":"N/A"},{"$f":"_xlfn.IFNA(VLOOKUP(_xlfn.CONCAT($C$2,\"-\",$E310,\"-\",$F310,\"-\",I$3),'Raw Data'!$A$2:$D$690331,4,FALSE),\"N/A\")","v":"N/A"},{"$f":"_xlfn.IFNA(VLOOKUP(_xlfn.CONCAT($C$2,\"-\",$E310,\"-\",$F310,\"-\",J$3),'Raw Data'!$A$2:$D$690331,4,FALSE),\"N/A\")","v":"N/A"},{"$f":"_xlfn.IFNA(VLOOKUP(_xlfn.CONCAT($C$2,\"-\",$E310,\"-\",$F310,\"-\",K$3),'Raw Data'!$A$2:$D$690331,4,FALSE),\"N/A\")","v":"N/A"},{"$f":"_xlfn.IFNA(VLOOKUP(_xlfn.CONCAT($C$2,\"-\",$E310,\"-\",$F310,\"-\",L$3),'Raw Data'!$A$2:$D$690331,4,FALSE),\"N/A\")","v":"N/A"},{"$f":"_xlfn.IFNA(VLOOKUP(_xlfn.CONCAT($C$2,\"-\",$E310,\"-\",$F310,\"-\",M$3),'Raw Data'!$A$2:$D$690331,4,FALSE),\"N/A\")","v":"N/A"},{"$f":"_xlfn.IFNA(VLOOKUP(_xlfn.CONCAT($C$2,\"-\",$E310,\"-\",$F310,\"-\",N$3),'Raw Data'!$A$2:$D$690331,4,FALSE),\"N/A\")","v":"N/A"},{"$f":"_xlfn.IFNA(VLOOKUP(_xlfn.CONCAT($C$2,\"-\",$E310,\"-\",$F310,\"-\",O$3),'Raw Data'!$A$2:$D$690331,4,FALSE),\"N/A\")","v":"N/A"},{"$f":"_xlfn.IFNA(VLOOKUP(_xlfn.CONCAT($C$2,\"-\",$E310,\"-\",$F310,\"-\",P$3),'Raw Data'!$A$2:$D$690331,4,FALSE),\"N/A\")","v":"N/A"},{"$f":"_xlfn.IFNA(VLOOKUP(_xlfn.CONCAT($C$2,\"-\",$E310,\"-\",$F310,\"-\",Q$3),'Raw Data'!$A$2:$D$690331,4,FALSE),\"N/A\")","v":"N/A"},{"$f":"_xlfn.IFNA(VLOOKUP(_xlfn.CONCAT($C$2,\"-\",$E310,\"-\",$F310,\"-\",R$3),'Raw Data'!$A$2:$D$690331,4,FALSE),\"N/A\")","v":"N/A"},{"$f":"_xlfn.IFNA(VLOOKUP(_xlfn.CONCAT($C$2,\"-\",$E310,\"-\",$F310,\"-\",S$3),'Raw Data'!$A$2:$D$690331,4,FALSE),\"N/A\")","v":"N/A"}]
[null,null,null,null,3,11,null,{"$f":"_xlfn.IFNA(VLOOKUP(_xlfn.CONCAT($C$2,\"-\",$E311,\"-\",$F311,\"-\",H$3),'Raw Data'!$A$2:$D$690331,4,FALSE),\"N/A\")","v":"N/A"},{"$f":"_xlfn.IFNA(VLOOKUP(_xlfn.CONCAT($C$2,\"-\",$E311,\"-\",$F311,\"-\",I$3),'Raw Data'!$A$2:$D$690331,4,FALSE),\"N/A\")","v":"N/A"},{"$f":"_xlfn.IFNA(VLOOKUP(_xlfn.CONCAT($C$2,\"-\",$E311,\"-\",$F311,\"-\",J$3),'Raw Data'!$A$2:$D$690331,4,FALSE),\"N/A\")","v":"N/A"},{"$f":"_xlfn.IFNA(VLOOKUP(_xlfn.CONCAT($C$2,\"-\",$E311,\"-\",$F311,\"-\",K$3),'Raw Data'!$A$2:$D$690331,4,FALSE),\"N/A\")","v":"N/A"},{"$f":"_xlfn.IFNA(VLOOKUP(_xlfn.CONCAT($C$2,\"-\",$E311,\"-\",$F311,\"-\",L$3),'Raw Data'!$A$2:$D$690331,4,FALSE),\"N/A\")","v":"N/A"},{"$f":"_xlfn.IFNA(VLOOKUP(_xlfn.CONCAT($C$2,\"-\",$E311,\"-\",$F311,\"-\",M$3),'Raw Data'!$A$2:$D$690331,4,FALSE),\"N/A\")","v":"N/A"},{"$f":"_xlfn.IFNA(VLOOKUP(_xlfn.CONCAT($C$2,\"-\",$E311,\"-\",$F311,\"-\",N$3),'Raw Data'!$A$2:$D$690331,4,FALSE),\"N/A\")","v":"N/A"},{"$f":"_xlfn.IFNA(VLOOKUP(_xlfn.CONCAT($C$2,\"-\",$E311,\"-\",$F311,\"-\",O$3),'Raw Data'!$A$2:$D$690331,4,FALSE),\"N/A\")","v":"N/A"},{"$f":"_xlfn.IFNA(VLOOKUP(_xlfn.CONCAT($C$2,\"-\",$E311,\"-\",$F311,\"-\",P$3),'Raw Data'!$A$2:$D$690331,4,FALSE),\"N/A\")","v":"N/A"},{"$f":"_xlfn.IFNA(VLOOKUP(_xlfn.CONCAT($C$2,\"-\",$E311,\"-\",$F311,\"-\",Q$3),'Raw Data'!$A$2:$D$690331,4,FALSE),\"N/A\")","v":"N/A"},{"$f":"_xlfn.IFNA(VLOOKUP(_xlfn.CONCAT($C$2,\"-\",$E311,\"-\",$F311,\"-\",R$3),'Raw Data'!$A$2:$D$690331,4,FALSE),\"N/A\")","v":"N/A"},{"$f":"_xlfn.IFNA(VLOOKUP(_xlfn.CONCAT($C$2,\"-\",$E311,\"-\",$F311,\"-\",S$3),'Raw Data'!$A$2:$D$690331,4,FALSE),\"N/A\")","v":"N/A"}]
[null,null,null,null,4,11,null,{"$f":"_xlfn.IFNA(VLOOKUP(_xlfn.CONCAT($C$2,\"-\",$E312,\"-\",$F312,\"-\",H$3),'Raw Data'!$A$2:$D$690331,4,FALSE),\"N/A\")","v":"N/A"},{"$f":"_xlfn.IFNA(VLOOKUP(_xlfn.CONCAT($C$2,\"-\",$E312,\"-\",$F312,\"-\",I$3),'Raw Data'!$A$2:$D$690331,4,FALSE),\"N/A\")","v":"N/A"},{"$f":"_xlfn.IFNA(VLOOKUP(_xlfn.CONCAT($C$2,\"-\",$E312,\"-\",$F312,\"-\",J$3),'Raw Data'!$A$2:$D$690331,4,FALSE),\"N/A\")","v":"N/A"},{"$f":"_xlfn.IFNA(VLOOKUP(_xlfn.CONCAT($C$2,\"-\",$E312,\"-\",$F312,\"-\",K$3),'Raw Data'!$A$2:$D$690331,4,FALSE),\"N/A\")","v":"N/A"},{"$f":"_xlfn.IFNA(VLOOKUP(_xlfn.CONCAT($C$2,\"-\",$E312,\"-\",$F312,\"-\",L$3),'Raw Data'!$A$2:$D$690331,4,FALSE),\"N/A\")","v":"N/A"},{"$f":"_xlfn.IFNA(VLOOKUP(_xlfn.CONCAT($C$2,\"-\",$E312,\"-\",$F312,\"-\",M$3),'Raw Data'!$A$2:$D$690331,4,FALSE),\"N/A\")","v":"N/A"},{"$f":"_xlfn.IFNA(VLOOKUP(_xlfn.CONCAT($C$2,\"-\",$E312,\"-\",$F312,\"-\",N$3),'Raw Data'!$A$2:$D$690331,4,FALSE),\"N/A\")","v":"N/A"},{"$f":"_xlfn.IFNA(VLOOKUP(_xlfn.CONCAT($C$2,\"-\",$E312,\"-\",$F312,\"-\",O$3),'Raw Data'!$A$2:$D$690331,4,FALSE),\"N/A\")","v":"N/A"},{"$f":"_xlfn.IFNA(VLOOKUP(_xlfn.CONCAT($C$2,\"-\",$E312,\"-\",$F312,\"-\",P$3),'Raw Data'!$A$2:$D$690331,4,FALSE),\"N/A\")","v":"N/A"},{"$f":"_xlfn.IFNA(VLOOKUP(_xlfn.CONCAT($C$2,\"-\",$E312,\"-\",$F312,\"-\",Q$3),'Raw Data'!$A$2:$D$690331,4,FALSE),\"N/A\")","v":"N/A"},{"$f":"_xlfn.IFNA(VLOOKUP(_xlfn.CONCAT($C$2,\"-\",$E312,\"-\",$F312,\"-\",R$3),'Raw Data'!$A$2:$D$690331,4,FALSE),\"N/A\")","v":"N/A"},{"$f":"_xlfn.IFNA(VLOOKUP(_xlfn.CONCAT($C$2,\"-\",$E312,\"-\",$F312,\"-\",S$3),'Raw Data'!$A$2:$D$690331,4,FALSE),\"N/A\")","v":"N/A"}]
[null,null,null,null,5,11,null,{"$f":"_xlfn.IFNA(VLOOKUP(_xlfn.CONCAT($C$2,\"-\",$E313,\"-\",$F313,\"-\",H$3),'Raw Data'!$A$2:$D$690331,4,FALSE),\"N/A\")","v":"N/A"},{"$f":"_xlfn.IFNA(VLOOKUP(_xlfn.CONCAT($C$2,\"-\",$E313,\"-\",$F313,\"-\",I$3),'Raw Data'!$A$2:$D$690331,4,FALSE),\"N/A\")","v":"N/A"},{"$f":"_xlfn.IFNA(VLOOKUP(_xlfn.CONCAT($C$2,\"-\",$E313,\"-\",$F313,\"-\",J$3),'Raw Data'!$A$2:$D$690331,4,FALSE),\"N/A\")","v":"N/A"},{"$f":"_xlfn.IFNA(VLOOKUP(_xlfn.CONCAT($C$2,\"-\",$E313,\"-\",$F313,\"-\",K$3),'Raw Data'!$A$2:$D$690331,4,FALSE),\"N/A\")","v":"N/A"},{"$f":"_xlfn.IFNA(VLOOKUP(_xlfn.CONCAT($C$2,\"-\",$E313,\"-\",$F313,\"-\",L$3),'Raw Data'!$A$2:$D$690331,4,FALSE),\"N/A\")","v":"N/A"},{"$f":"_xlfn.IFNA(VLOOKUP(_xlfn.CONCAT($C$2,\"-\",$E313,\"-\",$F313,\"-\",M$3),'Raw Data'!$A$2:$D$690331,4,FALSE),\"N/A\")","v":"N/A"},{"$f":"_xlfn.IFNA(VLOOKUP(_xlfn.CONCAT($C$2,\"-\",$E313,\"-\",$F313,\"-\",N$3),'Raw Data'!$A$2:$D$690331,4,FALSE),\"N/A\")","v":"N/A"},{"$f":"_xlfn.IFNA(VLOOKUP(_xlfn.CONCAT($C$2,\"-\",$E313,\"-\",$F313,\"-\",O$3),'Raw Data'!$A$2:$D$690331,4,FALSE),\"N/A\")","v":"N/A"},{"$f":"_xlfn.IFNA(VLOOKUP(_xlfn.CONCAT($C$2,\"-\",$E313,\"-\",$F313,\"-\",P$3),'Raw Data'!$A$2:$D$690331,4,FALSE),\"N/A\")","v":"N/A"},{"$f":"_xlfn.IFNA(VLOOKUP(_xlfn.CONCAT($C$2,\"-\",$E313,\"-\",$F313,\"-\",Q$3),'Raw Data'!$A$2:$D$690331,4,FALSE),\"N/A\")","v":"N/A"},{"$f":"_xlfn.IFNA(VLOOKUP(_xlfn.CONCAT($C$2,\"-\",$E313,\"-\",$F313,\"-\",R$3),'Raw Data'!$A$2:$D$690331,4,FALSE),\"N/A\")","v":"N/A"},{"$f":"_xlfn.IFNA(VLOOKUP(_xlfn.CONCAT($C$2,\"-\",$E313,\"-\",$F313,\"-\",S$3),'Raw Data'!$A$2:$D$690331,4,FALSE),\"N/A\")","v":"N/A"}]
[null,null,null,null,6,11,null,{"$f":"_xlfn.IFNA(VLOOKUP(_xlfn.CONCAT($C$2,\"-\",$E314,\"-\",$F314,\"-\",H$3),'Raw Data'!$A$2:$D$690331,4,FALSE),\"N/A\")","v":"N/A"},{"$f":"_xlfn.IFNA(VLOOKUP(_xlfn.CONCAT($C$2,\"-\",$E314,\"-\",$F314,\"-\",I$3),'Raw Data'!$A$2:$D$690331,4,FALSE),\"N/A\")","v":"N/A"},{"$f":"_xlfn.IFNA(VLOOKUP(_xlfn.CONCAT($C$2,\"-\",$E314,\"-\",$F314,\"-\",J$3),'Raw Data'!$A$2:$D$690331,4,FALSE),\"N/A\")","v":"N/A"},{"$f":"_xlfn.IFNA(VLOOKUP(_xlfn.CONCAT($C$2,\"-\",$E314,\"-\",$F314,\"-\",K$3),'Raw Data'!$A$2:$D$690331,4,FALSE),\"N/A\")","v":"N/A"},{"$f":"_xlfn.IFNA(VLOOKUP(_xlfn.CONCAT($C$2,\"-\",$E314,\"-\",$F314,\"-\",L$3),'Raw Data'!$A$2:$D$690331,4,FALSE),\"N/A\")","v":"N/A"},{"$f":"_xlfn.IFNA(VLOOKUP(_xlfn.CONCAT($C$2,\"-\",$E314,\"-\",$F314,\"-\",M$3),'Raw Data'!$A$2:$D$690331,4,FALSE),\"N/A\")","v":"N/A"},{"$f":"_xlfn.IFNA(VLOOKUP(_xlfn.CONCAT($C$2,\"-\",$E314,\"-\",$F314,\"-\",N$3),'Raw Data'!$A$2:$D$690331,4,FALSE),\"N/A\")","v":"N/A"},{"$f":"_xlfn.IFNA(VLOOKUP(_xlfn.CONCAT($C$2,\"-\",$E314,\"-\",$F314,\"-\",O$3),'Raw Data'!$A$2:$D$690331,4,FALSE),\"N/A\")","v":"N/A"},{"$f":"_xlfn.IFNA(VLOOKUP(_xlfn.CONCAT($C$2,\"-\",$E314,\"-\",$F314,\"-\",P$3),'Raw Data'!$A$2:$D$690331,4,FALSE),\"N/A\")","v":"N/A"},{"$f":"_xlfn.IFNA(VLOOKUP(_xlfn.CONCAT($C$2,\"-\",$E314,\"-\",$F314,\"-\",Q$3),'Raw Data'!$A$2:$D$690331,4,FALSE),\"N/A\")","v":"N/A"},{"$f":"_xlfn.IFNA(VLOOKUP(_xlfn.CONCAT($C$2,\"-\",$E314,\"-\",$F314,\"-\",R$3),'Raw Data'!$A$2:$D$690331,4,FALSE),\"N/A\")","v":"N/A"},{"$f":"_xlfn.IFNA(VLOOKUP(_xlfn.CONCAT($C$2,\"-\",$E314,\"-\",$F314,\"-\",S$3),'Raw Data'!$A$2:$D$690331,4,FALSE),\"N/A\")","v":"N/A"}]
[null,null,null,null,7,11,null,{"$f":"_xlfn.IFNA(VLOOKUP(_xlfn.CONCAT($C$2,\"-\",$E315,\"-\",$F315,\"-\",H$3),'Raw Data'!$A$2:$D$690331,4,FALSE),\"N/A\")","v":"N/A"},{"$f":"_xlfn.IFNA(VLOOKUP(_xlfn.CONCAT($C$2,\"-\",$E315,\"-\",$F315,\"-\",I$3),'Raw Data'!$A$2:$D$690331,4,FALSE),\"N/A\")","v":"N/A"},{"$f":"_xlfn.IFNA(VLOOKUP(_xlfn.CONCAT($C$2,\"-\",$E315,\"-\",$F315,\"-\",J$3),'Raw Data'!$A$2:$D$690331,4,FALSE),\"N/A\")","v":"N/A"},{"$f":"_xlfn.IFNA(VLOOKUP(_xlfn.CONCAT($C$2,\"-\",$E315,\"-\",$F315,\"-\",K$3),'Raw Data'!$A$2:$D$690331,4,FALSE),\"N/A\")","v":"N/A"},{"$f":"_xlfn.IFNA(VLOOKUP(_xlfn.CONCAT($C$2,\"-\",$E315,\"-\",$F315,\"-\",L$3),'Raw Data'!$A$2:$D$690331,4,FALSE),\"N/A\")","v":"N/A"},{"$f":"_xlfn.IFNA(VLOOKUP(_xlfn.CONCAT($C$2,\"-\",$E315,\"-\",$F315,\"-\",M$3),'Raw Data'!$A$2:$D$690331,4,FALSE),\"N/A\")","v":"N/A"},{"$f":"_xlfn.IFNA(VLOOKUP(_xlfn.CONCAT($C$2,\"-\",$E315,\"-\",$F315,\"-\",N$3),'Raw Data'!$A$2:$D$690331,4,FALSE),\"N/A\")","v":"N/A"},{"$f":"_xlfn.IFNA(VLOOKUP(_xlfn.CONCAT($C$2,\"-\",$E315,\"-\",$F315,\"-\",O$3),'Raw Data'!$A$2:$D$690331,4,FALSE),\"N/A\")","v":"N/A"},{"$f":"_xlfn.IFNA(VLOOKUP(_xlfn.CONCAT($C$2,\"-\",$E315,\"-\",$F315,\"-\",P$3),'Raw Data'!$A$2:$D$690331,4,FALSE),\"N/A\")","v":"N/A"},{"$f":"_xlfn.IFNA(VLOOKUP(_xlfn.CONCAT($C$2,\"-\",$E315,\"-\",$F315,\"-\",Q$3),'Raw Data'!$A$2:$D$690331,4,FALSE),\"N/A\")","v":"N/A"},{"$f":"_xlfn.IFNA(VLOOKUP(_xlfn.CONCAT($C$2,\"-\",$E315,\"-\",$F315,\"-\",R$3),'Raw Data'!$A$2:$D$690331,4,FALSE),\"N/A\")","v":"N/A"},{"$f":"_xlfn.IFNA(VLOOKUP(_xlfn.CONCAT($C$2,\"-\",$E315,\"-\",$F315,\"-\",S$3),'Raw Data'!$A$2:$D$690331,4,FALSE),\"N/A\")","v":"N/A"}]
[null,null,null,null,8,11,null,{"$f":"_xlfn.IFNA(VLOOKUP(_xlfn.CONCAT($C$2,\"-\",$E316,\"-\",$F316,\"-\",H$3),'Raw Data'!$A$2:$D$690331,4,FALSE),\"N/A\")","v":"N/A"},{"$f":"_xlfn.IFNA(VLOOKUP(_xlfn.CONCAT($C$2,\"-\",$E316,\"-\",$F316,\"-\",I$3),'Raw Data'!$A$2:$D$690331,4,FALSE),\"N/A\")","v":"N/A"},{"$f":"_xlfn.IFNA(VLOOKUP(_xlfn.CONCAT($C$2,\"-\",$E316,\"-\",$F316,\"-\",J$3),'Raw Data'!$A$2:$D$690331,4,FALSE),\"N/A\")","v":"N/A"},{"$f":"_xlfn.IFNA(VLOOKUP(_xlfn.CONCAT($C$2,\"-\",$E316,\"-\",$F316,\"-\",K$3),'Raw Data'!$A$2:$D$690331,4,FALSE),\"N/A\")","v":"N/A"},{"$f":"_xlfn.IFNA(VLOOKUP(_xlfn.CONCAT($C$2,\"-\",$E316,\"-\",$F316,\"-\",L$3),'Raw Data'!$A$2:$D$690331,4,FALSE),\"N/A\")","v":"N/A"},{"$f":"_xlfn.IFNA(VLOOKUP(_xlfn.CONCAT($C$2,\"-\",$E316,\"-\",$F316,\"-\",M$3),'Raw Data'!$A$2:$D$690331,4,FALSE),\"N/A\")","v":"N/A"},{"$f":"_xlfn.IFNA(VLOOKUP(_xlfn.CONCAT($C$2,\"-\",$E316,\"-\",$F316,\"-\",N$3),'Raw Data'!$A$2:$D$690331,4,FALSE),\"N/A\")","v":"N/A"},{"$f":"_xlfn.IFNA(VLOOKUP(_xlfn.CONCAT($C$2,\"-\",$E316,\"-\",$F316,\"-\",O$3),'Raw Data'!$A$2:$D$690331,4,FALSE),\"N/A\")","v":"N/A"},{"$f":"_xlfn.IFNA(VLOOKUP(_xlfn.CONCAT($C$2,\"-\",$E316,\"-\",$F316,\"-\",P$3),'Raw Data'!$A$2:$D$690331,4,FALSE),\"N/A\")","v":"N/A"},{"$f":"_xlfn.IFNA(VLOOKUP(_xlfn.CONCAT($C$2,\"-\",$E316,\"-\",$F316,\"-\",Q$3),'Raw Data'!$A$2:$D$690331,4,FALSE),\"N/A\")","v":"N/A"},{"$f":"_xlfn.IFNA(VLOOKUP(_xlfn.CONCAT($C$2,\"-\",$E316,\"-\",$F316,\"-\",R$3),'Raw Data'!$A$2:$D$690331,4,FALSE),\"N/A\")","v":"N/A"},{"$f":"_xlfn.IFNA(VLOOKUP(_xlfn.CONCAT($C$2,\"-\",$E316,\"-\",$F316,\"-\",S$3),'Raw Data'!$A$2:$D$690331,4,FALSE),\"N/A\")","v":"N/A"}]
[null,null,null,null,9,11,null,{"$f":"_xlfn.IFNA(VLOOKUP(_xlfn.CONCAT($C$2,\"-\",$E317,\"-\",$F317,\"-\",H$3),'Raw Data'!$A$2:$D$690331,4,FALSE),\"N/A\")","v":"N/A"},{"$f":"_xlfn.IFNA(VLOOKUP(_xlfn.CONCAT($C$2,\"-\",$E317,\"-\",$F317,\"-\",I$3),'Raw Data'!$A$2:$D$690331,4,FALSE),\"N/A\")","v":"N/A"},{"$f":"_xlfn.IFNA(VLOOKUP(_xlfn.CONCAT($C$2,\"-\",$E317,\"-\",$F317,\"-\",J$3),'Raw Data'!$A$2:$D$690331,4,FALSE),\"N/A\")","v":"N/A"},{"$f":"_xlfn.IFNA(VLOOKUP(_xlfn.CONCAT($C$2,\"-\",$E317,\"-\",$F317,\"-\",K$3),'Raw Data'!$A$2:$D$690331,4,FALSE),\"N/A\")","v":"N/A"},{"$f":"_xlfn.IFNA(VLOOKUP(_xlfn.CONCAT($C$2,\"-\",$E317,\"-\",$F317,\"-\",L$3),'Raw Data'!$A$2:$D$690331,4,FALSE),\"N/A\")","v":"N/A"},{"$f":"_xlfn.IFNA(VLOOKUP(_xlfn.CONCAT($C$2,\"-\",$E317,\"-\",$F317,\"-\",M$3),'Raw Data'!$A$2:$D$690331,4,FALSE),\"N/A\")","v":"N/A"},{"$f":"_xlfn.IFNA(VLOOKUP(_xlfn.CONCAT($C$2,\"-\",$E317,\"-\",$F317,\"-\",N$3),'Raw Data'!$A$2:$D$690331,4,FALSE),\"N/A\")","v":"N/A"},{"$f":"_xlfn.IFNA(VLOOKUP(_xlfn.CONCAT($C$2,\"-\",$E317,\"-\",$F317,\"-\",O$3),'Raw Data'!$A$2:$D$690331,4,FALSE),\"N/A\")","v":"N/A"},{"$f":"_xlfn.IFNA(VLOOKUP(_xlfn.CONCAT($C$2,\"-\",$E317,\"-\",$F317,\"-\",P$3),'Raw Data'!$A$2:$D$690331,4,FALSE),\"N/A\")","v":"N/A"},{"$f":"_xlfn.IFNA(VLOOKUP(_xlfn.CONCAT($C$2,\"-\",$E317,\"-\",$F317,\"-\",Q$3),'Raw Data'!$A$2:$D$690331,4,FALSE),\"N/A\")","v":"N/A"},{"$f":"_xlfn.IFNA(VLOOKUP(_xlfn.CONCAT($C$2,\"-\",$E317,\"-\",$F317,\"-\",R$3),'Raw Data'!$A$2:$D$690331,4,FALSE),\"N/A\")","v":"N/A"},{"$f":"_xlfn.IFNA(VLOOKUP(_xlfn.CONCAT($C$2,\"-\",$E317,\"-\",$F317,\"-\",S$3),'Raw Data'!$A$2:$D$690331,4,FALSE),\"N/A\")","v":"N/A"}]
[null,null,null,null,10,11,null,{"$f":"_xlfn.IFNA(VLOOKUP(_xlfn.CONCAT($C$2,\"-\",$E318,\"-\",$F318,\"-\",H$3),'Raw Data'!$A$2:$D$690331,4,FALSE),\"N/A\")","v":"N/A"},{"$f":"_xlfn.IFNA(VLOOKUP(_xlfn.CONCAT($C$2,\"-\",$E318,\"-\",$F318,\"-\",I$3),'Raw Data'!$A$2:$D$690331,4,FALSE),\"N/A\")","v":"N/A"},{"$f":"_xlfn.IFNA(VLOOKUP(_xlfn.CONCAT($C$2,\"-\",$E318,\"-\",$F318,\"-\",J$3),'Raw Data'!$A$2:$D$690331,4,FALSE),\"N/A\")","v":"N/A"},{"$f":"_xlfn.IFNA(VLOOKUP(_xlfn.CONCAT($C$2,\"-\",$E318,\"-\",$F318,\"-\",K$3),'Raw Data'!$A$2:$D$690331,4,FALSE),\"N/A\")","v":"N/A"},{"$f":"_xlfn.IFNA(VLOOKUP(_xlfn.CONCAT($C$2,\"-\",$E318,\"-\",$F318,\"-\",L$3),'Raw Data'!$A$2:$D$690331,4,FALSE),\"N/A\")","v":"N/A"},{"$f":"_xlfn.IFNA(VLOOKUP(_xlfn.CONCAT($C$2,\"-\",$E318,\"-\",$F318,\"-\",M$3),'Raw Data'!$A$2:$D$690331,4,FALSE),\"N/A\")","v":"N/A"},{"$f":"_xlfn.IFNA(VLOOKUP(_xlfn.CONCAT($C$2,\"-\",$E318,\"-\",$F318,\"-\",N$3),'Raw Data'!$A$2:$D$690331,4,FALSE),\"N/A\")","v":"N/A"},{"$f":"_xlfn.IFNA(VLOOKUP(_xlfn.CONCAT($C$2,\"-\",$E318,\"-\",$F318,\"-\",O$3),'Raw Data'!$A$2:$D$690331,4,FALSE),\"N/A\")","v":"N/A"},{"$f":"_xlfn.IFNA(VLOOKUP(_xlfn.CONCAT($C$2,\"-\",$E318,\"-\",$F318,\"-\",P$3),'Raw Data'!$A$2:$D$690331,4,FALSE),\"N/A\")","v":"N/A"},{"$f":"_xlfn.IFNA(VLOOKUP(_xlfn.CONCAT($C$2,\"-\",$E318,\"-\",$F318,\"-\",Q$3),'Raw Data'!$A$2:$D$690331,4,FALSE),\"N/A\")","v":"N/A"},{"$f":"_xlfn.IFNA(VLOOKUP(_xlfn.CONCAT($C$2,\"-\",$E318,\"-\",$F318,\"-\",R$3),'Raw Data'!$A$2:$D$690331,4,FALSE),\"N/A\")","v":"N/A"},{"$f":"_xlfn.IFNA(VLOOKUP(_xlfn.CONCAT($C$2,\"-\",$E318,\"-\",$F318,\"-\",S$3),'Raw Data'!$A$2:$D$690331,4,FALSE),\"N/A\")","v":"N/A"}]
[null,null,null,null,11,11,null,{"$f":"_xlfn.IFNA(VLOOKUP(_xlfn.CONCAT($C$2,\"-\",$E319,\"-\",$F319,\"-\",H$3),'Raw Data'!$A$2:$D$690331,4,FALSE),\"N/A\")","v":"N/A"},{"$f":"_xlfn.IFNA(VLOOKUP(_xlfn.CONCAT($C$2,\"-\",$E319,\"-\",$F319,\"-\",I$3),'Raw Data'!$A$2:$D$690331,4,FALSE),\"N/A\")","v":"N/A"},{"$f":"_xlfn.IFNA(VLOOKUP(_xlfn.CONCAT($C$2,\"-\",$E319,\"-\",$F319,\"-\",J$3),'Raw Data'!$A$2:$D$690331,4,FALSE),\"N/A\")","v":"N/A"},{"$f":"_xlfn.IFNA(VLOOKUP(_xlfn.CONCAT($C$2,\"-\",$E319,\"-\",$F319,\"-\",K$3),'Raw Data'!$A$2:$D$690331,4,FALSE),\"N/A\")","v":"N/A"},{"$f":"_xlfn.IFNA(VLOOKUP(_xlfn.CONCAT($C$2,\"-\",$E319,\"-\",$F319,\"-\",L$3),'Raw Data'!$A$2:$D$690331,4,FALSE),\"N/A\")","v":"N/A"},{"$f":"_xlfn.IFNA(VLOOKUP(_xlfn.CONCAT($C$2,\"-\",$E319,\"-\",$F319,\"-\",M$3),'Raw Data'!$A$2:$D$690331,4,FALSE),\"N/A\")","v":"N/A"},{"$f":"_xlfn.IFNA(VLOOKUP(_xlfn.CONCAT($C$2,\"-\",$E319,\"-\",$F319,\"-\",N$3),'Raw Data'!$A$2:$D$690331,4,FALSE),\"N/A\")","v":"N/A"},{"$f":"_xlfn.IFNA(VLOOKUP(_xlfn.CONCAT($C$2,\"-\",$E319,\"-\",$F319,\"-\",O$3),'Raw Data'!$A$2:$D$690331,4,FALSE),\"N/A\")","v":"N/A"},{"$f":"_xlfn.IFNA(VLOOKUP(_xlfn.CONCAT($C$2,\"-\",$E319,\"-\",$F319,\"-\",P$3),'Raw Data'!$A$2:$D$690331,4,FALSE),\"N/A\")","v":"N/A"},{"$f":"_xlfn.IFNA(VLOOKUP(_xlfn.CONCAT($C$2,\"-\",$E319,\"-\",$F319,\"-\",Q$3),'Raw Data'!$A$2:$D$690331,4,FALSE),\"N/A\")","v":"N/A"},{"$f":"_xlfn.IFNA(VLOOKUP(_xlfn.CONCAT($C$2,\"-\",$E319,\"-\",$F319,\"-\",R$3),'Raw Data'!$A$2:$D$690331,4,FALSE),\"N/A\")","v":"N/A"},{"$f":"_xlfn.IFNA(VLOOKUP(_xlfn.CONCAT($C$2,\"-\",$E319,\"-\",$F319,\"-\",S$3),'Raw Data'!$A$2:$D$690331,4,FALSE),\"N/A\")","v":"N/A"}]
[null,null,null,null,12,11,null,{"$f":"_xlfn.IFNA(VLOOKUP(_xlfn.CONCAT($C$2,\"-\",$E320,\"-\",$F320,\"-\",H$3),'Raw Data'!$A$2:$D$690331,4,FALSE),\"N/A\")","v":"N/A"},{"$f":"_xlfn.IFNA(VLOOKUP(_xlfn.CONCAT($C$2,\"-\",$E320,\"-\",$F320,\"-\",I$3),'Raw Data'!$A$2:$D$690331,4,FALSE),\"N/A\")","v":"N/A"},{"$f":"_xlfn.IFNA(VLOOKUP(_xlfn.CONCAT($C$2,\"-\",$E320,\"-\",$F320,\"-\",J$3),'Raw Data'!$A$2:$D$690331,4,FALSE),\"N/A\")","v":"N/A"},{"$f":"_xlfn.IFNA(VLOOKUP(_xlfn.CONCAT($C$2,\"-\",$E320,\"-\",$F320,\"-\",K$3),'Raw Data'!$A$2:$D$690331,4,FALSE),\"N/A\")","v":"N/A"},{"$f":"_xlfn.IFNA(VLOOKUP(_xlfn.CONCAT($C$2,\"-\",$E320,\"-\",$F320,\"-\",L$3),'Raw Data'!$A$2:$D$690331,4,FALSE),\"N/A\")","v":"N/A"},{"$f":"_xlfn.IFNA(VLOOKUP(_xlfn.CONCAT($C$2,\"-\",$E320,\"-\",$F320,\"-\",M$3),'Raw Data'!$A$2:$D$690331,4,FALSE),\"N/A\")","v":"N/A"},{"$f":"_xlfn.IFNA(VLOOKUP(_xlfn.CONCAT($C$2,\"-\",$E320,\"-\",$F320,\"-\",N$3),'Raw Data'!$A$2:$D$690331,4,FALSE),\"N/A\")","v":"N/A"},{"$f":"_xlfn.IFNA(VLOOKUP(_xlfn.CONCAT($C$2,\"-\",$E320,\"-\",$F320,\"-\",O$3),'Raw Data'!$A$2:$D$690331,4,FALSE),\"N/A\")","v":"N/A"},{"$f":"_xlfn.IFNA(VLOOKUP(_xlfn.CONCAT($C$2,\"-\",$E320,\"-\",$F320,\"-\",P$3),'Raw Data'!$A$2:$D$690331,4,FALSE),\"N/A\")","v":"N/A"},{"$f":"_xlfn.IFNA(VLOOKUP(_xlfn.CONCAT($C$2,\"-\",$E320,\"-\",$F320,\"-\",Q$3),'Raw Data'!$A$2:$D$690331,4,FALSE),\"N/A\")","v":"N/A"},{"$f":"_xlfn.IFNA(VLOOKUP(_xlfn.CONCAT($C$2,\"-\",$E320,\"-\",$F320,\"-\",R$3),'Raw Data'!$A$2:$D$690331,4,FALSE),\"N/A\")","v":"N/A"},{"$f":"_xlfn.IFNA(VLOOKUP(_xlfn.CONCAT($C$2,\"-\",$E320,\"-\",$F320,\"-\",S$3),'Raw Data'!$A$2:$D$690331,4,FALSE),\"N/A\")","v":"N/A"}]
[null,null,null,null,13,11,null,{"$f":"_xlfn.IFNA(VLOOKUP(_xlfn.CONCAT($C$2,\"-\",$E321,\"-\",$F321,\"-\",H$3),'Raw Data'!$A$2:$D$690331,4,FALSE),\"N/A\")","v":"N/A"},{"$f":"_xlfn.IFNA(VLOOKUP(_xlfn.CONCAT($C$2,\"-\",$E321,\"-\",$F321,\"-\",I$3),'Raw Data'!$A$2:$D$690331,4,FALSE),\"N/A\")","v":"N/A"},{"$f":"_xlfn.IFNA(VLOOKUP(_xlfn.CONCAT($C$2,\"-\",$E321,\"-\",$F321,\"-\",J$3),'Raw Data'!$A$2:$D$690331,4,FALSE),\"N/A\")","v":"N/A"},{"$f":"_xlfn.IFNA(VLOOKUP(_xlfn.CONCAT($C$2,\"-\",$E321,\"-\",$F321,\"-\",K$3),'Raw Data'!$A$2:$D$690331,4,FALSE),\"N/A\")","v":"N/A"},{"$f":"_xlfn.IFNA(VLOOKUP(_xlfn.CONCAT($C$2,\"-\",$E321,\"-\",$F321,\"-\",L$3),'Raw Data'!$A$2:$D$690331,4,FALSE),\"N/A\")","v":"N/A"},{"$f":"_xlfn.IFNA(VLOOKUP(_xlfn.CONCAT($C$2,\"-\",$E321,\"-\",$F321,\"-\",M$3),'Raw Data'!$A$2:$D$690331,4,FALSE),\"N/A\")","v":"N/A"},{"$f":"_xlfn.IFNA(VLOOKUP(_xlfn.CONCAT($C$2,\"-\",$E321,\"-\",$F321,\"-\",N$3),'Raw Data'!$A$2:$D$690331,4,FALSE),\"N/A\")","v":"N/A"},{"$f":"_xlfn.IFNA(VLOOKUP(_xlfn.CONCAT($C$2,\"-\",$E321,\"-\",$F321,\"-\",O$3),'Raw Data'!$A$2:$D$690331,4,FALSE),\"N/A\")","v":"N/A"},{"$f":"_xlfn.IFNA(VLOOKUP(_xlfn.CONCAT($C$2,\"-\",$E321,\"-\",$F321,\"-\",P$3),'Raw Data'!$A$2:$D$690331,4,FALSE),\"N/A\")","v":"N/A"},{"$f":"_xlfn.IFNA(VLOOKUP(_xlfn.CONCAT($C$2,\"-\",$E321,\"-\",$F321,\"-\",Q$3),'Raw Data'!$A$2:$D$690331,4,FALSE),\"N/A\")","v":"N/A"},{"$f":"_xlfn.IFNA(VLOOKUP(_xlfn.CONCAT($C$2,\"-\",$E321,\"-\",$F321,\"-\",R$3),'Raw Data'!$A$2:$D$690331,4,FALSE),\"N/A\")","v":"N/A"},{"$f":"_xlfn.IFNA(VLOOKUP(_xlfn.CONCAT($C$2,\"-\",$E321,\"-\",$F321,\"-\",S$3),'Raw Data'!$A$2:$D$690331,4,FALSE),\"N/A\")","v":"N/A"}]
[null,null,null,null,14,11,null,{"$f":"_xlfn.IFNA(VLOOKUP(_xlfn.CONCAT($C$2,\"-\",$E322,\"-\",$F322,\"-\",H$3),'Raw Data'!$A$2:$D$690331,4,FALSE),\"N/A\")","v":"N/A"},{"$f":"_xlfn.IFNA(VLOOKUP(_xlfn.CONCAT($C$2,\"-\",$E322,\"-\",$F322,\"-\",I$3),'Raw Data'!$A$2:$D$690331,4,FALSE),\"N/A\")","v":"N/A"},{"$f":"_xlfn.IFNA(VLOOKUP(_xlfn.CONCAT($C$2,\"-\",$E322,\"-\",$F322,\"-\",J$3),'Raw Data'!$A$2:$D$690331,4,FALSE),\"N/A\")","v":"N/A"},{"$f":"_xlfn.IFNA(VLOOKUP(_xlfn.CONCAT($C$2,\"-\",$E322,\"-\",$F322,\"-\",K$3),'Raw Data'!$A$2:$D$690331,4,FALSE),\"N/A\")","v":"N/A"},{"$f":"_xlfn.IFNA(VLOOKUP(_xlfn.CONCAT($C$2,\"-\",$E322,\"-\",$F322,\"-\",L$3),'Raw Data'!$A$2:$D$690331,4,FALSE),\"N/A\")","v":"N/A"},{"$f":"_xlfn.IFNA(VLOOKUP(_xlfn.CONCAT($C$2,\"-\",$E322,\"-\",$F322,\"-\",M$3),'Raw Data'!$A$2:$D$690331,4,FALSE),\"N/A\")","v":"N/A"},{"$f":"_xlfn.IFNA(VLOOKUP(_xlfn.CONCAT($C$2,\"-\",$E322,\"-\",$F322,\"-\",N$3),'Raw Data'!$A$2:$D$690331,4,FALSE),\"N/A\")","v":"N/A"},{"$f":"_xlfn.IFNA(VLOOKUP(_xlfn.CONCAT($C$2,\"-\",$E322,\"-\",$F322,\"-\",O$3),'Raw Data'!$A$2:$D$690331,4,FALSE),\"N/A\")","v":"N/A"},{"$f":"_xlfn.IFNA(VLOOKUP(_xlfn.CONCAT($C$2,\"-\",$E322,\"-\",$F322,\"-\",P$3),'Raw Data'!$A$2:$D$690331,4,FALSE),\"N/A\")","v":"N/A"},{"$f":"_xlfn.IFNA(VLOOKUP(_xlfn.CONCAT($C$2,\"-\",$E322,\"-\",$F322,\"-\",Q$3),'Raw Data'!$A$2:$D$690331,4,FALSE),\"N/A\")","v":"N/A"},{"$f":"_xlfn.IFNA(VLOOKUP(_xlfn.CONCAT($C$2,\"-\",$E322,\"-\",$F322,\"-\",R$3),'Raw Data'!$A$2:$D$690331,4,FALSE),\"N/A\")","v":"N/A"},{"$f":"_xlfn.IFNA(VLOOKUP(_xlfn.CONCAT($C$2,\"-\",$E322,\"-\",$F322,\"-\",S$3),'Raw Data'!$A$2:$D$690331,4,FALSE),\"N/A\")","v":"N/A"}]
[null,null,null,null,15,11,null,{"$f":"_xlfn.IFNA(VLOOKUP(_xlfn.CONCAT($C$2,\"-\",$E323,\"-\",$F323,\"-\",H$3),'Raw Data'!$A$2:$D$690331,4,FALSE),\"N/A\")","v":"N/A"},{"$f":"_xlfn.IFNA(VLOOKUP(_xlfn.CONCAT($C$2,\"-\",$E323,\"-\",$F323,\"-\",I$3),'Raw Data'!$A$2:$D$690331,4,FALSE),\"N/A\")","v":"N/A"},{"$f":"_xlfn.IFNA(VLOOKUP(_xlfn.CONCAT($C$2,\"-\",$E323,\"-\",$F323,\"-\",J$3),'Raw Data'!$A$2:$D$690331,4,FALSE),\"N/A\")","v":"N/A"},{"$f":"_xlfn.IFNA(VLOOKUP(_xlfn.CONCAT($C$2,\"-\",$E323,\"-\",$F323,\"-\",K$3),'Raw Data'!$A$2:$D$690331,4,FALSE),\"N/A\")","v":"N/A"},{"$f":"_xlfn.IFNA(VLOOKUP(_xlfn.CONCAT($C$2,\"-\",$E323,\"-\",$F323,\"-\",L$3),'Raw Data'!$A$2:$D$690331,4,FALSE),\"N/A\")","v":"N/A"},{"$f":"_xlfn.IFNA(VLOOKUP(_xlfn.CONCAT($C$2,\"-\",$E323,\"-\",$F323,\"-\",M$3),'Raw Data'!$A$2:$D$690331,4,FALSE),\"N/A\")","v":"N/A"},{"$f":"_xlfn.IFNA(VLOOKUP(_xlfn.CONCAT($C$2,\"-\",$E323,\"-\",$F323,\"-\",N$3),'Raw Data'!$A$2:$D$690331,4,FALSE),\"N/A\")","v":"N/A"},{"$f":"_xlfn.IFNA(VLOOKUP(_xlfn.CONCAT($C$2,\"-\",$E323,\"-\",$F323,\"-\",O$3),'Raw Data'!$A$2:$D$690331,4,FALSE),\"N/A\")","v":"N/A"},{"$f":"_xlfn.IFNA(VLOOKUP(_xlfn.CONCAT($C$2,\"-\",$E323,\"-\",$F323,\"-\",P$3),'Raw Data'!$A$2:$D$690331,4,FALSE),\"N/A\")","v":"N/A"},{"$f":"_xlfn.IFNA(VLOOKUP(_xlfn.CONCAT($C$2,\"-\",$E323,\"-\",$F323,\"-\",Q$3),'Raw Data'!$A$2:$D$690331,4,FALSE),\"N/A\")","v":"N/A"},{"$f":"_xlfn.IFNA(VLOOKUP(_xlfn.CONCAT($C$2,\"-\",$E323,\"-\",$F323,\"-\",R$3),'Raw Data'!$A$2:$D$690331,4,FALSE),\"N/A\")","v":"N/A"},{"$f":"_xlfn.IFNA(VLOOKUP(_xlfn.CONCAT($C$2,\"-\",$E323,\"-\",$F323,\"-\",S$3),'Raw Data'!$A$2:$D$690331,4,FALSE),\"N/A\")","v":"N/A"}]
[null,null,null,null,16,11,null,{"$f":"_xlfn.IFNA(VLOOKUP(_xlfn.CONCAT($C$2,\"-\",$E324,\"-\",$F324,\"-\",H$3),'Raw Data'!$A$2:$D$690331,4,FALSE),\"N/A\")","v":"N/A"},{"$f":"_xlfn.IFNA(VLOOKUP(_xlfn.CONCAT($C$2,\"-\",$E324,\"-\",$F324,\"-\",I$3),'Raw Data'!$A$2:$D$690331,4,FALSE),\"N/A\")","v":"N/A"},{"$f":"_xlfn.IFNA(VLOOKUP(_xlfn.CONCAT($C$2,\"-\",$E324,\"-\",$F324,\"-\",J$3),'Raw Data'!$A$2:$D$690331,4,FALSE),\"N/A\")","v":"N/A"},{"$f":"_xlfn.IFNA(VLOOKUP(_xlfn.CONCAT($C$2,\"-\",$E324,\"-\",$F324,\"-\",K$3),'Raw Data'!$A$2:$D$690331,4,FALSE),\"N/A\")","v":"N/A"},{"$f":"_xlfn.IFNA(VLOOKUP(_xlfn.CONCAT($C$2,\"-\",$E324,\"-\",$F324,\"-\",L$3),'Raw Data'!$A$2:$D$690331,4,FALSE),\"N/A\")","v":"N/A"},{"$f":"_xlfn.IFNA(VLOOKUP(_xlfn.CONCAT($C$2,\"-\",$E324,\"-\",$F324,\"-\",M$3),'Raw Data'!$A$2:$D$690331,4,FALSE),\"N/A\")","v":"N/A"},{"$f":"_xlfn.IFNA(VLOOKUP(_xlfn.CONCAT($C$2,\"-\",$E324,\"-\",$F324,\"-\",N$3),'Raw Data'!$A$2:$D$690331,4,FALSE),\"N/A\")","v":"N/A"},{"$f":"_xlfn.IFNA(VLOOKUP(_xlfn.CONCAT($C$2,\"-\",$E324,\"-\",$F324,\"-\",O$3),'Raw Data'!$A$2:$D$690331,4,FALSE),\"N/A\")","v":"N/A"},{"$f":"_xlfn.IFNA(VLOOKUP(_xlfn.CONCAT($C$2,\"-\",$E324,\"-\",$F324,\"-\",P$3),'Raw Data'!$A$2:$D$690331,4,FALSE),\"N/A\")","v":"N/A"},{"$f":"_xlfn.IFNA(VLOOKUP(_xlfn.CONCAT($C$2,\"-\",$E324,\"-\",$F324,\"-\",Q$3),'Raw Data'!$A$2:$D$690331,4,FALSE),\"N/A\")","v":"N/A"},{"$f":"_xlfn.IFNA(VLOOKUP(_xlfn.CONCAT($C$2,\"-\",$E324,\"-\",$F324,\"-\",R$3),'Raw Data'!$A$2:$D$690331,4,FALSE),\"N/A\")","v":"N/A"},{"$f":"_xlfn.IFNA(VLOOKUP(_xlfn.CONCAT($C$2,\"-\",$E324,\"-\",$F324,\"-\",S$3),'Raw Data'!$A$2:$D$690331,4,FALSE),\"N/A\")","v":"N/A"}]
[null,null,null,null,17,11,null,{"$f":"_xlfn.IFNA(VLOOKUP(_xlfn.CONCAT($C$2,\"-\",$E325,\"-\",$F325,\"-\",H$3),'Raw Data'!$A$2:$D$690331,4,FALSE),\"N/A\")","v":"N/A"},{"$f":"_xlfn.IFNA(VLOOKUP(_xlfn.CONCAT($C$2,\"-\",$E325,\"-\",$F325,\"-\",I$3),'Raw Data'!$A$2:$D$690331,4,FALSE),\"N/A\")","v":"N/A"},{"$f":"_xlfn.IFNA(VLOOKUP(_xlfn.CONCAT($C$2,\"-\",$E325,\"-\",$F325,\"-\",J$3),'Raw Data'!$A$2:$D$690331,4,FALSE),\"N/A\")","v":"N/A"},{"$f":"_xlfn.IFNA(VLOOKUP(_xlfn.CONCAT($C$2,\"-\",$E325,\"-\",$F325,\"-\",K$3),'Raw Data'!$A$2:$D$690331,4,FALSE),\"N/A\")","v":"N/A"},{"$f":"_xlfn.IFNA(VLOOKUP(_xlfn.CONCAT($C$2,\"-\",$E325,\"-\",$F325,\"-\",L$3),'Raw Data'!$A$2:$D$690331,4,FALSE),\"N/A\")","v":"N/A"},{"$f":"_xlfn.IFNA(VLOOKUP(_xlfn.CONCAT($C$2,\"-\",$E325,\"-\",$F325,\"-\",M$3),'Raw Data'!$A$2:$D$690331,4,FALSE),\"N/A\")","v":"N/A"},{"$f":"_xlfn.IFNA(VLOOKUP(_xlfn.CONCAT($C$2,\"-\",$E325,\"-\",$F325,\"-\",N$3),'Raw Data'!$A$2:$D$690331,4,FALSE),\"N/A\")","v":"N/A"},{"$f":"_xlfn.IFNA(VLOOKUP(_xlfn.CONCAT($C$2,\"-\",$E325,\"-\",$F325,\"-\",O$3),'Raw Data'!$A$2:$D$690331,4,FALSE),\"N/A\")","v":"N/A"},{"$f":"_xlfn.IFNA(VLOOKUP(_xlfn.CONCAT($C$2,\"-\",$E325,\"-\",$F325,\"-\",P$3),'Raw Data'!$A$2:$D$690331,4,FALSE),\"N/A\")","v":"N/A"},{"$f":"_xlfn.IFNA(VLOOKUP(_xlfn.CONCAT($C$2,\"-\",$E325,\"-\",$F325,\"-\",Q$3),'Raw Data'!$A$2:$D$690331,4,FALSE),\"N/A\")","v":"N/A"},{"$f":"_xlfn.IFNA(VLOOKUP(_xlfn.CONCAT($C$2,\"-\",$E325,\"-\",$F325,\"-\",R$3),'Raw Data'!$A$2:$D$690331,4,FALSE),\"N/A\")","v":"N/A"},{"$f":"_xlfn.IFNA(VLOOKUP(_xlfn.CONCAT($C$2,\"-\",$E325,\"-\",$F325,\"-\",S$3),'Raw Data'!$A$2:$D$690331,4,FALSE),\"N/A\")","v":"N/A"}]
[null,null,null,null,18,11,null,{"$f":"_xlfn.IFNA(VLOOKUP(_xlfn.CONCAT($C$2,\"-\",$E326,\"-\",$F326,\"-\",H$3),'Raw Data'!$A$2:$D$690331,4,FALSE),\"N/A\")","v":"N/A"},{"$f":"_xlfn.IFNA(VLOOKUP(_xlfn.CONCAT($C$2,\"-\",$E326,\"-\",$F326,\"-\",I$3),'Raw Data'!$A$2:$D$690331,4,FALSE),\"N/A\")","v":"N/A"},{"$f":"_xlfn.IFNA(VLOOKUP(_xlfn.CONCAT($C$2,\"-\",$E326,\"-\",$F326,\"-\",J$3),'Raw Data'!$A$2:$D$690331,4,FALSE),\"N/A\")","v":"N/A"},{"$f":"_xlfn.IFNA(VLOOKUP(_xlfn.CONCAT($C$2,\"-\",$E326,\"-\",$F326,\"-\",K$3),'Raw Data'!$A$2:$D$690331,4,FALSE),\"N/A\")","v":"N/A"},{"$f":"_xlfn.IFNA(VLOOKUP(_xlfn.CONCAT($C$2,\"-\",$E326,\"-\",$F326,\"-\",L$3),'Raw Data'!$A$2:$D$690331,4,FALSE),\"N/A\")","v":"N/A"},{"$f":"_xlfn.IFNA(VLOOKUP(_xlfn.CONCAT($C$2,\"-\",$E326,\"-\",$F326,\"-\",M$3),'Raw Data'!$A$2:$D$690331,4,FALSE),\"N/A\")","v":"N/A"},{"$f":"_xlfn.IFNA(VLOOKUP(_xlfn.CONCAT($C$2,\"-\",$E326,\"-\",$F326,\"-\",N$3),'Raw Data'!$A$2:$D$690331,4,FALSE),\"N/A\")","v":"N/A"},{"$f":"_xlfn.IFNA(VLOOKUP(_xlfn.CONCAT($C$2,\"-\",$E326,\"-\",$F326,\"-\",O$3),'Raw Data'!$A$2:$D$690331,4,FALSE),\"N/A\")","v":"N/A"},{"$f":"_xlfn.IFNA(VLOOKUP(_xlfn.CONCAT($C$2,\"-\",$E326,\"-\",$F326,\"-\",P$3),'Raw Data'!$A$2:$D$690331,4,FALSE),\"N/A\")","v":"N/A"},{"$f":"_xlfn.IFNA(VLOOKUP(_xlfn.CONCAT($C$2,\"-\",$E326,\"-\",$F326,\"-\",Q$3),'Raw Data'!$A$2:$D$690331,4,FALSE),\"N/A\")","v":"N/A"},{"$f":"_xlfn.IFNA(VLOOKUP(_xlfn.CONCAT($C$2,\"-\",$E326,\"-\",$F326,\"-\",R$3),'Raw Data'!$A$2:$D$690331,4,FALSE),\"N/A\")","v":"N/A"},{"$f":"_xlfn.IFNA(VLOOKUP(_xlfn.CONCAT($C$2,\"-\",$E326,\"-\",$F326,\"-\",S$3),'Raw Data'!$A$2:$D$690331,4,FALSE),\"N/A\")","v":"N/A"}]
[null,null,null,null,19,11,null,{"$f":"_xlfn.IFNA(VLOOKUP(_xlfn.CONCAT($C$2,\"-\",$E327,\"-\",$F327,\"-\",H$3),'Raw Data'!$A$2:$D$690331,4,FALSE),\"N/A\")","v":"N/A"},{"$f":"_xlfn.IFNA(VLOOKUP(_xlfn.CONCAT($C$2,\"-\",$E327,\"-\",$F327,\"-\",I$3),'Raw Data'!$A$2:$D$690331,4,FALSE),\"N/A\")","v":"N/A"},{"$f":"_xlfn.IFNA(VLOOKUP(_xlfn.CONCAT($C$2,\"-\",$E327,\"-\",$F327,\"-\",J$3),'Raw Data'!$A$2:$D$690331,4,FALSE),\"N/A\")","v":"N/A"},{"$f":"_xlfn.IFNA(VLOOKUP(_xlfn.CONCAT($C$2,\"-\",$E327,\"-\",$F327,\"-\",K$3),'Raw Data'!$A$2:$D$690331,4,FALSE),\"N/A\")","v":"N/A"},{"$f":"_xlfn.IFNA(VLOOKUP(_xlfn.CONCAT($C$2,\"-\",$E327,\"-\",$F327,\"-\",L$3),'Raw Data'!$A$2:$D$690331,4,FALSE),\"N/A\")","v":"N/A"},{"$f":"_xlfn.IFNA(VLOOKUP(_xlfn.CONCAT($C$2,\"-\",$E327,\"-\",$F327,\"-\",M$3),'Raw Data'!$A$2:$D$690331,4,FALSE),\"N/A\")","v":"N/A"},{"$f":"_xlfn.IFNA(VLOOKUP(_xlfn.CONCAT($C$2,\"-\",$E327,\"-\",$F327,\"-\",N$3),'Raw Data'!$A$2:$D$690331,4,FALSE),\"N/A\")","v":"N/A"},{"$f":"_xlfn.IFNA(VLOOKUP(_xlfn.CONCAT($C$2,\"-\",$E327,\"-\",$F327,\"-\",O$3),'Raw Data'!$A$2:$D$690331,4,FALSE),\"N/A\")","v":"N/A"},{"$f":"_xlfn.IFNA(VLOOKUP(_xlfn.CONCAT($C$2,\"-\",$E327,\"-\",$F327,\"-\",P$3),'Raw Data'!$A$2:$D$690331,4,FALSE),\"N/A\")","v":"N/A"},{"$f":"_xlfn.IFNA(VLOOKUP(_xlfn.CONCAT($C$2,\"-\",$E327,\"-\",$F327,\"-\",Q$3),'Raw Data'!$A$2:$D$690331,4,FALSE),\"N/A\")","v":"N/A"},{"$f":"_xlfn.IFNA(VLOOKUP(_xlfn.CONCAT($C$2,\"-\",$E327,\"-\",$F327,\"-\",R$3),'Raw Data'!$A$2:$D$690331,4,FALSE),\"N/A\")","v":"N/A"},{"$f":"_xlfn.IFNA(VLOOKUP(_xlfn.CONCAT($C$2,\"-\",$E327,\"-\",$F327,\"-\",S$3),'Raw Data'!$A$2:$D$690331,4,FALSE),\"N/A\")","v":"N/A"}]
[null,null,null,null,20,11,null,{"$f":"_xlfn.IFNA(VLOOKUP(_xlfn.CONCAT($C$2,\"-\",$E328,\"-\",$F328,\"-\",H$3),'Raw Data'!$A$2:$D$690331,4,FALSE),\"N/A\")","v":"N/A"},{"$f":"_xlfn.IFNA(VLOOKUP(_xlfn.CONCAT($C$2,\"-\",$E328,\"-\",$F328,\"-\",I$3),'Raw Data'!$A$2:$D$690331,4,FALSE),\"N/A\")","v":"N/A"},{"$f":"_xlfn.IFNA(VLOOKUP(_xlfn.CONCAT($C$2,\"-\",$E328,\"-\",$F328,\"-\",J$3),'Raw Data'!$A$2:$D$690331,4,FALSE),\"N/A\")","v":"N/A"},{"$f":"_xlfn.IFNA(VLOOKUP(_xlfn.CONCAT($C$2,\"-\",$E328,\"-\",$F328,\"-\",K$3),'Raw Data'!$A$2:$D$690331,4,FALSE),\"N/A\")","v":"N/A"},{"$f":"_xlfn.IFNA(VLOOKUP(_xlfn.CONCAT($C$2,\"-\",$E328,\"-\",$F328,\"-\",L$3),'Raw Data'!$A$2:$D$690331,4,FALSE),\"N/A\")","v":"N/A"},{"$f":"_xlfn.IFNA(VLOOKUP(_xlfn.CONCAT($C$2,\"-\",$E328,\"-\",$F328,\"-\",M$3),'Raw Data'!$A$2:$D$690331,4,FALSE),\"N/A\")","v":"N/A"},{"$f":"_xlfn.IFNA(VLOOKUP(_xlfn.CONCAT($C$2,\"-\",$E328,\"-\",$F328,\"-\",N$3),'Raw Data'!$A$2:$D$690331,4,FALSE),\"N/A\")","v":"N/A"},{"$f":"_xlfn.IFNA(VLOOKUP(_xlfn.CONCAT($C$2,\"-\",$E328,\"-\",$F328,\"-\",O$3),'Raw Data'!$A$2:$D$690331,4,FALSE),\"N/A\")","v":"N/A"},{"$f":"_xlfn.IFNA(VLOOKUP(_xlfn.CONCAT($C$2,\"-\",$E328,\"-\",$F328,\"-\",P$3),'Raw Data'!$A$2:$D$690331,4,FALSE),\"N/A\")","v":"N/A"},{"$f":"_xlfn.IFNA(VLOOKUP(_xlfn.CONCAT($C$2,\"-\",$E328,\"-\",$F328,\"-\",Q$3),'Raw Data'!$A$2:$D$690331,4,FALSE),\"N/A\")","v":"N/A"},{"$f":"_xlfn.IFNA(VLOOKUP(_xlfn.CONCAT($C$2,\"-\",$E328,\"-\",$F328,\"-\",R$3),'Raw Data'!$A$2:$D$690331,4,FALSE),\"N/A\")","v":"N/A"},{"$f":"_xlfn.IFNA(VLOOKUP(_xlfn.CONCAT($C$2,\"-\",$E328,\"-\",$F328,\"-\",S$3),'Raw Data'!$A$2:$D$690331,4,FALSE),\"N/A\")","v":"N/A"}]
[null,null,null,null,21,11,null,{"$f":"_xlfn.IFNA(VLOOKUP(_xlfn.CONCAT($C$2,\"-\",$E329,\"-\",$F329,\"-\",H$3),'Raw Data'!$A$2:$D$690331,4,FALSE),\"N/A\")","v":"N/A"},{"$f":"_xlfn.IFNA(VLOOKUP(_xlfn.CONCAT($C$2,\"-\",$E329,\"-\",$F329,\"-\",I$3),'Raw Data'!$A$2:$D$690331,4,FALSE),\"N/A\")","v":"N/A"},{"$f":"_xlfn.IFNA(VLOOKUP(_xlfn.CONCAT($C$2,\"-\",$E329,\"-\",$F329,\"-\",J$3),'Raw Data'!$A$2:$D$690331,4,FALSE),\"N/A\")","v":"N/A"},{"$f":"_xlfn.IFNA(VLOOKUP(_xlfn.CONCAT($C$2,\"-\",$E329,\"-\",$F329,\"-\",K$3),'Raw Data'!$A$2:$D$690331,4,FALSE),\"N/A\")","v":"N/A"},{"$f":"_xlfn.IFNA(VLOOKUP(_xlfn.CONCAT($C$2,\"-\",$E329,\"-\",$F329,\"-\",L$3),'Raw Data'!$A$2:$D$690331,4,FALSE),\"N/A\")","v":"N/A"},{"$f":"_xlfn.IFNA(VLOOKUP(_xlfn.CONCAT($C$2,\"-\",$E329,\"-\",$F329,\"-\",M$3),'Raw Data'!$A$2:$D$690331,4,FALSE),\"N/A\")","v":"N/A"},{"$f":"_xlfn.IFNA(VLOOKUP(_xlfn.CONCAT($C$2,\"-\",$E329,\"-\",$F329,\"-\",N$3),'Raw Data'!$A$2:$D$690331,4,FALSE),\"N/A\")","v":"N/A"},{"$f":"_xlfn.IFNA(VLOOKUP(_xlfn.CONCAT($C$2,\"-\",$E329,\"-\",$F329,\"-\",O$3),'Raw Data'!$A$2:$D$690331,4,FALSE),\"N/A\")","v":"N/A"},{"$f":"_xlfn.IFNA(VLOOKUP(_xlfn.CONCAT($C$2,\"-\",$E329,\"-\",$F329,\"-\",P$3),'Raw Data'!$A$2:$D$690331,4,FALSE),\"N/A\")","v":"N/A"},{"$f":"_xlfn.IFNA(VLOOKUP(_xlfn.CONCAT($C$2,\"-\",$E329,\"-\",$F329,\"-\",Q$3),'Raw Data'!$A$2:$D$690331,4,FALSE),\"N/A\")","v":"N/A"},{"$f":"_xlfn.IFNA(VLOOKUP(_xlfn.CONCAT($C$2,\"-\",$E329,\"-\",$F329,\"-\",R$3),'Raw Data'!$A$2:$D$690331,4,FALSE),\"N/A\")","v":"N/A"},{"$f":"_xlfn.IFNA(VLOOKUP(_xlfn.CONCAT($C$2,\"-\",$E329,\"-\",$F329,\"-\",S$3),'Raw Data'!$A$2:$D$690331,4,FALSE),\"N/A\")","v":"N/A"}]
[null,null,null,null,22,11,null,{"$f":"_xlfn.IFNA(VLOOKUP(_xlfn.CONCAT($C$2,\"-\",$E330,\"-\",$F330,\"-\",H$3),'Raw Data'!$A$2:$D$690331,4,FALSE),\"N/A\")","v":"N/A"},{"$f":"_xlfn.IFNA(VLOOKUP(_xlfn.CONCAT($C$2,\"-\",$E330,\"-\",$F330,\"-\",I$3),'Raw Data'!$A$2:$D$690331,4,FALSE),\"N/A\")","v":"N/A"},{"$f":"_xlfn.IFNA(VLOOKUP(_xlfn.CONCAT($C$2,\"-\",$E330,\"-\",$F330,\"-\",J$3),'Raw Data'!$A$2:$D$690331,4,FALSE),\"N/A\")","v":"N/A"},{"$f":"_xlfn.IFNA(VLOOKUP(_xlfn.CONCAT($C$2,\"-\",$E330,\"-\",$F330,\"-\",K$3),'Raw Data'!$A$2:$D$690331,4,FALSE),\"N/A\")","v":"N/A"},{"$f":"_xlfn.IFNA(VLOOKUP(_xlfn.CONCAT($C$2,\"-\",$E330,\"-\",$F330,\"-\",L$3),'Raw Data'!$A$2:$D$690331,4,FALSE),\"N/A\")","v":"N/A"},{"$f":"_xlfn.IFNA(VLOOKUP(_xlfn.CONCAT($C$2,\"-\",$E330,\"-\",$F330,\"-\",M$3),'Raw Data'!$A$2:$D$690331,4,FALSE),\"N/A\")","v":"N/A"},{"$f":"_xlfn.IFNA(VLOOKUP(_xlfn.CONCAT($C$2,\"-\",$E330,\"-\",$F330,\"-\",N$3),'Raw Data'!$A$2:$D$690331,4,FALSE),\"N/A\")","v":"N/A"},{"$f":"_xlfn.IFNA(VLOOKUP(_xlfn.CONCAT($C$2,\"-\",$E330,\"-\",$F330,\"-\",O$3),'Raw Data'!$A$2:$D$690331,4,FALSE),\"N/A\")","v":"N/A"},{"$f":"_xlfn.IFNA(VLOOKUP(_xlfn.CONCAT($C$2,\"-\",$E330,\"-\",$F330,\"-\",P$3),'Raw Data'!$A$2:$D$690331,4,FALSE),\"N/A\")","v":"N/A"},{"$f":"_xlfn.IFNA(VLOOKUP(_xlfn.CONCAT($C$2,\"-\",$E330,\"-\",$F330,\"-\",Q$3),'Raw Data'!$A$2:$D$690331,4,FALSE),\"N/A\")","v":"N/A"},{"$f":"_xlfn.IFNA(VLOOKUP(_xlfn.CONCAT($C$2,\"-\",$E330,\"-\",$F330,\"-\",R$3),'Raw Data'!$A$2:$D$690331,4,FALSE),\"N/A\")","v":"N/A"},{"$f":"_xlfn.IFNA(VLOOKUP(_xlfn.CONCAT($C$2,\"-\",$E330,\"-\",$F330,\"-\",S$3),'Raw Data'!$A$2:$D$690331,4,FALSE),\"N/A\")","v":"N/A"}]
[null,null,null,null,23,11,null,{"$f":"_xlfn.IFNA(VLOOKUP(_xlfn.CONCAT($C$2,\"-\",$E331,\"-\",$F331,\"-\",H$3),'Raw Data'!$A$2:$D$690331,4,FALSE),\"N/A\")","v":"N/A"},{"$f":"_xlfn.IFNA(VLOOKUP(_xlfn.CONCAT($C$2,\"-\",$E331,\"-\",$F331,\"-\",I$3),'Raw Data'!$A$2:$D$690331,4,FALSE),\"N/A\")","v":"N/A"},{"$f":"_xlfn.IFNA(VLOOKUP(_xlfn.CONCAT($C$2,\"-\",$E331,\"-\",$F331,\"-\",J$3),'Raw Data'!$A$2:$D$690331,4,FALSE),\"N/A\")","v":"N/A"},{"$f":"_xlfn.IFNA(VLOOKUP(_xlfn.CONCAT($C$2,\"-\",$E331,\"-\",$F331,\"-\",K$3),'Raw Data'!$A$2:$D$690331,4,FALSE),\"N/A\")","v":"N/A"},{"$f":"_xlfn.IFNA(VLOOKUP(_xlfn.CONCAT($C$2,\"-\",$E331,\"-\",$F331,\"-\",L$3),'Raw Data'!$A$2:$D$690331,4,FALSE),\"N/A\")","v":"N/A"},{"$f":"_xlfn.IFNA(VLOOKUP(_xlfn.CONCAT($C$2,\"-\",$E331,\"-\",$F331,\"-\",M$3),'Raw Data'!$A$2:$D$690331,4,FALSE),\"N/A\")","v":"N/A"},{"$f":"_xlfn.IFNA(VLOOKUP(_xlfn.CONCAT($C$2,\"-\",$E331,\"-\",$F331,\"-\",N$3),'Raw Data'!$A$2:$D$690331,4,FALSE),\"N/A\")","v":"N/A"},{"$f":"_xlfn.IFNA(VLOOKUP(_xlfn.CONCAT($C$2,\"-\",$E331,\"-\",$F331,\"-\",O$3),'Raw Data'!$A$2:$D$690331,4,FALSE),\"N/A\")","v":"N/A"},{"$f":"_xlfn.IFNA(VLOOKUP(_xlfn.CONCAT($C$2,\"-\",$E331,\"-\",$F331,\"-\",P$3),'Raw Data'!$A$2:$D$690331,4,FALSE),\"N/A\")","v":"N/A"},{"$f":"_xlfn.IFNA(VLOOKUP(_xlfn.CONCAT($C$2,\"-\",$E331,\"-\",$F331,\"-\",Q$3),'Raw Data'!$A$2:$D$690331,4,FALSE),\"N/A\")","v":"N/A"},{"$f":"_xlfn.IFNA(VLOOKUP(_xlfn.CONCAT($C$2,\"-\",$E331,\"-\",$F331,\"-\",R$3),'Raw Data'!$A$2:$D$690331,4,FALSE),\"N/A\")","v":"N/A"},{"$f":"_xlfn.IFNA(VLOOKUP(_xlfn.CONCAT($C$2,\"-\",$E331,\"-\",$F331,\"-\",S$3),'Raw Data'!$A$2:$D$690331,4,FALSE),\"N/A\")","v":"N/A"}]
[null,null,null,null,24,11,null,{"$f":"_xlfn.IFNA(VLOOKUP(_xlfn.CONCAT($C$2,\"-\",$E332,\"-\",$F332,\"-\",H$3),'Raw Data'!$A$2:$D$690331,4,FALSE),\"N/A\")","v":"N/A"},{"$f":"_xlfn.IFNA(VLOOKUP(_xlfn.CONCAT($C$2,\"-\",$E332,\"-\",$F332,\"-\",I$3),'Raw Data'!$A$2:$D$690331,4,FALSE),\"N/A\")","v":"N/A"},{"$f":"_xlfn.IFNA(VLOOKUP(_xlfn.CONCAT($C$2,\"-\",$E332,\"-\",$F332,\"-\",J$3),'Raw Data'!$A$2:$D$690331,4,FALSE),\"N/A\")","v":"N/A"},{"$f":"_xlfn.IFNA(VLOOKUP(_xlfn.CONCAT($C$2,\"-\",$E332,\"-\",$F332,\"-\",K$3),'Raw Data'!$A$2:$D$690331,4,FALSE),\"N/A\")","v":"N/A"},{"$f":"_xlfn.IFNA(VLOOKUP(_xlfn.CONCAT($C$2,\"-\",$E332,\"-\",$F332,\"-\",L$3),'Raw Data'!$A$2:$D$690331,4,FALSE),\"N/A\")","v":"N/A"},{"$f":"_xlfn.IFNA(VLOOKUP(_xlfn.CONCAT($C$2,\"-\",$E332,\"-\",$F332,\"-\",M$3),'Raw Data'!$A$2:$D$690331,4,FALSE),\"N/A\")","v":"N/A"},{"$f":"_xlfn.IFNA(VLOOKUP(_xlfn.CONCAT($C$2,\"-\",$E332,\"-\",$F332,\"-\",N$3),'Raw Data'!$A$2:$D$690331,4,FALSE),\"N/A\")","v":"N/A"},{"$f":"_xlfn.IFNA(VLOOKUP(_xlfn.CONCAT($C$2,\"-\",$E332,\"-\",$F332,\"-\",O$3),'Raw Data'!$A$2:$D$690331,4,FALSE),\"N/A\")","v":"N/A"},{"$f":"_xlfn.IFNA(VLOOKUP(_xlfn.CONCAT($C$2,\"-\",$E332,\"-\",$F332,\"-\",P$3),'Raw Data'!$A$2:$D$690331,4,FALSE),\"N/A\")","v":"N/A"},{"$f":"_xlfn.IFNA(VLOOKUP(_xlfn.CONCAT($C$2,\"-\",$E332,\"-\",$F332,\"-\",Q$3),'Raw Data'!$A$2:$D$690331,4,FALSE),\"N/A\")","v":"N/A"},{"$f":"_xlfn.IFNA(VLOOKUP(_xlfn.CONCAT($C$2,\"-\",$E332,\"-\",$F332,\"-\",R$3),'Raw Data'!$A$2:$D$690331,4,FALSE),\"N/A\")","v":"N/A"},{"$f":"_xlfn.IFNA(VLOOKUP(_xlfn.CONCAT($C$2,\"-\",$E332,\"-\",$F332,\"-\",S$3),'Raw Data'!$A$2:$D$690331,4,FALSE),\"N/A\")","v":"N/A"}]
[null,null,null,null,25,11,null,{"$f":"_xlfn.IFNA(VLOOKUP(_xlfn.CONCAT($C$2,\"-\",$E333,\"-\",$F333,\"-\",H$3),'Raw Data'!$A$2:$D$690331,4,FALSE),\"N/A\")","v":"N/A"},{"$f":"_xlfn.IFNA(VLOOKUP(_xlfn.CONCAT($C$2,\"-\",$E333,\"-\",$F333,\"-\",I$3),'Raw Data'!$A$2:$D$690331,4,FALSE),\"N/A\")","v":"N/A"},{"$f":"_xlfn.IFNA(VLOOKUP(_xlfn.CONCAT($C$2,\"-\",$E333,\"-\",$F333,\"-\",J$3),'Raw Data'!$A$2:$D$690331,4,FALSE),\"N/A\")","v":"N/A"},{"$f":"_xlfn.IFNA(VLOOKUP(_xlfn.CONCAT($C$2,\"-\",$E333,\"-\",$F333,\"-\",K$3),'Raw Data'!$A$2:$D$690331,4,FALSE),\"N/A\")","v":"N/A"},{"$f":"_xlfn.IFNA(VLOOKUP(_xlfn.CONCAT($C$2,\"-\",$E333,\"-\",$F333,\"-\",L$3),'Raw Data'!$A$2:$D$690331,4,FALSE),\"N/A\")","v":"N/A"},{"$f":"_xlfn.IFNA(VLOOKUP(_xlfn.CONCAT($C$2,\"-\",$E333,\"-\",$F333,\"-\",M$3),'Raw Data'!$A$2:$D$690331,4,FALSE),\"N/A\")","v":"N/A"},{"$f":"_xlfn.IFNA(VLOOKUP(_xlfn.CONCAT($C$2,\"-\",$E333,\"-\",$F333,\"-\",N$3),'Raw Data'!$A$2:$D$690331,4,FALSE),\"N/A\")","v":"N/A"},{"$f":"_xlfn.IFNA(VLOOKUP(_xlfn.CONCAT($C$2,\"-\",$E333,\"-\",$F333,\"-\",O$3),'Raw Data'!$A$2:$D$690331,4,FALSE),\"N/A\")","v":"N/A"},{"$f":"_xlfn.IFNA(VLOOKUP(_xlfn.CONCAT($C$2,\"-\",$E333,\"-\",$F333,\"-\",P$3),'Raw Data'!$A$2:$D$690331,4,FALSE),\"N/A\")","v":"N/A"},{"$f":"_xlfn.IFNA(VLOOKUP(_xlfn.CONCAT($C$2,\"-\",$E333,\"-\",$F333,\"-\",Q$3),'Raw Data'!$A$2:$D$690331,4,FALSE),\"N/A\")","v":"N/A"},{"$f":"_xlfn.IFNA(VLOOKUP(_xlfn.CONCAT($C$2,\"-\",$E333,\"-\",$F333,\"-\",R$3),'Raw Data'!$A$2:$D$690331,4,FALSE),\"N/A\")","v":"N/A"},{"$f":"_xlfn.IFNA(VLOOKUP(_xlfn.CONCAT($C$2,\"-\",$E333,\"-\",$F333,\"-\",S$3),'Raw Data'!$A$2:$D$690331,4,FALSE),\"N/A\")","v":"N/A"}]
[null,null,null,null,26,11,null,{"$f":"_xlfn.IFNA(VLOOKUP(_xlfn.CONCAT($C$2,\"-\",$E334,\"-\",$F334,\"-\",H$3),'Raw Data'!$A$2:$D$690331,4,FALSE),\"N/A\")","v":"N/A"},{"$f":"_xlfn.IFNA(VLOOKUP(_xlfn.CONCAT($C$2,\"-\",$E334,\"-\",$F334,\"-\",I$3),'Raw Data'!$A$2:$D$690331,4,FALSE),\"N/A\")","v":"N/A"},{"$f":"_xlfn.IFNA(VLOOKUP(_xlfn.CONCAT($C$2,\"-\",$E334,\"-\",$F334,\"-\",J$3),'Raw Data'!$A$2:$D$690331,4,FALSE),\"N/A\")","v":"N/A"},{"$f":"_xlfn.IFNA(VLOOKUP(_xlfn.CONCAT($C$2,\"-\",$E334,\"-\",$F334,\"-\",K$3),'Raw Data'!$A$2:$D$690331,4,FALSE),\"N/A\")","v":"N/A"},{"$f":"_xlfn.IFNA(VLOOKUP(_xlfn.CONCAT($C$2,\"-\",$E334,\"-\",$F334,\"-\",L$3),'Raw Data'!$A$2:$D$690331,4,FALSE),\"N/A\")","v":"N/A"},{"$f":"_xlfn.IFNA(VLOOKUP(_xlfn.CONCAT($C$2,\"-\",$E334,\"-\",$F334,\"-\",M$3),'Raw Data'!$A$2:$D$690331,4,FALSE),\"N/A\")","v":"N/A"},{"$f":"_xlfn.IFNA(VLOOKUP(_xlfn.CONCAT($C$2,\"-\",$E334,\"-\",$F334,\"-\",N$3),'Raw Data'!$A$2:$D$690331,4,FALSE),\"N/A\")","v":"N/A"},{"$f":"_xlfn.IFNA(VLOOKUP(_xlfn.CONCAT($C$2,\"-\",$E334,\"-\",$F334,\"-\",O$3),'Raw Data'!$A$2:$D$690331,4,FALSE),\"N/A\")","v":"N/A"},{"$f":"_xlfn.IFNA(VLOOKUP(_xlfn.CONCAT($C$2,\"-\",$E334,\"-\",$F334,\"-\",P$3),'Raw Data'!$A$2:$D$690331,4,FALSE),\"N/A\")","v":"N/A"},{"$f":"_xlfn.IFNA(VLOOKUP(_xlfn.CONCAT($C$2,\"-\",$E334,\"-\",$F334,\"-\",Q$3),'Raw Data'!$A$2:$D$690331,4,FALSE),\"N/A\")","v":"N/A"},{"$f":"_xlfn.IFNA(VLOOKUP(_xlfn.CONCAT($C$2,\"-\",$E334,\"-\",$F334,\"-\",R$3),'Raw Data'!$A$2:$D$690331,4,FALSE),\"N/A\")","v":"N/A"},{"$f":"_xlfn.IFNA(VLOOKUP(_xlfn.CONCAT($C$2,\"-\",$E334,\"-\",$F334,\"-\",S$3),'Raw Data'!$A$2:$D$690331,4,FALSE),\"N/A\")","v":"N/A"}]
[null,null,null,null,27,11,null,{"$f":"_xlfn.IFNA(VLOOKUP(_xlfn.CONCAT($C$2,\"-\",$E335,\"-\",$F335,\"-\",H$3),'Raw Data'!$A$2:$D$690331,4,FALSE),\"N/A\")","v":"N/A"},{"$f":"_xlfn.IFNA(VLOOKUP(_xlfn.CONCAT($C$2,\"-\",$E335,\"-\",$F335,\"-\",I$3),'Raw Data'!$A$2:$D$690331,4,FALSE),\"N/A\")","v":"N/A"},{"$f":"_xlfn.IFNA(VLOOKUP(_xlfn.CONCAT($C$2,\"-\",$E335,\"-\",$F335,\"-\",J$3),'Raw Data'!$A$2:$D$690331,4,FALSE),\"N/A\")","v":"N/A"},{"$f":"_xlfn.IFNA(VLOOKUP(_xlfn.CONCAT($C$2,\"-\",$E335,\"-\",$F335,\"-\",K$3),'Raw Data'!$A$2:$D$690331,4,FALSE),\"N/A\")","v":"N/A"},{"$f":"_xlfn.IFNA(VLOOKUP(_xlfn.CONCAT($C$2,\"-\",$E335,\"-\",$F335,\"-\",L$3),'Raw Data'!$A$2:$D$690331,4,FALSE),\"N/A\")","v":"N/A"},{"$f":"_xlfn.IFNA(VLOOKUP(_xlfn.CONCAT($C$2,\"-\",$E335,\"-\",$F335,\"-\",M$3),'Raw Data'!$A$2:$D$690331,4,FALSE),\"N/A\")","v":"N/A"},{"$f":"_xlfn.IFNA(VLOOKUP(_xlfn.CONCAT($C$2,\"-\",$E335,\"-\",$F335,\"-\",N$3),'Raw Data'!$A$2:$D$690331,4,FALSE),\"N/A\")","v":"N/A"},{"$f":"_xlfn.IFNA(VLOOKUP(_xlfn.CONCAT($C$2,\"-\",$E335,\"-\",$F335,\"-\",O$3),'Raw Data'!$A$2:$D$690331,4,FALSE),\"N/A\")","v":"N/A"},{"$f":"_xlfn.IFNA(VLOOKUP(_xlfn.CONCAT($C$2,\"-\",$E335,\"-\",$F335,\"-\",P$3),'Raw Data'!$A$2:$D$690331,4,FALSE),\"N/A\")","v":"N/A"},{"$f":"_xlfn.IFNA(VLOOKUP(_xlfn.CONCAT($C$2,\"-\",$E335,\"-\",$F335,\"-\",Q$3),'Raw Data'!$A$2:$D$690331,4,FALSE),\"N/A\")","v":"N/A"},{"$f":"_xlfn.IFNA(VLOOKUP(_xlfn.CONCAT($C$2,\"-\",$E335,\"-\",$F335,\"-\",R$3),'Raw Data'!$A$2:$D$690331,4,FALSE),\"N/A\")","v":"N/A"},{"$f":"_xlfn.IFNA(VLOOKUP(_xlfn.CONCAT($C$2,\"-\",$E335,\"-\",$F335,\"-\",S$3),'Raw Data'!$A$2:$D$690331,4,FALSE),\"N/A\")","v":"N/A"}]
[null,null,null,null,28,11,null,{"$f":"_xlfn.IFNA(VLOOKUP(_xlfn.CONCAT($C$2,\"-\",$E336,\"-\",$F336,\"-\",H$3),'Raw Data'!$A$2:$D$690331,4,FALSE),\"N/A\")","v":"N/A"},{"$f":"_xlfn.IFNA(VLOOKUP(_xlfn.CONCAT($C$2,\"-\",$E336,\"-\",$F336,\"-\",I$3),'Raw Data'!$A$2:$D$690331,4,FALSE),\"N/A\")","v":"N/A"},{"$f":"_xlfn.IFNA(VLOOKUP(_xlfn.CONCAT($C$2,\"-\",$E336,\"-\",$F336,\"-\",J$3),'Raw Data'!$A$2:$D$690331,4,FALSE),\"N/A\")","v":"N/A"},{"$f":"_xlfn.IFNA(VLOOKUP(_xlfn.CONCAT($C$2,\"-\",$E336,\"-\",$F336,\"-\",K$3),'Raw Data'!$A$2:$D$690331,4,FALSE),\"N/A\")","v":"N/A"},{"$f":"_xlfn.IFNA(VLOOKUP(_xlfn.CONCAT($C$2,\"-\",$E336,\"-\",$F336,\"-\",L$3),'Raw Data'!$A$2:$D$690331,4,FALSE),\"N/A\")","v":"N/A"},{"$f":"_xlfn.IFNA(VLOOKUP(_xlfn.CONCAT($C$2,\"-\",$E336,\"-\",$F336,\"-\",M$3),'Raw Data'!$A$2:$D$690331,4,FALSE),\"N/A\")","v":"N/A"},{"$f":"_xlfn.IFNA(VLOOKUP(_xlfn.CONCAT($C$2,\"-\",$E336,\"-\",$F336,\"-\",N$3),'Raw Data'!$A$2:$D$690331,4,FALSE),\"N/A\")","v":"N/A"},{"$f":"_xlfn.IFNA(VLOOKUP(_xlfn.CONCAT($C$2,\"-\",$E336,\"-\",$F336,\"-\",O$3),'Raw Data'!$A$2:$D$690331,4,FALSE),\"N/A\")","v":"N/A"},{"$f":"_xlfn.IFNA(VLOOKUP(_xlfn.CONCAT($C$2,\"-\",$E336,\"-\",$F336,\"-\",P$3),'Raw Data'!$A$2:$D$690331,4,FALSE),\"N/A\")","v":"N/A"},{"$f":"_xlfn.IFNA(VLOOKUP(_xlfn.CONCAT($C$2,\"-\",$E336,\"-\",$F336,\"-\",Q$3),'Raw Data'!$A$2:$D$690331,4,FALSE),\"N/A\")","v":"N/A"},{"$f":"_xlfn.IFNA(VLOOKUP(_xlfn.CONCAT($C$2,\"-\",$E336,\"-\",$F336,\"-\",R$3),'Raw Data'!$A$2:$D$690331,4,FALSE),\"N/A\")","v":"N/A"},{"$f":"_xlfn.IFNA(VLOOKUP(_xlfn.CONCAT($C$2,\"-\",$E336,\"-\",$F336,\"-\",S$3),'Raw Data'!$A$2:$D$690331,4,FALSE),\"N/A\")","v":"N/A"}]
[null,null,null,null,29,11,null,{"$f":"_xlfn.IFNA(VLOOKUP(_xlfn.CONCAT($C$2,\"-\",$E337,\"-\",$F337,\"-\",H$3),'Raw Data'!$A$2:$D$690331,4,FALSE),\"N/A\")","v":"N/A"},{"$f":"_xlfn.IFNA(VLOOKUP(_xlfn.CONCAT($C$2,\"-\",$E337,\"-\",$F337,\"-\",I$3),'Raw Data'!$A$2:$D$690331,4,FALSE),\"N/A\")","v":"N/A"},{"$f":"_xlfn.IFNA(VLOOKUP(_xlfn.CONCAT($C$2,\"-\",$E337,\"-\",$F337,\"-\",J$3),'Raw Data'!$A$2:$D$690331,4,FALSE),\"N/A\")","v":"N/A"},{"$f":"_xlfn.IFNA(VLOOKUP(_xlfn.CONCAT($C$2,\"-\",$E337,\"-\",$F337,\"-\",K$3),'Raw Data'!$A$2:$D$690331,4,FALSE),\"N/A\")","v":"N/A"},{"$f":"_xlfn.IFNA(VLOOKUP(_xlfn.CONCAT($C$2,\"-\",$E337,\"-\",$F337,\"-\",L$3),'Raw Data'!$A$2:$D$690331,4,FALSE),\"N/A\")","v":"N/A"},{"$f":"_xlfn.IFNA(VLOOKUP(_xlfn.CONCAT($C$2,\"-\",$E337,\"-\",$F337,\"-\",M$3),'Raw Data'!$A$2:$D$690331,4,FALSE),\"N/A\")","v":"N/A"},{"$f":"_xlfn.IFNA(VLOOKUP(_xlfn.CONCAT($C$2,\"-\",$E337,\"-\",$F337,\"-\",N$3),'Raw Data'!$A$2:$D$690331,4,FALSE),\"N/A\")","v":"N/A"},{"$f":"_xlfn.IFNA(VLOOKUP(_xlfn.CONCAT($C$2,\"-\",$E337,\"-\",$F337,\"-\",O$3),'Raw Data'!$A$2:$D$690331,4,FALSE),\"N/A\")","v":"N/A"},{"$f":"_xlfn.IFNA(VLOOKUP(_xlfn.CONCAT($C$2,\"-\",$E337,\"-\",$F337,\"-\",P$3),'Raw Data'!$A$2:$D$690331,4,FALSE),\"N/A\")","v":"N/A"},{"$f":"_xlfn.IFNA(VLOOKUP(_xlfn.CONCAT($C$2,\"-\",$E337,\"-\",$F337,\"-\",Q$3),'Raw Data'!$A$2:$D$690331,4,FALSE),\"N/A\")","v":"N/A"},{"$f":"_xlfn.IFNA(VLOOKUP(_xlfn.CONCAT($C$2,\"-\",$E337,\"-\",$F337,\"-\",R$3),'Raw Data'!$A$2:$D$690331,4,FALSE),\"N/A\")","v":"N/A"},{"$f":"_xlfn.IFNA(VLOOKUP(_xlfn.CONCAT($C$2,\"-\",$E337,\"-\",$F337,\"-\",S$3),'Raw Data'!$A$2:$D$690331,4,FALSE),\"N/A\")","v":"N/A"}]
[null,null,null,null,30,11,null,{"$f":"_xlfn.IFNA(VLOOKUP(_xlfn.CONCAT($C$2,\"-\",$E338,\"-\",$F338,\"-\",H$3),'Raw Data'!$A$2:$D$690331,4,FALSE),\"N/A\")","v":"N/A"},{"$f":"_xlfn.IFNA(VLOOKUP(_xlfn.CONCAT($C$2,\"-\",$E338,\"-\",$F338,\"-\",I$3),'Raw Data'!$A$2:$D$690331,4,FALSE),\"N/A\")","v":"N/A"},{"$f":"_xlfn.IFNA(VLOOKUP(_xlfn.CONCAT($C$2,\"-\",$E338,\"-\",$F338,\"-\",J$3),'Raw Data'!$A$2:$D$690331,4,FALSE),\"N/A\")","v":"N/A"},{"$f":"_xlfn.IFNA(VLOOKUP(_xlfn.CONCAT($C$2,\"-\",$E338,\"-\",$F338,\"-\",K$3),'Raw Data'!$A$2:$D$690331,4,FALSE),\"N/A\")","v":"N/A"},{"$f":"_xlfn.IFNA(VLOOKUP(_xlfn.CONCAT($C$2,\"-\",$E338,\"-\",$F338,\"-\",L$3),'Raw Data'!$A$2:$D$690331,4,FALSE),\"N/A\")","v":"N/A"},{"$f":"_xlfn.IFNA(VLOOKUP(_xlfn.CONCAT($C$2,\"-\",$E338,\"-\",$F338,\"-\",M$3),'Raw Data'!$A$2:$D$690331,4,FALSE),\"N/A\")","v":"N/A"},{"$f":"_xlfn.IFNA(VLOOKUP(_xlfn.CONCAT($C$2,\"-\",$E338,\"-\",$F338,\"-\",N$3),'Raw Data'!$A$2:$D$690331,4,FALSE),\"N/A\")","v":"N/A"},{"$f":"_xlfn.IFNA(VLOOKUP(_xlfn.CONCAT($C$2,\"-\",$E338,\"-\",$F338,\"-\",O$3),'Raw Data'!$A$2:$D$690331,4,FALSE),\"N/A\")","v":"N/A"},{"$f":"_xlfn.IFNA(VLOOKUP(_xlfn.CONCAT($C$2,\"-\",$E338,\"-\",$F338,\"-\",P$3),'Raw Data'!$A$2:$D$690331,4,FALSE),\"N/A\")","v":"N/A"},{"$f":"_xlfn.IFNA(VLOOKUP(_xlfn.CONCAT($C$2,\"-\",$E338,\"-\",$F338,\"-\",Q$3),'Raw Data'!$A$2:$D$690331,4,FALSE),\"N/A\")","v":"N/A"},{"$f":"_xlfn.IFNA(VLOOKUP(_xlfn.CONCAT($C$2,\"-\",$E338,\"-\",$F338,\"-\",R$3),'Raw Data'!$A$2:$D$690331,4,FALSE),\"N/A\")","v":"N/A"},{"$f":"_xlfn.IFNA(VLOOKUP(_xlfn.CONCAT($C$2,\"-\",$E338,\"-\",$F338,\"-\",S$3),'Raw Data'!$A$2:$D$690331,4,FALSE),\"N/A\")","v":"N/A"}]
[null,null,null,null,1,12,null,{"$f":"_xlfn.IFNA(VLOOKUP(_xlfn.CONCAT($C$2,\"-\",$E339,\"-\",$F339,\"-\",H$3),'Raw Data'!$A$2:$D$690331,4,FALSE),\"N/A\")","v":"N/A"},{"$f":"_xlfn.IFNA(VLOOKUP(_xlfn.CONCAT($C$2,\"-\",$E339,\"-\",$F339,\"-\",I$3),'Raw Data'!$A$2:$D$690331,4,FALSE),\"N/A\")","v":"N/A"},{"$f":"_xlfn.IFNA(VLOOKUP(_xlfn.CONCAT($C$2,\"-\",$E339,\"-\",$F339,\"-\",J$3),'Raw Data'!$A$2:$D$690331,4,FALSE),\"N/A\")","v":"N/A"},{"$f":"_xlfn.IFNA(VLOOKUP(_xlfn.CONCAT($C$2,\"-\",$E339,\"-\",$F339,\"-\",K$3),'Raw Data'!$A$2:$D$690331,4,FALSE),\"N/A\")","v":"N/A"},{"$f":"_xlfn.IFNA(VLOOKUP(_xlfn.CONCAT($C$2,\"-\",$E339,\"-\",$F339,\"-\",L$3),'Raw Data'!$A$2:$D$690331,4,FALSE),\"N/A\")","v":"N/A"},{"$f":"_xlfn.IFNA(VLOOKUP(_xlfn.CONCAT($C$2,\"-\",$E339,\"-\",$F339,\"-\",M$3),'Raw Data'!$A$2:$D$690331,4,FALSE),\"N/A\")","v":"N/A"},{"$f":"_xlfn.IFNA(VLOOKUP(_xlfn.CONCAT($C$2,\"-\",$E339,\"-\",$F339,\"-\",N$3),'Raw Data'!$A$2:$D$690331,4,FALSE),\"N/A\")","v":"N/A"},{"$f":"_xlfn.IFNA(VLOOKUP(_xlfn.CONCAT($C$2,\"-\",$E339,\"-\",$F339,\"-\",O$3),'Raw Data'!$A$2:$D$690331,4,FALSE),\"N/A\")","v":"N/A"},{"$f":"_xlfn.IFNA(VLOOKUP(_xlfn.CONCAT($C$2,\"-\",$E339,\"-\",$F339,\"-\",P$3),'Raw Data'!$A$2:$D$690331,4,FALSE),\"N/A\")","v":"N/A"},{"$f":"_xlfn.IFNA(VLOOKUP(_xlfn.CONCAT($C$2,\"-\",$E339,\"-\",$F339,\"-\",Q$3),'Raw Data'!$A$2:$D$690331,4,FALSE),\"N/A\")","v":"N/A"},{"$f":"_xlfn.IFNA(VLOOKUP(_xlfn.CONCAT($C$2,\"-\",$E339,\"-\",$F339,\"-\",R$3),'Raw Data'!$A$2:$D$690331,4,FALSE),\"N/A\")","v":"N/A"},{"$f":"_xlfn.IFNA(VLOOKUP(_xlfn.CONCAT($C$2,\"-\",$E339,\"-\",$F339,\"-\",S$3),'Raw Data'!$A$2:$D$690331,4,FALSE),\"N/A\")","v":"N/A"}]
[null,null,null,null,2,12,null,{"$f":"_xlfn.IFNA(VLOOKUP(_xlfn.CONCAT($C$2,\"-\",$E340,\"-\",$F340,\"-\",H$3),'Raw Data'!$A$2:$D$690331,4,FALSE),\"N/A\")","v":"N/A"},{"$f":"_xlfn.IFNA(VLOOKUP(_xlfn.CONCAT($C$2,\"-\",$E340,\"-\",$F340,\"-\",I$3),'Raw Data'!$A$2:$D$690331,4,FALSE),\"N/A\")","v":"N/A"},{"$f":"_xlfn.IFNA(VLOOKUP(_xlfn.CONCAT($C$2,\"-\",$E340,\"-\",$F340,\"-\",J$3),'Raw Data'!$A$2:$D$690331,4,FALSE),\"N/A\")","v":"N/A"},{"$f":"_xlfn.IFNA(VLOOKUP(_xlfn.CONCAT($C$2,\"-\",$E340,\"-\",$F340,\"-\",K$3),'Raw Data'!$A$2:$D$690331,4,FALSE),\"N/A\")","v":"N/A"},{"$f":"_xlfn.IFNA(VLOOKUP(_xlfn.CONCAT($C$2,\"-\",$E340,\"-\",$F340,\"-\",L$3),'Raw Data'!$A$2:$D$690331,4,FALSE),\"N/A\")","v":"N/A"},{"$f":"_xlfn.IFNA(VLOOKUP(_xlfn.CONCAT($C$2,\"-\",$E340,\"-\",$F340,\"-\",M$3),'Raw Data'!$A$2:$D$690331,4,FALSE),\"N/A\")","v":"N/A"},{"$f":"_xlfn.IFNA(VLOOKUP(_xlfn.CONCAT($C$2,\"-\",$E340,\"-\",$F340,\"-\",N$3),'Raw Data'!$A$2:$D$690331,4,FALSE),\"N/A\")","v":"N/A"},{"$f":"_xlfn.IFNA(VLOOKUP(_xlfn.CONCAT($C$2,\"-\",$E340,\"-\",$F340,\"-\",O$3),'Raw Data'!$A$2:$D$690331,4,FALSE),\"N/A\")","v":"N/A"},{"$f":"_xlfn.IFNA(VLOOKUP(_xlfn.CONCAT($C$2,\"-\",$E340,\"-\",$F340,\"-\",P$3),'Raw Data'!$A$2:$D$690331,4,FALSE),\"N/A\")","v":"N/A"},{"$f":"_xlfn.IFNA(VLOOKUP(_xlfn.CONCAT($C$2,\"-\",$E340,\"-\",$F340,\"-\",Q$3),'Raw Data'!$A$2:$D$690331,4,FALSE),\"N/A\")","v":"N/A"},{"$f":"_xlfn.IFNA(VLOOKUP(_xlfn.CONCAT($C$2,\"-\",$E340,\"-\",$F340,\"-\",R$3),'Raw Data'!$A$2:$D$690331,4,FALSE),\"N/A\")","v":"N/A"},{"$f":"_xlfn.IFNA(VLOOKUP(_xlfn.CONCAT($C$2,\"-\",$E340,\"-\",$F340,\"-\",S$3),'Raw Data'!$A$2:$D$690331,4,FALSE),\"N/A\")","v":"N/A"}]
[null,null,null,null,3,12,null,{"$f":"_xlfn.IFNA(VLOOKUP(_xlfn.CONCAT($C$2,\"-\",$E341,\"-\",$F341,\"-\",H$3),'Raw Data'!$A$2:$D$690331,4,FALSE),\"N/A\")","v":"N/A"},{"$f":"_xlfn.IFNA(VLOOKUP(_xlfn.CONCAT($C$2,\"-\",$E341,\"-\",$F341,\"-\",I$3),'Raw Data'!$A$2:$D$690331,4,FALSE),\"N/A\")","v":"N/A"},{"$f":"_xlfn.IFNA(VLOOKUP(_xlfn.CONCAT($C$2,\"-\",$E341,\"-\",$F341,\"-\",J$3),'Raw Data'!$A$2:$D$690331,4,FALSE),\"N/A\")","v":"N/A"},{"$f":"_xlfn.IFNA(VLOOKUP(_xlfn.CONCAT($C$2,\"-\",$E341,\"-\",$F341,\"-\",K$3),'Raw Data'!$A$2:$D$690331,4,FALSE),\"N/A\")","v":"N/A"},{"$f":"_xlfn.IFNA(VLOOKUP(_xlfn.CONCAT($C$2,\"-\",$E341,\"-\",$F341,\"-\",L$3),'Raw Data'!$A$2:$D$690331,4,FALSE),\"N/A\")","v":"N/A"},{"$f":"_xlfn.IFNA(VLOOKUP(_xlfn.CONCAT($C$2,\"-\",$E341,\"-\",$F341,\"-\",M$3),'Raw Data'!$A$2:$D$690331,4,FALSE),\"N/A\")","v":"N/A"},{"$f":"_xlfn.IFNA(VLOOKUP(_xlfn.CONCAT($C$2,\"-\",$E341,\"-\",$F341,\"-\",N$3),'Raw Data'!$A$2:$D$690331,4,FALSE),\"N/A\")","v":"N/A"},{"$f":"_xlfn.IFNA(VLOOKUP(_xlfn.CONCAT($C$2,\"-\",$E341,\"-\",$F341,\"-\",O$3),'Raw Data'!$A$2:$D$690331,4,FALSE),\"N/A\")","v":"N/A"},{"$f":"_xlfn.IFNA(VLOOKUP(_xlfn.CONCAT($C$2,\"-\",$E341,\"-\",$F341,\"-\",P$3),'Raw Data'!$A$2:$D$690331,4,FALSE),\"N/A\")","v":"N/A"},{"$f":"_xlfn.IFNA(VLOOKUP(_xlfn.CONCAT($C$2,\"-\",$E341,\"-\",$F341,\"-\",Q$3),'Raw Data'!$A$2:$D$690331,4,FALSE),\"N/A\")","v":"N/A"},{"$f":"_xlfn.IFNA(VLOOKUP(_xlfn.CONCAT($C$2,\"-\",$E341,\"-\",$F341,\"-\",R$3),'Raw Data'!$A$2:$D$690331,4,FALSE),\"N/A\")","v":"N/A"},{"$f":"_xlfn.IFNA(VLOOKUP(_xlfn.CONCAT($C$2,\"-\",$E341,\"-\",$F341,\"-\",S$3),'Raw Data'!$A$2:$D$690331,4,FALSE),\"N/A\")","v":"N/A"}]
[null,null,null,null,4,12,null,{"$f":"_xlfn.IFNA(VLOOKUP(_xlfn.CONCAT($C$2,\"-\",$E342,\"-\",$F342,\"-\",H$3),'Raw Data'!$A$2:$D$690331,4,FALSE),\"N/A\")","v":"N/A"},{"$f":"_xlfn.IFNA(VLOOKUP(_xlfn.CONCAT($C$2,\"-\",$E342,\"-\",$F342,\"-\",I$3),'Raw Data'!$A$2:$D$690331,4,FALSE),\"N/A\")","v":"N/A"},{"$f":"_xlfn.IFNA(VLOOKUP(_xlfn.CONCAT($C$2,\"-\",$E342,\"-\",$F342,\"-\",J$3),'Raw Data'!$A$2:$D$690331,4,FALSE),\"N/A\")","v":"N/A"},{"$f":"_xlfn.IFNA(VLOOKUP(_xlfn.CONCAT($C$2,\"-\",$E342,\"-\",$F342,\"-\",K$3),'Raw Data'!$A$2:$D$690331,4,FALSE),\"N/A\")","v":"N/A"},{"$f":"_xlfn.IFNA(VLOOKUP(_xlfn.CONCAT($C$2,\"-\",$E342,\"-\",$F342,\"-\",L$3),'Raw Data'!$A$2:$D$690331,4,FALSE),\"N/A\")","v":"N/A"},{"$f":"_xlfn.IFNA(VLOOKUP(_xlfn.CONCAT($C$2,\"-\",$E342,\"-\",$F342,\"-\",M$3),'Raw Data'!$A$2:$D$690331,4,FALSE),\"N/A\")","v":"N/A"},{"$f":"_xlfn.IFNA(VLOOKUP(_xlfn.CONCAT($C$2,\"-\",$E342,\"-\",$F342,\"-\",N$3),'Raw Data'!$A$2:$D$690331,4,FALSE),\"N/A\")","v":"N/A"},{"$f":"_xlfn.IFNA(VLOOKUP(_xlfn.CONCAT($C$2,\"-\",$E342,\"-\",$F342,\"-\",O$3),'Raw Data'!$A$2:$D$690331,4,FALSE),\"N/A\")","v":"N/A"},{"$f":"_xlfn.IFNA(VLOOKUP(_xlfn.CONCAT($C$2,\"-\",$E342,\"-\",$F342,\"-\",P$3),'Raw Data'!$A$2:$D$690331,4,FALSE),\"N/A\")","v":"N/A"},{"$f":"_xlfn.IFNA(VLOOKUP(_xlfn.CONCAT($C$2,\"-\",$E342,\"-\",$F342,\"-\",Q$3),'Raw Data'!$A$2:$D$690331,4,FALSE),\"N/A\")","v":"N/A"},{"$f":"_xlfn.IFNA(VLOOKUP(_xlfn.CONCAT($C$2,\"-\",$E342,\"-\",$F342,\"-\",R$3),'Raw Data'!$A$2:$D$690331,4,FALSE),\"N/A\")","v":"N/A"},{"$f":"_xlfn.IFNA(VLOOKUP(_xlfn.CONCAT($C$2,\"-\",$E342,\"-\",$F342,\"-\",S$3),'Raw Data'!$A$2:$D$690331,4,FALSE),\"N/A\")","v":"N/A"}]
[null,null,null,null,5,12,null,{"$f":"_xlfn.IFNA(VLOOKUP(_xlfn.CONCAT($C$2,\"-\",$E343,\"-\",$F343,\"-\",H$3),'Raw Data'!$A$2:$D$690331,4,FALSE),\"N/A\")","v":"N/A"},{"$f":"_xlfn.IFNA(VLOOKUP(_xlfn.CONCAT($C$2,\"-\",$E343,\"-\",$F343,\"-\",I$3),'Raw Data'!$A$2:$D$690331,4,FALSE),\"N/A\")","v":"N/A"},{"$f":"_xlfn.IFNA(VLOOKUP(_xlfn.CONCAT($C$2,\"-\",$E343,\"-\",$F343,\"-\",J$3),'Raw Data'!$A$2:$D$690331,4,FALSE),\"N/A\")","v":"N/A"},{"$f":"_xlfn.IFNA(VLOOKUP(_xlfn.CONCAT($C$2,\"-\",$E343,\"-\",$F343,\"-\",K$3),'Raw Data'!$A$2:$D$690331,4,FALSE),\"N/A\")","v":"N/A"},{"$f":"_xlfn.IFNA(VLOOKUP(_xlfn.CONCAT($C$2,\"-\",$E343,\"-\",$F343,\"-\",L$3),'Raw Data'!$A$2:$D$690331,4,FALSE),\"N/A\")","v":"N/A"},{"$f":"_xlfn.IFNA(VLOOKUP(_xlfn.CONCAT($C$2,\"-\",$E343,\"-\",$F343,\"-\",M$3),'Raw Data'!$A$2:$D$690331,4,FALSE),\"N/A\")","v":"N/A"},{"$f":"_xlfn.IFNA(VLOOKUP(_xlfn.CONCAT($C$2,\"-\",$E343,\"-\",$F343,\"-\",N$3),'Raw Data'!$A$2:$D$690331,4,FALSE),\"N/A\")","v":"N/A"},{"$f":"_xlfn.IFNA(VLOOKUP(_xlfn.CONCAT($C$2,\"-\",$E343,\"-\",$F343,\"-\",O$3),'Raw Data'!$A$2:$D$690331,4,FALSE),\"N/A\")","v":"N/A"},{"$f":"_xlfn.IFNA(VLOOKUP(_xlfn.CONCAT($C$2,\"-\",$E343,\"-\",$F343,\"-\",P$3),'Raw Data'!$A$2:$D$690331,4,FALSE),\"N/A\")","v":"N/A"},{"$f":"_xlfn.IFNA(VLOOKUP(_xlfn.CONCAT($C$2,\"-\",$E343,\"-\",$F343,\"-\",Q$3),'Raw Data'!$A$2:$D$690331,4,FALSE),\"N/A\")","v":"N/A"},{"$f":"_xlfn.IFNA(VLOOKUP(_xlfn.CONCAT($C$2,\"-\",$E343,\"-\",$F343,\"-\",R$3),'Raw Data'!$A$2:$D$690331,4,FALSE),\"N/A\")","v":"N/A"},{"$f":"_xlfn.IFNA(VLOOKUP(_xlfn.CONCAT($C$2,\"-\",$E343,\"-\",$F343,\"-\",S$3),'Raw Data'!$A$2:$D$690331,4,FALSE),\"N/A\")","v":"N/A"}]
[null,null,null,null,6,12,null,{"$f":"_xlfn.IFNA(VLOOKUP(_xlfn.CONCAT($C$2,\"-\",$E344,\"-\",$F344,\"-\",H$3),'Raw Data'!$A$2:$D$690331,4,FALSE),\"N/A\")","v":"N/A"},{"$f":"_xlfn.IFNA(VLOOKUP(_xlfn.CONCAT($C$2,\"-\",$E344,\"-\",$F344,\"-\",I$3),'Raw Data'!$A$2:$D$690331,4,FALSE),\"N/A\")","v":"N/A"},{"$f":"_xlfn.IFNA(VLOOKUP(_xlfn.CONCAT($C$2,\"-\",$E344,\"-\",$F344,\"-\",J$3),'Raw Data'!$A$2:$D$690331,4,FALSE),\"N/A\")","v":"N/A"},{"$f":"_xlfn.IFNA(VLOOKUP(_xlfn.CONCAT($C$2,\"-\",$E344,\"-\",$F344,\"-\",K$3),'Raw Data'!$A$2:$D$690331,4,FALSE),\"N/A\")","v":"N/A"},{"$f":"_xlfn.IFNA(VLOOKUP(_xlfn.CONCAT($C$2,\"-\",$E344,\"-\",$F344,\"-\",L$3),'Raw Data'!$A$2:$D$690331,4,FALSE),\"N/A\")","v":"N/A"},{"$f":"_xlfn.IFNA(VLOOKUP(_xlfn.CONCAT($C$2,\"-\",$E344,\"-\",$F344,\"-\",M$3),'Raw Data'!$A$2:$D$690331,4,FALSE),\"N/A\")","v":"N/A"},{"$f":"_xlfn.IFNA(VLOOKUP(_xlfn.CONCAT($C$2,\"-\",$E344,\"-\",$F344,\"-\",N$3),'Raw Data'!$A$2:$D$690331,4,FALSE),\"N/A\")","v":"N/A"},{"$f":"_xlfn.IFNA(VLOOKUP(_xlfn.CONCAT($C$2,\"-\",$E344,\"-\",$F344,\"-\",O$3),'Raw Data'!$A$2:$D$690331,4,FALSE),\"N/A\")","v":"N/A"},{"$f":"_xlfn.IFNA(VLOOKUP(_xlfn.CONCAT($C$2,\"-\",$E344,\"-\",$F344,\"-\",P$3),'Raw Data'!$A$2:$D$690331,4,FALSE),\"N/A\")","v":"N/A"},{"$f":"_xlfn.IFNA(VLOOKUP(_xlfn.CONCAT($C$2,\"-\",$E344,\"-\",$F344,\"-\",Q$3),'Raw Data'!$A$2:$D$690331,4,FALSE),\"N/A\")","v":"N/A"},{"$f":"_xlfn.IFNA(VLOOKUP(_xlfn.CONCAT($C$2,\"-\",$E344,\"-\",$F344,\"-\",R$3),'Raw Data'!$A$2:$D$690331,4,FALSE),\"N/A\")","v":"N/A"},{"$f":"_xlfn.IFNA(VLOOKUP(_xlfn.CONCAT($C$2,\"-\",$E344,\"-\",$F344,\"-\",S$3),'Raw Data'!$A$2:$D$690331,4,FALSE),\"N/A\")","v":"N/A"}]
[null,null,null,null,7,12,null,{"$f":"_xlfn.IFNA(VLOOKUP(_xlfn.CONCAT($C$2,\"-\",$E345,\"-\",$F345,\"-\",H$3),'Raw Data'!$A$2:$D$690331,4,FALSE),\"N/A\")","v":"N/A"},{"$f":"_xlfn.IFNA(VLOOKUP(_xlfn.CONCAT($C$2,\"-\",$E345,\"-\",$F345,\"-\",I$3),'Raw Data'!$A$2:$D$690331,4,FALSE),\"N/A\")","v":"N/A"},{"$f":"_xlfn.IFNA(VLOOKUP(_xlfn.CONCAT($C$2,\"-\",$E345,\"-\",$F345,\"-\",J$3),'Raw Data'!$A$2:$D$690331,4,FALSE),\"N/A\")","v":"N/A"},{"$f":"_xlfn.IFNA(VLOOKUP(_xlfn.CONCAT($C$2,\"-\",$E345,\"-\",$F345,\"-\",K$3),'Raw Data'!$A$2:$D$690331,4,FALSE),\"N/A\")","v":"N/A"},{"$f":"_xlfn.IFNA(VLOOKUP(_xlfn.CONCAT($C$2,\"-\",$E345,\"-\",$F345,\"-\",L$3),'Raw Data'!$A$2:$D$690331,4,FALSE),\"N/A\")","v":"N/A"},{"$f":"_xlfn.IFNA(VLOOKUP(_xlfn.CONCAT($C$2,\"-\",$E345,\"-\",$F345,\"-\",M$3),'Raw Data'!$A$2:$D$690331,4,FALSE),\"N/A\")","v":"N/A"},{"$f":"_xlfn.IFNA(VLOOKUP(_xlfn.CONCAT($C$2,\"-\",$E345,\"-\",$F345,\"-\",N$3),'Raw Data'!$A$2:$D$690331,4,FALSE),\"N/A\")","v":"N/A"},{"$f":"_xlfn.IFNA(VLOOKUP(_xlfn.CONCAT($C$2,\"-\",$E345,\"-\",$F345,\"-\",O$3),'Raw Data'!$A$2:$D$690331,4,FALSE),\"N/A\")","v":"N/A"},{"$f":"_xlfn.IFNA(VLOOKUP(_xlfn.CONCAT($C$2,\"-\",$E345,\"-\",$F345,\"-\",P$3),'Raw Data'!$A$2:$D$690331,4,FALSE),\"N/A\")","v":"N/A"},{"$f":"_xlfn.IFNA(VLOOKUP(_xlfn.CONCAT($C$2,\"-\",$E345,\"-\",$F345,\"-\",Q$3),'Raw Data'!$A$2:$D$690331,4,FALSE),\"N/A\")","v":"N/A"},{"$f":"_xlfn.IFNA(VLOOKUP(_xlfn.CONCAT($C$2,\"-\",$E345,\"-\",$F345,\"-\",R$3),'Raw Data'!$A$2:$D$690331,4,FALSE),\"N/A\")","v":"N/A"},{"$f":"_xlfn.IFNA(VLOOKUP(_xlfn.CONCAT($C$2,\"-\",$E345,\"-\",$F345,\"-\",S$3),'Raw Data'!$A$2:$D$690331,4,FALSE),\"N/A\")","v":"N/A"}]
[null,null,null,null,8,12,null,{"$f":"_xlfn.IFNA(VLOOKUP(_xlfn.CONCAT($C$2,\"-\",$E346,\"-\",$F346,\"-\",H$3),'Raw Data'!$A$2:$D$690331,4,FALSE),\"N/A\")","v":"N/A"},{"$f":"_xlfn.IFNA(VLOOKUP(_xlfn.CONCAT($C$2,\"-\",$E346,\"-\",$F346,\"-\",I$3),'Raw Data'!$A$2:$D$690331,4,FALSE),\"N/A\")","v":"N/A"},{"$f":"_xlfn.IFNA(VLOOKUP(_xlfn.CONCAT($C$2,\"-\",$E346,\"-\",$F346,\"-\",J$3),'Raw Data'!$A$2:$D$690331,4,FALSE),\"N/A\")","v":"N/A"},{"$f":"_xlfn.IFNA(VLOOKUP(_xlfn.CONCAT($C$2,\"-\",$E346,\"-\",$F346,\"-\",K$3),'Raw Data'!$A$2:$D$690331,4,FALSE),\"N/A\")","v":"N/A"},{"$f":"_xlfn.IFNA(VLOOKUP(_xlfn.CONCAT($C$2,\"-\",$E346,\"-\",$F346,\"-\",L$3),'Raw Data'!$A$2:$D$690331,4,FALSE),\"N/A\")","v":"N/A"},{"$f":"_xlfn.IFNA(VLOOKUP(_xlfn.CONCAT($C$2,\"-\",$E346,\"-\",$F346,\"-\",M$3),'Raw Data'!$A$2:$D$690331,4,FALSE),\"N/A\")","v":"N/A"},{"$f":"_xlfn.IFNA(VLOOKUP(_xlfn.CONCAT($C$2,\"-\",$E346,\"-\",$F346,\"-\",N$3),'Raw Data'!$A$2:$D$690331,4,FALSE),\"N/A\")","v":"N/A"},{"$f":"_xlfn.IFNA(VLOOKUP(_xlfn.CONCAT($C$2,\"-\",$E346,\"-\",$F346,\"-\",O$3),'Raw Data'!$A$2:$D$690331,4,FALSE),\"N/A\")","v":"N/A"},{"$f":"_xlfn.IFNA(VLOOKUP(_xlfn.CONCAT($C$2,\"-\",$E346,\"-\",$F346,\"-\",P$3),'Raw Data'!$A$2:$D$690331,4,FALSE),\"N/A\")","v":"N/A"},{"$f":"_xlfn.IFNA(VLOOKUP(_xlfn.CONCAT($C$2,\"-\",$E346,\"-\",$F346,\"-\",Q$3),'Raw Data'!$A$2:$D$690331,4,FALSE),\"N/A\")","v":"N/A"},{"$f":"_xlfn.IFNA(VLOOKUP(_xlfn.CONCAT($C$2,\"-\",$E346,\"-\",$F346,\"-\",R$3),'Raw Data'!$A$2:$D$690331,4,FALSE),\"N/A\")","v":"N/A"},{"$f":"_xlfn.IFNA(VLOOKUP(_xlfn.CONCAT($C$2,\"-\",$E346,\"-\",$F346,\"-\",S$3),'Raw Data'!$A$2:$D$690331,4,FALSE),\"N/A\")","v":"N/A"}]
[null,null,null,null,9,12,null,{"$f":"_xlfn.IFNA(VLOOKUP(_xlfn.CONCAT($C$2,\"-\",$E347,\"-\",$F347,\"-\",H$3),'Raw Data'!$A$2:$D$690331,4,FALSE),\"N/A\")","v":"N/A"},{"$f":"_xlfn.IFNA(VLOOKUP(_xlfn.CONCAT($C$2,\"-\",$E347,\"-\",$F347,\"-\",I$3),'Raw Data'!$A$2:$D$690331,4,FALSE),\"N/A\")","v":"N/A"},{"$f":"_xlfn.IFNA(VLOOKUP(_xlfn.CONCAT($C$2,\"-\",$E347,\"-\",$F347,\"-\",J$3),'Raw Data'!$A$2:$D$690331,4,FALSE),\"N/A\")","v":"N/A"},{"$f":"_xlfn.IFNA(VLOOKUP(_xlfn.CONCAT($C$2,\"-\",$E347,\"-\",$F347,\"-\",K$3),'Raw Data'!$A$2:$D$690331,4,FALSE),\"N/A\")","v":"N/A"},{"$f":"_xlfn.IFNA(VLOOKUP(_xlfn.CONCAT($C$2,\"-\",$E347,\"-\",$F347,\"-\",L$3),'Raw Data'!$A$2:$D$690331,4,FALSE),\"N/A\")","v":"N/A"},{"$f":"_xlfn.IFNA(VLOOKUP(_xlfn.CONCAT($C$2,\"-\",$E347,\"-\",$F347,\"-\",M$3),'Raw Data'!$A$2:$D$690331,4,FALSE),\"N/A\")","v":"N/A"},{"$f":"_xlfn.IFNA(VLOOKUP(_xlfn.CONCAT($C$2,\"-\",$E347,\"-\",$F347,\"-\",N$3),'Raw Data'!$A$2:$D$690331,4,FALSE),\"N/A\")","v":"N/A"},{"$f":"_xlfn.IFNA(VLOOKUP(_xlfn.CONCAT($C$2,\"-\",$E347,\"-\",$F347,\"-\",O$3),'Raw Data'!$A$2:$D$690331,4,FALSE),\"N/A\")","v":"N/A"},{"$f":"_xlfn.IFNA(VLOOKUP(_xlfn.CONCAT($C$2,\"-\",$E347,\"-\",$F347,\"-\",P$3),'Raw Data'!$A$2:$D$690331,4,FALSE),\"N/A\")","v":"N/A"},{"$f":"_xlfn.IFNA(VLOOKUP(_xlfn.CONCAT($C$2,\"-\",$E347,\"-\",$F347,\"-\",Q$3),'Raw Data'!$A$2:$D$690331,4,FALSE),\"N/A\")","v":"N/A"},{"$f":"_xlfn.IFNA(VLOOKUP(_xlfn.CONCAT($C$2,\"-\",$E347,\"-\",$F347,\"-\",R$3),'Raw Data'!$A$2:$D$690331,4,FALSE),\"N/A\")","v":"N/A"},{"$f":"_xlfn.IFNA(VLOOKUP(_xlfn.CONCAT($C$2,\"-\",$E347,\"-\",$F347,\"-\",S$3),'Raw Data'!$A$2:$D$690331,4,FALSE),\"N/A\")","v":"N/A"}]
[null,null,null,null,10,12,null,{"$f":"_xlfn.IFNA(VLOOKUP(_xlfn.CONCAT($C$2,\"-\",$E348,\"-\",$F348,\"-\",H$3),'Raw Data'!$A$2:$D$690331,4,FALSE),\"N/A\")","v":"N/A"},{"$f":"_xlfn.IFNA(VLOOKUP(_xlfn.CONCAT($C$2,\"-\",$E348,\"-\",$F348,\"-\",I$3),'Raw Data'!$A$2:$D$690331,4,FALSE),\"N/A\")","v":"N/A"},{"$f":"_xlfn.IFNA(VLOOKUP(_xlfn.CONCAT($C$2,\"-\",$E348,\"-\",$F348,\"-\",J$3),'Raw Data'!$A$2:$D$690331,4,FALSE),\"N/A\")","v":"N/A"},{"$f":"_xlfn.IFNA(VLOOKUP(_xlfn.CONCAT($C$2,\"-\",$E348,\"-\",$F348,\"-\",K$3),'Raw Data'!$A$2:$D$690331,4,FALSE),\"N/A\")","v":"N/A"},{"$f":"_xlfn.IFNA(VLOOKUP(_xlfn.CONCAT($C$2,\"-\",$E348,\"-\",$F348,\"-\",L$3),'Raw Data'!$A$2:$D$690331,4,FALSE),\"N/A\")","v":"N/A"},{"$f":"_xlfn.IFNA(VLOOKUP(_xlfn.CONCAT($C$2,\"-\",$E348,\"-\",$F348,\"-\",M$3),'Raw Data'!$A$2:$D$690331,4,FALSE),\"N/A\")","v":"N/A"},{"$f":"_xlfn.IFNA(VLOOKUP(_xlfn.CONCAT($C$2,\"-\",$E348,\"-\",$F348,\"-\",N$3),'Raw Data'!$A$2:$D$690331,4,FALSE),\"N/A\")","v":"N/A"},{"$f":"_xlfn.IFNA(VLOOKUP(_xlfn.CONCAT($C$2,\"-\",$E348,\"-\",$F348,\"-\",O$3),'Raw Data'!$A$2:$D$690331,4,FALSE),\"N/A\")","v":"N/A"},{"$f":"_xlfn.IFNA(VLOOKUP(_xlfn.CONCAT($C$2,\"-\",$E348,\"-\",$F348,\"-\",P$3),'Raw Data'!$A$2:$D$690331,4,FALSE),\"N/A\")","v":"N/A"},{"$f":"_xlfn.IFNA(VLOOKUP(_xlfn.CONCAT($C$2,\"-\",$E348,\"-\",$F348,\"-\",Q$3),'Raw Data'!$A$2:$D$690331,4,FALSE),\"N/A\")","v":"N/A"},{"$f":"_xlfn.IFNA(VLOOKUP(_xlfn.CONCAT($C$2,\"-\",$E348,\"-\",$F348,\"-\",R$3),'Raw Data'!$A$2:$D$690331,4,FALSE),\"N/A\")","v":"N/A"},{"$f":"_xlfn.IFNA(VLOOKUP(_xlfn.CONCAT($C$2,\"-\",$E348,\"-\",$F348,\"-\",S$3),'Raw Data'!$A$2:$D$690331,4,FALSE),\"N/A\")","v":"N/A"}]
[null,null,null,null,11,12,null,{"$f":"_xlfn.IFNA(VLOOKUP(_xlfn.CONCAT($C$2,\"-\",$E349,\"-\",$F349,\"-\",H$3),'Raw Data'!$A$2:$D$690331,4,FALSE),\"N/A\")","v":"N/A"},{"$f":"_xlfn.IFNA(VLOOKUP(_xlfn.CONCAT($C$2,\"-\",$E349,\"-\",$F349,\"-\",I$3),'Raw Data'!$A$2:$D$690331,4,FALSE),\"N/A\")","v":"N/A"},{"$f":"_xlfn.IFNA(VLOOKUP(_xlfn.CONCAT($C$2,\"-\",$E349,\"-\",$F349,\"-\",J$3),'Raw Data'!$A$2:$D$690331,4,FALSE),\"N/A\")","v":"N/A"},{"$f":"_xlfn.IFNA(VLOOKUP(_xlfn.CONCAT($C$2,\"-\",$E349,\"-\",$F349,\"-\",K$3),'Raw Data'!$A$2:$D$690331,4,FALSE),\"N/A\")","v":"N/A"},{"$f":"_xlfn.IFNA(VLOOKUP(_xlfn.CONCAT($C$2,\"-\",$E349,\"-\",$F349,\"-\",L$3),'Raw Data'!$A$2:$D$690331,4,FALSE),\"N/A\")","v":"N/A"},{"$f":"_xlfn.IFNA(VLOOKUP(_xlfn.CONCAT($C$2,\"-\",$E349,\"-\",$F349,\"-\",M$3),'Raw Data'!$A$2:$D$690331,4,FALSE),\"N/A\")","v":"N/A"},{"$f":"_xlfn.IFNA(VLOOKUP(_xlfn.CONCAT($C$2,\"-\",$E349,\"-\",$F349,\"-\",N$3),'Raw Data'!$A$2:$D$690331,4,FALSE),\"N/A\")","v":"N/A"},{"$f":"_xlfn.IFNA(VLOOKUP(_xlfn.CONCAT($C$2,\"-\",$E349,\"-\",$F349,\"-\",O$3),'Raw Data'!$A$2:$D$690331,4,FALSE),\"N/A\")","v":"N/A"},{"$f":"_xlfn.IFNA(VLOOKUP(_xlfn.CONCAT($C$2,\"-\",$E349,\"-\",$F349,\"-\",P$3),'Raw Data'!$A$2:$D$690331,4,FALSE),\"N/A\")","v":"N/A"},{"$f":"_xlfn.IFNA(VLOOKUP(_xlfn.CONCAT($C$2,\"-\",$E349,\"-\",$F349,\"-\",Q$3),'Raw Data'!$A$2:$D$690331,4,FALSE),\"N/A\")","v":"N/A"},{"$f":"_xlfn.IFNA(VLOOKUP(_xlfn.CONCAT($C$2,\"-\",$E349,\"-\",$F349,\"-\",R$3),'Raw Data'!$A$2:$D$690331,4,FALSE),\"N/A\")","v":"N/A"},{"$f":"_xlfn.IFNA(VLOOKUP(_xlfn.CONCAT($C$2,\"-\",$E349,\"-\",$F349,\"-\",S$3),'Raw Data'!$A$2:$D$690331,4,FALSE),\"N/A\")","v":"N/A"}]
[null,null,null,null,12,12,null,{"$f":"_xlfn.IFNA(VLOOKUP(_xlfn.CONCAT($C$2,\"-\",$E350,\"-\",$F350,\"-\",H$3),'Raw Data'!$A$2:$D$690331,4,FALSE),\"N/A\")","v":"N/A"},{"$f":"_xlfn.IFNA(VLOOKUP(_xlfn.CONCAT($C$2,\"-\",$E350,\"-\",$F350,\"-\",I$3),'Raw Data'!$A$2:$D$690331,4,FALSE),\"N/A\")","v":"N/A"},{"$f":"_xlfn.IFNA(VLOOKUP(_xlfn.CONCAT($C$2,\"-\",$E350,\"-\",$F350,\"-\",J$3),'Raw Data'!$A$2:$D$690331,4,FALSE),\"N/A\")","v":"N/A"},{"$f":"_xlfn.IFNA(VLOOKUP(_xlfn.CONCAT($C$2,\"-\",$E350,\"-\",$F350,\"-\",K$3),'Raw Data'!$A$2:$D$690331,4,FALSE),\"N/A\")","v":"N/A"},{"$f":"_xlfn.IFNA(VLOOKUP(_xlfn.CONCAT($C$2,\"-\",$E350,\"-\",$F350,\"-\",L$3),'Raw Data'!$A$2:$D$690331,4,FALSE),\"N/A\")","v":"N/A"},{"$f":"_xlfn.IFNA(VLOOKUP(_xlfn.CONCAT($C$2,\"-\",$E350,\"-\",$F350,\"-\",M$3),'Raw Data'!$A$2:$D$690331,4,FALSE),\"N/A\")","v":"N/A"},{"$f":"_xlfn.IFNA(VLOOKUP(_xlfn.CONCAT($C$2,\"-\",$E350,\"-\",$F350,\"-\",N$3),'Raw Data'!$A$2:$D$690331,4,FALSE),\"N/A\")","v":"N/A"},{"$f":"_xlfn.IFNA(VLOOKUP(_xlfn.CONCAT($C$2,\"-\",$E350,\"-\",$F350,\"-\",O$3),'Raw Data'!$A$2:$D$690331,4,FALSE),\"N/A\")","v":"N/A"},{"$f":"_xlfn.IFNA(VLOOKUP(_xlfn.CONCAT($C$2,\"-\",$E350,\"-\",$F350,\"-\",P$3),'Raw Data'!$A$2:$D$690331,4,FALSE),\"N/A\")","v":"N/A"},{"$f":"_xlfn.IFNA(VLOOKUP(_xlfn.CONCAT($C$2,\"-\",$E350,\"-\",$F350,\"-\",Q$3),'Raw Data'!$A$2:$D$690331,4,FALSE),\"N/A\")","v":"N/A"},{"$f":"_xlfn.IFNA(VLOOKUP(_xlfn.CONCAT($C$2,\"-\",$E350,\"-\",$F350,\"-\",R$3),'Raw Data'!$A$2:$D$690331,4,FALSE),\"N/A\")","v":"N/A"},{"$f":"_xlfn.IFNA(VLOOKUP(_xlfn.CONCAT($C$2,\"-\",$E350,\"-\",$F350,\"-\",S$3),'Raw Data'!$A$2:$D$690331,4,FALSE),\"N/A\")","v":"N/A"}]
[null,null,null,null,13,12,null,{"$f":"_xlfn.IFNA(VLOOKUP(_xlfn.CONCAT($C$2,\"-\",$E351,\"-\",$F351,\"-\",H$3),'Raw Data'!$A$2:$D$690331,4,FALSE),\"N/A\")","v":"N/A"},{"$f":"_xlfn.IFNA(VLOOKUP(_xlfn.CONCAT($C$2,\"-\",$E351,\"-\",$F351,\"-\",I$3),'Raw Data'!$A$2:$D$690331,4,FALSE),\"N/A\")","v":"N/A"},{"$f":"_xlfn.IFNA(VLOOKUP(_xlfn.CONCAT($C$2,\"-\",$E351,\"-\",$F351,\"-\",J$3),'Raw Data'!$A$2:$D$690331,4,FALSE),\"N/A\")","v":"N/A"},{"$f":"_xlfn.IFNA(VLOOKUP(_xlfn.CONCAT($C$2,\"-\",$E351,\"-\",$F351,\"-\",K$3),'Raw Data'!$A$2:$D$690331,4,FALSE),\"N/A\")","v":"N/A"},{"$f":"_xlfn.IFNA(VLOOKUP(_xlfn.CONCAT($C$2,\"-\",$E351,\"-\",$F351,\"-\",L$3),'Raw Data'!$A$2:$D$690331,4,FALSE),\"N/A\")","v":"N/A"},{"$f":"_xlfn.IFNA(VLOOKUP(_xlfn.CONCAT($C$2,\"-\",$E351,\"-\",$F351,\"-\",M$3),'Raw Data'!$A$2:$D$690331,4,FALSE),\"N/A\")","v":"N/A"},{"$f":"_xlfn.IFNA(VLOOKUP(_xlfn.CONCAT($C$2,\"-\",$E351,\"-\",$F351,\"-\",N$3),'Raw Data'!$A$2:$D$690331,4,FALSE),\"N/A\")","v":"N/A"},{"$f":"_xlfn.IFNA(VLOOKUP(_xlfn.CONCAT($C$2,\"-\",$E351,\"-\",$F351,\"-\",O$3),'Raw Data'!$A$2:$D$690331,4,FALSE),\"N/A\")","v":"N/A"},{"$f":"_xlfn.IFNA(VLOOKUP(_xlfn.CONCAT($C$2,\"-\",$E351,\"-\",$F351,\"-\",P$3),'Raw Data'!$A$2:$D$690331,4,FALSE),\"N/A\")","v":"N/A"},{"$f":"_xlfn.IFNA(VLOOKUP(_xlfn.CONCAT($C$2,\"-\",$E351,\"-\",$F351,\"-\",Q$3),'Raw Data'!$A$2:$D$690331,4,FALSE),\"N/A\")","v":"N/A"},{"$f":"_xlfn.IFNA(VLOOKUP(_xlfn.CONCAT($C$2,\"-\",$E351,\"-\",$F351,\"-\",R$3),'Raw Data'!$A$2:$D$690331,4,FALSE),\"N/A\")","v":"N/A"},{"$f":"_xlfn.IFNA(VLOOKUP(_xlfn.CONCAT($C$2,\"-\",$E351,\"-\",$F351,\"-\",S$3),'Raw Data'!$A$2:$D$690331,4,FALSE),\"N/A\")","v":"N/A"}]
[null,null,null,null,14,12,null,{"$f":"_xlfn.IFNA(VLOOKUP(_xlfn.CONCAT($C$2,\"-\",$E352,\"-\",$F352,\"-\",H$3),'Raw Data'!$A$2:$D$690331,4,FALSE),\"N/A\")","v":"N/A"},{"$f":"_xlfn.IFNA(VLOOKUP(_xlfn.CONCAT($C$2,\"-\",$E352,\"-\",$F352,\"-\",I$3),'Raw Data'!$A$2:$D$690331,4,FALSE),\"N/A\")","v":"N/A"},{"$f":"_xlfn.IFNA(VLOOKUP(_xlfn.CONCAT($C$2,\"-\",$E352,\"-\",$F352,\"-\",J$3),'Raw Data'!$A$2:$D$690331,4,FALSE),\"N/A\")","v":"N/A"},{"$f":"_xlfn.IFNA(VLOOKUP(_xlfn.CONCAT($C$2,\"-\",$E352,\"-\",$F352,\"-\",K$3),'Raw Data'!$A$2:$D$690331,4,FALSE),\"N/A\")","v":"N/A"},{"$f":"_xlfn.IFNA(VLOOKUP(_xlfn.CONCAT($C$2,\"-\",$E352,\"-\",$F352,\"-\",L$3),'Raw Data'!$A$2:$D$690331,4,FALSE),\"N/A\")","v":"N/A"},{"$f":"_xlfn.IFNA(VLOOKUP(_xlfn.CONCAT($C$2,\"-\",$E352,\"-\",$F352,\"-\",M$3),'Raw Data'!$A$2:$D$690331,4,FALSE),\"N/A\")","v":"N/A"},{"$f":"_xlfn.IFNA(VLOOKUP(_xlfn.CONCAT($C$2,\"-\",$E352,\"-\",$F352,\"-\",N$3),'Raw Data'!$A$2:$D$690331,4,FALSE),\"N/A\")","v":"N/A"},{"$f":"_xlfn.IFNA(VLOOKUP(_xlfn.CONCAT($C$2,\"-\",$E352,\"-\",$F352,\"-\",O$3),'Raw Data'!$A$2:$D$690331,4,FALSE),\"N/A\")","v":"N/A"},{"$f":"_xlfn.IFNA(VLOOKUP(_xlfn.CONCAT($C$2,\"-\",$E352,\"-\",$F352,\"-\",P$3),'Raw Data'!$A$2:$D$690331,4,FALSE),\"N/A\")","v":"N/A"},{"$f":"_xlfn.IFNA(VLOOKUP(_xlfn.CONCAT($C$2,\"-\",$E352,\"-\",$F352,\"-\",Q$3),'Raw Data'!$A$2:$D$690331,4,FALSE),\"N/A\")","v":"N/A"},{"$f":"_xlfn.IFNA(VLOOKUP(_xlfn.CONCAT($C$2,\"-\",$E352,\"-\",$F352,\"-\",R$3),'Raw Data'!$A$2:$D$690331,4,FALSE),\"N/A\")","v":"N/A"},{"$f":"_xlfn.IFNA(VLOOKUP(_xlfn.CONCAT($C$2,\"-\",$E352,\"-\",$F352,\"-\",S$3),'Raw Data'!$A$2:$D$690331,4,FALSE),\"N/A\")","v":"N/A"}]
[null,null,null,null,15,12,null,{"$f":"_xlfn.IFNA(VLOOKUP(_xlfn.CONCAT($C$2,\"-\",$E353,\"-\",$F353,\"-\",H$3),'Raw Data'!$A$2:$D$690331,4,FALSE),\"N/A\")","v":"N/A"},{"$f":"_xlfn.IFNA(VLOOKUP(_xlfn.CONCAT($C$2,\"-\",$E353,\"-\",$F353,\"-\",I$3),'Raw Data'!$A$2:$D$690331,4,FALSE),\"N/A\")","v":"N/A"},{"$f":"_xlfn.IFNA(VLOOKUP(_xlfn.CONCAT($C$2,\"-\",$E353,\"-\",$F353,\"-\",J$3),'Raw Data'!$A$2:$D$690331,4,FALSE),\"N/A\")","v":"N/A"},{"$f":"_xlfn.IFNA(VLOOKUP(_xlfn.CONCAT($C$2,\"-\",$E353,\"-\",$F353,\"-\",K$3),'Raw Data'!$A$2:$D$690331,4,FALSE),\"N/A\")","v":"N/A"},{"$f":"_xlfn.IFNA(VLOOKUP(_xlfn.CONCAT($C$2,\"-\",$E353,\"-\",$F353,\"-\",L$3),'Raw Data'!$A$2:$D$690331,4,FALSE),\"N/A\")","v":"N/A"},{"$f":"_xlfn.IFNA(VLOOKUP(_xlfn.CONCAT($C$2,\"-\",$E353,\"-\",$F353,\"-\",M$3),'Raw Data'!$A$2:$D$690331,4,FALSE),\"N/A\")","v":"N/A"},{"$f":"_xlfn.IFNA(VLOOKUP(_xlfn.CONCAT($C$2,\"-\",$E353,\"-\",$F353,\"-\",N$3),'Raw Data'!$A$2:$D$690331,4,FALSE),\"N/A\")","v":"N/A"},{"$f":"_xlfn.IFNA(VLOOKUP(_xlfn.CONCAT($C$2,\"-\",$E353,\"-\",$F353,\"-\",O$3),'Raw Data'!$A$2:$D$690331,4,FALSE),\"N/A\")","v":"N/A"},{"$f":"_xlfn.IFNA(VLOOKUP(_xlfn.CONCAT($C$2,\"-\",$E353,\"-\",$F353,\"-\",P$3),'Raw Data'!$A$2:$D$690331,4,FALSE),\"N/A\")","v":"N/A"},{"$f":"_xlfn.IFNA(VLOOKUP(_xlfn.CONCAT($C$2,\"-\",$E353,\"-\",$F353,\"-\",Q$3),'Raw Data'!$A$2:$D$690331,4,FALSE),\"N/A\")","v":"N/A"},{"$f":"_xlfn.IFNA(VLOOKUP(_xlfn.CONCAT($C$2,\"-\",$E353,\"-\",$F353,\"-\",R$3),'Raw Data'!$A$2:$D$690331,4,FALSE),\"N/A\")","v":"N/A"},{"$f":"_xlfn.IFNA(VLOOKUP(_xlfn.CONCAT($C$2,\"-\",$E353,\"-\",$F353,\"-\",S$3),'Raw Data'!$A$2:$D$690331,4,FALSE),\"N/A\")","v":"N/A"}]
[null,null,null,null,16,12,null,{"$f":"_xlfn.IFNA(VLOOKUP(_xlfn.CONCAT($C$2,\"-\",$E354,\"-\",$F354,\"-\",H$3),'Raw Data'!$A$2:$D$690331,4,FALSE),\"N/A\")","v":"N/A"},{"$f":"_xlfn.IFNA(VLOOKUP(_xlfn.CONCAT($C$2,\"-\",$E354,\"-\",$F354,\"-\",I$3),'Raw Data'!$A$2:$D$690331,4,FALSE),\"N/A\")","v":"N/A"},{"$f":"_xlfn.IFNA(VLOOKUP(_xlfn.CONCAT($C$2,\"-\",$E354,\"-\",$F354,\"-\",J$3),'Raw Data'!$A$2:$D$690331,4,FALSE),\"N/A\")","v":"N/A"},{"$f":"_xlfn.IFNA(VLOOKUP(_xlfn.CONCAT($C$2,\"-\",$E354,\"-\",$F354,\"-\",K$3),'Raw Data'!$A$2:$D$690331,4,FALSE),\"N/A\")","v":"N/A"},{"$f":"_xlfn.IFNA(VLOOKUP(_xlfn.CONCAT($C$2,\"-\",$E354,\"-\",$F354,\"-\",L$3),'Raw Data'!$A$2:$D$690331,4,FALSE),\"N/A\")","v":"N/A"},{"$f":"_xlfn.IFNA(VLOOKUP(_xlfn.CONCAT($C$2,\"-\",$E354,\"-\",$F354,\"-\",M$3),'Raw Data'!$A$2:$D$690331,4,FALSE),\"N/A\")","v":"N/A"},{"$f":"_xlfn.IFNA(VLOOKUP(_xlfn.CONCAT($C$2,\"-\",$E354,\"-\",$F354,\"-\",N$3),'Raw Data'!$A$2:$D$690331,4,FALSE),\"N/A\")","v":"N/A"},{"$f":"_xlfn.IFNA(VLOOKUP(_xlfn.CONCAT($C$2,\"-\",$E354,\"-\",$F354,\"-\",O$3),'Raw Data'!$A$2:$D$690331,4,FALSE),\"N/A\")","v":"N/A"},{"$f":"_xlfn.IFNA(VLOOKUP(_xlfn.CONCAT($C$2,\"-\",$E354,\"-\",$F354,\"-\",P$3),'Raw Data'!$A$2:$D$690331,4,FALSE),\"N/A\")","v":"N/A"},{"$f":"_xlfn.IFNA(VLOOKUP(_xlfn.CONCAT($C$2,\"-\",$E354,\"-\",$F354,\"-\",Q$3),'Raw Data'!$A$2:$D$690331,4,FALSE),\"N/A\")","v":"N/A"},{"$f":"_xlfn.IFNA(VLOOKUP(_xlfn.CONCAT($C$2,\"-\",$E354,\"-\",$F354,\"-\",R$3),'Raw Data'!$A$2:$D$690331,4,FALSE),\"N/A\")","v":"N/A"},{"$f":"_xlfn.IFNA(VLOOKUP(_xlfn.CONCAT($C$2,\"-\",$E354,\"-\",$F354,\"-\",S$3),'Raw Data'!$A$2:$D$690331,4,FALSE),\"N/A\")","v":"N/A"}]
[null,null,null,null,17,12,null,{"$f":"_xlfn.IFNA(VLOOKUP(_xlfn.CONCAT($C$2,\"-\",$E355,\"-\",$F355,\"-\",H$3),'Raw Data'!$A$2:$D$690331,4,FALSE),\"N/A\")","v":"N/A"},{"$f":"_xlfn.IFNA(VLOOKUP(_xlfn.CONCAT($C$2,\"-\",$E355,\"-\",$F355,\"-\",I$3),'Raw Data'!$A$2:$D$690331,4,FALSE),\"N/A\")","v":"N/A"},{"$f":"_xlfn.IFNA(VLOOKUP(_xlfn.CONCAT($C$2,\"-\",$E355,\"-\",$F355,\"-\",J$3),'Raw Data'!$A$2:$D$690331,4,FALSE),\"N/A\")","v":"N/A"},{"$f":"_xlfn.IFNA(VLOOKUP(_xlfn.CONCAT($C$2,\"-\",$E355,\"-\",$F355,\"-\",K$3),'Raw Data'!$A$2:$D$690331,4,FALSE),\"N/A\")","v":"N/A"},{"$f":"_xlfn.IFNA(VLOOKUP(_xlfn.CONCAT($C$2,\"-\",$E355,\"-\",$F355,\"-\",L$3),'Raw Data'!$A$2:$D$690331,4,FALSE),\"N/A\")","v":"N/A"},{"$f":"_xlfn.IFNA(VLOOKUP(_xlfn.CONCAT($C$2,\"-\",$E355,\"-\",$F355,\"-\",M$3),'Raw Data'!$A$2:$D$690331,4,FALSE),\"N/A\")","v":"N/A"},{"$f":"_xlfn.IFNA(VLOOKUP(_xlfn.CONCAT($C$2,\"-\",$E355,\"-\",$F355,\"-\",N$3),'Raw Data'!$A$2:$D$690331,4,FALSE),\"N/A\")","v":"N/A"},{"$f":"_xlfn.IFNA(VLOOKUP(_xlfn.CONCAT($C$2,\"-\",$E355,\"-\",$F355,\"-\",O$3),'Raw Data'!$A$2:$D$690331,4,FALSE),\"N/A\")","v":"N/A"},{"$f":"_xlfn.IFNA(VLOOKUP(_xlfn.CONCAT($C$2,\"-\",$E355,\"-\",$F355,\"-\",P$3),'Raw Data'!$A$2:$D$690331,4,FALSE),\"N/A\")","v":"N/A"},{"$f":"_xlfn.IFNA(VLOOKUP(_xlfn.CONCAT($C$2,\"-\",$E355,\"-\",$F355,\"-\",Q$3),'Raw Data'!$A$2:$D$690331,4,FALSE),\"N/A\")","v":"N/A"},{"$f":"_xlfn.IFNA(VLOOKUP(_xlfn.CONCAT($C$2,\"-\",$E355,\"-\",$F355,\"-\",R$3),'Raw Data'!$A$2:$D$690331,4,FALSE),\"N/A\")","v":"N/A"},{"$f":"_xlfn.IFNA(VLOOKUP(_xlfn.CONCAT($C$2,\"-\",$E355,\"-\",$F355,\"-\",S$3),'Raw Data'!$A$2:$D$690331,4,FALSE),\"N/A\")","v":"N/A"}]
[null,null,null,null,18,12,null,{"$f":"_xlfn.IFNA(VLOOKUP(_xlfn.CONCAT($C$2,\"-\",$E356,\"-\",$F356,\"-\",H$3),'Raw Data'!$A$2:$D$690331,4,FALSE),\"N/A\")","v":"N/A"},{"$f":"_xlfn.IFNA(VLOOKUP(_xlfn.CONCAT($C$2,\"-\",$E356,\"-\",$F356,\"-\",I$3),'Raw Data'!$A$2:$D$690331,4,FALSE),\"N/A\")","v":"N/A"},{"$f":"_xlfn.IFNA(VLOOKUP(_xlfn.CONCAT($C$2,\"-\",$E356,\"-\",$F356,\"-\",J$3),'Raw Data'!$A$2:$D$690331,4,FALSE),\"N/A\")","v":"N/A"},{"$f":"_xlfn.IFNA(VLOOKUP(_xlfn.CONCAT($C$2,\"-\",$E356,\"-\",$F356,\"-\",K$3),'Raw Data'!$A$2:$D$690331,4,FALSE),\"N/A\")","v":"N/A"},{"$f":"_xlfn.IFNA(VLOOKUP(_xlfn.CONCAT($C$2,\"-\",$E356,\"-\",$F356,\"-\",L$3),'Raw Data'!$A$2:$D$690331,4,FALSE),\"N/A\")","v":"N/A"},{"$f":"_xlfn.IFNA(VLOOKUP(_xlfn.CONCAT($C$2,\"-\",$E356,\"-\",$F356,\"-\",M$3),'Raw Data'!$A$2:$D$690331,4,FALSE),\"N/A\")","v":"N/A"},{"$f":"_xlfn.IFNA(VLOOKUP(_xlfn.CONCAT($C$2,\"-\",$E356,\"-\",$F356,\"-\",N$3),'Raw Data'!$A$2:$D$690331,4,FALSE),\"N/A\")","v":"N/A"},{"$f":"_xlfn.IFNA(VLOOKUP(_xlfn.CONCAT($C$2,\"-\",$E356,\"-\",$F356,\"-\",O$3),'Raw Data'!$A$2:$D$690331,4,FALSE),\"N/A\")","v":"N/A"},{"$f":"_xlfn.IFNA(VLOOKUP(_xlfn.CONCAT($C$2,\"-\",$E356,\"-\",$F356,\"-\",P$3),'Raw Data'!$A$2:$D$690331,4,FALSE),\"N/A\")","v":"N/A"},{"$f":"_xlfn.IFNA(VLOOKUP(_xlfn.CONCAT($C$2,\"-\",$E356,\"-\",$F356,\"-\",Q$3),'Raw Data'!$A$2:$D$690331,4,FALSE),\"N/A\")","v":"N/A"},{"$f":"_xlfn.IFNA(VLOOKUP(_xlfn.CONCAT($C$2,\"-\",$E356,\"-\",$F356,\"-\",R$3),'Raw Data'!$A$2:$D$690331,4,FALSE),\"N/A\")","v":"N/A"},{"$f":"_xlfn.IFNA(VLOOKUP(_xlfn.CONCAT($C$2,\"-\",$E356,\"-\",$F356,\"-\",S$3),'Raw Data'!$A$2:$D$690331,4,FALSE),\"N/A\")","v":"N/A"}]
[null,null,null,null,19,12,null,{"$f":"_xlfn.IFNA(VLOOKUP(_xlfn.CONCAT($C$2,\"-\",$E357,\"-\",$F357,\"-\",H$3),'Raw Data'!$A$2:$D$690331,4,FALSE),\"N/A\")","v":"N/A"},{"$f":"_xlfn.IFNA(VLOOKUP(_xlfn.CONCAT($C$2,\"-\",$E357,\"-\",$F357,\"-\",I$3),'Raw Data'!$A$2:$D$690331,4,FALSE),\"N/A\")","v":"N/A"},{"$f":"_xlfn.IFNA(VLOOKUP(_xlfn.CONCAT($C$2,\"-\",$E357,\"-\",$F357,\"-\",J$3),'Raw Data'!$A$2:$D$690331,4,FALSE),\"N/A\")","v":"N/A"},{"$f":"_xlfn.IFNA(VLOOKUP(_xlfn.CONCAT($C$2,\"-\",$E357,\"-\",$F357,\"-\",K$3),'Raw Data'!$A$2:$D$690331,4,FALSE),\"N/A\")","v":"N/A"},{"$f":"_xlfn.IFNA(VLOOKUP(_xlfn.CONCAT($C$2,\"-\",$E357,\"-\",$F357,\"-\",L$3),'Raw Data'!$A$2:$D$690331,4,FALSE),\"N/A\")","v":"N/A"},{"$f":"_xlfn.IFNA(VLOOKUP(_xlfn.CONCAT($C$2,\"-\",$E357,\"-\",$F357,\"-\",M$3),'Raw Data'!$A$2:$D$690331,4,FALSE),\"N/A\")","v":"N/A"},{"$f":"_xlfn.IFNA(VLOOKUP(_xlfn.CONCAT($C$2,\"-\",$E357,\"-\",$F357,\"-\",N$3),'Raw Data'!$A$2:$D$690331,4,FALSE),\"N/A\")","v":"N/A"},{"$f":"_xlfn.IFNA(VLOOKUP(_xlfn.CONCAT($C$2,\"-\",$E357,\"-\",$F357,\"-\",O$3),'Raw Data'!$A$2:$D$690331,4,FALSE),\"N/A\")","v":"N/A"},{"$f":"_xlfn.IFNA(VLOOKUP(_xlfn.CONCAT($C$2,\"-\",$E357,\"-\",$F357,\"-\",P$3),'Raw Data'!$A$2:$D$690331,4,FALSE),\"N/A\")","v":"N/A"},{"$f":"_xlfn.IFNA(VLOOKUP(_xlfn.CONCAT($C$2,\"-\",$E357,\"-\",$F357,\"-\",Q$3),'Raw Data'!$A$2:$D$690331,4,FALSE),\"N/A\")","v":"N/A"},{"$f":"_xlfn.IFNA(VLOOKUP(_xlfn.CONCAT($C$2,\"-\",$E357,\"-\",$F357,\"-\",R$3),'Raw Data'!$A$2:$D$690331,4,FALSE),\"N/A\")","v":"N/A"},{"$f":"_xlfn.IFNA(VLOOKUP(_xlfn.CONCAT($C$2,\"-\",$E357,\"-\",$F357,\"-\",S$3),'Raw Data'!$A$2:$D$690331,4,FALSE),\"N/A\")","v":"N/A"}]
[null,null,null,null,20,12,null,{"$f":"_xlfn.IFNA(VLOOKUP(_xlfn.CONCAT($C$2,\"-\",$E358,\"-\",$F358,\"-\",H$3),'Raw Data'!$A$2:$D$690331,4,FALSE),\"N/A\")","v":"N/A"},{"$f":"_xlfn.IFNA(VLOOKUP(_xlfn.CONCAT($C$2,\"-\",$E358,\"-\",$F358,\"-\",I$3),'Raw Data'!$A$2:$D$690331,4,FALSE),\"N/A\")","v":"N/A"},{"$f":"_xlfn.IFNA(VLOOKUP(_xlfn.CONCAT($C$2,\"-\",$E358,\"-\",$F358,\"-\",J$3),'Raw Data'!$A$2:$D$690331,4,FALSE),\"N/A\")","v":"N/A"},{"$f":"_xlfn.IFNA(VLOOKUP(_xlfn.CONCAT($C$2,\"-\",$E358,\"-\",$F358,\"-\",K$3),'Raw Data'!$A$2:$D$690331,4,FALSE),\"N/A\")","v":"N/A"},{"$f":"_xlfn.IFNA(VLOOKUP(_xlfn.CONCAT($C$2,\"-\",$E358,\"-\",$F358,\"-\",L$3),'Raw Data'!$A$2:$D$690331,4,FALSE),\"N/A\")","v":"N/A"},{"$f":"_xlfn.IFNA(VLOOKUP(_xlfn.CONCAT($C$2,\"-\",$E358,\"-\",$F358,\"-\",M$3),'Raw Data'!$A$2:$D$690331,4,FALSE),\"N/A\")","v":"N/A"},{"$f":"_xlfn.IFNA(VLOOKUP(_xlfn.CONCAT($C$2,\"-\",$E358,\"-\",$F358,\"-\",N$3),'Raw Data'!$A$2:$D$690331,4,FALSE),\"N/A\")","v":"N/A"},{"$f":"_xlfn.IFNA(VLOOKUP(_xlfn.CONCAT($C$2,\"-\",$E358,\"-\",$F358,\"-\",O$3),'Raw Data'!$A$2:$D$690331,4,FALSE),\"N/A\")","v":"N/A"},{"$f":"_xlfn.IFNA(VLOOKUP(_xlfn.CONCAT($C$2,\"-\",$E358,\"-\",$F358,\"-\",P$3),'Raw Data'!$A$2:$D$690331,4,FALSE),\"N/A\")","v":"N/A"},{"$f":"_xlfn.IFNA(VLOOKUP(_xlfn.CONCAT($C$2,\"-\",$E358,\"-\",$F358,\"-\",Q$3),'Raw Data'!$A$2:$D$690331,4,FALSE),\"N/A\")","v":"N/A"},{"$f":"_xlfn.IFNA(VLOOKUP(_xlfn.CONCAT($C$2,\"-\",$E358,\"-\",$F358,\"-\",R$3),'Raw Data'!$A$2:$D$690331,4,FALSE),\"N/A\")","v":"N/A"},{"$f":"_xlfn.IFNA(VLOOKUP(_xlfn.CONCAT($C$2,\"-\",$E358,\"-\",$F358,\"-\",S$3),'Raw Data'!$A$2:$D$690331,4,FALSE),\"N/A\")","v":"N/A"}]
[null,null,null,null,21,12,null,{"$f":"_xlfn.IFNA(VLOOKUP(_xlfn.CONCAT($C$2,\"-\",$E359,\"-\",$F359,\"-\",H$3),'Raw Data'!$A$2:$D$690331,4,FALSE),\"N/A\")","v":"N/A"},{"$f":"_xlfn.IFNA(VLOOKUP(_xlfn.CONCAT($C$2,\"-\",$E359,\"-\",$F359,\"-\",I$3),'Raw Data'!$A$2:$D$690331,4,FALSE),\"N/A\")","v":"N/A"},{"$f":"_xlfn.IFNA(VLOOKUP(_xlfn.CONCAT($C$2,\"-\",$E359,\"-\",$F359,\"-\",J$3),'Raw Data'!$A$2:$D$690331,4,FALSE),\"N/A\")","v":"N/A"},{"$f":"_xlfn.IFNA(VLOOKUP(_xlfn.CONCAT($C$2,\"-\",$E359,\"-\",$F359,\"-\",K$3),'Raw Data'!$A$2:$D$690331,4,FALSE),\"N/A\")","v":"N/A"},{"$f":"_xlfn.IFNA(VLOOKUP(_xlfn.CONCAT($C$2,\"-\",$E359,\"-\",$F359,\"-\",L$3),'Raw Data'!$A$2:$D$690331,4,FALSE),\"N/A\")","v":"N/A"},{"$f":"_xlfn.IFNA(VLOOKUP(_xlfn.CONCAT($C$2,\"-\",$E359,\"-\",$F359,\"-\",M$3),'Raw Data'!$A$2:$D$690331,4,FALSE),\"N/A\")","v":"N/A"},{"$f":"_xlfn.IFNA(VLOOKUP(_xlfn.CONCAT($C$2,\"-\",$E359,\"-\",$F359,\"-\",N$3),'Raw Data'!$A$2:$D$690331,4,FALSE),\"N/A\")","v":"N/A"},{"$f":"_xlfn.IFNA(VLOOKUP(_xlfn.CONCAT($C$2,\"-\",$E359,\"-\",$F359,\"-\",O$3),'Raw Data'!$A$2:$D$690331,4,FALSE),\"N/A\")","v":"N/A"},{"$f":"_xlfn.IFNA(VLOOKUP(_xlfn.CONCAT($C$2,\"-\",$E359,\"-\",$F359,\"-\",P$3),'Raw Data'!$A$2:$D$690331,4,FALSE),\"N/A\")","v":"N/A"},{"$f":"_xlfn.IFNA(VLOOKUP(_xlfn.CONCAT($C$2,\"-\",$E359,\"-\",$F359,\"-\",Q$3),'Raw Data'!$A$2:$D$690331,4,FALSE),\"N/A\")","v":"N/A"},{"$f":"_xlfn.IFNA(VLOOKUP(_xlfn.CONCAT($C$2,\"-\",$E359,\"-\",$F359,\"-\",R$3),'Raw Data'!$A$2:$D$690331,4,FALSE),\"N/A\")","v":"N/A"},{"$f":"_xlfn.IFNA(VLOOKUP(_xlfn.CONCAT($C$2,\"-\",$E359,\"-\",$F359,\"-\",S$3),'Raw Data'!$A$2:$D$690331,4,FALSE),\"N/A\")","v":"N/A"}]
[null,null,null,null,22,12,null,{"$f":"_xlfn.IFNA(VLOOKUP(_xlfn.CONCAT($C$2,\"-\",$E360,\"-\",$F360,\"-\",H$3),'Raw Data'!$A$2:$D$690331,4,FALSE),\"N/A\")","v":"N/A"},{"$f":"_xlfn.IFNA(VLOOKUP(_xlfn.CONCAT($C$2,\"-\",$E360,\"-\",$F360,\"-\",I$3),'Raw Data'!$A$2:$D$690331,4,FALSE),\"N/A\")","v":"N/A"},{"$f":"_xlfn.IFNA(VLOOKUP(_xlfn.CONCAT($C$2,\"-\",$E360,\"-\",$F360,\"-\",J$3),'Raw Data'!$A$2:$D$690331,4,FALSE),\"N/A\")","v":"N/A"},{"$f":"_xlfn.IFNA(VLOOKUP(_xlfn.CONCAT($C$2,\"-\",$E360,\"-\",$F360,\"-\",K$3),'Raw Data'!$A$2:$D$690331,4,FALSE),\"N/A\")","v":"N/A"},{"$f":"_xlfn.IFNA(VLOOKUP(_xlfn.CONCAT($C$2,\"-\",$E360,\"-\",$F360,\"-\",L$3),'Raw Data'!$A$2:$D$690331,4,FALSE),\"N/A\")","v":"N/A"},{"$f":"_xlfn.IFNA(VLOOKUP(_xlfn.CONCAT($C$2,\"-\",$E360,\"-\",$F360,\"-\",M$3),'Raw Data'!$A$2:$D$690331,4,FALSE),\"N/A\")","v":"N/A"},{"$f":"_xlfn.IFNA(VLOOKUP(_xlfn.CONCAT($C$2,\"-\",$E360,\"-\",$F360,\"-\",N$3),'Raw Data'!$A$2:$D$690331,4,FALSE),\"N/A\")","v":"N/A"},{"$f":"_xlfn.IFNA(VLOOKUP(_xlfn.CONCAT($C$2,\"-\",$E360,\"-\",$F360,\"-\",O$3),'Raw Data'!$A$2:$D$690331,4,FALSE),\"N/A\")","v":"N/A"},{"$f":"_xlfn.IFNA(VLOOKUP(_xlfn.CONCAT($C$2,\"-\",$E360,\"-\",$F360,\"-\",P$3),'Raw Data'!$A$2:$D$690331,4,FALSE),\"N/A\")","v":"N/A"},{"$f":"_xlfn.IFNA(VLOOKUP(_xlfn.CONCAT($C$2,\"-\",$E360,\"-\",$F360,\"-\",Q$3),'Raw Data'!$A$2:$D$690331,4,FALSE),\"N/A\")","v":"N/A"},{"$f":"_xlfn.IFNA(VLOOKUP(_xlfn.CONCAT($C$2,\"-\",$E360,\"-\",$F360,\"-\",R$3),'Raw Data'!$A$2:$D$690331,4,FALSE),\"N/A\")","v":"N/A"},{"$f":"_xlfn.IFNA(VLOOKUP(_xlfn.CONCAT($C$2,\"-\",$E360,\"-\",$F360,\"-\",S$3),'Raw Data'!$A$2:$D$690331,4,FALSE),\"N/A\")","v":"N/A"}]
[null,null,null,null,23,12,null,{"$f":"_xlfn.IFNA(VLOOKUP(_xlfn.CONCAT($C$2,\"-\",$E361,\"-\",$F361,\"-\",H$3),'Raw Data'!$A$2:$D$690331,4,FALSE),\"N/A\")","v":"N/A"},{"$f":"_xlfn.IFNA(VLOOKUP(_xlfn.CONCAT($C$2,\"-\",$E361,\"-\",$F361,\"-\",I$3),'Raw Data'!$A$2:$D$690331,4,FALSE),\"N/A\")","v":"N/A"},{"$f":"_xlfn.IFNA(VLOOKUP(_xlfn.CONCAT($C$2,\"-\",$E361,\"-\",$F361,\"-\",J$3),'Raw Data'!$A$2:$D$690331,4,FALSE),\"N/A\")","v":"N/A"},{"$f":"_xlfn.IFNA(VLOOKUP(_xlfn.CONCAT($C$2,\"-\",$E361,\"-\",$F361,\"-\",K$3),'Raw Data'!$A$2:$D$690331,4,FALSE),\"N/A\")","v":"N/A"},{"$f":"_xlfn.IFNA(VLOOKUP(_xlfn.CONCAT($C$2,\"-\",$E361,\"-\",$F361,\"-\",L$3),'Raw Data'!$A$2:$D$690331,4,FALSE),\"N/A\")","v":"N/A"},{"$f":"_xlfn.IFNA(VLOOKUP(_xlfn.CONCAT($C$2,\"-\",$E361,\"-\",$F361,\"-\",M$3),'Raw Data'!$A$2:$D$690331,4,FALSE),\"N/A\")","v":"N/A"},{"$f":"_xlfn.IFNA(VLOOKUP(_xlfn.CONCAT($C$2,\"-\",$E361,\"-\",$F361,\"-\",N$3),'Raw Data'!$A$2:$D$690331,4,FALSE),\"N/A\")","v":"N/A"},{"$f":"_xlfn.IFNA(VLOOKUP(_xlfn.CONCAT($C$2,\"-\",$E361,\"-\",$F361,\"-\",O$3),'Raw Data'!$A$2:$D$690331,4,FALSE),\"N/A\")","v":"N/A"},{"$f":"_xlfn.IFNA(VLOOKUP(_xlfn.CONCAT($C$2,\"-\",$E361,\"-\",$F361,\"-\",P$3),'Raw Data'!$A$2:$D$690331,4,FALSE),\"N/A\")","v":"N/A"},{"$f":"_xlfn.IFNA(VLOOKUP(_xlfn.CONCAT($C$2,\"-\",$E361,\"-\",$F361,\"-\",Q$3),'Raw Data'!$A$2:$D$690331,4,FALSE),\"N/A\")","v":"N/A"},{"$f":"_xlfn.IFNA(VLOOKUP(_xlfn.CONCAT($C$2,\"-\",$E361,\"-\",$F361,\"-\",R$3),'Raw Data'!$A$2:$D$690331,4,FALSE),\"N/A\")","v":"N/A"},{"$f":"_xlfn.IFNA(VLOOKUP(_xlfn.CONCAT($C$2,\"-\",$E361,\"-\",$F361,\"-\",S$3),'Raw Data'!$A$2:$D$690331,4,FALSE),\"N/A\")","v":"N/A"}]
[null,null,null,null,24,12,null,{"$f":"_xlfn.IFNA(VLOOKUP(_xlfn.CONCAT($C$2,\"-\",$E362,\"-\",$F362,\"-\",H$3),'Raw Data'!$A$2:$D$690331,4,FALSE),\"N/A\")","v":"N/A"},{"$f":"_xlfn.IFNA(VLOOKUP(_xlfn.CONCAT($C$2,\"-\",$E362,\"-\",$F362,\"-\",I$3),'Raw Data'!$A$2:$D$690331,4,FALSE),\"N/A\")","v":"N/A"},{"$f":"_xlfn.IFNA(VLOOKUP(_xlfn.CONCAT($C$2,\"-\",$E362,\"-\",$F362,\"-\",J$3),'Raw Data'!$A$2:$D$690331,4,FALSE),\"N/A\")","v":"N/A"},{"$f":"_xlfn.IFNA(VLOOKUP(_xlfn.CONCAT($C$2,\"-\",$E362,\"-\",$F362,\"-\",K$3),'Raw Data'!$A$2:$D$690331,4,FALSE),\"N/A\")","v":"N/A"},{"$f":"_xlfn.IFNA(VLOOKUP(_xlfn.CONCAT($C$2,\"-\",$E362,\"-\",$F362,\"-\",L$3),'Raw Data'!$A$2:$D$690331,4,FALSE),\"N/A\")","v":"N/A"},{"$f":"_xlfn.IFNA(VLOOKUP(_xlfn.CONCAT($C$2,\"-\",$E362,\"-\",$F362,\"-\",M$3),'Raw Data'!$A$2:$D$690331,4,FALSE),\"N/A\")","v":"N/A"},{"$f":"_xlfn.IFNA(VLOOKUP(_xlfn.CONCAT($C$2,\"-\",$E362,\"-\",$F362,\"-\",N$3),'Raw Data'!$A$2:$D$690331,4,FALSE),\"N/A\")","v":"N/A"},{"$f":"_xlfn.IFNA(VLOOKUP(_xlfn.CONCAT($C$2,\"-\",$E362,\"-\",$F362,\"-\",O$3),'Raw Data'!$A$2:$D$690331,4,FALSE),\"N/A\")","v":"N/A"},{"$f":"_xlfn.IFNA(VLOOKUP(_xlfn.CONCAT($C$2,\"-\",$E362,\"-\",$F362,\"-\",P$3),'Raw Data'!$A$2:$D$690331,4,FALSE),\"N/A\")","v":"N/A"},{"$f":"_xlfn.IFNA(VLOOKUP(_xlfn.CONCAT($C$2,\"-\",$E362,\"-\",$F362,\"-\",Q$3),'Raw Data'!$A$2:$D$690331,4,FALSE),\"N/A\")","v":"N/A"},{"$f":"_xlfn.IFNA(VLOOKUP(_xlfn.CONCAT($C$2,\"-\",$E362,\"-\",$F362,\"-\",R$3),'Raw Data'!$A$2:$D$690331,4,FALSE),\"N/A\")","v":"N/A"},{"$f":"_xlfn.IFNA(VLOOKUP(_xlfn.CONCAT($C$2,\"-\",$E362,\"-\",$F362,\"-\",S$3),'Raw Data'!$A$2:$D$690331,4,FALSE),\"N/A\")","v":"N/A"}]
[null,null,null,null,25,12,null,{"$f":"_xlfn.IFNA(VLOOKUP(_xlfn.CONCAT($C$2,\"-\",$E363,\"-\",$F363,\"-\",H$3),'Raw Data'!$A$2:$D$690331,4,FALSE),\"N/A\")","v":"N/A"},{"$f":"_xlfn.IFNA(VLOOKUP(_xlfn.CONCAT($C$2,\"-\",$E363,\"-\",$F363,\"-\",I$3),'Raw Data'!$A$2:$D$690331,4,FALSE),\"N/A\")","v":"N/A"},{"$f":"_xlfn.IFNA(VLOOKUP(_xlfn.CONCAT($C$2,\"-\",$E363,\"-\",$F363,\"-\",J$3),'Raw Data'!$A$2:$D$690331,4,FALSE),\"N/A\")","v":"N/A"},{"$f":"_xlfn.IFNA(VLOOKUP(_xlfn.CONCAT($C$2,\"-\",$E363,\"-\",$F363,\"-\",K$3),'Raw Data'!$A$2:$D$690331,4,FALSE),\"N/A\")","v":"N/A"},{"$f":"_xlfn.IFNA(VLOOKUP(_xlfn.CONCAT($C$2,\"-\",$E363,\"-\",$F363,\"-\",L$3),'Raw Data'!$A$2:$D$690331,4,FALSE),\"N/A\")","v":"N/A"},{"$f":"_xlfn.IFNA(VLOOKUP(_xlfn.CONCAT($C$2,\"-\",$E363,\"-\",$F363,\"-\",M$3),'Raw Data'!$A$2:$D$690331,4,FALSE),\"N/A\")","v":"N/A"},{"$f":"_xlfn.IFNA(VLOOKUP(_xlfn.CONCAT($C$2,\"-\",$E363,\"-\",$F363,\"-\",N$3),'Raw Data'!$A$2:$D$690331,4,FALSE),\"N/A\")","v":"N/A"},{"$f":"_xlfn.IFNA(VLOOKUP(_xlfn.CONCAT($C$2,\"-\",$E363,\"-\",$F363,\"-\",O$3),'Raw Data'!$A$2:$D$690331,4,FALSE),\"N/A\")","v":"N/A"},{"$f":"_xlfn.IFNA(VLOOKUP(_xlfn.CONCAT($C$2,\"-\",$E363,\"-\",$F363,\"-\",P$3),'Raw Data'!$A$2:$D$690331,4,FALSE),\"N/A\")","v":"N/A"},{"$f":"_xlfn.IFNA(VLOOKUP(_xlfn.CONCAT($C$2,\"-\",$E363,\"-\",$F363,\"-\",Q$3),'Raw Data'!$A$2:$D$690331,4,FALSE),\"N/A\")","v":"N/A"},{"$f":"_xlfn.IFNA(VLOOKUP(_xlfn.CONCAT($C$2,\"-\",$E363,\"-\",$F363,\"-\",R$3),'Raw Data'!$A$2:$D$690331,4,FALSE),\"N/A\")","v":"N/A"},{"$f":"_xlfn.IFNA(VLOOKUP(_xlfn.CONCAT($C$2,\"-\",$E363,\"-\",$F363,\"-\",S$3),'Raw Data'!$A$2:$D$690331,4,FALSE),\"N/A\")","v":"N/A"}]
[null,null,null,null,26,12,null,{"$f":"_xlfn.IFNA(VLOOKUP(_xlfn.CONCAT($C$2,\"-\",$E364,\"-\",$F364,\"-\",H$3),'Raw Data'!$A$2:$D$690331,4,FALSE),\"N/A\")","v":"N/A"},{"$f":"_xlfn.IFNA(VLOOKUP(_xlfn.CONCAT($C$2,\"-\",$E364,\"-\",$F364,\"-\",I$3),'Raw Data'!$A$2:$D$690331,4,FALSE),\"N/A\")","v":"N/A"},{"$f":"_xlfn.IFNA(VLOOKUP(_xlfn.CONCAT($C$2,\"-\",$E364,\"-\",$F364,\"-\",J$3),'Raw Data'!$A$2:$D$690331,4,FALSE),\"N/A\")","v":"N/A"},{"$f":"_xlfn.IFNA(VLOOKUP(_xlfn.CONCAT($C$2,\"-\",$E364,\"-\",$F364,\"-\",K$3),'Raw Data'!$A$2:$D$690331,4,FALSE),\"N/A\")","v":"N/A"},{"$f":"_xlfn.IFNA(VLOOKUP(_xlfn.CONCAT($C$2,\"-\",$E364,\"-\",$F364,\"-\",L$3),'Raw Data'!$A$2:$D$690331,4,FALSE),\"N/A\")","v":"N/A"},{"$f":"_xlfn.IFNA(VLOOKUP(_xlfn.CONCAT($C$2,\"-\",$E364,\"-\",$F364,\"-\",M$3),'Raw Data'!$A$2:$D$690331,4,FALSE),\"N/A\")","v":"N/A"},{"$f":"_xlfn.IFNA(VLOOKUP(_xlfn.CONCAT($C$2,\"-\",$E364,\"-\",$F364,\"-\",N$3),'Raw Data'!$A$2:$D$690331,4,FALSE),\"N/A\")","v":"N/A"},{"$f":"_xlfn.IFNA(VLOOKUP(_xlfn.CONCAT($C$2,\"-\",$E364,\"-\",$F364,\"-\",O$3),'Raw Data'!$A$2:$D$690331,4,FALSE),\"N/A\")","v":"N/A"},{"$f":"_xlfn.IFNA(VLOOKUP(_xlfn.CONCAT($C$2,\"-\",$E364,\"-\",$F364,\"-\",P$3),'Raw Data'!$A$2:$D$690331,4,FALSE),\"N/A\")","v":"N/A"},{"$f":"_xlfn.IFNA(VLOOKUP(_xlfn.CONCAT($C$2,\"-\",$E364,\"-\",$F364,\"-\",Q$3),'Raw Data'!$A$2:$D$690331,4,FALSE),\"N/A\")","v":"N/A"},{"$f":"_xlfn.IFNA(VLOOKUP(_xlfn.CONCAT($C$2,\"-\",$E364,\"-\",$F364,\"-\",R$3),'Raw Data'!$A$2:$D$690331,4,FALSE),\"N/A\")","v":"N/A"},{"$f":"_xlfn.IFNA(VLOOKUP(_xlfn.CONCAT($C$2,\"-\",$E364,\"-\",$F364,\"-\",S$3),'Raw Data'!$A$2:$D$690331,4,FALSE),\"N/A\")","v":"N/A"}]
[null,null,null,null,27,12,null,{"$f":"_xlfn.IFNA(VLOOKUP(_xlfn.CONCAT($C$2,\"-\",$E365,\"-\",$F365,\"-\",H$3),'Raw Data'!$A$2:$D$690331,4,FALSE),\"N/A\")","v":"N/A"},{"$f":"_xlfn.IFNA(VLOOKUP(_xlfn.CONCAT($C$2,\"-\",$E365,\"-\",$F365,\"-\",I$3),'Raw Data'!$A$2:$D$690331,4,FALSE),\"N/A\")","v":"N/A"},{"$f":"_xlfn.IFNA(VLOOKUP(_xlfn.CONCAT($C$2,\"-\",$E365,\"-\",$F365,\"-\",J$3),'Raw Data'!$A$2:$D$690331,4,FALSE),\"N/A\")","v":"N/A"},{"$f":"_xlfn.IFNA(VLOOKUP(_xlfn.CONCAT($C$2,\"-\",$E365,\"-\",$F365,\"-\",K$3),'Raw Data'!$A$2:$D$690331,4,FALSE),\"N/A\")","v":"N/A"},{"$f":"_xlfn.IFNA(VLOOKUP(_xlfn.CONCAT($C$2,\"-\",$E365,\"-\",$F365,\"-\",L$3),'Raw Data'!$A$2:$D$690331,4,FALSE),\"N/A\")","v":"N/A"},{"$f":"_xlfn.IFNA(VLOOKUP(_xlfn.CONCAT($C$2,\"-\",$E365,\"-\",$F365,\"-\",M$3),'Raw Data'!$A$2:$D$690331,4,FALSE),\"N/A\")","v":"N/A"},{"$f":"_xlfn.IFNA(VLOOKUP(_xlfn.CONCAT($C$2,\"-\",$E365,\"-\",$F365,\"-\",N$3),'Raw Data'!$A$2:$D$690331,4,FALSE),\"N/A\")","v":"N/A"},{"$f":"_xlfn.IFNA(VLOOKUP(_xlfn.CONCAT($C$2,\"-\",$E365,\"-\",$F365,\"-\",O$3),'Raw Data'!$A$2:$D$690331,4,FALSE),\"N/A\")","v":"N/A"},{"$f":"_xlfn.IFNA(VLOOKUP(_xlfn.CONCAT($C$2,\"-\",$E365,\"-\",$F365,\"-\",P$3),'Raw Data'!$A$2:$D$690331,4,FALSE),\"N/A\")","v":"N/A"},{"$f":"_xlfn.IFNA(VLOOKUP(_xlfn.CONCAT($C$2,\"-\",$E365,\"-\",$F365,\"-\",Q$3),'Raw Data'!$A$2:$D$690331,4,FALSE),\"N/A\")","v":"N/A"},{"$f":"_xlfn.IFNA(VLOOKUP(_xlfn.CONCAT($C$2,\"-\",$E365,\"-\",$F365,\"-\",R$3),'Raw Data'!$A$2:$D$690331,4,FALSE),\"N/A\")","v":"N/A"},{"$f":"_xlfn.IFNA(VLOOKUP(_xlfn.CONCAT($C$2,\"-\",$E365,\"-\",$F365,\"-\",S$3),'Raw Data'!$A$2:$D$690331,4,FALSE),\"N/A\")","v":"N/A"}]
[null,null,null,null,28,12,null,{"$f":"_xlfn.IFNA(VLOOKUP(_xlfn.CONCAT($C$2,\"-\",$E366,\"-\",$F366,\"-\",H$3),'Raw Data'!$A$2:$D$690331,4,FALSE),\"N/A\")","v":"N/A"},{"$f":"_xlfn.IFNA(VLOOKUP(_xlfn.CONCAT($C$2,\"-\",$E366,\"-\",$F366,\"-\",I$3),'Raw Data'!$A$2:$D$690331,4,FALSE),\"N/A\")","v":"N/A"},{"$f":"_xlfn.IFNA(VLOOKUP(_xlfn.CONCAT($C$2,\"-\",$E366,\"-\",$F366,\"-\",J$3),'Raw Data'!$A$2:$D$690331,4,FALSE),\"N/A\")","v":"N/A"},{"$f":"_xlfn.IFNA(VLOOKUP(_xlfn.CONCAT($C$2,\"-\",$E366,\"-\",$F366,\"-\",K$3),'Raw Data'!$A$2:$D$690331,4,FALSE),\"N/A\")","v":"N/A"},{"$f":"_xlfn.IFNA(VLOOKUP(_xlfn.CONCAT($C$2,\"-\",$E366,\"-\",$F366,\"-\",L$3),'Raw Data'!$A$2:$D$690331,4,FALSE),\"N/A\")","v":"N/A"},{"$f":"_xlfn.IFNA(VLOOKUP(_xlfn.CONCAT($C$2,\"-\",$E366,\"-\",$F366,\"-\",M$3),'Raw Data'!$A$2:$D$690331,4,FALSE),\"N/A\")","v":"N/A"},{"$f":"_xlfn.IFNA(VLOOKUP(_xlfn.CONCAT($C$2,\"-\",$E366,\"-\",$F366,\"-\",N$3),'Raw Data'!$A$2:$D$690331,4,FALSE),\"N/A\")","v":"N/A"},{"$f":"_xlfn.IFNA(VLOOKUP(_xlfn.CONCAT($C$2,\"-\",$E366,\"-\",$F366,\"-\",O$3),'Raw Data'!$A$2:$D$690331,4,FALSE),\"N/A\")","v":"N/A"},{"$f":"_xlfn.IFNA(VLOOKUP(_xlfn.CONCAT($C$2,\"-\",$E366,\"-\",$F366,\"-\",P$3),'Raw Data'!$A$2:$D$690331,4,FALSE),\"N/A\")","v":"N/A"},{"$f":"_xlfn.IFNA(VLOOKUP(_xlfn.CONCAT($C$2,\"-\",$E366,\"-\",$F366,\"-\",Q$3),'Raw Data'!$A$2:$D$690331,4,FALSE),\"N/A\")","v":"N/A"},{"$f":"_xlfn.IFNA(VLOOKUP(_xlfn.CONCAT($C$2,\"-\",$E366,\"-\",$F366,\"-\",R$3),'Raw Data'!$A$2:$D$690331,4,FALSE),\"N/A\")","v":"N/A"},{"$f":"_xlfn.IFNA(VLOOKUP(_xlfn.CONCAT($C$2,\"-\",$E366,\"-\",$F366,\"-\",S$3),'Raw Data'!$A$2:$D$690331,4,FALSE),\"N/A\")","v":"N/A"}]
[null,null,null,null,29,12,null,{"$f":"_xlfn.IFNA(VLOOKUP(_xlfn.CONCAT($C$2,\"-\",$E367,\"-\",$F367,\"-\",H$3),'Raw Data'!$A$2:$D$690331,4,FALSE),\"N/A\")","v":"N/A"},{"$f":"_xlfn.IFNA(VLOOKUP(_xlfn.CONCAT($C$2,\"-\",$E367,\"-\",$F367,\"-\",I$3),'Raw Data'!$A$2:$D$690331,4,FALSE),\"N/A\")","v":"N/A"},{"$f":"_xlfn.IFNA(VLOOKUP(_xlfn.CONCAT($C$2,\"-\",$E367,\"-\",$F367,\"-\",J$3),'Raw Data'!$A$2:$D$690331,4,FALSE),\"N/A\")","v":"N/A"},{"$f":"_xlfn.IFNA(VLOOKUP(_xlfn.CONCAT($C$2,\"-\",$E367,\"-\",$F367,\"-\",K$3),'Raw Data'!$A$2:$D$690331,4,FALSE),\"N/A\")","v":"N/A"},{"$f":"_xlfn.IFNA(VLOOKUP(_xlfn.CONCAT($C$2,\"-\",$E367,\"-\",$F367,\"-\",L$3),'Raw Data'!$A$2:$D$690331,4,FALSE),\"N/A\")","v":"N/A"},{"$f":"_xlfn.IFNA(VLOOKUP(_xlfn.CONCAT($C$2,\"-\",$E367,\"-\",$F367,\"-\",M$3),'Raw Data'!$A$2:$D$690331,4,FALSE),\"N/A\")","v":"N/A"},{"$f":"_xlfn.IFNA(VLOOKUP(_xlfn.CONCAT($C$2,\"-\",$E367,\"-\",$F367,\"-\",N$3),'Raw Data'!$A$2:$D$690331,4,FALSE),\"N/A\")","v":"N/A"},{"$f":"_xlfn.IFNA(VLOOKUP(_xlfn.CONCAT($C$2,\"-\",$E367,\"-\",$F367,\"-\",O$3),'Raw Data'!$A$2:$D$690331,4,FALSE),\"N/A\")","v":"N/A"},{"$f":"_xlfn.IFNA(VLOOKUP(_xlfn.CONCAT($C$2,\"-\",$E367,\"-\",$F367,\"-\",P$3),'Raw Data'!$A$2:$D$690331,4,FALSE),\"N/A\")","v":"N/A"},{"$f":"_xlfn.IFNA(VLOOKUP(_xlfn.CONCAT($C$2,\"-\",$E367,\"-\",$F367,\"-\",Q$3),'Raw Data'!$A$2:$D$690331,4,FALSE),\"N/A\")","v":"N/A"},{"$f":"_xlfn.IFNA(VLOOKUP(_xlfn.CONCAT($C$2,\"-\",$E367,\"-\",$F367,\"-\",R$3),'Raw Data'!$A$2:$D$690331,4,FALSE),\"N/A\")","v":"N/A"},{"$f":"_xlfn.IFNA(VLOOKUP(_xlfn.CONCAT($C$2,\"-\",$E367,\"-\",$F367,\"-\",S$3),'Raw Data'!$A$2:$D$690331,4,FALSE),\"N/A\")","v":"N/A"}]
[null,null,null,null,30,12,null,{"$f":"_xlfn.IFNA(VLOOKUP(_xlfn.CONCAT($C$2,\"-\",$E368,\"-\",$F368,\"-\",H$3),'Raw Data'!$A$2:$D$690331,4,FALSE),\"N/A\")","v":"N/A"},{"$f":"_xlfn.IFNA(VLOOKUP(_xlfn.CONCAT($C$2,\"-\",$E368,\"-\",$F368,\"-\",I$3),'Raw Data'!$A$2:$D$690331,4,FALSE),\"N/A\")","v":"N/A"},{"$f":"_xlfn.IFNA(VLOOKUP(_xlfn.CONCAT($C$2,\"-\",$E368,\"-\",$F368,\"-\",J$3),'Raw Data'!$A$2:$D$690331,4,FALSE),\"N/A\")","v":"N/A"},{"$f":"_xlfn.IFNA(VLOOKUP(_xlfn.CONCAT($C$2,\"-\",$E368,\"-\",$F368,\"-\",K$3),'Raw Data'!$A$2:$D$690331,4,FALSE),\"N/A\")","v":"N/A"},{"$f":"_xlfn.IFNA(VLOOKUP(_xlfn.CONCAT($C$2,\"-\",$E368,\"-\",$F368,\"-\",L$3),'Raw Data'!$A$2:$D$690331,4,FALSE),\"N/A\")","v":"N/A"},{"$f":"_xlfn.IFNA(VLOOKUP(_xlfn.CONCAT($C$2,\"-\",$E368,\"-\",$F368,\"-\",M$3),'Raw Data'!$A$2:$D$690331,4,FALSE),\"N/A\")","v":"N/A"},{"$f":"_xlfn.IFNA(VLOOKUP(_xlfn.CONCAT($C$2,\"-\",$E368,\"-\",$F368,\"-\",N$3),'Raw Data'!$A$2:$D$690331,4,FALSE),\"N/A\")","v":"N/A"},{"$f":"_xlfn.IFNA(VLOOKUP(_xlfn.CONCAT($C$2,\"-\",$E368,\"-\",$F368,\"-\",O$3),'Raw Data'!$A$2:$D$690331,4,FALSE),\"N/A\")","v":"N/A"},{"$f":"_xlfn.IFNA(VLOOKUP(_xlfn.CONCAT($C$2,\"-\",$E368,\"-\",$F368,\"-\",P$3),'Raw Data'!$A$2:$D$690331,4,FALSE),\"N/A\")","v":"N/A"},{"$f":"_xlfn.IFNA(VLOOKUP(_xlfn.CONCAT($C$2,\"-\",$E368,\"-\",$F368,\"-\",Q$3),'Raw Data'!$A$2:$D$690331,4,FALSE),\"N/A\")","v":"N/A"},{"$f":"_xlfn.IFNA(VLOOKUP(_xlfn.CONCAT($C$2,\"-\",$E368,\"-\",$F368,\"-\",R$3),'Raw Data'!$A$2:$D$690331,4,FALSE),\"N/A\")","v":"N/A"},{"$f":"_xlfn.IFNA(VLOOKUP(_xlfn.CONCAT($C$2,\"-\",$E368,\"-\",$F368,\"-\",S$3),'Raw Data'!$A$2:$D$690331,4,FALSE),\"N/A\")","v":"N/A"}]
[null,null,null,null,31,12,null,{"$f":"_xlfn.IFNA(VLOOKUP(_xlfn.CONCAT($C$2,\"-\",$E369,\"-\",$F369,\"-\",H$3),'Raw Data'!$A$2:$D$690331,4,FALSE),\"N/A\")","v":"N/A"},{"$f":"_xlfn.IFNA(VLOOKUP(_xlfn.CONCAT($C$2,\"-\",$E369,\"-\",$F369,\"-\",I$3),'Raw Data'!$A$2:$D$690331,4,FALSE),\"N/A\")","v":"N/A"},{"$f":"_xlfn.IFNA(VLOOKUP(_xlfn.CONCAT($C$2,\"-\",$E369,\"-\",$F369,\"-\",J$3),'Raw Data'!$A$2:$D$690331,4,FALSE),\"N/A\")","v":"N/A"},{"$f":"_xlfn.IFNA(VLOOKUP(_xlfn.CONCAT($C$2,\"-\",$E369,\"-\",$F369,\"-\",K$3),'Raw Data'!$A$2:$D$690331,4,FALSE),\"N/A\")","v":"N/A"},{"$f":"_xlfn.IFNA(VLOOKUP(_xlfn.CONCAT($C$2,\"-\",$E369,\"-\",$F369,\"-\",L$3),'Raw Data'!$A$2:$D$690331,4,FALSE),\"N/A\")","v":"N/A"},{"$f":"_xlfn.IFNA(VLOOKUP(_xlfn.CONCAT($C$2,\"-\",$E369,\"-\",$F369,\"-\",M$3),'Raw Data'!$A$2:$D$690331,4,FALSE),\"N/A\")","v":"N/A"},{"$f":"_xlfn.IFNA(VLOOKUP(_xlfn.CONCAT($C$2,\"-\",$E369,\"-\",$F369,\"-\",N$3),'Raw Data'!$A$2:$D$690331,4,FALSE),\"N/A\")","v":"N/A"},{"$f":"_xlfn.IFNA(VLOOKUP(_xlfn.CONCAT($C$2,\"-\",$E369,\"-\",$F369,\"-\",O$3),'Raw Data'!$A$2:$D$690331,4,FALSE),\"N/A\")","v":"N/A"},{"$f":"_xlfn.IFNA(VLOOKUP(_xlfn.CONCAT($C$2,\"-\",$E369,\"-\",$F369,\"-\",P$3),'Raw Data'!$A$2:$D$690331,4,FALSE),\"N/A\")","v":"N/A"},{"$f":"_xlfn.IFNA(VLOOKUP(_xlfn.CONCAT($C$2,\"-\",$E369,\"-\",$F369,\"-\",Q$3),'Raw Data'!$A$2:$D$690331,4,FALSE),\"N/A\")","v":"N/A"},{"$f":"_xlfn.IFNA(VLOOKUP(_xlfn.CONCAT($C$2,\"-\",$E369,\"-\",$F369,\"-\",R$3),'Raw Data'!$A$2:$D$690331,4,FALSE),\"N/A\")","v":"N/A"},{"$f":"_xlfn.IFNA(VLOOKUP(_xlfn.CONCAT($C$2,\"-\",$E369,\"-\",$F369,\"-\",S$3),'Raw Data'!$A$2:$D$690331,4,FALSE),\"N/A\")","v":"N/A"}]

{"sheet":"RAINFALL OUTPUT","index":5,"n_rows":400,"n_cols":26,"rows_kept":400,"cut":false,"hidden":false,"merged":[]}
["Instructions "]
["This worksheet outputs the processed data in the format needed for the Green Star potable water calculator.",null,null,null,null,null,null,null,null,null,null,null,null,"Box A: 12 Year Averages"]
["Before continuing with this tab you must first select a city in the 'Rainfall Data' tab",null,null,null,null,null,null,null,null,null,null,null,null,"Total rainfall [mm]",{"$f":"AVERAGE(O8:Z8)","v":0}]
["In Box A to the right, the average yearly rainfall (in mm) is displayed.",null,null,null,null,null,null,null,null,null,null,null,null,"Number of rain days",{"$f":"AVERAGE(O11:Z11)","v":0}]
["The average number of rainfall days per year is also displayed"]
[{"$f":"\"- A rainfall day is defined as a day with 1 mm of rainfall or more.\"","v":"- A rainfall day is defined as a day with 1 mm of rainfall or more."},null,null,null,null,null,null,null,null,null,null,null,null,"Box B: Yearly Data",null,null,null,{"$f":"'RAINFALL DATA'!C2","v":0}]
[null,null,null,null,null,null,null,null,null,null,null,null,null,"Year",{"$f":"O35","v":2011},2012,2013,2014,2015,2016,2017,2018,2019,2020,2021,2022]
["In Box B, the total amount of rainfall and total number of rain days for each year is shown.",null,null,null,null,null,null,null,null,null,null,null,null,"Total Rainfall [mm]",{"$f":"SUM(O36:O400)","v":0},{"$f":"SUM(P36:P400)","v":0},0,0,0,0,0,0,0,0,0,0]
[null,null,null,null,null,null,null,null,null,null,null,null,null,"Variation from average",{"$f":"(O8-$O3)/$O3","v":{"$error":"#DIV/0!"}},{"$f":"(P8-$O3)/$O3","v":{"$error":"#DIV/0!"}},{"$error":"#DIV/0!"},{"$error":"#DIV/0!"},{"$error":"#DIV/0!"},{"$error":"#DIV/0!"},{"$error":"#DIV/0!"},{"$error":"#DIV/0!"},{"$error":"#DIV/0!"},{"$error":"#DIV/0!"},{"$error":"#DIV/0!"},{"$error":"#DIV/0!"}]
["1. A representative year must be chosen. This is the year that most closely resembles the 12 year average. "]
[{"$f":"\"- Compare each year's total rainfall and number of rain days with the 12 year average values.\"","v":"- Compare each year's total rainfall and number of rain days with the 12 year average values."},null,null,null,null,null,null,null,null,null,null,null,null,"Number of rain days",{"$f":"COUNTIF(O36:O400,\">1\")","v":0},{"$f":"COUNTIF(P36:P400,\">1\")","v":0},{"$f":"COUNTIF(Q36:Q400,\">1\")","v":0},0,0,0,0,0,0,0,0,0]
[{"$f":"\"- The percentage difference from the average is shown.\"","v":"- The percentage difference from the average is shown."},null,null,null,null,null,null,null,null,null,null,null,null,"Variation from average",{"$f":"(O11-$O4)/$O4","v":{"$error":"#DIV/0!"}},{"$error":"#DIV/0!"},{"$error":"#DIV/0!"},{"$error":"#DIV/0!"},{"$error":"#DIV/0!"},{"$error":"#DIV/0!"},{"$error":"#DIV/0!"},{"$error":"#DIV/0!"},{"$error":"#DIV/0!"},{"$error":"#DIV/0!"},{"$error":"#DIV/0!"},{"$error":"#DIV/0!"}]
[{"$f":"\"- Choose a representative year based on the closest total rainfall and number of rainfall days and enter it into the blue box below.\"","v":"- Choose a representative year based on the closest total rainfall and number of rainfall days and enter it into the blue box below."}]
["Chosen representative year:",null,2012,null,null,null,null,null,null,null,null,null,null,null,null,null,null,"For graphing",null,"Average monthly rainfall [mm]"]
["R2 fit of this year and the average:",null,{"$f":"RSQ(R15:R26,T15:T26)","v":{"$error":"#DIV/0!"}},null,null,null,null,null,null,null,null,null,null,null,null,null,null,{"$f":"HLOOKUP(C14,B$35:M$47,2,TRUE)","v":0},null,{"$f":"AVERAGE(B36:M36)","v":0}]
[null,null,null,null,null,null,null,null,null,null,null,null,null,null,null,null,null,{"$f":"HLOOKUP(C14,B$35:M$47,3,TRUE)","v":0},null,{"$f":"AVERAGE(B37:M37)","v":0}]
["3. Look at Box C to the right.",null,null,null,null,null,null,null,null,null,null,null,null,null,null,null,null,{"$f":"HLOOKUP(C14,B$35:M$47,4,TRUE)","v":0},null,{"$f":"AVERAGE(B38:M38)","v":0}]
["This is a graph of the annual rainfall profile, showing the monthly rainfall totals for the chosen representative year and the 12 year averages.",null,null,null,null,null,null,null,null,null,null,null,null,null,null,null,null,{"$f":"HLOOKUP(C14,B$35:M$47,5,TRUE)","v":0},null,0]
[{"$f":"\"- The dotted line is a trendline fitted to the representative year \"","v":"- The dotted line is a trendline fitted to the representative year "},null,null,null,null,null,null,null,null,null,null,null,null,null,null,null,null,{"$f":"HLOOKUP(C14,B$35:M$47,6,TRUE)","v":0},null,0]
[{"$f":"\"- If your chosen representative year looks vastly different to the 12 year average line, restart at step 1, choosing a different representative year.\"","v":"- If your chosen representative year looks vastly different to the 12 year average line, restart at step 1, choosing a different representative year."},null,null,null,null,null,null,null,null,null,null,null,null,null,null,null,null,{"$f":"HLOOKUP(C14,B$35:M$47,7,TRUE)","v":0},null,0]
[null,null,null,null,null,null,null,null,null,null,null,null,null,null,null,null,null,{"$f":"HLOOKUP(C14,B$35:M$47,8,TRUE)","v":0},null,0]
["4. Once the representative year has been chosen and entered into the above orange box, the appropriate data is highlighted below",null,null,null,null,null,null,null,null,null,null,null,null,null,null,null,null,{"$f":"HLOOKUP(C14,B$35:M$47,9,TRUE)","v":0},null,0]
[{"$f":"\"- This data is automatically inserted into the Potable Water Calculator.\"","v":"- This data is automatically inserted into the Potable Water Calculator."},null,null,null,null,null,null,null,null,null,null,null,null,null,null,null,null,{"$f":"HLOOKUP(C14,B$35:M$47,10,TRUE)","v":0},null,0]
[null,null,null,null,null,null,null,null,null,null,null,null,null,null,null,null,null,{"$f":"HLOOKUP(C14,B$35:M$47,11,TRUE)","v":0},null,0]
[null,null,null,null,null,null,null,null,null,null,null,null,null,null,null,null,null,{"$f":"HLOOKUP(C14,B$35:M$47,12,TRUE)","v":0},null,0]
[null,null,null,null,null,null,null,null,null,null,null,null,null,null,null,null,null,{"$f":"HLOOKUP(C14,B$35:M$47,13,TRUE)","v":0},null,0]
[]
[]
[]
[]
[]
[]
[]
[null,null,"Table 1: Monthly Rainfall Data",null,null,null,null,null,null,null,null,null,null,null,null,null,null,"Table 2: Annual Rainfall Data [mm]"]
["Monthly total rainfall [mm]",{"$f":"O7","v":2011},{"$f":"P7","v":2012},{"$f":"Q7","v":2013},{"$f":"R7","v":2014},{"$f":"S7","v":2015},{"$f":"T7","v":2016},{"$f":"U7","v":2017},{"$f":"V7","v":2018},{"$f":"W7","v":2019},{"$f":"X7","v":2020},{"$f":"Y7","v":2021},{"$f":"Z7","v":2022},null,2011,2012,2013,2014,2015,2016,2017,2018,2019,2020,2021,2022]
["January",{"$f":"SUM(O36:O66)","v":0},0,0,0,0,0,0,0,0,0,{"$f":"SUM(Y36:Y66)","v":0},{"$f":"SUM(Z36:Z66)","v":0},null,{"$f":"'RAINFALL DATA'!H5","v":"N/A"},{"$f":"'RAINFALL DATA'!I5","v":"N/A"},{"$f":"'RAINFALL DATA'!J5","v":"N/A"},{"$f":"'RAINFALL DATA'!K5","v":"N/A"},{"$f":"'RAINFALL DATA'!L5","v":"N/A"},{"$f":"'RAINFALL DATA'!M5","v":"N/A"},{"$f":"'RAINFALL DATA'!N5","v":"N/A"},{"$f":"'RAINFALL DATA'!O5","v":"N/A"},{"$f":"'RAINFALL DATA'!P5","v":"N/A"},{"$f":"'RAINFALL DATA'!Q5","v":"N/A"},{"$f":"'RAINFALL DATA'!R5","v":"N/A"},{"$f":"'RAINFALL DATA'!S5","v":"N/A"}]
["February",{"$f":"SUM(O67:O94)","v":0},0,0,0,0,0,0,0,0,0,{"$f":"SUM(Y67:Y94)","v":0},{"$f":"SUM(Z67:Z94)","v":0},null,{"$f":"'RAINFALL DATA'!H6","v":"N/A"},{"$f":"'RAINFALL DATA'!I6","v":"N/A"},{"$f":"'RAINFALL DATA'!J6","v":"N/A"},{"$f":"'RAINFALL DATA'!K6","v":"N/A"},{"$f":"'RAINFALL DATA'!L6","v":"N/A"},{"$f":"'RAINFALL DATA'!M6","v":"N/A"},{"$f":"'RAINFALL DATA'!N6","v":"N/A"},{"$f":"'RAINFALL DATA'!O6","v":"N/A"},{"$f":"'RAINFALL DATA'!P6","v":"N/A"},{"$f":"'RAINFALL DATA'!Q6","v":"N/A"},{"$f":"'RAINFALL DATA'!R6","v":"N/A"},{"$f":"'RAINFALL DATA'!S6","v":"N/A"}]
["March",{"$f":"SUM(O95:O125)","v":0},0,0,0,0,0,0,0,0,0,{"$f":"SUM(Y95:Y125)","v":0},{"$f":"SUM(Z95:Z125)","v":0},null,{"$f":"'RAINFALL DATA'!H7","v":"N/A"},{"$f":"'RAINFALL DATA'!I7","v":"N/A"},{"$f":"'RAINFALL DATA'!J7","v":"N/A"},{"$f":"'RAINFALL DATA'!K7","v":"N/A"},{"$f":"'RAINFALL DATA'!L7","v":"N/A"},{"$f":"'RAINFALL DATA'!M7","v":"N/A"},{"$f":"'RAINFALL DATA'!N7","v":"N/A"},{"$f":"'RAINFALL DATA'!O7","v":"N/A"},{"$f":"'RAINFALL DATA'!P7","v":"N/A"},{"$f":"'RAINFALL DATA'!Q7","v":"N/A"},{"$f":"'RAINFALL DATA'!R7","v":"N/A"},{"$f":"'RAINFALL DATA'!S7","v":"N/A"}]
["April",{"$f":"SUM(O126:O155)","v":0},0,0,0,0,0,0,0,0,0,{"$f":"SUM(Y126:Y155)","v":0},{"$f":"SUM(Z126:Z155)","v":0},null,{"$f":"'RAINFALL DATA'!H8","v":"N/A"},{"$f":"'RAINFALL DATA'!I8","v":"N/A"},{"$f":"'RAINFALL DATA'!J8","v":"N/A"},{"$f":"'RAINFALL DATA'!K8","v":"N/A"},{"$f":"'RAINFALL DATA'!L8","v":"N/A"},{"$f":"'RAINFALL DATA'!M8","v":"N/A"},{"$f":"'RAINFALL DATA'!N8","v":"N/A"},{"$f":"'RAINFALL DATA'!O8","v":"N/A"},{"$f":"'RAINFALL DATA'!P8","v":"N/A"},{"$f":"'RAINFALL DATA'!Q8","v":"N/A"},{"$f":"'RAINFALL DATA'!R8","v":"N/A"},{"$f":"'RAINFALL DATA'!S8","v":"N/A"}]
["May",{"$f":"SUM(O156:O186)","v":0},0,0,0,0,0,0,0,0,0,{"$f":"SUM(Y156:Y186)","v":0},{"$f":"SUM(Z156:Z186)","v":0},null,{"$f":"'RAINFALL DATA'!H9","v":"N/A"},{"$f":"'RAINFALL DATA'!I9","v":"N/A"},{"$f":"'RAINFALL DATA'!J9","v":"N/A"},{"$f":"'RAINFALL DATA'!K9","v":"N/A"},{"$f":"'RAINFALL DATA'!L9","v":"N/A"},{"$f":"'RAINFALL DATA'!M9","v":"N/A"},{"$f":"'RAINFALL DATA'!N9","v":"N/A"},{"$f":"'RAINFALL DATA'!O9","v":"N/A"},{"$f":"'RAINFALL DATA'!P9","v":"N/A"},{"$f":"'RAINFALL DATA'!Q9","v":"N/A"},{"$f":"'RAINFALL DATA'!R9","v":"N/A"},{"$f":"'RAINFALL DATA'!S9","v":"N/A"}]
["June",{"$f":"SUM(O187:O216)","v":0},0,0,0,0,0,0,0,0,0,{"$f":"SUM(Y187:Y216)","v":0},{"$f":"SUM(Z187:Z216)","v":0},null,{"$f":"'RAINFALL DATA'!H10","v":"N/A"},{"$f":"'RAINFALL DATA'!I10","v":"N/A"},{"$f":"'RAINFALL DATA'!J10","v":"N/A"},{"$f":"'RAINFALL DATA'!K10","v":"N/A"},{"$f":"'RAINFALL DATA'!L10","v":"N/A"},{"$f":"'RAINFALL DATA'!M10","v":"N/A"},{"$f":"'RAINFALL DATA'!N10","v":"N/A"},{"$f":"'RAINFALL DATA'!O10","v":"N/A"},{"$f":"'RAINFALL DATA'!P10","v":"N/A"},{"$f":"'RAINFALL DATA'!Q10","v":"N/A"},{"$f":"'RAINFALL DATA'!R10","v":"N/A"},{"$f":"'RAINFALL DATA'!S10","v":"N/A"}]
["July",{"$f":"SUM(O217:O247)","v":0},0,0,0,0,0,0,0,0,0,{"$f":"SUM(Y217:Y247)","v":0},{"$f":"SUM(Z217:Z247)","v":0},null,{"$f":"'RAINFALL DATA'!H11","v":"N/A"},{"$f":"'RAINFALL DATA'!I11","v":"N/A"},{"$f":"'RAINFALL DATA'!J11","v":"N/A"},{"$f":"'RAINFALL DATA'!K11","v":"N/A"},{"$f":"'RAINFALL DATA'!L11","v":"N/A"},{"$f":"'RAINFALL DATA'!M11","v":"N/A"},{"$f":"'RAINFALL DATA'!N11","v":"N/A"},{"$f":"'RAINFALL DATA'!O11","v":"N/A"},{"$f":"'RAINFALL DATA'!P11","v":"N/A"},{"$f":"'RAINFALL DATA'!Q11","v":"N/A"},{"$f":"'RAINFALL DATA'!R11","v":"N/A"},{"$f":"'RAINFALL DATA'!S11","v":"N/A"}]
["August",{"$f":"SUM(O248:O278)","v":0},0,0,0,0,0,0,0,0,0,{"$f":"SUM(Y248:Y278)","v":0},{"$f":"SUM(Z248:Z278)","v":0},null,{"$f":"'RAINFALL DATA'!H12","v":"N/A"},{"$f":"'RAINFALL DATA'!I12","v":"N/A"},{"$f":"'RAINFALL DATA'!J12","v":"N/A"},{"$f":"'RAINFALL DATA'!K12","v":"N/A"},{"$f":"'RAINFALL DATA'!L12","v":"N/A"},{"$f":"'RAINFALL DATA'!M12","v":"N/A"},{"$f":"'RAINFALL DATA'!N12","v":"N/A"},{"$f":"'RAINFALL DATA'!O12","v":"N/A"},{"$f":"'RAINFALL DATA'!P12","v":"N/A"},{"$f":"'RAINFALL DATA'!Q12","v":"N/A"},{"$f":"'RAINFALL DATA'!R12","v":"N/A"},{"$f":"'RAINFALL DATA'!S12","v":"N/A"}]
["September",{"$f":"SUM(O279:O308)","v":0},0,0,0,0,0,0,0,0,0,{"$f":"SUM(Y279:Y308)","v":0},{"$f":"SUM(Z279:Z308)","v":0},null,{"$f":"'RAINFALL DATA'!H13","v":"N/A"},{"$f":"'RAINFALL DATA'!I13","v":"N/A"},{"$f":"'RAINFALL DATA'!J13","v":"N/A"},{"$f":"'RAINFALL DATA'!K13","v":"N/A"},{"$f":"'RAINFALL DATA'!L13","v":"N/A"},{"$f":"'RAINFALL DATA'!M13","v":"N/A"},{"$f":"'RAINFALL DATA'!N13","v":"N/A"},{"$f":"'RAINFALL DATA'!O13","v":"N/A"},{"$f":"'RAINFALL DATA'!P13","v":"N/A"},{"$f":"'RAINFALL DATA'!Q13","v":"N/A"},{"$f":"'RAINFALL DATA'!R13","v":"N/A"},{"$f":"'RAINFALL DATA'!S13","v":"N/A"}]
["October",{"$f":"SUM(O309:O339)","v":0},0,0,0,0,0,0,0,0,0,{"$f":"SUM(Y309:Y339)","v":0},{"$f":"SUM(Z309:Z339)","v":0},null,{"$f":"'RAINFALL DATA'!H14","v":"N/A"},{"$f":"'RAINFALL DATA'!I14","v":"N/A"},{"$f":"'RAINFALL DATA'!J14","v":"N/A"},{"$f":"'RAINFALL DATA'!K14","v":"N/A"},{"$f":"'RAINFALL DATA'!L14","v":"N/A"},{"$f":"'RAINFALL DATA'!M14","v":"N/A"},{"$f":"'RAINFALL DATA'!N14","v":"N/A"},{"$f":"'RAINFALL DATA'!O14","v":"N/A"},{"$f":"'RAINFALL DATA'!P14","v":"N/A"},{"$f":"'RAINFALL DATA'!Q14","v":"N/A"},{"$f":"'RAINFALL DATA'!R14","v":"N/A"},{"$f":"'RAINFALL DATA'!S14","v":"N/A"}]
["November",{"$f":"SUM(O340:O369)","v":0},0,0,0,0,0,0,0,0,0,{"$f":"SUM(Y340:Y369)","v":0},{"$f":"SUM(Z340:Z369)","v":0},null,{"$f":"'RAINFALL DATA'!H15","v":"N/A"},{"$f":"'RAINFALL DATA'!I15","v":"N/A"},{"$f":"'RAINFALL DATA'!J15","v":"N/A"},{"$f":"'RAINFALL DATA'!K15","v":"N/A"},{"$f":"'RAINFALL DATA'!L15","v":"N/A"},{"$f":"'RAINFALL DATA'!M15","v":"N/A"},{"$f":"'RAINFALL DATA'!N15","v":"N/A"},{"$f":"'RAINFALL DATA'!O15","v":"N/A"},{"$f":"'RAINFALL DATA'!P15","v":"N/A"},{"$f":"'RAINFALL DATA'!Q15","v":"N/A"},{"$f":"'RAINFALL DATA'!R15","v":"N/A"},{"$f":"'RAINFALL DATA'!S15","v":"N/A"}]
["December",{"$f":"SUM(O370:O400)","v":0},0,0,0,0,0,0,0,0,0,{"$f":"SUM(Y370:Y400)","v":0},{"$f":"SUM(Z370:Z400)","v":0},null,{"$f":"'RAINFALL DATA'!H16","v":"N/A"},{"$f":"'RAINFALL DATA'!I16","v":"N/A"},{"$f":"'RAINFALL DATA'!J16","v":"N/A"},{"$f":"'RAINFALL DATA'!K16","v":"N/A"},{"$f":"'RAINFALL DATA'!L16","v":"N/A"},{"$f":"'RAINFALL DATA'!M16","v":"N/A"},{"$f":"'RAINFALL DATA'!N16","v":"N/A"},{"$f":"'RAINFALL DATA'!O16","v":"N/A"},{"$f":"'RAINFALL DATA'!P16","v":"N/A"},{"$f":"'RAINFALL DATA'!Q16","v":"N/A"},{"$f":"'RAINFALL DATA'!R16","v":"N/A"},{"$f":"'RAINFALL DATA'!S16","v":"N/A"}]
[null,null,null,null,null,null,null,null,null,null,null,null,null,null,{"$f":"'RAINFALL DATA'!H17","v":"N/A"},{"$f":"'RAINFALL DATA'!I17","v":"N/A"},{"$f":"'RAINFALL DATA'!J17","v":"N/A"},{"$f":"'RAINFALL DATA'!K17","v":"N/A"},{"$f":"'RAINFALL DATA'!L17","v":"N/A"},{"$f":"'RAINFALL DATA'!M17","v":"N/A"},{"$f":"'RAINFALL DATA'!N17","v":"N/A"},{"$f":"'RAINFALL DATA'!O17","v":"N/A"},{"$f":"'RAINFALL DATA'!P17","v":"N/A"},{"$f":"'RAINFALL DATA'!Q17","v":"N/A"},{"$f":"'RAINFALL DATA'!R17","v":"N/A"},{"$f":"'RAINFALL DATA'!S17","v":"N/A"}]
[null,null,null,null,null,null,null,null,null,null,null,null,null,null,{"$f":"'RAINFALL DATA'!H18","v":"N/A"},{"$f":"'RAINFALL DATA'!I18","v":"N/A"},{"$f":"'RAINFALL DATA'!J18","v":"N/A"},{"$f":"'RAINFALL DATA'!K18","v":"N/A"},{"$f":"'RAINFALL DATA'!L18","v":"N/A"},{"$f":"'RAINFALL DATA'!M18","v":"N/A"},{"$f":"'RAINFALL DATA'!N18","v":"N/A"},{"$f":"'RAINFALL DATA'!O18","v":"N/A"},{"$f":"'RAINFALL DATA'!P18","v":"N/A"},{"$f":"'RAINFALL DATA'!Q18","v":"N/A"},{"$f":"'RAINFALL DATA'!R18","v":"N/A"},{"$f":"'RAINFALL DATA'!S18","v":"N/A"}]
[null,null,null,null,null,null,null,null,null,null,null,null,null,null,{"$f":"'RAINFALL DATA'!H19","v":"N/A"},{"$f":"'RAINFALL DATA'!I19","v":"N/A"},{"$f":"'RAINFALL DATA'!J19","v":"N/A"},{"$f":"'RAINFALL DATA'!K19","v":"N/A"},{"$f":"'RAINFALL DATA'!L19","v":"N/A"},{"$f":"'RAINFALL DATA'!M19","v":"N/A"},{"$f":"'RAINFALL DATA'!N19","v":"N/A"},{"$f":"'RAINFALL DATA'!O19","v":"N/A"},{"$f":"'RAINFALL DATA'!P19","v":"N/A"},{"$f":"'RAINFALL DATA'!Q19","v":"N/A"},{"$f":"'RAINFALL DATA'!R19","v":"N/A"},{"$f":"'RAINFALL DATA'!S19","v":"N/A"}]
[null,null,null,null,null,null,null,null,null,null,null,null,null,null,{"$f":"'RAINFALL DATA'!H20","v":"N/A"},{"$f":"'RAINFALL DATA'!I20","v":"N/A"},{"$f":"'RAINFALL DATA'!J20","v":"N/A"},{"$f":"'RAINFALL DATA'!K20","v":"N/A"},{"$f":"'RAINFALL DATA'!L20","v":"N/A"},{"$f":"'RAINFALL DATA'!M20","v":"N/A"},{"$f":"'RAINFALL DATA'!N20","v":"N/A"},{"$f":"'RAINFALL DATA'!O20","v":"N/A"},{"$f":"'RAINFALL DATA'!P20","v":"N/A"},{"$f":"'RAINFALL DATA'!Q20","v":"N/A"},{"$f":"'RAINFALL DATA'!R20","v":"N/A"},{"$f":"'RAINFALL DATA'!S20","v":"N/A"}]
[null,null,null,null,null,null,null,null,null,null,null,null,null,null,{"$f":"'RAINFALL DATA'!H21","v":"N/A"},{"$f":"'RAINFALL DATA'!I21","v":"N/A"},{"$f":"'RAINFALL DATA'!J21","v":"N/A"},{"$f":"'RAINFALL DATA'!K21","v":"N/A"},{"$f":"'RAINFALL DATA'!L21","v":"N/A"},{"$f":"'RAINFALL DATA'!M21","v":"N/A"},{"$f":"'RAINFALL DATA'!N21","v":"N/A"},{"$f":"'RAINFALL DATA'!O21","v":"N/A"},{"$f":"'RAINFALL DATA'!P21","v":"N/A"},{"$f":"'RAINFALL DATA'!Q21","v":"N/A"},{"$f":"'RAINFALL DATA'!R21","v":"N/A"},{"$f":"'RAINFALL DATA'!S21","v":"N/A"}]
[null,null,null,null,null,null,null,null,null,null,null,null,null,null,{"$f":"'RAINFALL DATA'!H22","v":"N/A"},{"$f":"'RAINFALL DATA'!I22","v":"N/A"},{"$f":"'RAINFALL DATA'!J22","v":"N/A"},{"$f":"'RAINFALL DATA'!K22","v":"N/A"},{"$f":"'RAINFALL DATA'!L22","v":"N/A"},{"$f":"'RAINFALL DATA'!M22","v":"N/A"},{"$f":"'RAINFALL DATA'!N22","v":"N/A"},{"$f":"'RAINFALL DATA'!O22","v":"N/A"},{"$f":"'RAINFALL DATA'!P22","v":"N/A"},{"$f":"'RAINFALL DATA'!Q22","v":"N/A"},{"$f":"'RAINFALL DATA'!R22","v":"N/A"},{"$f":"'RAINFALL DATA'!S22","v":"N/A"}]
[null,null,null,null,null,null,null,null,null,null,null,null,null,null,{"$f":"'RAINFALL DATA'!H23","v":"N/A"},{"$f":"'RAINFALL DATA'!I23","v":"N/A"},{"$f":"'RAINFALL DATA'!J23","v":"N/A"},{"$f":"'RAINFALL DATA'!K23","v":"N/A"},{"$f":"'RAINFALL DATA'!L23","v":"N/A"},{"$f":"'RAINFALL DATA'!M23","v":"N/A"},{"$f":"'RAINFALL DATA'!N23","v":"N/A"},{"$f":"'RAINFALL DATA'!O23","v":"N/A"},{"$f":"'RAINFALL DATA'!P23","v":"N/A"},{"$f":"'RAINFALL DATA'!Q23","v":"N/A"},{"$f":"'RAINFALL DATA'!R23","v":"N/A"},{"$f":"'RAINFALL DATA'!S23","v":"N/A"}]
[null,null,null,null,null,null,null,null,null,null,null,null,null,null,{"$f":"'RAINFALL DATA'!H24","v":"N/A"},{"$f":"'RAINFALL DATA'!I24","v":"N/A"},{"$f":"'RAINFALL DATA'!J24","v":"N/A"},{"$f":"'RAINFALL DATA'!K24","v":"N/A"},{"$f":"'RAINFALL DATA'!L24","v":"N/A"},{"$f":"'RAINFALL DATA'!M24","v":"N/A"},{"$f":"'RAINFALL DATA'!N24","v":"N/A"},{"$f":"'RAINFALL DATA'!O24","v":"N/A"},{"$f":"'RAINFALL DATA'!P24","v":"N/A"},{"$f":"'RAINFALL DATA'!Q24","v":"N/A"},{"$f":"'RAINFALL DATA'!R24","v":"N/A"},{"$f":"'RAINFALL DATA'!S24","v":"N/A"}]
[null,null,null,null,null,null,null,null,null,null,null,null,null,null,{"$f":"'RAINFALL DATA'!H25","v":"N/A"},{"$f":"'RAINFALL DATA'!I25","v":"N/A"},{"$f":"'RAINFALL DATA'!J25","v":"N/A"},{"$f":"'RAINFALL DATA'!K25","v":"N/A"},{"$f":"'RAINFALL DATA'!L25","v":"N/A"},{"$f":"'RAINFALL DATA'!M25","v":"N/A"},{"$f":"'RAINFALL DATA'!N25","v":"N/A"},{"$f":"'RAINFALL DATA'!O25","v":"N/A"},{"$f":"'RAINFALL DATA'!P25","v":"N/A"},{"$f":"'RAINFALL DATA'!Q25","v":"N/A"},{"$f":"'RAINFALL DATA'!R25","v":"N/A"},{"$f":"'RAINFALL DATA'!S25","v":"N/A"}]
[null,null,null,null,null,null,null,null,null,null,null,null,null,null,{"$f":"'RAINFALL DATA'!H26","v":"N/A"},{"$f":"'RAINFALL DATA'!I26","v":"N/A"},{"$f":"'RAINFALL DATA'!J26","v":"N/A"},{"$f":"'RAINFALL DATA'!K26","v":"N/A"},{"$f":"'RAINFALL DATA'!L26","v":"N/A"},{"$f":"'RAINFALL DATA'!M26","v":"N/A"},{"$f":"'RAINFALL DATA'!N26","v":"N/A"},{"$f":"'RAINFALL DATA'!O26","v":"N/A"},{"$f":"'RAINFALL DATA'!P26","v":"N/A"},{"$f":"'RAINFALL DATA'!Q26","v":"N/A"},{"$f":"'RAINFALL DATA'!R26","v":"N/A"},{"$f":"'RAINFALL DATA'!S26","v":"N/A"}]
[null,null,null,null,null,null,null,null,null,null,null,null,null,null,{"$f":"'RAINFALL DATA'!H27","v":"N/A"},{"$f":"'RAINFALL DATA'!I27","v":"N/A"},{"$f":"'RAINFALL DATA'!J27","v":"N/A"},{"$f":"'RAINFALL DATA'!K27","v":"N/A"},{"$f":"'RAINFALL DATA'!L27","v":"N/A"},{"$f":"'RAINFALL DATA'!M27","v":"N/A"},{"$f":"'RAINFALL DATA'!N27","v":"N/A"},{"$f":"'RAINFALL DATA'!O27","v":"N/A"},{"$f":"'RAINFALL DATA'!P27","v":"N/A"},{"$f":"'RAINFALL DATA'!Q27","v":"N/A"},{"$f":"'RAINFALL DATA'!R27","v":"N/A"},{"$f":"'RAINFALL DATA'!S27","v":"N/A"}]
[null,null,null,null,null,null,null,null,null,null,null,null,null,null,{"$f":"'RAINFALL DATA'!H28","v":"N/A"},{"$f":"'RAINFALL DATA'!I28","v":"N/A"},{"$f":"'RAINFALL DATA'!J28","v":"N/A"},{"$f":"'RAINFALL DATA'!K28","v":"N/A"},{"$f":"'RAINFALL DATA'!L28","v":"N/A"},{"$f":"'RAINFALL DATA'!M28","v":"N/A"},{"$f":"'RAINFALL DATA'!N28","v":"N/A"},{"$f":"'RAINFALL DATA'!O28","v":"N/A"},{"$f":"'RAINFALL DATA'!P28","v":"N/A"},{"$f":"'RAINFALL DATA'!Q28","v":"N/A"},{"$f":"'RAINFALL DATA'!R28","v":"N/A"},{"$f":"'RAINFALL DATA'!S28","v":"N/A"}]
[null,null,null,null,null,null,null,null,null,null,null,null,null,null,{"$f":"'RAINFALL DATA'!H29","v":"N/A"},{"$f":"'RAINFALL DATA'!I29","v":"N/A"},{"$f":"'RAINFALL DATA'!J29","v":"N/A"},{"$f":"'RAINFALL DATA'!K29","v":"N/A"},{"$f":"'RAINFALL DATA'!L29","v":"N/A"},{"$f":"'RAINFALL DATA'!M29","v":"N/A"},{"$f":"'RAINFALL DATA'!N29","v":"N/A"},{"$f":"'RAINFALL DATA'!O29","v":"N/A"},{"$f":"'RAINFALL DATA'!P29","v":"N/A"},{"$f":"'RAINFALL DATA'!Q29","v":"N/A"},{"$f":"'RAINFALL DATA'!R29","v":"N/A"},{"$f":"'RAINFALL DATA'!S29","v":"N/A"}]
[null,null,null,null,null,null,null,null,null,null,null,null,null,null,{"$f":"'RAINFALL DATA'!H30","v":"N/A"},{"$f":"'RAINFALL DATA'!I30","v":"N/A"},{"$f":"'RAINFALL DATA'!J30","v":"N/A"},{"$f":"'RAINFALL DATA'!K30","v":"N/A"},{"$f":"'RAINFALL DATA'!L30","v":"N/A"},{"$f":"'RAINFALL DATA'!M30","v":"N/A"},{"$f":"'RAINFALL DATA'!N30","v":"N/A"},{"$f":"'RAINFALL DATA'!O30","v":"N/A"},{"$f":"'RAINFALL DATA'!P30","v":"N/A"},{"$f":"'RAINFALL DATA'!Q30","v":"N/A"},{"$f":"'RAINFALL DATA'!R30","v":"N/A"},{"$f":"'RAINFALL DATA'!S30","v":"N/A"}]
[null,null,null,null,null,null,null,null,null,null,null,null,null,null,{"$f":"'RAINFALL DATA'!H31","v":"N/A"},{"$f":"'RAINFALL DATA'!I31","v":"N/A"},{"$f":"'RAINFALL DATA'!J31","v":"N/A"},{"$f":"'RAINFALL DATA'!K31","v":"N/A"},{"$f":"'RAINFALL DATA'!L31","v":"N/A"},{"$f":"'RAINFALL DATA'!M31","v":"N/A"},{"$f":"'RAINFALL DATA'!N31","v":"N/A"},{"$f":"'RAINFALL DATA'!O31","v":"N/A"},{"$f":"'RAINFALL DATA'!P31","v":"N/A"},{"$f":"'RAINFALL DATA'!Q31","v":"N/A"},{"$f":"'RAINFALL DATA'!R31","v":"N/A"},{"$f":"'RAINFALL DATA'!S31","v":"N/A"}]
[null,null,null,null,null,null,null,null,null,null,null,null,null,null,{"$f":"'RAINFALL DATA'!H32","v":"N/A"},{"$f":"'RAINFALL DATA'!I32","v":"N/A"},{"$f":"'RAINFALL DATA'!J32","v":"N/A"},{"$f":"'RAINFALL DATA'!K32","v":"N/A"},{"$f":"'RAINFALL DATA'!L32","v":"N/A"},{"$f":"'RAINFALL DATA'!M32","v":"N/A"},{"$f":"'RAINFALL DATA'!N32","v":"N/A"},{"$f":"'RAINFALL DATA'!O32","v":"N/A"},{"$f":"'RAINFALL DATA'!P32","v":"N/A"},{"$f":"'RAINFALL DATA'!Q32","v":"N/A"},{"$f":"'RAINFALL DATA'!R32","v":"N/A"},{"$f":"'RAINFALL DATA'!S32","v":"N/A"}]
[null,null,null,null,null,null,null,null,null,null,null,null,null,null,{"$f":"'RAINFALL DATA'!H33","v":"N/A"},{"$f":"'RAINFALL DATA'!I33","v":"N/A"},{"$f":"'RAINFALL DATA'!J33","v":"N/A"},{"$f":"'RAINFALL DATA'!K33","v":"N/A"},{"$f":"'RAINFALL DATA'!L33","v":"N/A"},{"$f":"'RAINFALL DATA'!M33","v":"N/A"},{"$f":"'RAINFALL DATA'!N33","v":"N/A"},{"$f":"'RAINFALL DATA'!O33","v":"N/A"},{"$f":"'RAINFALL DATA'!P33","v":"N/A"},{"$f":"'RAINFALL DATA'!Q33","v":"N/A"},{"$f":"'RAINFALL DATA'!R33","v":"N/A"},{"$f":"'RAINFALL DATA'!S33","v":"N/A"}]
[null,null,null,null,null,null,null,null,null,null,null,null,null,null,{"$f":"'RAINFALL DATA'!H34","v":"N/A"},{"$f":"'RAINFALL DATA'!I34","v":"N/A"},{"$f":"'RAINFALL DATA'!J34","v":"N/A"},{"$f":"'RAINFALL DATA'!K34","v":"N/A"},{"$f":"'RAINFALL DATA'!L34","v":"N/A"},{"$f":"'RAINFALL DATA'!M34","v":"N/A"},{"$f":"'RAINFALL DATA'!N34","v":"N/A"},{"$f":"'RAINFALL DATA'!O34","v":"N/A"},{"$f":"'RAINFALL DATA'!P34","v":"N/A"},{"$f":"'RAINFALL DATA'!Q34","v":"N/A"},{"$f":"'RAINFALL DATA'!R34","v":"N/A"},{"$f":"'RAINFALL DATA'!S34","v":"N/A"}]
[null,null,null,null,null,null,null,null,null,null,null,null,null,null,{"$f":"'RAINFALL DATA'!H35","v":"N/A"},{"$f":"'RAINFALL DATA'!I35","v":"N/A"},{"$f":"'RAINFALL DATA'!J35","v":"N/A"},{"$f":"'RAINFALL DATA'!K35","v":"N/A"},{"$f":"'RAINFALL DATA'!L35","v":"N/A"},{"$f":"'RAINFALL DATA'!M35","v":"N/A"},{"$f":"'RAINFALL DATA'!N35","v":"N/A"},{"$f":"'RAINFALL DATA'!O35","v":"N/A"},{"$f":"'RAINFALL DATA'!P35","v":"N/A"},{"$f":"'RAINFALL DATA'!Q35","v":"N/A"},{"$f":"'RAINFALL DATA'!R35","v":"N/A"},{"$f":"'RAINFALL DATA'!S35","v":"N/A"}]
[null,null,null,null,null,null,null,null,null,null,null,null,null,null,{"$f":"'RAINFALL DATA'!H36","v":"N/A"},{"$f":"'RAINFALL DATA'!I36","v":"N/A"},{"$f":"'RAINFALL DATA'!J36","v":"N/A"},{"$f":"'RAINFALL DATA'!K36","v":"N/A"},{"$f":"'RAINFALL DATA'!L36","v":"N/A"},{"$f":"'RAINFALL DATA'!M36","v":"N/A"},{"$f":"'RAINFALL DATA'!N36","v":"N/A"},{"$f":"'RAINFALL DATA'!O36","v":"N/A"},{"$f":"'RAINFALL DATA'!P36","v":"N/A"},{"$f":"'RAINFALL DATA'!Q36","v":"N/A"},{"$f":"'RAINFALL DATA'!R36","v":"N/A"},{"$f":"'RAINFALL DATA'!S36","v":"N/A"}]
[null,null,null,null,null,null,null,null,null,null,null,null,null,null,{"$f":"'RAINFALL DATA'!H37","v":"N/A"},{"$f":"'RAINFALL DATA'!I37","v":"N/A"},{"$f":"'RAINFALL DATA'!J37","v":"N/A"},{"$f":"'RAINFALL DATA'!K37","v":"N/A"},{"$f":"'RAINFALL DATA'!L37","v":"N/A"},{"$f":"'RAINFALL DATA'!M37","v":"N/A"},{"$f":"'RAINFALL DATA'!N37","v":"N/A"},{"$f":"'RAINFALL DATA'!O37","v":"N/A"},{"$f":"'RAINFALL DATA'!P37","v":"N/A"},{"$f":"'RAINFALL DATA'!Q37","v":"N/A"},{"$f":"'RAINFALL DATA'!R37","v":"N/A"},{"$f":"'RAINFALL DATA'!S37","v":"N/A"}]
[null,null,null,null,null,null,null,null,null,null,null,null,null,null,{"$f":"'RAINFALL DATA'!H38","v":"N/A"},{"$f":"'RAINFALL DATA'!I38","v":"N/A"},{"$f":"'RAINFALL DATA'!J38","v":"N/A"},{"$f":"'RAINFALL DATA'!K38","v":"N/A"},{"$f":"'RAINFALL DATA'!L38","v":"N/A"},{"$f":"'RAINFALL DATA'!M38","v":"N/A"},{"$f":"'RAINFALL DATA'!N38","v":"N/A"},{"$f":"'RAINFALL DATA'!O38","v":"N/A"},{"$f":"'RAINFALL DATA'!P38","v":"N/A"},{"$f":"'RAINFALL DATA'!Q38","v":"N/A"},{"$f":"'RAINFALL DATA'!R38","v":"N/A"},{"$f":"'RAINFALL DATA'!S38","v":"N/A"}]
[null,null,null,null,null,null,null,null,null,null,null,null,null,null,{"$f":"'RAINFALL DATA'!H39","v":"N/A"},{"$f":"'RAINFALL DATA'!I39","v":"N/A"},{"$f":"'RAINFALL DATA'!J39","v":"N/A"},{"$f":"'RAINFALL DATA'!K39","v":"N/A"},{"$f":"'RAINFALL DATA'!L39","v":"N/A"},{"$f":"'RAINFALL DATA'!M39","v":"N/A"},{"$f":"'RAINFALL DATA'!N39","v":"N/A"},{"$f":"'RAINFALL DATA'!O39","v":"N/A"},{"$f":"'RAINFALL DATA'!P39","v":"N/A"},{"$f":"'RAINFALL DATA'!Q39","v":"N/A"},{"$f":"'RAINFALL DATA'!R39","v":"N/A"},{"$f":"'RAINFALL DATA'!S39","v":"N/A"}]
[null,null,null,null,null,null,null,null,null,null,null,null,null,null,{"$f":"'RAINFALL DATA'!H40","v":"N/A"},{"$f":"'RAINFALL DATA'!I40","v":"N/A"},{"$f":"'RAINFALL DATA'!J40","v":"N/A"},{"$f":"'RAINFALL DATA'!K40","v":"N/A"},{"$f":"'RAINFALL DATA'!L40","v":"N/A"},{"$f":"'RAINFALL DATA'!M40","v":"N/A"},{"$f":"'RAINFALL DATA'!N40","v":"N/A"},{"$f":"'RAINFALL DATA'!O40","v":"N/A"},{"$f":"'RAINFALL DATA'!P40","v":"N/A"},{"$f":"'RAINFALL DATA'!Q40","v":"N/A"},{"$f":"'RAINFALL DATA'!R40","v":"N/A"},{"$f":"'RAINFALL DATA'!S40","v":"N/A"}]
[null,null,null,null,null,null,null,null,null,null,null,null,null,null,{"$f":"'RAINFALL DATA'!H41","v":"N/A"},{"$f":"'RAINFALL DATA'!I41","v":"N/A"},{"$f":"'RAINFALL DATA'!J41","v":"N/A"},{"$f":"'RAINFALL DATA'!K41","v":"N/A"},{"$f":"'RAINFALL DATA'!L41","v":"N/A"},{"$f":"'RAINFALL DATA'!M41","v":"N/A"},{"$f":"'RAINFALL DATA'!N41","v":"N/A"},{"$f":"'RAINFALL DATA'!O41","v":"N/A"},{"$f":"'RAINFALL DATA'!P41","v":"N/A"},{"$f":"'RAINFALL DATA'!Q41","v":"N/A"},{"$f":"'RAINFALL DATA'!R41","v":"N/A"},{"$f":"'RAINFALL DATA'!S41","v":"N/A"}]
[null,null,null,null,null,null,null,null,null,null,null,null,null,null,{"$f":"'RAINFALL DATA'!H42","v":"N/A"},{"$f":"'RAINFALL DATA'!I42","v":"N/A"},{"$f":"'RAINFALL DATA'!J42","v":"N/A"},{"$f":"'RAINFALL DATA'!K42","v":"N/A"},{"$f":"'RAINFALL DATA'!L42","v":"N/A"},{"$f":"'RAINFALL DATA'!M42","v":"N/A"},{"$f":"'RAINFALL DATA'!N42","v":"N/A"},{"$f":"'RAINFALL DATA'!O42","v":"N/A"},{"$f":"'RAINFALL DATA'!P42","v":"N/A"},{"$f":"'RAINFALL DATA'!Q42","v":"N/A"},{"$f":"'RAINFALL DATA'!R42","v":"N/A"},{"$f":"'RAINFALL DATA'!S42","v":"N/A"}]
[null,null,null,null,null,null,null,null,null,null,null,null,null,null,{"$f":"'RAINFALL DATA'!H43","v":"N/A"},{"$f":"'RAINFALL DATA'!I43","v":"N/A"},{"$f":"'RAINFALL DATA'!J43","v":"N/A"},{"$f":"'RAINFALL DATA'!K43","v":"N/A"},{"$f":"'RAINFALL DATA'!L43","v":"N/A"},{"$f":"'RAINFALL DATA'!M43","v":"N/A"},{"$f":"'RAINFALL DATA'!N43","v":"N/A"},{"$f":"'RAINFALL DATA'!O43","v":"N/A"},{"$f":"'RAINFALL DATA'!P43","v":"N/A"},{"$f":"'RAINFALL DATA'!Q43","v":"N/A"},{"$f":"'RAINFALL DATA'!R43","v":"N/A"},{"$f":"'RAINFALL DATA'!S43","v":"N/A"}]
[null,null,null,null,null,null,null,null,null,null,null,null,null,null,{"$f":"'RAINFALL DATA'!H44","v":"N/A"},{"$f":"'RAINFALL DATA'!I44","v":"N/A"},{"$f":"'RAINFALL DATA'!J44","v":"N/A"},{"$f":"'RAINFALL DATA'!K44","v":"N/A"},{"$f":"'RAINFALL DATA'!L44","v":"N/A"},{"$f":"'RAINFALL DATA'!M44","v":"N/A"},{"$f":"'RAINFALL DATA'!N44","v":"N/A"},{"$f":"'RAINFALL DATA'!O44","v":"N/A"},{"$f":"'RAINFALL DATA'!P44","v":"N/A"},{"$f":"'RAINFALL DATA'!Q44","v":"N/A"},{"$f":"'RAINFALL DATA'!R44","v":"N/A"},{"$f":"'RAINFALL DATA'!S44","v":"N/A"}]
[null,null,null,null,null,null,null,null,null,null,null,null,null,null,{"$f":"'RAINFALL DATA'!H45","v":"N/A"},{"$f":"'RAINFALL DATA'!I45","v":"N/A"},{"$f":"'RAINFALL DATA'!J45","v":"N/A"},{"$f":"'RAINFALL DATA'!K45","v":"N/A"},{"$f":"'RAINFALL DATA'!L45","v":"N/A"},{"$f":"'RAINFALL DATA'!M45","v":"N/A"},{"$f":"'RAINFALL DATA'!N45","v":"N/A"},{"$f":"'RAINFALL DATA'!O45","v":"N/A"},{"$f":"'RAINFALL DATA'!P45","v":"N/A"},{"$f":"'RAINFALL DATA'!Q45","v":"N/A"},{"$f":"'RAINFALL DATA'!R45","v":"N/A"},{"$f":"'RAINFALL DATA'!S45","v":"N/A"}]
[null,null,null,null,null,null,null,null,null,null,null,null,null,null,{"$f":"'RAINFALL DATA'!H46","v":"N/A"},{"$f":"'RAINFALL DATA'!I46","v":"N/A"},{"$f":"'RAINFALL DATA'!J46","v":"N/A"},{"$f":"'RAINFALL DATA'!K46","v":"N/A"},{"$f":"'RAINFALL DATA'!L46","v":"N/A"},{"$f":"'RAINFALL DATA'!M46","v":"N/A"},{"$f":"'RAINFALL DATA'!N46","v":"N/A"},{"$f":"'RAINFALL DATA'!O46","v":"N/A"},{"$f":"'RAINFALL DATA'!P46","v":"N/A"},{"$f":"'RAINFALL DATA'!Q46","v":"N/A"},{"$f":"'RAINFALL DATA'!R46","v":"N/A"},{"$f":"'RAINFALL DATA'!S46","v":"N/A"}]
[null,null,null,null,null,null,null,null,null,null,null,null,null,null,{"$f":"'RAINFALL DATA'!H47","v":"N/A"},{"$f":"'RAINFALL DATA'!I47","v":"N/A"},{"$f":"'RAINFALL DATA'!J47","v":"N/A"},{"$f":"'RAINFALL DATA'!K47","v":"N/A"},{"$f":"'RAINFALL DATA'!L47","v":"N/A"},{"$f":"'RAINFALL DATA'!M47","v":"N/A"},{"$f":"'RAINFALL DATA'!N47","v":"N/A"},{"$f":"'RAINFALL DATA'!O47","v":"N/A"},{"$f":"'RAINFALL DATA'!P47","v":"N/A"},{"$f":"'RAINFALL DATA'!Q47","v":"N/A"},{"$f":"'RAINFALL DATA'!R47","v":"N/A"},{"$f":"'RAINFALL DATA'!S47","v":"N/A"}]
[null,null,null,null,null,null,null,null,null,null,null,null,null,null,{"$f":"'RAINFALL DATA'!H48","v":"N/A"},{"$f":"'RAINFALL DATA'!I48","v":"N/A"},{"$f":"'RAINFALL DATA'!J48","v":"N/A"},{"$f":"'RAINFALL DATA'!K48","v":"N/A"},{"$f":"'RAINFALL DATA'!L48","v":"N/A"},{"$f":"'RAINFALL DATA'!M48","v":"N/A"},{"$f":"'RAINFALL DATA'!N48","v":"N/A"},{"$f":"'RAINFALL DATA'!O48","v":"N/A"},{"$f":"'RAINFALL DATA'!P48","v":"N/A"},{"$f":"'RAINFALL DATA'!Q48","v":"N/A"},{"$f":"'RAINFALL DATA'!R48","v":"N/A"},{"$f":"'RAINFALL DATA'!S48","v":"N/A"}]
[null,null,null,null,null,null,null,null,null,null,null,null,null,null,{"$f":"'RAINFALL DATA'!H49","v":"N/A"},{"$f":"'RAINFALL DATA'!I49","v":"N/A"},{"$f":"'RAINFALL DATA'!J49","v":"N/A"},{"$f":"'RAINFALL DATA'!K49","v":"N/A"},{"$f":"'RAINFALL DATA'!L49","v":"N/A"},{"$f":"'RAINFALL DATA'!M49","v":"N/A"},{"$f":"'RAINFALL DATA'!N49","v":"N/A"},{"$f":"'RAINFALL DATA'!O49","v":"N/A"},{"$f":"'RAINFALL DATA'!P49","v":"N/A"},{"$f":"'RAINFALL DATA'!Q49","v":"N/A"},{"$f":"'RAINFALL DATA'!R49","v":"N/A"},{"$f":"'RAINFALL DATA'!S49","v":"N/A"}]
[null,null,null,null,null,null,null,null,null,null,null,null,null,null,{"$f":"'RAINFALL DATA'!H50","v":"N/A"},{"$f":"'RAINFALL DATA'!I50","v":"N/A"},{"$f":"'RAINFALL DATA'!J50","v":"N/A"},{"$f":"'RAINFALL DATA'!K50","v":"N/A"},{"$f":"'RAINFALL DATA'!L50","v":"N/A"},{"$f":"'RAINFALL DATA'!M50","v":"N/A"},{"$f":"'RAINFALL DATA'!N50","v":"N/A"},{"$f":"'RAINFALL DATA'!O50","v":"N/A"},{"$f":"'RAINFALL DATA'!P50","v":"N/A"},{"$f":"'RAINFALL DATA'!Q50","v":"N/A"},{"$f":"'RAINFALL DATA'!R50","v":"N/A"},{"$f":"'RAINFALL DATA'!S50","v":"N/A"}]
[null,null,null,null,null,null,null,null,null,null,null,null,null,null,{"$f":"'RAINFALL DATA'!H51","v":"N/A"},{"$f":"'RAINFALL DATA'!I51","v":"N/A"},{"$f":"'RAINFALL DATA'!J51","v":"N/A"},{"$f":"'RAINFALL DATA'!K51","v":"N/A"},{"$f":"'RAINFALL DATA'!L51","v":"N/A"},{"$f":"'RAINFALL DATA'!M51","v":"N/A"},{"$f":"'RAINFALL DATA'!N51","v":"N/A"},{"$f":"'RAINFALL DATA'!O51","v":"N/A"},{"$f":"'RAINFALL DATA'!P51","v":"N/A"},{"$f":"'RAINFALL DATA'!Q51","v":"N/A"},{"$f":"'RAINFALL DATA'!R51","v":"N/A"},{"$f":"'RAINFALL DATA'!S51","v":"N/A"}]
[null,null,null,null,null,null,null,null,null,null,null,null,null,null,{"$f":"'RAINFALL DATA'!H52","v":"N/A"},{"$f":"'RAINFALL DATA'!I52","v":"N/A"},{"$f":"'RAINFALL DATA'!J52","v":"N/A"},{"$f":"'RAINFALL DATA'!K52","v":"N/A"},{"$f":"'RAINFALL DATA'!L52","v":"N/A"},{"$f":"'RAINFALL DATA'!M52","v":"N/A"},{"$f":"'RAINFALL DATA'!N52","v":"N/A"},{"$f":"'RAINFALL DATA'!O52","v":"N/A"},{"$f":"'RAINFALL DATA'!P52","v":"N/A"},{"$f":"'RAINFALL DATA'!Q52","v":"N/A"},{"$f":"'RAINFALL DATA'!R52","v":"N/A"},{"$f":"'RAINFALL DATA'!S52","v":"N/A"}]
[null,null,null,null,null,null,null,null,null,null,null,null,null,null,{"$f":"'RAINFALL DATA'!H53","v":"N/A"},{"$f":"'RAINFALL DATA'!I53","v":"N/A"},{"$f":"'RAINFALL DATA'!J53","v":"N/A"},{"$f":"'RAINFALL DATA'!K53","v":"N/A"},{"$f":"'RAINFALL DATA'!L53","v":"N/A"},{"$f":"'RAINFALL DATA'!M53","v":"N/A"},{"$f":"'RAINFALL DATA'!N53","v":"N/A"},{"$f":"'RAINFALL DATA'!O53","v":"N/A"},{"$f":"'RAINFALL DATA'!P53","v":"N/A"},{"$f":"'RAINFALL DATA'!Q53","v":"N/A"},{"$f":"'RAINFALL DATA'!R53","v":"N/A"},{"$f":"'RAINFALL DATA'!S53","v":"N/A"}]
[null,null,null,null,null,null,null,null,null,null,null,null,null,null,{"$f":"'RAINFALL DATA'!H54","v":"N/A"},{"$f":"'RAINFALL DATA'!I54","v":"N/A"},{"$f":"'RAINFALL DATA'!J54","v":"N/A"},{"$f":"'RAINFALL DATA'!K54","v":"N/A"},{"$f":"'RAINFALL DATA'!L54","v":"N/A"},{"$f":"'RAINFALL DATA'!M54","v":"N/A"},{"$f":"'RAINFALL DATA'!N54","v":"N/A"},{"$f":"'RAINFALL DATA'!O54","v":"N/A"},{"$f":"'RAINFALL DATA'!P54","v":"N/A"},{"$f":"'RAINFALL DATA'!Q54","v":"N/A"},{"$f":"'RAINFALL DATA'!R54","v":"N/A"},{"$f":"'RAINFALL DATA'!S54","v":"N/A"}]
[null,null,null,null,null,null,null,null,null,null,null,null,null,null,{"$f":"'RAINFALL DATA'!H55","v":"N/A"},{"$f":"'RAINFALL DATA'!I55","v":"N/A"},{"$f":"'RAINFALL DATA'!J55","v":"N/A"},{"$f":"'RAINFALL DATA'!K55","v":"N/A"},{"$f":"'RAINFALL DATA'!L55","v":"N/A"},{"$f":"'RAINFALL DATA'!M55","v":"N/A"},{"$f":"'RAINFALL DATA'!N55","v":"N/A"},{"$f":"'RAINFALL DATA'!O55","v":"N/A"},{"$f":"'RAINFALL DATA'!P55","v":"N/A"},{"$f":"'RAINFALL DATA'!Q55","v":"N/A"},{"$f":"'RAINFALL DATA'!R55","v":"N/A"},{"$f":"'RAINFALL DATA'!S55","v":"N/A"}]
[null,null,null,null,null,null,null,null,null,null,null,null,null,null,{"$f":"'RAINFALL DATA'!H56","v":"N/A"},{"$f":"'RAINFALL DATA'!I56","v":"N/A"},{"$f":"'RAINFALL DATA'!J56","v":"N/A"},{"$f":"'RAINFALL DATA'!K56","v":"N/A"},{"$f":"'RAINFALL DATA'!L56","v":"N/A"},{"$f":"'RAINFALL DATA'!M56","v":"N/A"},{"$f":"'RAINFALL DATA'!N56","v":"N/A"},{"$f":"'RAINFALL DATA'!O56","v":"N/A"},{"$f":"'RAINFALL DATA'!P56","v":"N/A"},{"$f":"'RAINFALL DATA'!Q56","v":"N/A"},{"$f":"'RAINFALL DATA'!R56","v":"N/A"},{"$f":"'RAINFALL DATA'!S56","v":"N/A"}]
[null,null,null,null,null,null,null,null,null,null,null,null,null,null,{"$f":"'RAINFALL DATA'!H57","v":"N/A"},{"$f":"'RAINFALL DATA'!I57","v":"N/A"},{"$f":"'RAINFALL DATA'!J57","v":"N/A"},{"$f":"'RAINFALL DATA'!K57","v":"N/A"},{"$f":"'RAINFALL DATA'!L57","v":"N/A"},{"$f":"'RAINFALL DATA'!M57","v":"N/A"},{"$f":"'RAINFALL DATA'!N57","v":"N/A"},{"$f":"'RAINFALL DATA'!O57","v":"N/A"},{"$f":"'RAINFALL DATA'!P57","v":"N/A"},{"$f":"'RAINFALL DATA'!Q57","v":"N/A"},{"$f":"'RAINFALL DATA'!R57","v":"N/A"},{"$f":"'RAINFALL DATA'!S57","v":"N/A"}]
[null,null,null,null,null,null,null,null,null,null,null,null,null,null,{"$f":"'RAINFALL DATA'!H58","v":"N/A"},{"$f":"'RAINFALL DATA'!I58","v":"N/A"},{"$f":"'RAINFALL DATA'!J58","v":"N/A"},{"$f":"'RAINFALL DATA'!K58","v":"N/A"},{"$f":"'RAINFALL DATA'!L58","v":"N/A"},{"$f":"'RAINFALL DATA'!M58","v":"N/A"},{"$f":"'RAINFALL DATA'!N58","v":"N/A"},{"$f":"'RAINFALL DATA'!O58","v":"N/A"},{"$f":"'RAINFALL DATA'!P58","v":"N/A"},{"$f":"'RAINFALL DATA'!Q58","v":"N/A"},{"$f":"'RAINFALL DATA'!R58","v":"N/A"},{"$f":"'RAINFALL DATA'!S58","v":"N/A"}]
[null,null,null,null,null,null,null,null,null,null,null,null,null,null,{"$f":"'RAINFALL DATA'!H59","v":"N/A"},{"$f":"'RAINFALL DATA'!I59","v":"N/A"},{"$f":"'RAINFALL DATA'!J59","v":"N/A"},{"$f":"'RAINFALL DATA'!K59","v":"N/A"},{"$f":"'RAINFALL DATA'!L59","v":"N/A"},{"$f":"'RAINFALL DATA'!M59","v":"N/A"},{"$f":"'RAINFALL DATA'!N59","v":"N/A"},{"$f":"'RAINFALL DATA'!O59","v":"N/A"},{"$f":"'RAINFALL DATA'!P59","v":"N/A"},{"$f":"'RAINFALL DATA'!Q59","v":"N/A"},{"$f":"'RAINFALL DATA'!R59","v":"N/A"},{"$f":"'RAINFALL DATA'!S59","v":"N/A"}]
[null,null,null,null,null,null,null,null,null,null,null,null,null,null,{"$f":"'RAINFALL DATA'!H60","v":"N/A"},{"$f":"'RAINFALL DATA'!I60","v":"N/A"},{"$f":"'RAINFALL DATA'!J60","v":"N/A"},{"$f":"'RAINFALL DATA'!K60","v":"N/A"},{"$f":"'RAINFALL DATA'!L60","v":"N/A"},{"$f":"'RAINFALL DATA'!M60","v":"N/A"},{"$f":"'RAINFALL DATA'!N60","v":"N/A"},{"$f":"'RAINFALL DATA'!O60","v":"N/A"},{"$f":"'RAINFALL DATA'!P60","v":"N/A"},{"$f":"'RAINFALL DATA'!Q60","v":"N/A"},{"$f":"'RAINFALL DATA'!R60","v":"N/A"},{"$f":"'RAINFALL DATA'!S60","v":"N/A"}]
[null,null,null,null,null,null,null,null,null,null,null,null,null,null,{"$f":"'RAINFALL DATA'!H61","v":"N/A"},{"$f":"'RAINFALL DATA'!I61","v":"N/A"},{"$f":"'RAINFALL DATA'!J61","v":"N/A"},{"$f":"'RAINFALL DATA'!K61","v":"N/A"},{"$f":"'RAINFALL DATA'!L61","v":"N/A"},{"$f":"'RAINFALL DATA'!M61","v":"N/A"},{"$f":"'RAINFALL DATA'!N61","v":"N/A"},{"$f":"'RAINFALL DATA'!O61","v":"N/A"},{"$f":"'RAINFALL DATA'!P61","v":"N/A"},{"$f":"'RAINFALL DATA'!Q61","v":"N/A"},{"$f":"'RAINFALL DATA'!R61","v":"N/A"},{"$f":"'RAINFALL DATA'!S61","v":"N/A"}]
[null,null,null,null,null,null,null,null,null,null,null,null,null,null,{"$f":"'RAINFALL DATA'!H62","v":"N/A"},{"$f":"'RAINFALL DATA'!I62","v":"N/A"},{"$f":"'RAINFALL DATA'!J62","v":"N/A"},{"$f":"'RAINFALL DATA'!K62","v":"N/A"},{"$f":"'RAINFALL DATA'!L62","v":"N/A"},{"$f":"'RAINFALL DATA'!M62","v":"N/A"},{"$f":"'RAINFALL DATA'!N62","v":"N/A"},{"$f":"'RAINFALL DATA'!O62","v":"N/A"},{"$f":"'RAINFALL DATA'!P62","v":"N/A"},{"$f":"'RAINFALL DATA'!Q62","v":"N/A"},{"$f":"'RAINFALL DATA'!R62","v":"N/A"},{"$f":"'RAINFALL DATA'!S62","v":"N/A"}]
[null,null,null,null,null,null,null,null,null,null,null,null,null,null,{"$f":"'RAINFALL DATA'!H63","v":"N/A"},{"$f":"'RAINFALL DATA'!I63","v":"N/A"},{"$f":"'RAINFALL DATA'!J63","v":"N/A"},{"$f":"'RAINFALL DATA'!K63","v":"N/A"},{"$f":"'RAINFALL DATA'!L63","v":"N/A"},{"$f":"'RAINFALL DATA'!M63","v":"N/A"},{"$f":"'RAINFALL DATA'!N63","v":"N/A"},{"$f":"'RAINFALL DATA'!O63","v":"N/A"},{"$f":"'RAINFALL DATA'!P63","v":"N/A"},{"$f":"'RAINFALL DATA'!Q63","v":"N/A"},{"$f":"'RAINFALL DATA'!R63","v":"N/A"},{"$f":"'RAINFALL DATA'!S63","v":"N/A"}]
[null,null,null,null,null,null,null,null,null,null,null,null,null,null,{"$f":"'RAINFALL DATA'!H64","v":"N/A"},{"$f":"'RAINFALL DATA'!I64","v":"N/A"},{"$f":"'RAINFALL DATA'!J64","v":"N/A"},{"$f":"'RAINFALL DATA'!K64","v":"N/A"},{"$f":"'RAINFALL DATA'!L64","v":"N/A"},{"$f":"'RAINFALL DATA'!M64","v":"N/A"},{"$f":"'RAINFALL DATA'!N64","v":"N/A"},{"$f":"'RAINFALL DATA'!O64","v":"N/A"},{"$f":"'RAINFALL DATA'!P64","v":"N/A"},{"$f":"'RAINFALL DATA'!Q64","v":"N/A"},{"$f":"'RAINFALL DATA'!R64","v":"N/A"},{"$f":"'RAINFALL DATA'!S64","v":"N/A"}]
[null,null,null,null,null,null,null,null,null,null,null,null,null,null,{"$f":"'RAINFALL DATA'!H65","v":"N/A"},{"$f":"'RAINFALL DATA'!I65","v":"N/A"},{"$f":"'RAINFALL DATA'!J65","v":"N/A"},{"$f":"'RAINFALL DATA'!K65","v":"N/A"},{"$f":"'RAINFALL DATA'!L65","v":"N/A"},{"$f":"'RAINFALL DATA'!M65","v":"N/A"},{"$f":"'RAINFALL DATA'!N65","v":"N/A"},{"$f":"'RAINFALL DATA'!O65","v":"N/A"},{"$f":"'RAINFALL DATA'!P65","v":"N/A"},{"$f":"'RAINFALL DATA'!Q65","v":"N/A"},{"$f":"'RAINFALL DATA'!R65","v":"N/A"},{"$f":"'RAINFALL DATA'!S65","v":"N/A"}]
[null,null,null,null,null,null,null,null,null,null,null,null,null,null,{"$f":"'RAINFALL DATA'!H66","v":"N/A"},{"$f":"'RAINFALL DATA'!I66","v":"N/A"},{"$f":"'RAINFALL DATA'!J66","v":"N/A"},{"$f":"'RAINFALL DATA'!K66","v":"N/A"},{"$f":"'RAINFALL DATA'!L66","v":"N/A"},{"$f":"'RAINFALL DATA'!M66","v":"N/A"},{"$f":"'RAINFALL DATA'!N66","v":"N/A"},{"$f":"'RAINFALL DATA'!O66","v":"N/A"},{"$f":"'RAINFALL DATA'!P66","v":"N/A"},{"$f":"'RAINFALL DATA'!Q66","v":"N/A"},{"$f":"'RAINFALL DATA'!R66","v":"N/A"},{"$f":"'RAINFALL DATA'!S66","v":"N/A"}]
[null,null,null,null,null,null,null,null,null,null,null,null,null,null,{"$f":"'RAINFALL DATA'!H67","v":"N/A"},{"$f":"'RAINFALL DATA'!I67","v":"N/A"},{"$f":"'RAINFALL DATA'!J67","v":"N/A"},{"$f":"'RAINFALL DATA'!K67","v":"N/A"},{"$f":"'RAINFALL DATA'!L67","v":"N/A"},{"$f":"'RAINFALL DATA'!M67","v":"N/A"},{"$f":"'RAINFALL DATA'!N67","v":"N/A"},{"$f":"'RAINFALL DATA'!O67","v":"N/A"},{"$f":"'RAINFALL DATA'!P67","v":"N/A"},{"$f":"'RAINFALL DATA'!Q67","v":"N/A"},{"$f":"'RAINFALL DATA'!R67","v":"N/A"},{"$f":"'RAINFALL DATA'!S67","v":"N/A"}]
[null,null,null,null,null,null,null,null,null,null,null,null,null,null,{"$f":"'RAINFALL DATA'!H68","v":"N/A"},{"$f":"'RAINFALL DATA'!I68","v":"N/A"},{"$f":"'RAINFALL DATA'!J68","v":"N/A"},{"$f":"'RAINFALL DATA'!K68","v":"N/A"},{"$f":"'RAINFALL DATA'!L68","v":"N/A"},{"$f":"'RAINFALL DATA'!M68","v":"N/A"},{"$f":"'RAINFALL DATA'!N68","v":"N/A"},{"$f":"'RAINFALL DATA'!O68","v":"N/A"},{"$f":"'RAINFALL DATA'!P68","v":"N/A"},{"$f":"'RAINFALL DATA'!Q68","v":"N/A"},{"$f":"'RAINFALL DATA'!R68","v":"N/A"},{"$f":"'RAINFALL DATA'!S68","v":"N/A"}]
[null,null,null,null,null,null,null,null,null,null,null,null,null,null,{"$f":"'RAINFALL DATA'!H69","v":"N/A"},{"$f":"'RAINFALL DATA'!I69","v":"N/A"},{"$f":"'RAINFALL DATA'!J69","v":"N/A"},{"$f":"'RAINFALL DATA'!K69","v":"N/A"},{"$f":"'RAINFALL DATA'!L69","v":"N/A"},{"$f":"'RAINFALL DATA'!M69","v":"N/A"},{"$f":"'RAINFALL DATA'!N69","v":"N/A"},{"$f":"'RAINFALL DATA'!O69","v":"N/A"},{"$f":"'RAINFALL DATA'!P69","v":"N/A"},{"$f":"'RAINFALL DATA'!Q69","v":"N/A"},{"$f":"'RAINFALL DATA'!R69","v":"N/A"},{"$f":"'RAINFALL DATA'!S69","v":"N/A"}]
[null,null,null,null,null,null,null,null,null,null,null,null,null,null,{"$f":"'RAINFALL DATA'!H70","v":"N/A"},{"$f":"'RAINFALL DATA'!I70","v":"N/A"},{"$f":"'RAINFALL DATA'!J70","v":"N/A"},{"$f":"'RAINFALL DATA'!K70","v":"N/A"},{"$f":"'RAINFALL DATA'!L70","v":"N/A"},{"$f":"'RAINFALL DATA'!M70","v":"N/A"},{"$f":"'RAINFALL DATA'!N70","v":"N/A"},{"$f":"'RAINFALL DATA'!O70","v":"N/A"},{"$f":"'RAINFALL DATA'!P70","v":"N/A"},{"$f":"'RAINFALL DATA'!Q70","v":"N/A"},{"$f":"'RAINFALL DATA'!R70","v":"N/A"},{"$f":"'RAINFALL DATA'!S70","v":"N/A"}]
[null,null,null,null,null,null,null,null,null,null,null,null,null,null,{"$f":"'RAINFALL DATA'!H71","v":"N/A"},{"$f":"'RAINFALL DATA'!I71","v":"N/A"},{"$f":"'RAINFALL DATA'!J71","v":"N/A"},{"$f":"'RAINFALL DATA'!K71","v":"N/A"},{"$f":"'RAINFALL DATA'!L71","v":"N/A"},{"$f":"'RAINFALL DATA'!M71","v":"N/A"},{"$f":"'RAINFALL DATA'!N71","v":"N/A"},{"$f":"'RAINFALL DATA'!O71","v":"N/A"},{"$f":"'RAINFALL DATA'!P71","v":"N/A"},{"$f":"'RAINFALL DATA'!Q71","v":"N/A"},{"$f":"'RAINFALL DATA'!R71","v":"N/A"},{"$f":"'RAINFALL DATA'!S71","v":"N/A"}]
[null,null,null,null,null,null,null,null,null,null,null,null,null,null,{"$f":"'RAINFALL DATA'!H72","v":"N/A"},{"$f":"'RAINFALL DATA'!I72","v":"N/A"},{"$f":"'RAINFALL DATA'!J72","v":"N/A"},{"$f":"'RAINFALL DATA'!K72","v":"N/A"},{"$f":"'RAINFALL DATA'!L72","v":"N/A"},{"$f":"'RAINFALL DATA'!M72","v":"N/A"},{"$f":"'RAINFALL DATA'!N72","v":"N/A"},{"$f":"'RAINFALL DATA'!O72","v":"N/A"},{"$f":"'RAINFALL DATA'!P72","v":"N/A"},{"$f":"'RAINFALL DATA'!Q72","v":"N/A"},{"$f":"'RAINFALL DATA'!R72","v":"N/A"},{"$f":"'RAINFALL DATA'!S72","v":"N/A"}]
[null,null,null,null,null,null,null,null,null,null,null,null,null,null,{"$f":"'RAINFALL DATA'!H73","v":"N/A"},{"$f":"'RAINFALL DATA'!I73","v":"N/A"},{"$f":"'RAINFALL DATA'!J73","v":"N/A"},{"$f":"'RAINFALL DATA'!K73","v":"N/A"},{"$f":"'RAINFALL DATA'!L73","v":"N/A"},{"$f":"'RAINFALL DATA'!M73","v":"N/A"},{"$f":"'RAINFALL DATA'!N73","v":"N/A"},{"$f":"'RAINFALL DATA'!O73","v":"N/A"},{"$f":"'RAINFALL DATA'!P73","v":"N/A"},{"$f":"'RAINFALL DATA'!Q73","v":"N/A"},{"$f":"'RAINFALL DATA'!R73","v":"N/A"},{"$f":"'RAINFALL DATA'!S73","v":"N/A"}]
[null,null,null,null,null,null,null,null,null,null,null,null,null,null,{"$f":"'RAINFALL DATA'!H74","v":"N/A"},{"$f":"'RAINFALL DATA'!I74","v":"N/A"},{"$f":"'RAINFALL DATA'!J74","v":"N/A"},{"$f":"'RAINFALL DATA'!K74","v":"N/A"},{"$f":"'RAINFALL DATA'!L74","v":"N/A"},{"$f":"'RAINFALL DATA'!M74","v":"N/A"},{"$f":"'RAINFALL DATA'!N74","v":"N/A"},{"$f":"'RAINFALL DATA'!O74","v":"N/A"},{"$f":"'RAINFALL DATA'!P74","v":"N/A"},{"$f":"'RAINFALL DATA'!Q74","v":"N/A"},{"$f":"'RAINFALL DATA'!R74","v":"N/A"},{"$f":"'RAINFALL DATA'!S74","v":"N/A"}]
[null,null,null,null,null,null,null,null,null,null,null,null,null,null,{"$f":"'RAINFALL DATA'!H75","v":"N/A"},{"$f":"'RAINFALL DATA'!I75","v":"N/A"},{"$f":"'RAINFALL DATA'!J75","v":"N/A"},{"$f":"'RAINFALL DATA'!K75","v":"N/A"},{"$f":"'RAINFALL DATA'!L75","v":"N/A"},{"$f":"'RAINFALL DATA'!M75","v":"N/A"},{"$f":"'RAINFALL DATA'!N75","v":"N/A"},{"$f":"'RAINFALL DATA'!O75","v":"N/A"},{"$f":"'RAINFALL DATA'!P75","v":"N/A"},{"$f":"'RAINFALL DATA'!Q75","v":"N/A"},{"$f":"'RAINFALL DATA'!R75","v":"N/A"},{"$f":"'RAINFALL DATA'!S75","v":"N/A"}]
[null,null,null,null,null,null,null,null,null,null,null,null,null,null,{"$f":"'RAINFALL DATA'!H76","v":"N/A"},{"$f":"'RAINFALL DATA'!I76","v":"N/A"},{"$f":"'RAINFALL DATA'!J76","v":"N/A"},{"$f":"'RAINFALL DATA'!K76","v":"N/A"},{"$f":"'RAINFALL DATA'!L76","v":"N/A"},{"$f":"'RAINFALL DATA'!M76","v":"N/A"},{"$f":"'RAINFALL DATA'!N76","v":"N/A"},{"$f":"'RAINFALL DATA'!O76","v":"N/A"},{"$f":"'RAINFALL DATA'!P76","v":"N/A"},{"$f":"'RAINFALL DATA'!Q76","v":"N/A"},{"$f":"'RAINFALL DATA'!R76","v":"N/A"},{"$f":"'RAINFALL DATA'!S76","v":"N/A"}]
[null,null,null,null,null,null,null,null,null,null,null,null,null,null,{"$f":"'RAINFALL DATA'!H77","v":"N/A"},{"$f":"'RAINFALL DATA'!I77","v":"N/A"},{"$f":"'RAINFALL DATA'!J77","v":"N/A"},{"$f":"'RAINFALL DATA'!K77","v":"N/A"},{"$f":"'RAINFALL DATA'!L77","v":"N/A"},{"$f":"'RAINFALL DATA'!M77","v":"N/A"},{"$f":"'RAINFALL DATA'!N77","v":"N/A"},{"$f":"'RAINFALL DATA'!O77","v":"N/A"},{"$f":"'RAINFALL DATA'!P77","v":"N/A"},{"$f":"'RAINFALL DATA'!Q77","v":"N/A"},{"$f":"'RAINFALL DATA'!R77","v":"N/A"},{"$f":"'RAINFALL DATA'!S77","v":"N/A"}]
[null,null,null,null,null,null,null,null,null,null,null,null,null,null,{"$f":"'RAINFALL DATA'!H78","v":"N/A"},{"$f":"'RAINFALL DATA'!I78","v":"N/A"},{"$f":"'RAINFALL DATA'!J78","v":"N/A"},{"$f":"'RAINFALL DATA'!K78","v":"N/A"},{"$f":"'RAINFALL DATA'!L78","v":"N/A"},{"$f":"'RAINFALL DATA'!M78","v":"N/A"},{"$f":"'RAINFALL DATA'!N78","v":"N/A"},{"$f":"'RAINFALL DATA'!O78","v":"N/A"},{"$f":"'RAINFALL DATA'!P78","v":"N/A"},{"$f":"'RAINFALL DATA'!Q78","v":"N/A"},{"$f":"'RAINFALL DATA'!R78","v":"N/A"},{"$f":"'RAINFALL DATA'!S78","v":"N/A"}]
[null,null,null,null,null,null,null,null,null,null,null,null,null,null,{"$f":"'RAINFALL DATA'!H79","v":"N/A"},{"$f":"'RAINFALL DATA'!I79","v":"N/A"},{"$f":"'RAINFALL DATA'!J79","v":"N/A"},{"$f":"'RAINFALL DATA'!K79","v":"N/A"},{"$f":"'RAINFALL DATA'!L79","v":"N/A"},{"$f":"'RAINFALL DATA'!M79","v":"N/A"},{"$f":"'RAINFALL DATA'!N79","v":"N/A"},{"$f":"'RAINFALL DATA'!O79","v":"N/A"},{"$f":"'RAINFALL DATA'!P79","v":"N/A"},{"$f":"'RAINFALL DATA'!Q79","v":"N/A"},{"$f":"'RAINFALL DATA'!R79","v":"N/A"},{"$f":"'RAINFALL DATA'!S79","v":"N/A"}]
[null,null,null,null,null,null,null,null,null,null,null,null,null,null,{"$f":"'RAINFALL DATA'!H80","v":"N/A"},{"$f":"'RAINFALL DATA'!I80","v":"N/A"},{"$f":"'RAINFALL DATA'!J80","v":"N/A"},{"$f":"'RAINFALL DATA'!K80","v":"N/A"},{"$f":"'RAINFALL DATA'!L80","v":"N/A"},{"$f":"'RAINFALL DATA'!M80","v":"N/A"},{"$f":"'RAINFALL DATA'!N80","v":"N/A"},{"$f":"'RAINFALL DATA'!O80","v":"N/A"},{"$f":"'RAINFALL DATA'!P80","v":"N/A"},{"$f":"'RAINFALL DATA'!Q80","v":"N/A"},{"$f":"'RAINFALL DATA'!R80","v":"N/A"},{"$f":"'RAINFALL DATA'!S80","v":"N/A"}]
[null,null,null,null,null,null,null,null,null,null,null,null,null,null,{"$f":"'RAINFALL DATA'!H81","v":"N/A"},{"$f":"'RAINFALL DATA'!I81","v":"N/A"},{"$f":"'RAINFALL DATA'!J81","v":"N/A"},{"$f":"'RAINFALL DATA'!K81","v":"N/A"},{"$f":"'RAINFALL DATA'!L81","v":"N/A"},{"$f":"'RAINFALL DATA'!M81","v":"N/A"},{"$f":"'RAINFALL DATA'!N81","v":"N/A"},{"$f":"'RAINFALL DATA'!O81","v":"N/A"},{"$f":"'RAINFALL DATA'!P81","v":"N/A"},{"$f":"'RAINFALL DATA'!Q81","v":"N/A"},{"$f":"'RAINFALL DATA'!R81","v":"N/A"},{"$f":"'RAINFALL DATA'!S81","v":"N/A"}]
[null,null,null,null,null,null,null,null,null,null,null,null,null,null,{"$f":"'RAINFALL DATA'!H82","v":"N/A"},{"$f":"'RAINFALL DATA'!I82","v":"N/A"},{"$f":"'RAINFALL DATA'!J82","v":"N/A"},{"$f":"'RAINFALL DATA'!K82","v":"N/A"},{"$f":"'RAINFALL DATA'!L82","v":"N/A"},{"$f":"'RAINFALL DATA'!M82","v":"N/A"},{"$f":"'RAINFALL DATA'!N82","v":"N/A"},{"$f":"'RAINFALL DATA'!O82","v":"N/A"},{"$f":"'RAINFALL DATA'!P82","v":"N/A"},{"$f":"'RAINFALL DATA'!Q82","v":"N/A"},{"$f":"'RAINFALL DATA'!R82","v":"N/A"},{"$f":"'RAINFALL DATA'!S82","v":"N/A"}]
[null,null,null,null,null,null,null,null,null,null,null,null,null,null,{"$f":"'RAINFALL DATA'!H83","v":"N/A"},{"$f":"'RAINFALL DATA'!I83","v":"N/A"},{"$f":"'RAINFALL DATA'!J83","v":"N/A"},{"$f":"'RAINFALL DATA'!K83","v":"N/A"},{"$f":"'RAINFALL DATA'!L83","v":"N/A"},{"$f":"'RAINFALL DATA'!M83","v":"N/A"},{"$f":"'RAINFALL DATA'!N83","v":"N/A"},{"$f":"'RAINFALL DATA'!O83","v":"N/A"},{"$f":"'RAINFALL DATA'!P83","v":"N/A"},{"$f":"'RAINFALL DATA'!Q83","v":"N/A"},{"$f":"'RAINFALL DATA'!R83","v":"N/A"},{"$f":"'RAINFALL DATA'!S83","v":"N/A"}]
[null,null,null,null,null,null,null,null,null,null,null,null,null,null,{"$f":"'RAINFALL DATA'!H84","v":"N/A"},{"$f":"'RAINFALL DATA'!I84","v":"N/A"},{"$f":"'RAINFALL DATA'!J84","v":"N/A"},{"$f":"'RAINFALL DATA'!K84","v":"N/A"},{"$f":"'RAINFALL DATA'!L84","v":"N/A"},{"$f":"'RAINFALL DATA'!M84","v":"N/A"},{"$f":"'RAINFALL DATA'!N84","v":"N/A"},{"$f":"'RAINFALL DATA'!O84","v":"N/A"},{"$f":"'RAINFALL DATA'!P84","v":"N/A"},{"$f":"'RAINFALL DATA'!Q84","v":"N/A"},{"$f":"'RAINFALL DATA'!R84","v":"N/A"},{"$f":"'RAINFALL DATA'!S84","v":"N/A"}]
[null,null,null,null,null,null,null,null,null,null,null,null,null,null,{"$f":"'RAINFALL DATA'!H85","v":"N/A"},{"$f":"'RAINFALL DATA'!I85","v":"N/A"},{"$f":"'RAINFALL DATA'!J85","v":"N/A"},{"$f":"'RAINFALL DATA'!K85","v":"N/A"},{"$f":"'RAINFALL DATA'!L85","v":"N/A"},{"$f":"'RAINFALL DATA'!M85","v":"N/A"},{"$f":"'RAINFALL DATA'!N85","v":"N/A"},{"$f":"'RAINFALL DATA'!O85","v":"N/A"},{"$f":"'RAINFALL DATA'!P85","v":"N/A"},{"$f":"'RAINFALL DATA'!Q85","v":"N/A"},{"$f":"'RAINFALL DATA'!R85","v":"N/A"},{"$f":"'RAINFALL DATA'!S85","v":"N/A"}]
[null,null,null,null,null,null,null,null,null,null,null,null,null,null,{"$f":"'RAINFALL DATA'!H86","v":"N/A"},{"$f":"'RAINFALL DATA'!I86","v":"N/A"},{"$f":"'RAINFALL DATA'!J86","v":"N/A"},{"$f":"'RAINFALL DATA'!K86","v":"N/A"},{"$f":"'RAINFALL DATA'!L86","v":"N/A"},{"$f":"'RAINFALL DATA'!M86","v":"N/A"},{"$f":"'RAINFALL DATA'!N86","v":"N/A"},{"$f":"'RAINFALL DATA'!O86","v":"N/A"},{"$f":"'RAINFALL DATA'!P86","v":"N/A"},{"$f":"'RAINFALL DATA'!Q86","v":"N/A"},{"$f":"'RAINFALL DATA'!R86","v":"N/A"},{"$f":"'RAINFALL DATA'!S86","v":"N/A"}]
[null,null,null,null,null,null,null,null,null,null,null,null,null,null,{"$f":"'RAINFALL DATA'!H87","v":"N/A"},{"$f":"'RAINFALL DATA'!I87","v":"N/A"},{"$f":"'RAINFALL DATA'!J87","v":"N/A"},{"$f":"'RAINFALL DATA'!K87","v":"N/A"},{"$f":"'RAINFALL DATA'!L87","v":"N/A"},{"$f":"'RAINFALL DATA'!M87","v":"N/A"},{"$f":"'RAINFALL DATA'!N87","v":"N/A"},{"$f":"'RAINFALL DATA'!O87","v":"N/A"},{"$f":"'RAINFALL DATA'!P87","v":"N/A"},{"$f":"'RAINFALL DATA'!Q87","v":"N/A"},{"$f":"'RAINFALL DATA'!R87","v":"N/A"},{"$f":"'RAINFALL DATA'!S87","v":"N/A"}]
[null,null,null,null,null,null,null,null,null,null,null,null,null,null,{"$f":"'RAINFALL DATA'!H88","v":"N/A"},{"$f":"'RAINFALL DATA'!I88","v":"N/A"},{"$f":"'RAINFALL DATA'!J88","v":"N/A"},{"$f":"'RAINFALL DATA'!K88","v":"N/A"},{"$f":"'RAINFALL DATA'!L88","v":"N/A"},{"$f":"'RAINFALL DATA'!M88","v":"N/A"},{"$f":"'RAINFALL DATA'!N88","v":"N/A"},{"$f":"'RAINFALL DATA'!O88","v":"N/A"},{"$f":"'RAINFALL DATA'!P88","v":"N/A"},{"$f":"'RAINFALL DATA'!Q88","v":"N/A"},{"$f":"'RAINFALL DATA'!R88","v":"N/A"},{"$f":"'RAINFALL DATA'!S88","v":"N/A"}]
[null,null,null,null,null,null,null,null,null,null,null,null,null,null,{"$f":"'RAINFALL DATA'!H89","v":"N/A"},{"$f":"'RAINFALL DATA'!I89","v":"N/A"},{"$f":"'RAINFALL DATA'!J89","v":"N/A"},{"$f":"'RAINFALL DATA'!K89","v":"N/A"},{"$f":"'RAINFALL DATA'!L89","v":"N/A"},{"$f":"'RAINFALL DATA'!M89","v":"N/A"},{"$f":"'RAINFALL DATA'!N89","v":"N/A"},{"$f":"'RAINFALL DATA'!O89","v":"N/A"},{"$f":"'RAINFALL DATA'!P89","v":"N/A"},{"$f":"'RAINFALL DATA'!Q89","v":"N/A"},{"$f":"'RAINFALL DATA'!R89","v":"N/A"},{"$f":"'RAINFALL DATA'!S89","v":"N/A"}]
[null,null,null,null,null,null,null,null,null,null,null,null,null,null,{"$f":"'RAINFALL DATA'!H90","v":"N/A"},{"$f":"'RAINFALL DATA'!I90","v":"N/A"},{"$f":"'RAINFALL DATA'!J90","v":"N/A"},{"$f":"'RAINFALL DATA'!K90","v":"N/A"},{"$f":"'RAINFALL DATA'!L90","v":"N/A"},{"$f":"'RAINFALL DATA'!M90","v":"N/A"},{"$f":"'RAINFALL DATA'!N90","v":"N/A"},{"$f":"'RAINFALL DATA'!O90","v":"N/A"},{"$f":"'RAINFALL DATA'!P90","v":"N/A"},{"$f":"'RAINFALL DATA'!Q90","v":"N/A"},{"$f":"'RAINFALL DATA'!R90","v":"N/A"},{"$f":"'RAINFALL DATA'!S90","v":"N/A"}]
[null,null,null,null,null,null,null,null,null,null,null,null,null,null,{"$f":"'RAINFALL DATA'!H91","v":"N/A"},{"$f":"'RAINFALL DATA'!I91","v":"N/A"},{"$f":"'RAINFALL DATA'!J91","v":"N/A"},{"$f":"'RAINFALL DATA'!K91","v":"N/A"},{"$f":"'RAINFALL DATA'!L91","v":"N/A"},{"$f":"'RAINFALL DATA'!M91","v":"N/A"},{"$f":"'RAINFALL DATA'!N91","v":"N/A"},{"$f":"'RAINFALL DATA'!O91","v":"N/A"},{"$f":"'RAINFALL DATA'!P91","v":"N/A"},{"$f":"'RAINFALL DATA'!Q91","v":"N/A"},{"$f":"'RAINFALL DATA'!R91","v":"N/A"},{"$f":"'RAINFALL DATA'!S91","v":"N/A"}]
[null,null,null,null,null,null,null,null,null,null,null,null,null,null,{"$f":"'RAINFALL DATA'!H92","v":"N/A"},{"$f":"'RAINFALL DATA'!I92","v":"N/A"},{"$f":"'RAINFALL DATA'!J92","v":"N/A"},{"$f":"'RAINFALL DATA'!K92","v":"N/A"},{"$f":"'RAINFALL DATA'!L92","v":"N/A"},{"$f":"'RAINFALL DATA'!M92","v":"N/A"},{"$f":"'RAINFALL DATA'!N92","v":"N/A"},{"$f":"'RAINFALL DATA'!O92","v":"N/A"},{"$f":"'RAINFALL DATA'!P92","v":"N/A"},{"$f":"'RAINFALL DATA'!Q92","v":"N/A"},{"$f":"'RAINFALL DATA'!R92","v":"N/A"},{"$f":"'RAINFALL DATA'!S92","v":"N/A"}]
[null,null,null,null,null,null,null,null,null,null,null,null,null,null,{"$f":"'RAINFALL DATA'!H93","v":"N/A"},{"$f":"'RAINFALL DATA'!I93","v":"N/A"},{"$f":"'RAINFALL DATA'!J93","v":"N/A"},{"$f":"'RAINFALL DATA'!K93","v":"N/A"},{"$f":"'RAINFALL DATA'!L93","v":"N/A"},{"$f":"'RAINFALL DATA'!M93","v":"N/A"},{"$f":"'RAINFALL DATA'!N93","v":"N/A"},{"$f":"'RAINFALL DATA'!O93","v":"N/A"},{"$f":"'RAINFALL DATA'!P93","v":"N/A"},{"$f":"'RAINFALL DATA'!Q93","v":"N/A"},{"$f":"'RAINFALL DATA'!R93","v":"N/A"},{"$f":"'RAINFALL DATA'!S93","v":"N/A"}]
[null,null,null,null,null,null,null,null,null,null,null,null,null,null,{"$f":"'RAINFALL DATA'!H94","v":"N/A"},{"$f":"'RAINFALL DATA'!I94","v":"N/A"},{"$f":"'RAINFALL DATA'!J94","v":"N/A"},{"$f":"'RAINFALL DATA'!K94","v":"N/A"},{"$f":"'RAINFALL DATA'!L94","v":"N/A"},{"$f":"'RAINFALL DATA'!M94","v":"N/A"},{"$f":"'RAINFALL DATA'!N94","v":"N/A"},{"$f":"'RAINFALL DATA'!O94","v":"N/A"},{"$f":"'RAINFALL DATA'!P94","v":"N/A"},{"$f":"'RAINFALL DATA'!Q94","v":"N/A"},{"$f":"'RAINFALL DATA'!R94","v":"N/A"},{"$f":"'RAINFALL DATA'!S94","v":"N/A"}]
[null,null,null,null,null,null,null,null,null,null,null,null,null,null,{"$f":"'RAINFALL DATA'!H95","v":"N/A"},{"$f":"'RAINFALL DATA'!I95","v":"N/A"},{"$f":"'RAINFALL DATA'!J95","v":"N/A"},{"$f":"'RAINFALL DATA'!K95","v":"N/A"},{"$f":"'RAINFALL DATA'!L95","v":"N/A"},{"$f":"'RAINFALL DATA'!M95","v":"N/A"},{"$f":"'RAINFALL DATA'!N95","v":"N/A"},{"$f":"'RAINFALL DATA'!O95","v":"N/A"},{"$f":"'RAINFALL DATA'!P95","v":"N/A"},{"$f":"'RAINFALL DATA'!Q95","v":"N/A"},{"$f":"'RAINFALL DATA'!R95","v":"N/A"},{"$f":"'RAINFALL DATA'!S95","v":"N/A"}]
[null,null,null,null,null,null,null,null,null,null,null,null,null,null,{"$f":"'RAINFALL DATA'!H96","v":"N/A"},{"$f":"'RAINFALL DATA'!I96","v":"N/A"},{"$f":"'RAINFALL DATA'!J96","v":"N/A"},{"$f":"'RAINFALL DATA'!K96","v":"N/A"},{"$f":"'RAINFALL DATA'!L96","v":"N/A"},{"$f":"'RAINFALL DATA'!M96","v":"N/A"},{"$f":"'RAINFALL DATA'!N96","v":"N/A"},{"$f":"'RAINFALL DATA'!O96","v":"N/A"},{"$f":"'RAINFALL DATA'!P96","v":"N/A"},{"$f":"'RAINFALL DATA'!Q96","v":"N/A"},{"$f":"'RAINFALL DATA'!R96","v":"N/A"},{"$f":"'RAINFALL DATA'!S96","v":"N/A"}]
[null,null,null,null,null,null,null,null,null,null,null,null,null,null,{"$f":"'RAINFALL DATA'!H97","v":"N/A"},{"$f":"'RAINFALL DATA'!I97","v":"N/A"},{"$f":"'RAINFALL DATA'!J97","v":"N/A"},{"$f":"'RAINFALL DATA'!K97","v":"N/A"},{"$f":"'RAINFALL DATA'!L97","v":"N/A"},{"$f":"'RAINFALL DATA'!M97","v":"N/A"},{"$f":"'RAINFALL DATA'!N97","v":"N/A"},{"$f":"'RAINFALL DATA'!O97","v":"N/A"},{"$f":"'RAINFALL DATA'!P97","v":"N/A"},{"$f":"'RAINFALL DATA'!Q97","v":"N/A"},{"$f":"'RAINFALL DATA'!R97","v":"N/A"},{"$f":"'RAINFALL DATA'!S97","v":"N/A"}]
[null,null,null,null,null,null,null,null,null,null,null,null,null,null,{"$f":"'RAINFALL DATA'!H98","v":"N/A"},{"$f":"'RAINFALL DATA'!I98","v":"N/A"},{"$f":"'RAINFALL DATA'!J98","v":"N/A"},{"$f":"'RAINFALL DATA'!K98","v":"N/A"},{"$f":"'RAINFALL DATA'!L98","v":"N/A"},{"$f":"'RAINFALL DATA'!M98","v":"N/A"},{"$f":"'RAINFALL DATA'!N98","v":"N/A"},{"$f":"'RAINFALL DATA'!O98","v":"N/A"},{"$f":"'RAINFALL DATA'!P98","v":"N/A"},{"$f":"'RAINFALL DATA'!Q98","v":"N/A"},{"$f":"'RAINFALL DATA'!R98","v":"N/A"},{"$f":"'RAINFALL DATA'!S98","v":"N/A"}]
[null,null,null,null,null,null,null,null,null,null,null,null,null,null,{"$f":"'RAINFALL DATA'!H99","v":"N/A"},{"$f":"'RAINFALL DATA'!I99","v":"N/A"},{"$f":"'RAINFALL DATA'!J99","v":"N/A"},{"$f":"'RAINFALL DATA'!K99","v":"N/A"},{"$f":"'RAINFALL DATA'!L99","v":"N/A"},{"$f":"'RAINFALL DATA'!M99","v":"N/A"},{"$f":"'RAINFALL DATA'!N99","v":"N/A"},{"$f":"'RAINFALL DATA'!O99","v":"N/A"},{"$f":"'RAINFALL DATA'!P99","v":"N/A"},{"$f":"'RAINFALL DATA'!Q99","v":"N/A"},{"$f":"'RAINFALL DATA'!R99","v":"N/A"},{"$f":"'RAINFALL DATA'!S99","v":"N/A"}]
[null,null,null,null,null,null,null,null,null,null,null,null,null,null,{"$f":"'RAINFALL DATA'!H100","v":"N/A"},{"$f":"'RAINFALL DATA'!I100","v":"N/A"},{"$f":"'RAINFALL DATA'!J100","v":"N/A"},{"$f":"'RAINFALL DATA'!K100","v":"N/A"},{"$f":"'RAINFALL DATA'!L100","v":"N/A"},{"$f":"'RAINFALL DATA'!M100","v":"N/A"},{"$f":"'RAINFALL DATA'!N100","v":"N/A"},{"$f":"'RAINFALL DATA'!O100","v":"N/A"},{"$f":"'RAINFALL DATA'!P100","v":"N/A"},{"$f":"'RAINFALL DATA'!Q100","v":"N/A"},{"$f":"'RAINFALL DATA'!R100","v":"N/A"},{"$f":"'RAINFALL DATA'!S100","v":"N/A"}]
[null,null,null,null,null,null,null,null,null,null,null,null,null,null,{"$f":"'RAINFALL DATA'!H101","v":"N/A"},{"$f":"'RAINFALL DATA'!I101","v":"N/A"},{"$f":"'RAINFALL DATA'!J101","v":"N/A"},{"$f":"'RAINFALL DATA'!K101","v":"N/A"},{"$f":"'RAINFALL DATA'!L101","v":"N/A"},{"$f":"'RAINFALL DATA'!M101","v":"N/A"},{"$f":"'RAINFALL DATA'!N101","v":"N/A"},{"$f":"'RAINFALL DATA'!O101","v":"N/A"},{"$f":"'RAINFALL DATA'!P101","v":"N/A"},{"$f":"'RAINFALL DATA'!Q101","v":"N/A"},{"$f":"'RAINFALL DATA'!R101","v":"N/A"},{"$f":"'RAINFALL DATA'!S101","v":"N/A"}]
[null,null,null,null,null,null,null,null,null,null,null,null,null,null,{"$f":"'RAINFALL DATA'!H102","v":"N/A"},{"$f":"'RAINFALL DATA'!I102","v":"N/A"},{"$f":"'RAINFALL DATA'!J102","v":"N/A"},{"$f":"'RAINFALL DATA'!K102","v":"N/A"},{"$f":"'RAINFALL DATA'!L102","v":"N/A"},{"$f":"'RAINFALL DATA'!M102","v":"N/A"},{"$f":"'RAINFALL DATA'!N102","v":"N/A"},{"$f":"'RAINFALL DATA'!O102","v":"N/A"},{"$f":"'RAINFALL DATA'!P102","v":"N/A"},{"$f":"'RAINFALL DATA'!Q102","v":"N/A"},{"$f":"'RAINFALL DATA'!R102","v":"N/A"},{"$f":"'RAINFALL DATA'!S102","v":"N/A"}]
[null,null,null,null,null,null,null,null,null,null,null,null,null,null,{"$f":"'RAINFALL DATA'!H103","v":"N/A"},{"$f":"'RAINFALL DATA'!I103","v":"N/A"},{"$f":"'RAINFALL DATA'!J103","v":"N/A"},{"$f":"'RAINFALL DATA'!K103","v":"N/A"},{"$f":"'RAINFALL DATA'!L103","v":"N/A"},{"$f":"'RAINFALL DATA'!M103","v":"N/A"},{"$f":"'RAINFALL DATA'!N103","v":"N/A"},{"$f":"'RAINFALL DATA'!O103","v":"N/A"},{"$f":"'RAINFALL DATA'!P103","v":"N/A"},{"$f":"'RAINFALL DATA'!Q103","v":"N/A"},{"$f":"'RAINFALL DATA'!R103","v":"N/A"},{"$f":"'RAINFALL DATA'!S103","v":"N/A"}]
[null,null,null,null,null,null,null,null,null,null,null,null,null,null,{"$f":"'RAINFALL DATA'!H104","v":"N/A"},{"$f":"'RAINFALL DATA'!I104","v":"N/A"},{"$f":"'RAINFALL DATA'!J104","v":"N/A"},{"$f":"'RAINFALL DATA'!K104","v":"N/A"},{"$f":"'RAINFALL DATA'!L104","v":"N/A"},{"$f":"'RAINFALL DATA'!M104","v":"N/A"},{"$f":"'RAINFALL DATA'!N104","v":"N/A"},{"$f":"'RAINFALL DATA'!O104","v":"N/A"},{"$f":"'RAINFALL DATA'!P104","v":"N/A"},{"$f":"'RAINFALL DATA'!Q104","v":"N/A"},{"$f":"'RAINFALL DATA'!R104","v":"N/A"},{"$f":"'RAINFALL DATA'!S104","v":"N/A"}]
[null,null,null,null,null,null,null,null,null,null,null,null,null,null,{"$f":"'RAINFALL DATA'!H105","v":"N/A"},{"$f":"'RAINFALL DATA'!I105","v":"N/A"},{"$f":"'RAINFALL DATA'!J105","v":"N/A"},{"$f":"'RAINFALL DATA'!K105","v":"N/A"},{"$f":"'RAINFALL DATA'!L105","v":"N/A"},{"$f":"'RAINFALL DATA'!M105","v":"N/A"},{"$f":"'RAINFALL DATA'!N105","v":"N/A"},{"$f":"'RAINFALL DATA'!O105","v":"N/A"},{"$f":"'RAINFALL DATA'!P105","v":"N/A"},{"$f":"'RAINFALL DATA'!Q105","v":"N/A"},{"$f":"'RAINFALL DATA'!R105","v":"N/A"},{"$f":"'RAINFALL DATA'!S105","v":"N/A"}]
[null,null,null,null,null,null,null,null,null,null,null,null,null,null,{"$f":"'RAINFALL DATA'!H106","v":"N/A"},{"$f":"'RAINFALL DATA'!I106","v":"N/A"},{"$f":"'RAINFALL DATA'!J106","v":"N/A"},{"$f":"'RAINFALL DATA'!K106","v":"N/A"},{"$f":"'RAINFALL DATA'!L106","v":"N/A"},{"$f":"'RAINFALL DATA'!M106","v":"N/A"},{"$f":"'RAINFALL DATA'!N106","v":"N/A"},{"$f":"'RAINFALL DATA'!O106","v":"N/A"},{"$f":"'RAINFALL DATA'!P106","v":"N/A"},{"$f":"'RAINFALL DATA'!Q106","v":"N/A"},{"$f":"'RAINFALL DATA'!R106","v":"N/A"},{"$f":"'RAINFALL DATA'!S106","v":"N/A"}]
[null,null,null,null,null,null,null,null,null,null,null,null,null,null,{"$f":"'RAINFALL DATA'!H107","v":"N/A"},{"$f":"'RAINFALL DATA'!I107","v":"N/A"},{"$f":"'RAINFALL DATA'!J107","v":"N/A"},{"$f":"'RAINFALL DATA'!K107","v":"N/A"},{"$f":"'RAINFALL DATA'!L107","v":"N/A"},{"$f":"'RAINFALL DATA'!M107","v":"N/A"},{"$f":"'RAINFALL DATA'!N107","v":"N/A"},{"$f":"'RAINFALL DATA'!O107","v":"N/A"},{"$f":"'RAINFALL DATA'!P107","v":"N/A"},{"$f":"'RAINFALL DATA'!Q107","v":"N/A"},{"$f":"'RAINFALL DATA'!R107","v":"N/A"},{"$f":"'RAINFALL DATA'!S107","v":"N/A"}]
[null,null,null,null,null,null,null,null,null,null,null,null,null,null,{"$f":"'RAINFALL DATA'!H108","v":"N/A"},{"$f":"'RAINFALL DATA'!I108","v":"N/A"},{"$f":"'RAINFALL DATA'!J108","v":"N/A"},{"$f":"'RAINFALL DATA'!K108","v":"N/A"},{"$f":"'RAINFALL DATA'!L108","v":"N/A"},{"$f":"'RAINFALL DATA'!M108","v":"N/A"},{"$f":"'RAINFALL DATA'!N108","v":"N/A"},{"$f":"'RAINFALL DATA'!O108","v":"N/A"},{"$f":"'RAINFALL DATA'!P108","v":"N/A"},{"$f":"'RAINFALL DATA'!Q108","v":"N/A"},{"$f":"'RAINFALL DATA'!R108","v":"N/A"},{"$f":"'RAINFALL DATA'!S108","v":"N/A"}]
[null,null,null,null,null,null,null,null,null,null,null,null,null,null,{"$f":"'RAINFALL DATA'!H109","v":"N/A"},{"$f":"'RAINFALL DATA'!I109","v":"N/A"},{"$f":"'RAINFALL DATA'!J109","v":"N/A"},{"$f":"'RAINFALL DATA'!K109","v":"N/A"},{"$f":"'RAINFALL DATA'!L109","v":"N/A"},{"$f":"'RAINFALL DATA'!M109","v":"N/A"},{"$f":"'RAINFALL DATA'!N109","v":"N/A"},{"$f":"'RAINFALL DATA'!O109","v":"N/A"},{"$f":"'RAINFALL DATA'!P109","v":"N/A"},{"$f":"'RAINFALL DATA'!Q109","v":"N/A"},{"$f":"'RAINFALL DATA'!R109","v":"N/A"},{"$f":"'RAINFALL DATA'!S109","v":"N/A"}]
[null,null,null,null,null,null,null,null,null,null,null,null,null,null,{"$f":"'RAINFALL DATA'!H110","v":"N/A"},{"$f":"'RAINFALL DATA'!I110","v":"N/A"},{"$f":"'RAINFALL DATA'!J110","v":"N/A"},{"$f":"'RAINFALL DATA'!K110","v":"N/A"},{"$f":"'RAINFALL DATA'!L110","v":"N/A"},{"$f":"'RAINFALL DATA'!M110","v":"N/A"},{"$f":"'RAINFALL DATA'!N110","v":"N/A"},{"$f":"'RAINFALL DATA'!O110","v":"N/A"},{"$f":"'RAINFALL DATA'!P110","v":"N/A"},{"$f":"'RAINFALL DATA'!Q110","v":"N/A"},{"$f":"'RAINFALL DATA'!R110","v":"N/A"},{"$f":"'RAINFALL DATA'!S110","v":"N/A"}]
[null,null,null,null,null,null,null,null,null,null,null,null,null,null,{"$f":"'RAINFALL DATA'!H111","v":"N/A"},{"$f":"'RAINFALL DATA'!I111","v":"N/A"},{"$f":"'RAINFALL DATA'!J111","v":"N/A"},{"$f":"'RAINFALL DATA'!K111","v":"N/A"},{"$f":"'RAINFALL DATA'!L111","v":"N/A"},{"$f":"'RAINFALL DATA'!M111","v":"N/A"},{"$f":"'RAINFALL DATA'!N111","v":"N/A"},{"$f":"'RAINFALL DATA'!O111","v":"N/A"},{"$f":"'RAINFALL DATA'!P111","v":"N/A"},{"$f":"'RAINFALL DATA'!Q111","v":"N/A"},{"$f":"'RAINFALL DATA'!R111","v":"N/A"},{"$f":"'RAINFALL DATA'!S111","v":"N/A"}]
[null,null,null,null,null,null,null,null,null,null,null,null,null,null,{"$f":"'RAINFALL DATA'!H112","v":"N/A"},{"$f":"'RAINFALL DATA'!I112","v":"N/A"},{"$f":"'RAINFALL DATA'!J112","v":"N/A"},{"$f":"'RAINFALL DATA'!K112","v":"N/A"},{"$f":"'RAINFALL DATA'!L112","v":"N/A"},{"$f":"'RAINFALL DATA'!M112","v":"N/A"},{"$f":"'RAINFALL DATA'!N112","v":"N/A"},{"$f":"'RAINFALL DATA'!O112","v":"N/A"},{"$f":"'RAINFALL DATA'!P112","v":"N/A"},{"$f":"'RAINFALL DATA'!Q112","v":"N/A"},{"$f":"'RAINFALL DATA'!R112","v":"N/A"},{"$f":"'RAINFALL DATA'!S112","v":"N/A"}]
[null,null,null,null,null,null,null,null,null,null,null,null,null,null,{"$f":"'RAINFALL DATA'!H113","v":"N/A"},{"$f":"'RAINFALL DATA'!I113","v":"N/A"},{"$f":"'RAINFALL DATA'!J113","v":"N/A"},{"$f":"'RAINFALL DATA'!K113","v":"N/A"},{"$f":"'RAINFALL DATA'!L113","v":"N/A"},{"$f":"'RAINFALL DATA'!M113","v":"N/A"},{"$f":"'RAINFALL DATA'!N113","v":"N/A"},{"$f":"'RAINFALL DATA'!O113","v":"N/A"},{"$f":"'RAINFALL DATA'!P113","v":"N/A"},{"$f":"'RAINFALL DATA'!Q113","v":"N/A"},{"$f":"'RAINFALL DATA'!R113","v":"N/A"},{"$f":"'RAINFALL DATA'!S113","v":"N/A"}]
[null,null,null,null,null,null,null,null,null,null,null,null,null,null,{"$f":"'RAINFALL DATA'!H114","v":"N/A"},{"$f":"'RAINFALL DATA'!I114","v":"N/A"},{"$f":"'RAINFALL DATA'!J114","v":"N/A"},{"$f":"'RAINFALL DATA'!K114","v":"N/A"},{"$f":"'RAINFALL DATA'!L114","v":"N/A"},{"$f":"'RAINFALL DATA'!M114","v":"N/A"},{"$f":"'RAINFALL DATA'!N114","v":"N/A"},{"$f":"'RAINFALL DATA'!O114","v":"N/A"},{"$f":"'RAINFALL DATA'!P114","v":"N/A"},{"$f":"'RAINFALL DATA'!Q114","v":"N/A"},{"$f":"'RAINFALL DATA'!R114","v":"N/A"},{"$f":"'RAINFALL DATA'!S114","v":"N/A"}]
[null,null,null,null,null,null,null,null,null,null,null,null,null,null,{"$f":"'RAINFALL DATA'!H115","v":"N/A"},{"$f":"'RAINFALL DATA'!I115","v":"N/A"},{"$f":"'RAINFALL DATA'!J115","v":"N/A"},{"$f":"'RAINFALL DATA'!K115","v":"N/A"},{"$f":"'RAINFALL DATA'!L115","v":"N/A"},{"$f":"'RAINFALL DATA'!M115","v":"N/A"},{"$f":"'RAINFALL DATA'!N115","v":"N/A"},{"$f":"'RAINFALL DATA'!O115","v":"N/A"},{"$f":"'RAINFALL DATA'!P115","v":"N/A"},{"$f":"'RAINFALL DATA'!Q115","v":"N/A"},{"$f":"'RAINFALL DATA'!R115","v":"N/A"},{"$f":"'RAINFALL DATA'!S115","v":"N/A"}]
[null,null,null,null,null,null,null,null,null,null,null,null,null,null,{"$f":"'RAINFALL DATA'!H116","v":"N/A"},{"$f":"'RAINFALL DATA'!I116","v":"N/A"},{"$f":"'RAINFALL DATA'!J116","v":"N/A"},{"$f":"'RAINFALL DATA'!K116","v":"N/A"},{"$f":"'RAINFALL DATA'!L116","v":"N/A"},{"$f":"'RAINFALL DATA'!M116","v":"N/A"},{"$f":"'RAINFALL DATA'!N116","v":"N/A"},{"$f":"'RAINFALL DATA'!O116","v":"N/A"},{"$f":"'RAINFALL DATA'!P116","v":"N/A"},{"$f":"'RAINFALL DATA'!Q116","v":"N/A"},{"$f":"'RAINFALL DATA'!R116","v":"N/A"},{"$f":"'RAINFALL DATA'!S116","v":"N/A"}]
[null,null,null,null,null,null,null,null,null,null,null,null,null,null,{"$f":"'RAINFALL DATA'!H117","v":"N/A"},{"$f":"'RAINFALL DATA'!I117","v":"N/A"},{"$f":"'RAINFALL DATA'!J117","v":"N/A"},{"$f":"'RAINFALL DATA'!K117","v":"N/A"},{"$f":"'RAINFALL DATA'!L117","v":"N/A"},{"$f":"'RAINFALL DATA'!M117","v":"N/A"},{"$f":"'RAINFALL DATA'!N117","v":"N/A"},{"$f":"'RAINFALL DATA'!O117","v":"N/A"},{"$f":"'RAINFALL DATA'!P117","v":"N/A"},{"$f":"'RAINFALL DATA'!Q117","v":"N/A"},{"$f":"'RAINFALL DATA'!R117","v":"N/A"},{"$f":"'RAINFALL DATA'!S117","v":"N/A"}]
[null,null,null,null,null,null,null,null,null,null,null,null,null,null,{"$f":"'RAINFALL DATA'!H118","v":"N/A"},{"$f":"'RAINFALL DATA'!I118","v":"N/A"},{"$f":"'RAINFALL DATA'!J118","v":"N/A"},{"$f":"'RAINFALL DATA'!K118","v":"N/A"},{"$f":"'RAINFALL DATA'!L118","v":"N/A"},{"$f":"'RAINFALL DATA'!M118","v":"N/A"},{"$f":"'RAINFALL DATA'!N118","v":"N/A"},{"$f":"'RAINFALL DATA'!O118","v":"N/A"},{"$f":"'RAINFALL DATA'!P118","v":"N/A"},{"$f":"'RAINFALL DATA'!Q118","v":"N/A"},{"$f":"'RAINFALL DATA'!R118","v":"N/A"},{"$f":"'RAINFALL DATA'!S118","v":"N/A"}]
[null,null,null,null,null,null,null,null,null,null,null,null,null,null,{"$f":"'RAINFALL DATA'!H119","v":"N/A"},{"$f":"'RAINFALL DATA'!I119","v":"N/A"},{"$f":"'RAINFALL DATA'!J119","v":"N/A"},{"$f":"'RAINFALL DATA'!K119","v":"N/A"},{"$f":"'RAINFALL DATA'!L119","v":"N/A"},{"$f":"'RAINFALL DATA'!M119","v":"N/A"},{"$f":"'RAINFALL DATA'!N119","v":"N/A"},{"$f":"'RAINFALL DATA'!O119","v":"N/A"},{"$f":"'RAINFALL DATA'!P119","v":"N/A"},{"$f":"'RAINFALL DATA'!Q119","v":"N/A"},{"$f":"'RAINFALL DATA'!R119","v":"N/A"},{"$f":"'RAINFALL DATA'!S119","v":"N/A"}]
[null,null,null,null,null,null,null,null,null,null,null,null,null,null,{"$f":"'RAINFALL DATA'!H120","v":"N/A"},{"$f":"'RAINFALL DATA'!I120","v":"N/A"},{"$f":"'RAINFALL DATA'!J120","v":"N/A"},{"$f":"'RAINFALL DATA'!K120","v":"N/A"},{"$f":"'RAINFALL DATA'!L120","v":"N/A"},{"$f":"'RAINFALL DATA'!M120","v":"N/A"},{"$f":"'RAINFALL DATA'!N120","v":"N/A"},{"$f":"'RAINFALL DATA'!O120","v":"N/A"},{"$f":"'RAINFALL DATA'!P120","v":"N/A"},{"$f":"'RAINFALL DATA'!Q120","v":"N/A"},{"$f":"'RAINFALL DATA'!R120","v":"N/A"},{"$f":"'RAINFALL DATA'!S120","v":"N/A"}]
[null,null,null,null,null,null,null,null,null,null,null,null,null,null,{"$f":"'RAINFALL DATA'!H121","v":"N/A"},{"$f":"'RAINFALL DATA'!I121","v":"N/A"},{"$f":"'RAINFALL DATA'!J121","v":"N/A"},{"$f":"'RAINFALL DATA'!K121","v":"N/A"},{"$f":"'RAINFALL DATA'!L121","v":"N/A"},{"$f":"'RAINFALL DATA'!M121","v":"N/A"},{"$f":"'RAINFALL DATA'!N121","v":"N/A"},{"$f":"'RAINFALL DATA'!O121","v":"N/A"},{"$f":"'RAINFALL DATA'!P121","v":"N/A"},{"$f":"'RAINFALL DATA'!Q121","v":"N/A"},{"$f":"'RAINFALL DATA'!R121","v":"N/A"},{"$f":"'RAINFALL DATA'!S121","v":"N/A"}]
[null,null,null,null,null,null,null,null,null,null,null,null,null,null,{"$f":"'RAINFALL DATA'!H122","v":"N/A"},{"$f":"'RAINFALL DATA'!I122","v":"N/A"},{"$f":"'RAINFALL DATA'!J122","v":"N/A"},{"$f":"'RAINFALL DATA'!K122","v":"N/A"},{"$f":"'RAINFALL DATA'!L122","v":"N/A"},{"$f":"'RAINFALL DATA'!M122","v":"N/A"},{"$f":"'RAINFALL DATA'!N122","v":"N/A"},{"$f":"'RAINFALL DATA'!O122","v":"N/A"},{"$f":"'RAINFALL DATA'!P122","v":"N/A"},{"$f":"'RAINFALL DATA'!Q122","v":"N/A"},{"$f":"'RAINFALL DATA'!R122","v":"N/A"},{"$f":"'RAINFALL DATA'!S122","v":"N/A"}]
[null,null,null,null,null,null,null,null,null,null,null,null,null,null,{"$f":"'RAINFALL DATA'!H123","v":"N/A"},{"$f":"'RAINFALL DATA'!I123","v":"N/A"},{"$f":"'RAINFALL DATA'!J123","v":"N/A"},{"$f":"'RAINFALL DATA'!K123","v":"N/A"},{"$f":"'RAINFALL DATA'!L123","v":"N/A"},{"$f":"'RAINFALL DATA'!M123","v":"N/A"},{"$f":"'RAINFALL DATA'!N123","v":"N/A"},{"$f":"'RAINFALL DATA'!O123","v":"N/A"},{"$f":"'RAINFALL DATA'!P123","v":"N/A"},{"$f":"'RAINFALL DATA'!Q123","v":"N/A"},{"$f":"'RAINFALL DATA'!R123","v":"N/A"},{"$f":"'RAINFALL DATA'!S123","v":"N/A"}]
[null,null,null,null,null,null,null,null,null,null,null,null,null,null,{"$f":"'RAINFALL DATA'!H124","v":"N/A"},{"$f":"'RAINFALL DATA'!I124","v":"N/A"},{"$f":"'RAINFALL DATA'!J124","v":"N/A"},{"$f":"'RAINFALL DATA'!K124","v":"N/A"},{"$f":"'RAINFALL DATA'!L124","v":"N/A"},{"$f":"'RAINFALL DATA'!M124","v":"N/A"},{"$f":"'RAINFALL DATA'!N124","v":"N/A"},{"$f":"'RAINFALL DATA'!O124","v":"N/A"},{"$f":"'RAINFALL DATA'!P124","v":"N/A"},{"$f":"'RAINFALL DATA'!Q124","v":"N/A"},{"$f":"'RAINFALL DATA'!R124","v":"N/A"},{"$f":"'RAINFALL DATA'!S124","v":"N/A"}]
[null,null,null,null,null,null,null,null,null,null,null,null,null,null,{"$f":"'RAINFALL DATA'!H125","v":"N/A"},{"$f":"'RAINFALL DATA'!I125","v":"N/A"},{"$f":"'RAINFALL DATA'!J125","v":"N/A"},{"$f":"'RAINFALL DATA'!K125","v":"N/A"},{"$f":"'RAINFALL DATA'!L125","v":"N/A"},{"$f":"'RAINFALL DATA'!M125","v":"N/A"},{"$f":"'RAINFALL DATA'!N125","v":"N/A"},{"$f":"'RAINFALL DATA'!O125","v":"N/A"},{"$f":"'RAINFALL DATA'!P125","v":"N/A"},{"$f":"'RAINFALL DATA'!Q125","v":"N/A"},{"$f":"'RAINFALL DATA'!R125","v":"N/A"},{"$f":"'RAINFALL DATA'!S125","v":"N/A"}]
[null,null,null,null,null,null,null,null,null,null,null,null,null,null,{"$f":"'RAINFALL DATA'!H126","v":"N/A"},{"$f":"'RAINFALL DATA'!I126","v":"N/A"},{"$f":"'RAINFALL DATA'!J126","v":"N/A"},{"$f":"'RAINFALL DATA'!K126","v":"N/A"},{"$f":"'RAINFALL DATA'!L126","v":"N/A"},{"$f":"'RAINFALL DATA'!M126","v":"N/A"},{"$f":"'RAINFALL DATA'!N126","v":"N/A"},{"$f":"'RAINFALL DATA'!O126","v":"N/A"},{"$f":"'RAINFALL DATA'!P126","v":"N/A"},{"$f":"'RAINFALL DATA'!Q126","v":"N/A"},{"$f":"'RAINFALL DATA'!R126","v":"N/A"},{"$f":"'RAINFALL DATA'!S126","v":"N/A"}]
[null,null,null,null,null,null,null,null,null,null,null,null,null,null,{"$f":"'RAINFALL DATA'!H127","v":"N/A"},{"$f":"'RAINFALL DATA'!I127","v":"N/A"},{"$f":"'RAINFALL DATA'!J127","v":"N/A"},{"$f":"'RAINFALL DATA'!K127","v":"N/A"},{"$f":"'RAINFALL DATA'!L127","v":"N/A"},{"$f":"'RAINFALL DATA'!M127","v":"N/A"},{"$f":"'RAINFALL DATA'!N127","v":"N/A"},{"$f":"'RAINFALL DATA'!O127","v":"N/A"},{"$f":"'RAINFALL DATA'!P127","v":"N/A"},{"$f":"'RAINFALL DATA'!Q127","v":"N/A"},{"$f":"'RAINFALL DATA'!R127","v":"N/A"},{"$f":"'RAINFALL DATA'!S127","v":"N/A"}]
[null,null,null,null,null,null,null,null,null,null,null,null,null,null,{"$f":"'RAINFALL DATA'!H128","v":"N/A"},{"$f":"'RAINFALL DATA'!I128","v":"N/A"},{"$f":"'RAINFALL DATA'!J128","v":"N/A"},{"$f":"'RAINFALL DATA'!K128","v":"N/A"},{"$f":"'RAINFALL DATA'!L128","v":"N/A"},{"$f":"'RAINFALL DATA'!M128","v":"N/A"},{"$f":"'RAINFALL DATA'!N128","v":"N/A"},{"$f":"'RAINFALL DATA'!O128","v":"N/A"},{"$f":"'RAINFALL DATA'!P128","v":"N/A"},{"$f":"'RAINFALL DATA'!Q128","v":"N/A"},{"$f":"'RAINFALL DATA'!R128","v":"N/A"},{"$f":"'RAINFALL DATA'!S128","v":"N/A"}]
[null,null,null,null,null,null,null,null,null,null,null,null,null,null,{"$f":"'RAINFALL DATA'!H129","v":"N/A"},{"$f":"'RAINFALL DATA'!I129","v":"N/A"},{"$f":"'RAINFALL DATA'!J129","v":"N/A"},{"$f":"'RAINFALL DATA'!K129","v":"N/A"},{"$f":"'RAINFALL DATA'!L129","v":"N/A"},{"$f":"'RAINFALL DATA'!M129","v":"N/A"},{"$f":"'RAINFALL DATA'!N129","v":"N/A"},{"$f":"'RAINFALL DATA'!O129","v":"N/A"},{"$f":"'RAINFALL DATA'!P129","v":"N/A"},{"$f":"'RAINFALL DATA'!Q129","v":"N/A"},{"$f":"'RAINFALL DATA'!R129","v":"N/A"},{"$f":"'RAINFALL DATA'!S129","v":"N/A"}]
[null,null,null,null,null,null,null,null,null,null,null,null,null,null,{"$f":"'RAINFALL DATA'!H130","v":"N/A"},{"$f":"'RAINFALL DATA'!I130","v":"N/A"},{"$f":"'RAINFALL DATA'!J130","v":"N/A"},{"$f":"'RAINFALL DATA'!K130","v":"N/A"},{"$f":"'RAINFALL DATA'!L130","v":"N/A"},{"$f":"'RAINFALL DATA'!M130","v":"N/A"},{"$f":"'RAINFALL DATA'!N130","v":"N/A"},{"$f":"'RAINFALL DATA'!O130","v":"N/A"},{"$f":"'RAINFALL DATA'!P130","v":"N/A"},{"$f":"'RAINFALL DATA'!Q130","v":"N/A"},{"$f":"'RAINFALL DATA'!R130","v":"N/A"},{"$f":"'RAINFALL DATA'!S130","v":"N/A"}]
[null,null,null,null,null,null,null,null,null,null,null,null,null,null,{"$f":"'RAINFALL DATA'!H131","v":"N/A"},{"$f":"'RAINFALL DATA'!I131","v":"N/A"},{"$f":"'RAINFALL DATA'!J131","v":"N/A"},{"$f":"'RAINFALL DATA'!K131","v":"N/A"},{"$f":"'RAINFALL DATA'!L131","v":"N/A"},{"$f":"'RAINFALL DATA'!M131","v":"N/A"},{"$f":"'RAINFALL DATA'!N131","v":"N/A"},{"$f":"'RAINFALL DATA'!O131","v":"N/A"},{"$f":"'RAINFALL DATA'!P131","v":"N/A"},{"$f":"'RAINFALL DATA'!Q131","v":"N/A"},{"$f":"'RAINFALL DATA'!R131","v":"N/A"},{"$f":"'RAINFALL DATA'!S131","v":"N/A"}]
[null,null,null,null,null,null,null,null,null,null,null,null,null,null,{"$f":"'RAINFALL DATA'!H132","v":"N/A"},{"$f":"'RAINFALL DATA'!I132","v":"N/A"},{"$f":"'RAINFALL DATA'!J132","v":"N/A"},{"$f":"'RAINFALL DATA'!K132","v":"N/A"},{"$f":"'RAINFALL DATA'!L132","v":"N/A"},{"$f":"'RAINFALL DATA'!M132","v":"N/A"},{"$f":"'RAINFALL DATA'!N132","v":"N/A"},{"$f":"'RAINFALL DATA'!O132","v":"N/A"},{"$f":"'RAINFALL DATA'!P132","v":"N/A"},{"$f":"'RAINFALL DATA'!Q132","v":"N/A"},{"$f":"'RAINFALL DATA'!R132","v":"N/A"},{"$f":"'RAINFALL DATA'!S132","v":"N/A"}]
[null,null,null,null,null,null,null,null,null,null,null,null,null,null,{"$f":"'RAINFALL DATA'!H133","v":"N/A"},{"$f":"'RAINFALL DATA'!I133","v":"N/A"},{"$f":"'RAINFALL DATA'!J133","v":"N/A"},{"$f":"'RAINFALL DATA'!K133","v":"N/A"},{"$f":"'RAINFALL DATA'!L133","v":"N/A"},{"$f":"'RAINFALL DATA'!M133","v":"N/A"},{"$f":"'RAINFALL DATA'!N133","v":"N/A"},{"$f":"'RAINFALL DATA'!O133","v":"N/A"},{"$f":"'RAINFALL DATA'!P133","v":"N/A"},{"$f":"'RAINFALL DATA'!Q133","v":"N/A"},{"$f":"'RAINFALL DATA'!R133","v":"N/A"},{"$f":"'RAINFALL DATA'!S133","v":"N/A"}]
[null,null,null,null,null,null,null,null,null,null,null,null,null,null,{"$f":"'RAINFALL DATA'!H134","v":"N/A"},{"$f":"'RAINFALL DATA'!I134","v":"N/A"},{"$f":"'RAINFALL DATA'!J134","v":"N/A"},{"$f":"'RAINFALL DATA'!K134","v":"N/A"},{"$f":"'RAINFALL DATA'!L134","v":"N/A"},{"$f":"'RAINFALL DATA'!M134","v":"N/A"},{"$f":"'RAINFALL DATA'!N134","v":"N/A"},{"$f":"'RAINFALL DATA'!O134","v":"N/A"},{"$f":"'RAINFALL DATA'!P134","v":"N/A"},{"$f":"'RAINFALL DATA'!Q134","v":"N/A"},{"$f":"'RAINFALL DATA'!R134","v":"N/A"},{"$f":"'RAINFALL DATA'!S134","v":"N/A"}]
[null,null,null,null,null,null,null,null,null,null,null,null,null,null,{"$f":"'RAINFALL DATA'!H135","v":"N/A"},{"$f":"'RAINFALL DATA'!I135","v":"N/A"},{"$f":"'RAINFALL DATA'!J135","v":"N/A"},{"$f":"'RAINFALL DATA'!K135","v":"N/A"},{"$f":"'RAINFALL DATA'!L135","v":"N/A"},{"$f":"'RAINFALL DATA'!M135","v":"N/A"},{"$f":"'RAINFALL DATA'!N135","v":"N/A"},{"$f":"'RAINFALL DATA'!O135","v":"N/A"},{"$f":"'RAINFALL DATA'!P135","v":"N/A"},{"$f":"'RAINFALL DATA'!Q135","v":"N/A"},{"$f":"'RAINFALL DATA'!R135","v":"N/A"},{"$f":"'RAINFALL DATA'!S135","v":"N/A"}]
[null,null,null,null,null,null,null,null,null,null,null,null,null,null,{"$f":"'RAINFALL DATA'!H136","v":"N/A"},{"$f":"'RAINFALL DATA'!I136","v":"N/A"},{"$f":"'RAINFALL DATA'!J136","v":"N/A"},{"$f":"'RAINFALL DATA'!K136","v":"N/A"},{"$f":"'RAINFALL DATA'!L136","v":"N/A"},{"$f":"'RAINFALL DATA'!M136","v":"N/A"},{"$f":"'RAINFALL DATA'!N136","v":"N/A"},{"$f":"'RAINFALL DATA'!O136","v":"N/A"},{"$f":"'RAINFALL DATA'!P136","v":"N/A"},{"$f":"'RAINFALL DATA'!Q136","v":"N/A"},{"$f":"'RAINFALL DATA'!R136","v":"N/A"},{"$f":"'RAINFALL DATA'!S136","v":"N/A"}]
[null,null,null,null,null,null,null,null,null,null,null,null,null,null,{"$f":"'RAINFALL DATA'!H137","v":"N/A"},{"$f":"'RAINFALL DATA'!I137","v":"N/A"},{"$f":"'RAINFALL DATA'!J137","v":"N/A"},{"$f":"'RAINFALL DATA'!K137","v":"N/A"},{"$f":"'RAINFALL DATA'!L137","v":"N/A"},{"$f":"'RAINFALL DATA'!M137","v":"N/A"},{"$f":"'RAINFALL DATA'!N137","v":"N/A"},{"$f":"'RAINFALL DATA'!O137","v":"N/A"},{"$f":"'RAINFALL DATA'!P137","v":"N/A"},{"$f":"'RAINFALL DATA'!Q137","v":"N/A"},{"$f":"'RAINFALL DATA'!R137","v":"N/A"},{"$f":"'RAINFALL DATA'!S137","v":"N/A"}]
[null,null,null,null,null,null,null,null,null,null,null,null,null,null,{"$f":"'RAINFALL DATA'!H138","v":"N/A"},{"$f":"'RAINFALL DATA'!I138","v":"N/A"},{"$f":"'RAINFALL DATA'!J138","v":"N/A"},{"$f":"'RAINFALL DATA'!K138","v":"N/A"},{"$f":"'RAINFALL DATA'!L138","v":"N/A"},{"$f":"'RAINFALL DATA'!M138","v":"N/A"},{"$f":"'RAINFALL DATA'!N138","v":"N/A"},{"$f":"'RAINFALL DATA'!O138","v":"N/A"},{"$f":"'RAINFALL DATA'!P138","v":"N/A"},{"$f":"'RAINFALL DATA'!Q138","v":"N/A"},{"$f":"'RAINFALL DATA'!R138","v":"N/A"},{"$f":"'RAINFALL DATA'!S138","v":"N/A"}]
[null,null,null,null,null,null,null,null,null,null,null,null,null,null,{"$f":"'RAINFALL DATA'!H139","v":"N/A"},{"$f":"'RAINFALL DATA'!I139","v":"N/A"},{"$f":"'RAINFALL DATA'!J139","v":"N/A"},{"$f":"'RAINFALL DATA'!K139","v":"N/A"},{"$f":"'RAINFALL DATA'!L139","v":"N/A"},{"$f":"'RAINFALL DATA'!M139","v":"N/A"},{"$f":"'RAINFALL DATA'!N139","v":"N/A"},{"$f":"'RAINFALL DATA'!O139","v":"N/A"},{"$f":"'RAINFALL DATA'!P139","v":"N/A"},{"$f":"'RAINFALL DATA'!Q139","v":"N/A"},{"$f":"'RAINFALL DATA'!R139","v":"N/A"},{"$f":"'RAINFALL DATA'!S139","v":"N/A"}]
[null,null,null,null,null,null,null,null,null,null,null,null,null,null,{"$f":"'RAINFALL DATA'!H140","v":"N/A"},{"$f":"'RAINFALL DATA'!I140","v":"N/A"},{"$f":"'RAINFALL DATA'!J140","v":"N/A"},{"$f":"'RAINFALL DATA'!K140","v":"N/A"},{"$f":"'RAINFALL DATA'!L140","v":"N/A"},{"$f":"'RAINFALL DATA'!M140","v":"N/A"},{"$f":"'RAINFALL DATA'!N140","v":"N/A"},{"$f":"'RAINFALL DATA'!O140","v":"N/A"},{"$f":"'RAINFALL DATA'!P140","v":"N/A"},{"$f":"'RAINFALL DATA'!Q140","v":"N/A"},{"$f":"'RAINFALL DATA'!R140","v":"N/A"},{"$f":"'RAINFALL DATA'!S140","v":"N/A"}]
[null,null,null,null,null,null,null,null,null,null,null,null,null,null,{"$f":"'RAINFALL DATA'!H141","v":"N/A"},{"$f":"'RAINFALL DATA'!I141","v":"N/A"},{"$f":"'RAINFALL DATA'!J141","v":"N/A"},{"$f":"'RAINFALL DATA'!K141","v":"N/A"},{"$f":"'RAINFALL DATA'!L141","v":"N/A"},{"$f":"'RAINFALL DATA'!M141","v":"N/A"},{"$f":"'RAINFALL DATA'!N141","v":"N/A"},{"$f":"'RAINFALL DATA'!O141","v":"N/A"},{"$f":"'RAINFALL DATA'!P141","v":"N/A"},{"$f":"'RAINFALL DATA'!Q141","v":"N/A"},{"$f":"'RAINFALL DATA'!R141","v":"N/A"},{"$f":"'RAINFALL DATA'!S141","v":"N/A"}]
[null,null,null,null,null,null,null,null,null,null,null,null,null,null,{"$f":"'RAINFALL DATA'!H142","v":"N/A"},{"$f":"'RAINFALL DATA'!I142","v":"N/A"},{"$f":"'RAINFALL DATA'!J142","v":"N/A"},{"$f":"'RAINFALL DATA'!K142","v":"N/A"},{"$f":"'RAINFALL DATA'!L142","v":"N/A"},{"$f":"'RAINFALL DATA'!M142","v":"N/A"},{"$f":"'RAINFALL DATA'!N142","v":"N/A"},{"$f":"'RAINFALL DATA'!O142","v":"N/A"},{"$f":"'RAINFALL DATA'!P142","v":"N/A"},{"$f":"'RAINFALL DATA'!Q142","v":"N/A"},{"$f":"'RAINFALL DATA'!R142","v":"N/A"},{"$f":"'RAINFALL DATA'!S142","v":"N/A"}]
[null,null,null,null,null,null,null,null,null,null,null,null,null,null,{"$f":"'RAINFALL DATA'!H143","v":"N/A"},{"$f":"'RAINFALL DATA'!I143","v":"N/A"},{"$f":"'RAINFALL DATA'!J143","v":"N/A"},{"$f":"'RAINFALL DATA'!K143","v":"N/A"},{"$f":"'RAINFALL DATA'!L143","v":"N/A"},{"$f":"'RAINFALL DATA'!M143","v":"N/A"},{"$f":"'RAINFALL DATA'!N143","v":"N/A"},{"$f":"'RAINFALL DATA'!O143","v":"N/A"},{"$f":"'RAINFALL DATA'!P143","v":"N/A"},{"$f":"'RAINFALL DATA'!Q143","v":"N/A"},{"$f":"'RAINFALL DATA'!R143","v":"N/A"},{"$f":"'RAINFALL DATA'!S143","v":"N/A"}]
[null,null,null,null,null,null,null,null,null,null,null,null,null,null,{"$f":"'RAINFALL DATA'!H144","v":"N/A"},{"$f":"'RAINFALL DATA'!I144","v":"N/A"},{"$f":"'RAINFALL DATA'!J144","v":"N/A"},{"$f":"'RAINFALL DATA'!K144","v":"N/A"},{"$f":"'RAINFALL DATA'!L144","v":"N/A"},{"$f":"'RAINFALL DATA'!M144","v":"N/A"},{"$f":"'RAINFALL DATA'!N144","v":"N/A"},{"$f":"'RAINFALL DATA'!O144","v":"N/A"},{"$f":"'RAINFALL DATA'!P144","v":"N/A"},{"$f":"'RAINFALL DATA'!Q144","v":"N/A"},{"$f":"'RAINFALL DATA'!R144","v":"N/A"},{"$f":"'RAINFALL DATA'!S144","v":"N/A"}]
[null,null,null,null,null,null,null,null,null,null,null,null,null,null,{"$f":"'RAINFALL DATA'!H145","v":"N/A"},{"$f":"'RAINFALL DATA'!I145","v":"N/A"},{"$f":"'RAINFALL DATA'!J145","v":"N/A"},{"$f":"'RAINFALL DATA'!K145","v":"N/A"},{"$f":"'RAINFALL DATA'!L145","v":"N/A"},{"$f":"'RAINFALL DATA'!M145","v":"N/A"},{"$f":"'RAINFALL DATA'!N145","v":"N/A"},{"$f":"'RAINFALL DATA'!O145","v":"N/A"},{"$f":"'RAINFALL DATA'!P145","v":"N/A"},{"$f":"'RAINFALL DATA'!Q145","v":"N/A"},{"$f":"'RAINFALL DATA'!R145","v":"N/A"},{"$f":"'RAINFALL DATA'!S145","v":"N/A"}]
[null,null,null,null,null,null,null,null,null,null,null,null,null,null,{"$f":"'RAINFALL DATA'!H146","v":"N/A"},{"$f":"'RAINFALL DATA'!I146","v":"N/A"},{"$f":"'RAINFALL DATA'!J146","v":"N/A"},{"$f":"'RAINFALL DATA'!K146","v":"N/A"},{"$f":"'RAINFALL DATA'!L146","v":"N/A"},{"$f":"'RAINFALL DATA'!M146","v":"N/A"},{"$f":"'RAINFALL DATA'!N146","v":"N/A"},{"$f":"'RAINFALL DATA'!O146","v":"N/A"},{"$f":"'RAINFALL DATA'!P146","v":"N/A"},{"$f":"'RAINFALL DATA'!Q146","v":"N/A"},{"$f":"'RAINFALL DATA'!R146","v":"N/A"},{"$f":"'RAINFALL DATA'!S146","v":"N/A"}]
[null,null,null,null,null,null,null,null,null,null,null,null,null,null,{"$f":"'RAINFALL DATA'!H147","v":"N/A"},{"$f":"'RAINFALL DATA'!I147","v":"N/A"},{"$f":"'RAINFALL DATA'!J147","v":"N/A"},{"$f":"'RAINFALL DATA'!K147","v":"N/A"},{"$f":"'RAINFALL DATA'!L147","v":"N/A"},{"$f":"'RAINFALL DATA'!M147","v":"N/A"},{"$f":"'RAINFALL DATA'!N147","v":"N/A"},{"$f":"'RAINFALL DATA'!O147","v":"N/A"},{"$f":"'RAINFALL DATA'!P147","v":"N/A"},{"$f":"'RAINFALL DATA'!Q147","v":"N/A"},{"$f":"'RAINFALL DATA'!R147","v":"N/A"},{"$f":"'RAINFALL DATA'!S147","v":"N/A"}]
[null,null,null,null,null,null,null,null,null,null,null,null,null,null,{"$f":"'RAINFALL DATA'!H148","v":"N/A"},{"$f":"'RAINFALL DATA'!I148","v":"N/A"},{"$f":"'RAINFALL DATA'!J148","v":"N/A"},{"$f":"'RAINFALL DATA'!K148","v":"N/A"},{"$f":"'RAINFALL DATA'!L148","v":"N/A"},{"$f":"'RAINFALL DATA'!M148","v":"N/A"},{"$f":"'RAINFALL DATA'!N148","v":"N/A"},{"$f":"'RAINFALL DATA'!O148","v":"N/A"},{"$f":"'RAINFALL DATA'!P148","v":"N/A"},{"$f":"'RAINFALL DATA'!Q148","v":"N/A"},{"$f":"'RAINFALL DATA'!R148","v":"N/A"},{"$f":"'RAINFALL DATA'!S148","v":"N/A"}]
[null,null,null,null,null,null,null,null,null,null,null,null,null,null,{"$f":"'RAINFALL DATA'!H149","v":"N/A"},{"$f":"'RAINFALL DATA'!I149","v":"N/A"},{"$f":"'RAINFALL DATA'!J149","v":"N/A"},{"$f":"'RAINFALL DATA'!K149","v":"N/A"},{"$f":"'RAINFALL DATA'!L149","v":"N/A"},{"$f":"'RAINFALL DATA'!M149","v":"N/A"},{"$f":"'RAINFALL DATA'!N149","v":"N/A"},{"$f":"'RAINFALL DATA'!O149","v":"N/A"},{"$f":"'RAINFALL DATA'!P149","v":"N/A"},{"$f":"'RAINFALL DATA'!Q149","v":"N/A"},{"$f":"'RAINFALL DATA'!R149","v":"N/A"},{"$f":"'RAINFALL DATA'!S149","v":"N/A"}]
[null,null,null,null,null,null,null,null,null,null,null,null,null,null,{"$f":"'RAINFALL DATA'!H150","v":"N/A"},{"$f":"'RAINFALL DATA'!I150","v":"N/A"},{"$f":"'RAINFALL DATA'!J150","v":"N/A"},{"$f":"'RAINFALL DATA'!K150","v":"N/A"},{"$f":"'RAINFALL DATA'!L150","v":"N/A"},{"$f":"'RAINFALL DATA'!M150","v":"N/A"},{"$f":"'RAINFALL DATA'!N150","v":"N/A"},{"$f":"'RAINFALL DATA'!O150","v":"N/A"},{"$f":"'RAINFALL DATA'!P150","v":"N/A"},{"$f":"'RAINFALL DATA'!Q150","v":"N/A"},{"$f":"'RAINFALL DATA'!R150","v":"N/A"},{"$f":"'RAINFALL DATA'!S150","v":"N/A"}]
[null,null,null,null,null,null,null,null,null,null,null,null,null,null,{"$f":"'RAINFALL DATA'!H151","v":"N/A"},{"$f":"'RAINFALL DATA'!I151","v":"N/A"},{"$f":"'RAINFALL DATA'!J151","v":"N/A"},{"$f":"'RAINFALL DATA'!K151","v":"N/A"},{"$f":"'RAINFALL DATA'!L151","v":"N/A"},{"$f":"'RAINFALL DATA'!M151","v":"N/A"},{"$f":"'RAINFALL DATA'!N151","v":"N/A"},{"$f":"'RAINFALL DATA'!O151","v":"N/A"},{"$f":"'RAINFALL DATA'!P151","v":"N/A"},{"$f":"'RAINFALL DATA'!Q151","v":"N/A"},{"$f":"'RAINFALL DATA'!R151","v":"N/A"},{"$f":"'RAINFALL DATA'!S151","v":"N/A"}]
[null,null,null,null,null,null,null,null,null,null,null,null,null,null,{"$f":"'RAINFALL DATA'!H152","v":"N/A"},{"$f":"'RAINFALL DATA'!I152","v":"N/A"},{"$f":"'RAINFALL DATA'!J152","v":"N/A"},{"$f":"'RAINFALL DATA'!K152","v":"N/A"},{"$f":"'RAINFALL DATA'!L152","v":"N/A"},{"$f":"'RAINFALL DATA'!M152","v":"N/A"},{"$f":"'RAINFALL DATA'!N152","v":"N/A"},{"$f":"'RAINFALL DATA'!O152","v":"N/A"},{"$f":"'RAINFALL DATA'!P152","v":"N/A"},{"$f":"'RAINFALL DATA'!Q152","v":"N/A"},{"$f":"'RAINFALL DATA'!R152","v":"N/A"},{"$f":"'RAINFALL DATA'!S152","v":"N/A"}]
[null,null,null,null,null,null,null,null,null,null,null,null,null,null,{"$f":"'RAINFALL DATA'!H153","v":"N/A"},{"$f":"'RAINFALL DATA'!I153","v":"N/A"},{"$f":"'RAINFALL DATA'!J153","v":"N/A"},{"$f":"'RAINFALL DATA'!K153","v":"N/A"},{"$f":"'RAINFALL DATA'!L153","v":"N/A"},{"$f":"'RAINFALL DATA'!M153","v":"N/A"},{"$f":"'RAINFALL DATA'!N153","v":"N/A"},{"$f":"'RAINFALL DATA'!O153","v":"N/A"},{"$f":"'RAINFALL DATA'!P153","v":"N/A"},{"$f":"'RAINFALL DATA'!Q153","v":"N/A"},{"$f":"'RAINFALL DATA'!R153","v":"N/A"},{"$f":"'RAINFALL DATA'!S153","v":"N/A"}]
[null,null,null,null,null,null,null,null,null,null,null,null,null,null,{"$f":"'RAINFALL DATA'!H154","v":"N/A"},{"$f":"'RAINFALL DATA'!I154","v":"N/A"},{"$f":"'RAINFALL DATA'!J154","v":"N/A"},{"$f":"'RAINFALL DATA'!K154","v":"N/A"},{"$f":"'RAINFALL DATA'!L154","v":"N/A"},{"$f":"'RAINFALL DATA'!M154","v":"N/A"},{"$f":"'RAINFALL DATA'!N154","v":"N/A"},{"$f":"'RAINFALL DATA'!O154","v":"N/A"},{"$f":"'RAINFALL DATA'!P154","v":"N/A"},{"$f":"'RAINFALL DATA'!Q154","v":"N/A"},{"$f":"'RAINFALL DATA'!R154","v":"N/A"},{"$f":"'RAINFALL DATA'!S154","v":"N/A"}]
[null,null,null,null,null,null,null,null,null,null,null,null,null,null,{"$f":"'RAINFALL DATA'!H155","v":"N/A"},{"$f":"'RAINFALL DATA'!I155","v":"N/A"},{"$f":"'RAINFALL DATA'!J155","v":"N/A"},{"$f":"'RAINFALL DATA'!K155","v":"N/A"},{"$f":"'RAINFALL DATA'!L155","v":"N/A"},{"$f":"'RAINFALL DATA'!M155","v":"N/A"},{"$f":"'RAINFALL DATA'!N155","v":"N/A"},{"$f":"'RAINFALL DATA'!O155","v":"N/A"},{"$f":"'RAINFALL DATA'!P155","v":"N/A"},{"$f":"'RAINFALL DATA'!Q155","v":"N/A"},{"$f":"'RAINFALL DATA'!R155","v":"N/A"},{"$f":"'RAINFALL DATA'!S155","v":"N/A"}]
[null,null,null,null,null,null,null,null,null,null,null,null,null,null,{"$f":"'RAINFALL DATA'!H156","v":"N/A"},{"$f":"'RAINFALL DATA'!I156","v":"N/A"},{"$f":"'RAINFALL DATA'!J156","v":"N/A"},{"$f":"'RAINFALL DATA'!K156","v":"N/A"},{"$f":"'RAINFALL DATA'!L156","v":"N/A"},{"$f":"'RAINFALL DATA'!M156","v":"N/A"},{"$f":"'RAINFALL DATA'!N156","v":"N/A"},{"$f":"'RAINFALL DATA'!O156","v":"N/A"},{"$f":"'RAINFALL DATA'!P156","v":"N/A"},{"$f":"'RAINFALL DATA'!Q156","v":"N/A"},{"$f":"'RAINFALL DATA'!R156","v":"N/A"},{"$f":"'RAINFALL DATA'!S156","v":"N/A"}]
[null,null,null,null,null,null,null,null,null,null,null,null,null,null,{"$f":"'RAINFALL DATA'!H157","v":"N/A"},{"$f":"'RAINFALL DATA'!I157","v":"N/A"},{"$f":"'RAINFALL DATA'!J157","v":"N/A"},{"$f":"'RAINFALL DATA'!K157","v":"N/A"},{"$f":"'RAINFALL DATA'!L157","v":"N/A"},{"$f":"'RAINFALL DATA'!M157","v":"N/A"},{"$f":"'RAINFALL DATA'!N157","v":"N/A"},{"$f":"'RAINFALL DATA'!O157","v":"N/A"},{"$f":"'RAINFALL DATA'!P157","v":"N/A"},{"$f":"'RAINFALL DATA'!Q157","v":"N/A"},{"$f":"'RAINFALL DATA'!R157","v":"N/A"},{"$f":"'RAINFALL DATA'!S157","v":"N/A"}]
[null,null,null,null,null,null,null,null,null,null,null,null,null,null,{"$f":"'RAINFALL DATA'!H158","v":"N/A"},{"$f":"'RAINFALL DATA'!I158","v":"N/A"},{"$f":"'RAINFALL DATA'!J158","v":"N/A"},{"$f":"'RAINFALL DATA'!K158","v":"N/A"},{"$f":"'RAINFALL DATA'!L158","v":"N/A"},{"$f":"'RAINFALL DATA'!M158","v":"N/A"},{"$f":"'RAINFALL DATA'!N158","v":"N/A"},{"$f":"'RAINFALL DATA'!O158","v":"N/A"},{"$f":"'RAINFALL DATA'!P158","v":"N/A"},{"$f":"'RAINFALL DATA'!Q158","v":"N/A"},{"$f":"'RAINFALL DATA'!R158","v":"N/A"},{"$f":"'RAINFALL DATA'!S158","v":"N/A"}]
[null,null,null,null,null,null,null,null,null,null,null,null,null,null,{"$f":"'RAINFALL DATA'!H159","v":"N/A"},{"$f":"'RAINFALL DATA'!I159","v":"N/A"},{"$f":"'RAINFALL DATA'!J159","v":"N/A"},{"$f":"'RAINFALL DATA'!K159","v":"N/A"},{"$f":"'RAINFALL DATA'!L159","v":"N/A"},{"$f":"'RAINFALL DATA'!M159","v":"N/A"},{"$f":"'RAINFALL DATA'!N159","v":"N/A"},{"$f":"'RAINFALL DATA'!O159","v":"N/A"},{"$f":"'RAINFALL DATA'!P159","v":"N/A"},{"$f":"'RAINFALL DATA'!Q159","v":"N/A"},{"$f":"'RAINFALL DATA'!R159","v":"N/A"},{"$f":"'RAINFALL DATA'!S159","v":"N/A"}]
[null,null,null,null,null,null,null,null,null,null,null,null,null,null,{"$f":"'RAINFALL DATA'!H160","v":"N/A"},{"$f":"'RAINFALL DATA'!I160","v":"N/A"},{"$f":"'RAINFALL DATA'!J160","v":"N/A"},{"$f":"'RAINFALL DATA'!K160","v":"N/A"},{"$f":"'RAINFALL DATA'!L160","v":"N/A"},{"$f":"'RAINFALL DATA'!M160","v":"N/A"},{"$f":"'RAINFALL DATA'!N160","v":"N/A"},{"$f":"'RAINFALL DATA'!O160","v":"N/A"},{"$f":"'RAINFALL DATA'!P160","v":"N/A"},{"$f":"'RAINFALL DATA'!Q160","v":"N/A"},{"$f":"'RAINFALL DATA'!R160","v":"N/A"},{"$f":"'RAINFALL DATA'!S160","v":"N/A"}]
[null,null,null,null,null,null,null,null,null,null,null,null,null,null,{"$f":"'RAINFALL DATA'!H161","v":"N/A"},{"$f":"'RAINFALL DATA'!I161","v":"N/A"},{"$f":"'RAINFALL DATA'!J161","v":"N/A"},{"$f":"'RAINFALL DATA'!K161","v":"N/A"},{"$f":"'RAINFALL DATA'!L161","v":"N/A"},{"$f":"'RAINFALL DATA'!M161","v":"N/A"},{"$f":"'RAINFALL DATA'!N161","v":"N/A"},{"$f":"'RAINFALL DATA'!O161","v":"N/A"},{"$f":"'RAINFALL DATA'!P161","v":"N/A"},{"$f":"'RAINFALL DATA'!Q161","v":"N/A"},{"$f":"'RAINFALL DATA'!R161","v":"N/A"},{"$f":"'RAINFALL DATA'!S161","v":"N/A"}]
[null,null,null,null,null,null,null,null,null,null,null,null,null,null,{"$f":"'RAINFALL DATA'!H162","v":"N/A"},{"$f":"'RAINFALL DATA'!I162","v":"N/A"},{"$f":"'RAINFALL DATA'!J162","v":"N/A"},{"$f":"'RAINFALL DATA'!K162","v":"N/A"},{"$f":"'RAINFALL DATA'!L162","v":"N/A"},{"$f":"'RAINFALL DATA'!M162","v":"N/A"},{"$f":"'RAINFALL DATA'!N162","v":"N/A"},{"$f":"'RAINFALL DATA'!O162","v":"N/A"},{"$f":"'RAINFALL DATA'!P162","v":"N/A"},{"$f":"'RAINFALL DATA'!Q162","v":"N/A"},{"$f":"'RAINFALL DATA'!R162","v":"N/A"},{"$f":"'RAINFALL DATA'!S162","v":"N/A"}]
[null,null,null,null,null,null,null,null,null,null,null,null,null,null,{"$f":"'RAINFALL DATA'!H163","v":"N/A"},{"$f":"'RAINFALL DATA'!I163","v":"N/A"},{"$f":"'RAINFALL DATA'!J163","v":"N/A"},{"$f":"'RAINFALL DATA'!K163","v":"N/A"},{"$f":"'RAINFALL DATA'!L163","v":"N/A"},{"$f":"'RAINFALL DATA'!M163","v":"N/A"},{"$f":"'RAINFALL DATA'!N163","v":"N/A"},{"$f":"'RAINFALL DATA'!O163","v":"N/A"},{"$f":"'RAINFALL DATA'!P163","v":"N/A"},{"$f":"'RAINFALL DATA'!Q163","v":"N/A"},{"$f":"'RAINFALL DATA'!R163","v":"N/A"},{"$f":"'RAINFALL DATA'!S163","v":"N/A"}]
[null,null,null,null,null,null,null,null,null,null,null,null,null,null,{"$f":"'RAINFALL DATA'!H164","v":"N/A"},{"$f":"'RAINFALL DATA'!I164","v":"N/A"},{"$f":"'RAINFALL DATA'!J164","v":"N/A"},{"$f":"'RAINFALL DATA'!K164","v":"N/A"},{"$f":"'RAINFALL DATA'!L164","v":"N/A"},{"$f":"'RAINFALL DATA'!M164","v":"N/A"},{"$f":"'RAINFALL DATA'!N164","v":"N/A"},{"$f":"'RAINFALL DATA'!O164","v":"N/A"},{"$f":"'RAINFALL DATA'!P164","v":"N/A"},{"$f":"'RAINFALL DATA'!Q164","v":"N/A"},{"$f":"'RAINFALL DATA'!R164","v":"N/A"},{"$f":"'RAINFALL DATA'!S164","v":"N/A"}]
[null,null,null,null,null,null,null,null,null,null,null,null,null,null,{"$f":"'RAINFALL DATA'!H165","v":"N/A"},{"$f":"'RAINFALL DATA'!I165","v":"N/A"},{"$f":"'RAINFALL DATA'!J165","v":"N/A"},{"$f":"'RAINFALL DATA'!K165","v":"N/A"},{"$f":"'RAINFALL DATA'!L165","v":"N/A"},{"$f":"'RAINFALL DATA'!M165","v":"N/A"},{"$f":"'RAINFALL DATA'!N165","v":"N/A"},{"$f":"'RAINFALL DATA'!O165","v":"N/A"},{"$f":"'RAINFALL DATA'!P165","v":"N/A"},{"$f":"'RAINFALL DATA'!Q165","v":"N/A"},{"$f":"'RAINFALL DATA'!R165","v":"N/A"},{"$f":"'RAINFALL DATA'!S165","v":"N/A"}]
[null,null,null,null,null,null,null,null,null,null,null,null,null,null,{"$f":"'RAINFALL DATA'!H166","v":"N/A"},{"$f":"'RAINFALL DATA'!I166","v":"N/A"},{"$f":"'RAINFALL DATA'!J166","v":"N/A"},{"$f":"'RAINFALL DATA'!K166","v":"N/A"},{"$f":"'RAINFALL DATA'!L166","v":"N/A"},{"$f":"'RAINFALL DATA'!M166","v":"N/A"},{"$f":"'RAINFALL DATA'!N166","v":"N/A"},{"$f":"'RAINFALL DATA'!O166","v":"N/A"},{"$f":"'RAINFALL DATA'!P166","v":"N/A"},{"$f":"'RAINFALL DATA'!Q166","v":"N/A"},{"$f":"'RAINFALL DATA'!R166","v":"N/A"},{"$f":"'RAINFALL DATA'!S166","v":"N/A"}]
[null,null,null,null,null,null,null,null,null,null,null,null,null,null,{"$f":"'RAINFALL DATA'!H167","v":"N/A"},{"$f":"'RAINFALL DATA'!I167","v":"N/A"},{"$f":"'RAINFALL DATA'!J167","v":"N/A"},{"$f":"'RAINFALL DATA'!K167","v":"N/A"},{"$f":"'RAINFALL DATA'!L167","v":"N/A"},{"$f":"'RAINFALL DATA'!M167","v":"N/A"},{"$f":"'RAINFALL DATA'!N167","v":"N/A"},{"$f":"'RAINFALL DATA'!O167","v":"N/A"},{"$f":"'RAINFALL DATA'!P167","v":"N/A"},{"$f":"'RAINFALL DATA'!Q167","v":"N/A"},{"$f":"'RAINFALL DATA'!R167","v":"N/A"},{"$f":"'RAINFALL DATA'!S167","v":"N/A"}]
[null,null,null,null,null,null,null,null,null,null,null,null,null,null,{"$f":"'RAINFALL DATA'!H168","v":"N/A"},{"$f":"'RAINFALL DATA'!I168","v":"N/A"},{"$f":"'RAINFALL DATA'!J168","v":"N/A"},{"$f":"'RAINFALL DATA'!K168","v":"N/A"},{"$f":"'RAINFALL DATA'!L168","v":"N/A"},{"$f":"'RAINFALL DATA'!M168","v":"N/A"},{"$f":"'RAINFALL DATA'!N168","v":"N/A"},{"$f":"'RAINFALL DATA'!O168","v":"N/A"},{"$f":"'RAINFALL DATA'!P168","v":"N/A"},{"$f":"'RAINFALL DATA'!Q168","v":"N/A"},{"$f":"'RAINFALL DATA'!R168","v":"N/A"},{"$f":"'RAINFALL DATA'!S168","v":"N/A"}]
[null,null,null,null,null,null,null,null,null,null,null,null,null,null,{"$f":"'RAINFALL DATA'!H169","v":"N/A"},{"$f":"'RAINFALL DATA'!I169","v":"N/A"},{"$f":"'RAINFALL DATA'!J169","v":"N/A"},{"$f":"'RAINFALL DATA'!K169","v":"N/A"},{"$f":"'RAINFALL DATA'!L169","v":"N/A"},{"$f":"'RAINFALL DATA'!M169","v":"N/A"},{"$f":"'RAINFALL DATA'!N169","v":"N/A"},{"$f":"'RAINFALL DATA'!O169","v":"N/A"},{"$f":"'RAINFALL DATA'!P169","v":"N/A"},{"$f":"'RAINFALL DATA'!Q169","v":"N/A"},{"$f":"'RAINFALL DATA'!R169","v":"N/A"},{"$f":"'RAINFALL DATA'!S169","v":"N/A"}]
[null,null,null,null,null,null,null,null,null,null,null,null,null,null,{"$f":"'RAINFALL DATA'!H170","v":"N/A"},{"$f":"'RAINFALL DATA'!I170","v":"N/A"},{"$f":"'RAINFALL DATA'!J170","v":"N/A"},{"$f":"'RAINFALL DATA'!K170","v":"N/A"},{"$f":"'RAINFALL DATA'!L170","v":"N/A"},{"$f":"'RAINFALL DATA'!M170","v":"N/A"},{"$f":"'RAINFALL DATA'!N170","v":"N/A"},{"$f":"'RAINFALL DATA'!O170","v":"N/A"},{"$f":"'RAINFALL DATA'!P170","v":"N/A"},{"$f":"'RAINFALL DATA'!Q170","v":"N/A"},{"$f":"'RAINFALL DATA'!R170","v":"N/A"},{"$f":"'RAINFALL DATA'!S170","v":"N/A"}]
[null,null,null,null,null,null,null,null,null,null,null,null,null,null,{"$f":"'RAINFALL DATA'!H171","v":"N/A"},{"$f":"'RAINFALL DATA'!I171","v":"N/A"},{"$f":"'RAINFALL DATA'!J171","v":"N/A"},{"$f":"'RAINFALL DATA'!K171","v":"N/A"},{"$f":"'RAINFALL DATA'!L171","v":"N/A"},{"$f":"'RAINFALL DATA'!M171","v":"N/A"},{"$f":"'RAINFALL DATA'!N171","v":"N/A"},{"$f":"'RAINFALL DATA'!O171","v":"N/A"},{"$f":"'RAINFALL DATA'!P171","v":"N/A"},{"$f":"'RAINFALL DATA'!Q171","v":"N/A"},{"$f":"'RAINFALL DATA'!R171","v":"N/A"},{"$f":"'RAINFALL DATA'!S171","v":"N/A"}]
[null,null,null,null,null,null,null,null,null,null,null,null,null,null,{"$f":"'RAINFALL DATA'!H172","v":"N/A"},{"$f":"'RAINFALL DATA'!I172","v":"N/A"},{"$f":"'RAINFALL DATA'!J172","v":"N/A"},{"$f":"'RAINFALL DATA'!K172","v":"N/A"},{"$f":"'RAINFALL DATA'!L172","v":"N/A"},{"$f":"'RAINFALL DATA'!M172","v":"N/A"},{"$f":"'RAINFALL DATA'!N172","v":"N/A"},{"$f":"'RAINFALL DATA'!O172","v":"N/A"},{"$f":"'RAINFALL DATA'!P172","v":"N/A"},{"$f":"'RAINFALL DATA'!Q172","v":"N/A"},{"$f":"'RAINFALL DATA'!R172","v":"N/A"},{"$f":"'RAINFALL DATA'!S172","v":"N/A"}]
[null,null,null,null,null,null,null,null,null,null,null,null,null,null,{"$f":"'RAINFALL DATA'!H173","v":"N/A"},{"$f":"'RAINFALL DATA'!I173","v":"N/A"},{"$f":"'RAINFALL DATA'!J173","v":"N/A"},{"$f":"'RAINFALL DATA'!K173","v":"N/A"},{"$f":"'RAINFALL DATA'!L173","v":"N/A"},{"$f":"'RAINFALL DATA'!M173","v":"N/A"},{"$f":"'RAINFALL DATA'!N173","v":"N/A"},{"$f":"'RAINFALL DATA'!O173","v":"N/A"},{"$f":"'RAINFALL DATA'!P173","v":"N/A"},{"$f":"'RAINFALL DATA'!Q173","v":"N/A"},{"$f":"'RAINFALL DATA'!R173","v":"N/A"},{"$f":"'RAINFALL DATA'!S173","v":"N/A"}]
[null,null,null,null,null,null,null,null,null,null,null,null,null,null,{"$f":"'RAINFALL DATA'!H174","v":"N/A"},{"$f":"'RAINFALL DATA'!I174","v":"N/A"},{"$f":"'RAINFALL DATA'!J174","v":"N/A"},{"$f":"'RAINFALL DATA'!K174","v":"N/A"},{"$f":"'RAINFALL DATA'!L174","v":"N/A"},{"$f":"'RAINFALL DATA'!M174","v":"N/A"},{"$f":"'RAINFALL DATA'!N174","v":"N/A"},{"$f":"'RAINFALL DATA'!O174","v":"N/A"},{"$f":"'RAINFALL DATA'!P174","v":"N/A"},{"$f":"'RAINFALL DATA'!Q174","v":"N/A"},{"$f":"'RAINFALL DATA'!R174","v":"N/A"},{"$f":"'RAINFALL DATA'!S174","v":"N/A"}]
[null,null,null,null,null,null,null,null,null,null,null,null,null,null,{"$f":"'RAINFALL DATA'!H175","v":"N/A"},{"$f":"'RAINFALL DATA'!I175","v":"N/A"},{"$f":"'RAINFALL DATA'!J175","v":"N/A"},{"$f":"'RAINFALL DATA'!K175","v":"N/A"},{"$f":"'RAINFALL DATA'!L175","v":"N/A"},{"$f":"'RAINFALL DATA'!M175","v":"N/A"},{"$f":"'RAINFALL DATA'!N175","v":"N/A"},{"$f":"'RAINFALL DATA'!O175","v":"N/A"},{"$f":"'RAINFALL DATA'!P175","v":"N/A"},{"$f":"'RAINFALL DATA'!Q175","v":"N/A"},{"$f":"'RAINFALL DATA'!R175","v":"N/A"},{"$f":"'RAINFALL DATA'!S175","v":"N/A"}]
[null,null,null,null,null,null,null,null,null,null,null,null,null,null,{"$f":"'RAINFALL DATA'!H176","v":"N/A"},{"$f":"'RAINFALL DATA'!I176","v":"N/A"},{"$f":"'RAINFALL DATA'!J176","v":"N/A"},{"$f":"'RAINFALL DATA'!K176","v":"N/A"},{"$f":"'RAINFALL DATA'!L176","v":"N/A"},{"$f":"'RAINFALL DATA'!M176","v":"N/A"},{"$f":"'RAINFALL DATA'!N176","v":"N/A"},{"$f":"'RAINFALL DATA'!O176","v":"N/A"},{"$f":"'RAINFALL DATA'!P176","v":"N/A"},{"$f":"'RAINFALL DATA'!Q176","v":"N/A"},{"$f":"'RAINFALL DATA'!R176","v":"N/A"},{"$f":"'RAINFALL DATA'!S176","v":"N/A"}]
[null,null,null,null,null,null,null,null,null,null,null,null,null,null,{"$f":"'RAINFALL DATA'!H177","v":"N/A"},{"$f":"'RAINFALL DATA'!I177","v":"N/A"},{"$f":"'RAINFALL DATA'!J177","v":"N/A"},{"$f":"'RAINFALL DATA'!K177","v":"N/A"},{"$f":"'RAINFALL DATA'!L177","v":"N/A"},{"$f":"'RAINFALL DATA'!M177","v":"N/A"},{"$f":"'RAINFALL DATA'!N177","v":"N/A"},{"$f":"'RAINFALL DATA'!O177","v":"N/A"},{"$f":"'RAINFALL DATA'!P177","v":"N/A"},{"$f":"'RAINFALL DATA'!Q177","v":"N/A"},{"$f":"'RAINFALL DATA'!R177","v":"N/A"},{"$f":"'RAINFALL DATA'!S177","v":"N/A"}]
[null,null,null,null,null,null,null,null,null,null,null,null,null,null,{"$f":"'RAINFALL DATA'!H178","v":"N/A"},{"$f":"'RAINFALL DATA'!I178","v":"N/A"},{"$f":"'RAINFALL DATA'!J178","v":"N/A"},{"$f":"'RAINFALL DATA'!K178","v":"N/A"},{"$f":"'RAINFALL DATA'!L178","v":"N/A"},{"$f":"'RAINFALL DATA'!M178","v":"N/A"},{"$f":"'RAINFALL DATA'!N178","v":"N/A"},{"$f":"'RAINFALL DATA'!O178","v":"N/A"},{"$f":"'RAINFALL DATA'!P178","v":"N/A"},{"$f":"'RAINFALL DATA'!Q178","v":"N/A"},{"$f":"'RAINFALL DATA'!R178","v":"N/A"},{"$f":"'RAINFALL DATA'!S178","v":"N/A"}]
[null,null,null,null,null,null,null,null,null,null,null,null,null,null,{"$f":"'RAINFALL DATA'!H179","v":"N/A"},{"$f":"'RAINFALL DATA'!I179","v":"N/A"},{"$f":"'RAINFALL DATA'!J179","v":"N/A"},{"$f":"'RAINFALL DATA'!K179","v":"N/A"},{"$f":"'RAINFALL DATA'!L179","v":"N/A"},{"$f":"'RAINFALL DATA'!M179","v":"N/A"},{"$f":"'RAINFALL DATA'!N179","v":"N/A"},{"$f":"'RAINFALL DATA'!O179","v":"N/A"},{"$f":"'RAINFALL DATA'!P179","v":"N/A"},{"$f":"'RAINFALL DATA'!Q179","v":"N/A"},{"$f":"'RAINFALL DATA'!R179","v":"N/A"},{"$f":"'RAINFALL DATA'!S179","v":"N/A"}]
[null,null,null,null,null,null,null,null,null,null,null,null,null,null,{"$f":"'RAINFALL DATA'!H180","v":"N/A"},{"$f":"'RAINFALL DATA'!I180","v":"N/A"},{"$f":"'RAINFALL DATA'!J180","v":"N/A"},{"$f":"'RAINFALL DATA'!K180","v":"N/A"},{"$f":"'RAINFALL DATA'!L180","v":"N/A"},{"$f":"'RAINFALL DATA'!M180","v":"N/A"},{"$f":"'RAINFALL DATA'!N180","v":"N/A"},{"$f":"'RAINFALL DATA'!O180","v":"N/A"},{"$f":"'RAINFALL DATA'!P180","v":"N/A"},{"$f":"'RAINFALL DATA'!Q180","v":"N/A"},{"$f":"'RAINFALL DATA'!R180","v":"N/A"},{"$f":"'RAINFALL DATA'!S180","v":"N/A"}]
[null,null,null,null,null,null,null,null,null,null,null,null,null,null,{"$f":"'RAINFALL DATA'!H181","v":"N/A"},{"$f":"'RAINFALL DATA'!I181","v":"N/A"},{"$f":"'RAINFALL DATA'!J181","v":"N/A"},{"$f":"'RAINFALL DATA'!K181","v":"N/A"},{"$f":"'RAINFALL DATA'!L181","v":"N/A"},{"$f":"'RAINFALL DATA'!M181","v":"N/A"},{"$f":"'RAINFALL DATA'!N181","v":"N/A"},{"$f":"'RAINFALL DATA'!O181","v":"N/A"},{"$f":"'RAINFALL DATA'!P181","v":"N/A"},{"$f":"'RAINFALL DATA'!Q181","v":"N/A"},{"$f":"'RAINFALL DATA'!R181","v":"N/A"},{"$f":"'RAINFALL DATA'!S181","v":"N/A"}]
[null,null,null,null,null,null,null,null,null,null,null,null,null,null,{"$f":"'RAINFALL DATA'!H182","v":"N/A"},{"$f":"'RAINFALL DATA'!I182","v":"N/A"},{"$f":"'RAINFALL DATA'!J182","v":"N/A"},{"$f":"'RAINFALL DATA'!K182","v":"N/A"},{"$f":"'RAINFALL DATA'!L182","v":"N/A"},{"$f":"'RAINFALL DATA'!M182","v":"N/A"},{"$f":"'RAINFALL DATA'!N182","v":"N/A"},{"$f":"'RAINFALL DATA'!O182","v":"N/A"},{"$f":"'RAINFALL DATA'!P182","v":"N/A"},{"$f":"'RAINFALL DATA'!Q182","v":"N/A"},{"$f":"'RAINFALL DATA'!R182","v":"N/A"},{"$f":"'RAINFALL DATA'!S182","v":"N/A"}]
[null,null,null,null,null,null,null,null,null,null,null,null,null,null,{"$f":"'RAINFALL DATA'!H183","v":"N/A"},{"$f":"'RAINFALL DATA'!I183","v":"N/A"},{"$f":"'RAINFALL DATA'!J183","v":"N/A"},{"$f":"'RAINFALL DATA'!K183","v":"N/A"},{"$f":"'RAINFALL DATA'!L183","v":"N/A"},{"$f":"'RAINFALL DATA'!M183","v":"N/A"},{"$f":"'RAINFALL DATA'!N183","v":"N/A"},{"$f":"'RAINFALL DATA'!O183","v":"N/A"},{"$f":"'RAINFALL DATA'!P183","v":"N/A"},{"$f":"'RAINFALL DATA'!Q183","v":"N/A"},{"$f":"'RAINFALL DATA'!R183","v":"N/A"},{"$f":"'RAINFALL DATA'!S183","v":"N/A"}]
[null,null,null,null,null,null,null,null,null,null,null,null,null,null,{"$f":"'RAINFALL DATA'!H184","v":"N/A"},{"$f":"'RAINFALL DATA'!I184","v":"N/A"},{"$f":"'RAINFALL DATA'!J184","v":"N/A"},{"$f":"'RAINFALL DATA'!K184","v":"N/A"},{"$f":"'RAINFALL DATA'!L184","v":"N/A"},{"$f":"'RAINFALL DATA'!M184","v":"N/A"},{"$f":"'RAINFALL DATA'!N184","v":"N/A"},{"$f":"'RAINFALL DATA'!O184","v":"N/A"},{"$f":"'RAINFALL DATA'!P184","v":"N/A"},{"$f":"'RAINFALL DATA'!Q184","v":"N/A"},{"$f":"'RAINFALL DATA'!R184","v":"N/A"},{"$f":"'RAINFALL DATA'!S184","v":"N/A"}]
[null,null,null,null,null,null,null,null,null,null,null,null,null,null,{"$f":"'RAINFALL DATA'!H185","v":"N/A"},{"$f":"'RAINFALL DATA'!I185","v":"N/A"},{"$f":"'RAINFALL DATA'!J185","v":"N/A"},{"$f":"'RAINFALL DATA'!K185","v":"N/A"},{"$f":"'RAINFALL DATA'!L185","v":"N/A"},{"$f":"'RAINFALL DATA'!M185","v":"N/A"},{"$f":"'RAINFALL DATA'!N185","v":"N/A"},{"$f":"'RAINFALL DATA'!O185","v":"N/A"},{"$f":"'RAINFALL DATA'!P185","v":"N/A"},{"$f":"'RAINFALL DATA'!Q185","v":"N/A"},{"$f":"'RAINFALL DATA'!R185","v":"N/A"},{"$f":"'RAINFALL DATA'!S185","v":"N/A"}]
[null,null,null,null,null,null,null,null,null,null,null,null,null,null,{"$f":"'RAINFALL DATA'!H186","v":"N/A"},{"$f":"'RAINFALL DATA'!I186","v":"N/A"},{"$f":"'RAINFALL DATA'!J186","v":"N/A"},{"$f":"'RAINFALL DATA'!K186","v":"N/A"},{"$f":"'RAINFALL DATA'!L186","v":"N/A"},{"$f":"'RAINFALL DATA'!M186","v":"N/A"},{"$f":"'RAINFALL DATA'!N186","v":"N/A"},{"$f":"'RAINFALL DATA'!O186","v":"N/A"},{"$f":"'RAINFALL DATA'!P186","v":"N/A"},{"$f":"'RAINFALL DATA'!Q186","v":"N/A"},{"$f":"'RAINFALL DATA'!R186","v":"N/A"},{"$f":"'RAINFALL DATA'!S186","v":"N/A"}]
[null,null,null,null,null,null,null,null,null,null,null,null,null,null,{"$f":"'RAINFALL DATA'!H187","v":"N/A"},{"$f":"'RAINFALL DATA'!I187","v":"N/A"},{"$f":"'RAINFALL DATA'!J187","v":"N/A"},{"$f":"'RAINFALL DATA'!K187","v":"N/A"},{"$f":"'RAINFALL DATA'!L187","v":"N/A"},{"$f":"'RAINFALL DATA'!M187","v":"N/A"},{"$f":"'RAINFALL DATA'!N187","v":"N/A"},{"$f":"'RAINFALL DATA'!O187","v":"N/A"},{"$f":"'RAINFALL DATA'!P187","v":"N/A"},{"$f":"'RAINFALL DATA'!Q187","v":"N/A"},{"$f":"'RAINFALL DATA'!R187","v":"N/A"},{"$f":"'RAINFALL DATA'!S187","v":"N/A"}]
[null,null,null,null,null,null,null,null,null,null,null,null,null,null,{"$f":"'RAINFALL DATA'!H188","v":"N/A"},{"$f":"'RAINFALL DATA'!I188","v":"N/A"},{"$f":"'RAINFALL DATA'!J188","v":"N/A"},{"$f":"'RAINFALL DATA'!K188","v":"N/A"},{"$f":"'RAINFALL DATA'!L188","v":"N/A"},{"$f":"'RAINFALL DATA'!M188","v":"N/A"},{"$f":"'RAINFALL DATA'!N188","v":"N/A"},{"$f":"'RAINFALL DATA'!O188","v":"N/A"},{"$f":"'RAINFALL DATA'!P188","v":"N/A"},{"$f":"'RAINFALL DATA'!Q188","v":"N/A"},{"$f":"'RAINFALL DATA'!R188","v":"N/A"},{"$f":"'RAINFALL DATA'!S188","v":"N/A"}]
[null,null,null,null,null,null,null,null,null,null,null,null,null,null,{"$f":"'RAINFALL DATA'!H189","v":"N/A"},{"$f":"'RAINFALL DATA'!I189","v":"N/A"},{"$f":"'RAINFALL DATA'!J189","v":"N/A"},{"$f":"'RAINFALL DATA'!K189","v":"N/A"},{"$f":"'RAINFALL DATA'!L189","v":"N/A"},{"$f":"'RAINFALL DATA'!M189","v":"N/A"},{"$f":"'RAINFALL DATA'!N189","v":"N/A"},{"$f":"'RAINFALL DATA'!O189","v":"N/A"},{"$f":"'RAINFALL DATA'!P189","v":"N/A"},{"$f":"'RAINFALL DATA'!Q189","v":"N/A"},{"$f":"'RAINFALL DATA'!R189","v":"N/A"},{"$f":"'RAINFALL DATA'!S189","v":"N/A"}]
[null,null,null,null,null,null,null,null,null,null,null,null,null,null,{"$f":"'RAINFALL DATA'!H190","v":"N/A"},{"$f":"'RAINFALL DATA'!I190","v":"N/A"},{"$f":"'RAINFALL DATA'!J190","v":"N/A"},{"$f":"'RAINFALL DATA'!K190","v":"N/A"},{"$f":"'RAINFALL DATA'!L190","v":"N/A"},{"$f":"'RAINFALL DATA'!M190","v":"N/A"},{"$f":"'RAINFALL DATA'!N190","v":"N/A"},{"$f":"'RAINFALL DATA'!O190","v":"N/A"},{"$f":"'RAINFALL DATA'!P190","v":"N/A"},{"$f":"'RAINFALL DATA'!Q190","v":"N/A"},{"$f":"'RAINFALL DATA'!R190","v":"N/A"},{"$f":"'RAINFALL DATA'!S190","v":"N/A"}]
[null,null,null,null,null,null,null,null,null,null,null,null,null,null,{"$f":"'RAINFALL DATA'!H191","v":"N/A"},{"$f":"'RAINFALL DATA'!I191","v":"N/A"},{"$f":"'RAINFALL DATA'!J191","v":"N/A"},{"$f":"'RAINFALL DATA'!K191","v":"N/A"},{"$f":"'RAINFALL DATA'!L191","v":"N/A"},{"$f":"'RAINFALL DATA'!M191","v":"N/A"},{"$f":"'RAINFALL DATA'!N191","v":"N/A"},{"$f":"'RAINFALL DATA'!O191","v":"N/A"},{"$f":"'RAINFALL DATA'!P191","v":"N/A"},{"$f":"'RAINFALL DATA'!Q191","v":"N/A"},{"$f":"'RAINFALL DATA'!R191","v":"N/A"},{"$f":"'RAINFALL DATA'!S191","v":"N/A"}]
[null,null,null,null,null,null,null,null,null,null,null,null,null,null,{"$f":"'RAINFALL DATA'!H192","v":"N/A"},{"$f":"'RAINFALL DATA'!I192","v":"N/A"},{"$f":"'RAINFALL DATA'!J192","v":"N/A"},{"$f":"'RAINFALL DATA'!K192","v":"N/A"},{"$f":"'RAINFALL DATA'!L192","v":"N/A"},{"$f":"'RAINFALL DATA'!M192","v":"N/A"},{"$f":"'RAINFALL DATA'!N192","v":"N/A"},{"$f":"'RAINFALL DATA'!O192","v":"N/A"},{"$f":"'RAINFALL DATA'!P192","v":"N/A"},{"$f":"'RAINFALL DATA'!Q192","v":"N/A"},{"$f":"'RAINFALL DATA'!R192","v":"N/A"},{"$f":"'RAINFALL DATA'!S192","v":"N/A"}]
[null,null,null,null,null,null,null,null,null,null,null,null,null,null,{"$f":"'RAINFALL DATA'!H193","v":"N/A"},{"$f":"'RAINFALL DATA'!I193","v":"N/A"},{"$f":"'RAINFALL DATA'!J193","v":"N/A"},{"$f":"'RAINFALL DATA'!K193","v":"N/A"},{"$f":"'RAINFALL DATA'!L193","v":"N/A"},{"$f":"'RAINFALL DATA'!M193","v":"N/A"},{"$f":"'RAINFALL DATA'!N193","v":"N/A"},{"$f":"'RAINFALL DATA'!O193","v":"N/A"},{"$f":"'RAINFALL DATA'!P193","v":"N/A"},{"$f":"'RAINFALL DATA'!Q193","v":"N/A"},{"$f":"'RAINFALL DATA'!R193","v":"N/A"},{"$f":"'RAINFALL DATA'!S193","v":"N/A"}]
[null,null,null,null,null,null,null,null,null,null,null,null,null,null,{"$f":"'RAINFALL DATA'!H194","v":"N/A"},{"$f":"'RAINFALL DATA'!I194","v":"N/A"},{"$f":"'RAINFALL DATA'!J194","v":"N/A"},{"$f":"'RAINFALL DATA'!K194","v":"N/A"},{"$f":"'RAINFALL DATA'!L194","v":"N/A"},{"$f":"'RAINFALL DATA'!M194","v":"N/A"},{"$f":"'RAINFALL DATA'!N194","v":"N/A"},{"$f":"'RAINFALL DATA'!O194","v":"N/A"},{"$f":"'RAINFALL DATA'!P194","v":"N/A"},{"$f":"'RAINFALL DATA'!Q194","v":"N/A"},{"$f":"'RAINFALL DATA'!R194","v":"N/A"},{"$f":"'RAINFALL DATA'!S194","v":"N/A"}]
[null,null,null,null,null,null,null,null,null,null,null,null,null,null,{"$f":"'RAINFALL DATA'!H195","v":"N/A"},{"$f":"'RAINFALL DATA'!I195","v":"N/A"},{"$f":"'RAINFALL DATA'!J195","v":"N/A"},{"$f":"'RAINFALL DATA'!K195","v":"N/A"},{"$f":"'RAINFALL DATA'!L195","v":"N/A"},{"$f":"'RAINFALL DATA'!M195","v":"N/A"},{"$f":"'RAINFALL DATA'!N195","v":"N/A"},{"$f":"'RAINFALL DATA'!O195","v":"N/A"},{"$f":"'RAINFALL DATA'!P195","v":"N/A"},{"$f":"'RAINFALL DATA'!Q195","v":"N/A"},{"$f":"'RAINFALL DATA'!R195","v":"N/A"},{"$f":"'RAINFALL DATA'!S195","v":"N/A"}]
[null,null,null,null,null,null,null,null,null,null,null,null,null,null,{"$f":"'RAINFALL DATA'!H196","v":"N/A"},{"$f":"'RAINFALL DATA'!I196","v":"N/A"},{"$f":"'RAINFALL DATA'!J196","v":"N/A"},{"$f":"'RAINFALL DATA'!K196","v":"N/A"},{"$f":"'RAINFALL DATA'!L196","v":"N/A"},{"$f":"'RAINFALL DATA'!M196","v":"N/A"},{"$f":"'RAINFALL DATA'!N196","v":"N/A"},{"$f":"'RAINFALL DATA'!O196","v":"N/A"},{"$f":"'RAINFALL DATA'!P196","v":"N/A"},{"$f":"'RAINFALL DATA'!Q196","v":"N/A"},{"$f":"'RAINFALL DATA'!R196","v":"N/A"},{"$f":"'RAINFALL DATA'!S196","v":"N/A"}]
[null,null,null,null,null,null,null,null,null,null,null,null,null,null,{"$f":"'RAINFALL DATA'!H197","v":"N/A"},{"$f":"'RAINFALL DATA'!I197","v":"N/A"},{"$f":"'RAINFALL DATA'!J197","v":"N/A"},{"$f":"'RAINFALL DATA'!K197","v":"N/A"},{"$f":"'RAINFALL DATA'!L197","v":"N/A"},{"$f":"'RAINFALL DATA'!M197","v":"N/A"},{"$f":"'RAINFALL DATA'!N197","v":"N/A"},{"$f":"'RAINFALL DATA'!O197","v":"N/A"},{"$f":"'RAINFALL DATA'!P197","v":"N/A"},{"$f":"'RAINFALL DATA'!Q197","v":"N/A"},{"$f":"'RAINFALL DATA'!R197","v":"N/A"},{"$f":"'RAINFALL DATA'!S197","v":"N/A"}]
[null,null,null,null,null,null,null,null,null,null,null,null,null,null,{"$f":"'RAINFALL DATA'!H198","v":"N/A"},{"$f":"'RAINFALL DATA'!I198","v":"N/A"},{"$f":"'RAINFALL DATA'!J198","v":"N/A"},{"$f":"'RAINFALL DATA'!K198","v":"N/A"},{"$f":"'RAINFALL DATA'!L198","v":"N/A"},{"$f":"'RAINFALL DATA'!M198","v":"N/A"},{"$f":"'RAINFALL DATA'!N198","v":"N/A"},{"$f":"'RAINFALL DATA'!O198","v":"N/A"},{"$f":"'RAINFALL DATA'!P198","v":"N/A"},{"$f":"'RAINFALL DATA'!Q198","v":"N/A"},{"$f":"'RAINFALL DATA'!R198","v":"N/A"},{"$f":"'RAINFALL DATA'!S198","v":"N/A"}]
[null,null,null,null,null,null,null,null,null,null,null,null,null,null,{"$f":"'RAINFALL DATA'!H199","v":"N/A"},{"$f":"'RAINFALL DATA'!I199","v":"N/A"},{"$f":"'RAINFALL DATA'!J199","v":"N/A"},{"$f":"'RAINFALL DATA'!K199","v":"N/A"},{"$f":"'RAINFALL DATA'!L199","v":"N/A"},{"$f":"'RAINFALL DATA'!M199","v":"N/A"},{"$f":"'RAINFALL DATA'!N199","v":"N/A"},{"$f":"'RAINFALL DATA'!O199","v":"N/A"},{"$f":"'RAINFALL DATA'!P199","v":"N/A"},{"$f":"'RAINFALL DATA'!Q199","v":"N/A"},{"$f":"'RAINFALL DATA'!R199","v":"N/A"},{"$f":"'RAINFALL DATA'!S199","v":"N/A"}]
[null,null,null,null,null,null,null,null,null,null,null,null,null,null,{"$f":"'RAINFALL DATA'!H200","v":"N/A"},{"$f":"'RAINFALL DATA'!I200","v":"N/A"},{"$f":"'RAINFALL DATA'!J200","v":"N/A"},{"$f":"'RAINFALL DATA'!K200","v":"N/A"},{"$f":"'RAINFALL DATA'!L200","v":"N/A"},{"$f":"'RAINFALL DATA'!M200","v":"N/A"},{"$f":"'RAINFALL DATA'!N200","v":"N/A"},{"$f":"'RAINFALL DATA'!O200","v":"N/A"},{"$f":"'RAINFALL DATA'!P200","v":"N/A"},{"$f":"'RAINFALL DATA'!Q200","v":"N/A"},{"$f":"'RAINFALL DATA'!R200","v":"N/A"},{"$f":"'RAINFALL DATA'!S200","v":"N/A"}]
[null,null,null,null,null,null,null,null,null,null,null,null,null,null,{"$f":"'RAINFALL DATA'!H201","v":"N/A"},{"$f":"'RAINFALL DATA'!I201","v":"N/A"},{"$f":"'RAINFALL DATA'!J201","v":"N/A"},{"$f":"'RAINFALL DATA'!K201","v":"N/A"},{"$f":"'RAINFALL DATA'!L201","v":"N/A"},{"$f":"'RAINFALL DATA'!M201","v":"N/A"},{"$f":"'RAINFALL DATA'!N201","v":"N/A"},{"$f":"'RAINFALL DATA'!O201","v":"N/A"},{"$f":"'RAINFALL DATA'!P201","v":"N/A"},{"$f":"'RAINFALL DATA'!Q201","v":"N/A"},{"$f":"'RAINFALL DATA'!R201","v":"N/A"},{"$f":"'RAINFALL DATA'!S201","v":"N/A"}]
[null,null,null,null,null,null,null,null,null,null,null,null,null,null,{"$f":"'RAINFALL DATA'!H202","v":"N/A"},{"$f":"'RAINFALL DATA'!I202","v":"N/A"},{"$f":"'RAINFALL DATA'!J202","v":"N/A"},{"$f":"'RAINFALL DATA'!K202","v":"N/A"},{"$f":"'RAINFALL DATA'!L202","v":"N/A"},{"$f":"'RAINFALL DATA'!M202","v":"N/A"},{"$f":"'RAINFALL DATA'!N202","v":"N/A"},{"$f":"'RAINFALL DATA'!O202","v":"N/A"},{"$f":"'RAINFALL DATA'!P202","v":"N/A"},{"$f":"'RAINFALL DATA'!Q202","v":"N/A"},{"$f":"'RAINFALL DATA'!R202","v":"N/A"},{"$f":"'RAINFALL DATA'!S202","v":"N/A"}]
[null,null,null,null,null,null,null,null,null,null,null,null,null,null,{"$f":"'RAINFALL DATA'!H203","v":"N/A"},{"$f":"'RAINFALL DATA'!I203","v":"N/A"},{"$f":"'RAINFALL DATA'!J203","v":"N/A"},{"$f":"'RAINFALL DATA'!K203","v":"N/A"},{"$f":"'RAINFALL DATA'!L203","v":"N/A"},{"$f":"'RAINFALL DATA'!M203","v":"N/A"},{"$f":"'RAINFALL DATA'!N203","v":"N/A"},{"$f":"'RAINFALL DATA'!O203","v":"N/A"},{"$f":"'RAINFALL DATA'!P203","v":"N/A"},{"$f":"'RAINFALL DATA'!Q203","v":"N/A"},{"$f":"'RAINFALL DATA'!R203","v":"N/A"},{"$f":"'RAINFALL DATA'!S203","v":"N/A"}]
[null,null,null,null,null,null,null,null,null,null,null,null,null,null,{"$f":"'RAINFALL DATA'!H204","v":"N/A"},{"$f":"'RAINFALL DATA'!I204","v":"N/A"},{"$f":"'RAINFALL DATA'!J204","v":"N/A"},{"$f":"'RAINFALL DATA'!K204","v":"N/A"},{"$f":"'RAINFALL DATA'!L204","v":"N/A"},{"$f":"'RAINFALL DATA'!M204","v":"N/A"},{"$f":"'RAINFALL DATA'!N204","v":"N/A"},{"$f":"'RAINFALL DATA'!O204","v":"N/A"},{"$f":"'RAINFALL DATA'!P204","v":"N/A"},{"$f":"'RAINFALL DATA'!Q204","v":"N/A"},{"$f":"'RAINFALL DATA'!R204","v":"N/A"},{"$f":"'RAINFALL DATA'!S204","v":"N/A"}]
[null,null,null,null,null,null,null,null,null,null,null,null,null,null,{"$f":"'RAINFALL DATA'!H205","v":"N/A"},{"$f":"'RAINFALL DATA'!I205","v":"N/A"},{"$f":"'RAINFALL DATA'!J205","v":"N/A"},{"$f":"'RAINFALL DATA'!K205","v":"N/A"},{"$f":"'RAINFALL DATA'!L205","v":"N/A"},{"$f":"'RAINFALL DATA'!M205","v":"N/A"},{"$f":"'RAINFALL DATA'!N205","v":"N/A"},{"$f":"'RAINFALL DATA'!O205","v":"N/A"},{"$f":"'RAINFALL DATA'!P205","v":"N/A"},{"$f":"'RAINFALL DATA'!Q205","v":"N/A"},{"$f":"'RAINFALL DATA'!R205","v":"N/A"},{"$f":"'RAINFALL DATA'!S205","v":"N/A"}]
[null,null,null,null,null,null,null,null,null,null,null,null,null,null,{"$f":"'RAINFALL DATA'!H206","v":"N/A"},{"$f":"'RAINFALL DATA'!I206","v":"N/A"},{"$f":"'RAINFALL DATA'!J206","v":"N/A"},{"$f":"'RAINFALL DATA'!K206","v":"N/A"},{"$f":"'RAINFALL DATA'!L206","v":"N/A"},{"$f":"'RAINFALL DATA'!M206","v":"N/A"},{"$f":"'RAINFALL DATA'!N206","v":"N/A"},{"$f":"'RAINFALL DATA'!O206","v":"N/A"},{"$f":"'RAINFALL DATA'!P206","v":"N/A"},{"$f":"'RAINFALL DATA'!Q206","v":"N/A"},{"$f":"'RAINFALL DATA'!R206","v":"N/A"},{"$f":"'RAINFALL DATA'!S206","v":"N/A"}]
[null,null,null,null,null,null,null,null,null,null,null,null,null,null,{"$f":"'RAINFALL DATA'!H207","v":"N/A"},{"$f":"'RAINFALL DATA'!I207","v":"N/A"},{"$f":"'RAINFALL DATA'!J207","v":"N/A"},{"$f":"'RAINFALL DATA'!K207","v":"N/A"},{"$f":"'RAINFALL DATA'!L207","v":"N/A"},{"$f":"'RAINFALL DATA'!M207","v":"N/A"},{"$f":"'RAINFALL DATA'!N207","v":"N/A"},{"$f":"'RAINFALL DATA'!O207","v":"N/A"},{"$f":"'RAINFALL DATA'!P207","v":"N/A"},{"$f":"'RAINFALL DATA'!Q207","v":"N/A"},{"$f":"'RAINFALL DATA'!R207","v":"N/A"},{"$f":"'RAINFALL DATA'!S207","v":"N/A"}]
[null,null,null,null,null,null,null,null,null,null,null,null,null,null,{"$f":"'RAINFALL DATA'!H208","v":"N/A"},{"$f":"'RAINFALL DATA'!I208","v":"N/A"},{"$f":"'RAINFALL DATA'!J208","v":"N/A"},{"$f":"'RAINFALL DATA'!K208","v":"N/A"},{"$f":"'RAINFALL DATA'!L208","v":"N/A"},{"$f":"'RAINFALL DATA'!M208","v":"N/A"},{"$f":"'RAINFALL DATA'!N208","v":"N/A"},{"$f":"'RAINFALL DATA'!O208","v":"N/A"},{"$f":"'RAINFALL DATA'!P208","v":"N/A"},{"$f":"'RAINFALL DATA'!Q208","v":"N/A"},{"$f":"'RAINFALL DATA'!R208","v":"N/A"},{"$f":"'RAINFALL DATA'!S208","v":"N/A"}]
[null,null,null,null,null,null,null,null,null,null,null,null,null,null,{"$f":"'RAINFALL DATA'!H209","v":"N/A"},{"$f":"'RAINFALL DATA'!I209","v":"N/A"},{"$f":"'RAINFALL DATA'!J209","v":"N/A"},{"$f":"'RAINFALL DATA'!K209","v":"N/A"},{"$f":"'RAINFALL DATA'!L209","v":"N/A"},{"$f":"'RAINFALL DATA'!M209","v":"N/A"},{"$f":"'RAINFALL DATA'!N209","v":"N/A"},{"$f":"'RAINFALL DATA'!O209","v":"N/A"},{"$f":"'RAINFALL DATA'!P209","v":"N/A"},{"$f":"'RAINFALL DATA'!Q209","v":"N/A"},{"$f":"'RAINFALL DATA'!R209","v":"N/A"},{"$f":"'RAINFALL DATA'!S209","v":"N/A"}]
[null,null,null,null,null,null,null,null,null,null,null,null,null,null,{"$f":"'RAINFALL DATA'!H210","v":"N/A"},{"$f":"'RAINFALL DATA'!I210","v":"N/A"},{"$f":"'RAINFALL DATA'!J210","v":"N/A"},{"$f":"'RAINFALL DATA'!K210","v":"N/A"},{"$f":"'RAINFALL DATA'!L210","v":"N/A"},{"$f":"'RAINFALL DATA'!M210","v":"N/A"},{"$f":"'RAINFALL DATA'!N210","v":"N/A"},{"$f":"'RAINFALL DATA'!O210","v":"N/A"},{"$f":"'RAINFALL DATA'!P210","v":"N/A"},{"$f":"'RAINFALL DATA'!Q210","v":"N/A"},{"$f":"'RAINFALL DATA'!R210","v":"N/A"},{"$f":"'RAINFALL DATA'!S210","v":"N/A"}]
[null,null,null,null,null,null,null,null,null,null,null,null,null,null,{"$f":"'RAINFALL DATA'!H211","v":"N/A"},{"$f":"'RAINFALL DATA'!I211","v":"N/A"},{"$f":"'RAINFALL DATA'!J211","v":"N/A"},{"$f":"'RAINFALL DATA'!K211","v":"N/A"},{"$f":"'RAINFALL DATA'!L211","v":"N/A"},{"$f":"'RAINFALL DATA'!M211","v":"N/A"},{"$f":"'RAINFALL DATA'!N211","v":"N/A"},{"$f":"'RAINFALL DATA'!O211","v":"N/A"},{"$f":"'RAINFALL DATA'!P211","v":"N/A"},{"$f":"'RAINFALL DATA'!Q211","v":"N/A"},{"$f":"'RAINFALL DATA'!R211","v":"N/A"},{"$f":"'RAINFALL DATA'!S211","v":"N/A"}]
[null,null,null,null,null,null,null,null,null,null,null,null,null,null,{"$f":"'RAINFALL DATA'!H212","v":"N/A"},{"$f":"'RAINFALL DATA'!I212","v":"N/A"},{"$f":"'RAINFALL DATA'!J212","v":"N/A"},{"$f":"'RAINFALL DATA'!K212","v":"N/A"},{"$f":"'RAINFALL DATA'!L212","v":"N/A"},{"$f":"'RAINFALL DATA'!M212","v":"N/A"},{"$f":"'RAINFALL DATA'!N212","v":"N/A"},{"$f":"'RAINFALL DATA'!O212","v":"N/A"},{"$f":"'RAINFALL DATA'!P212","v":"N/A"},{"$f":"'RAINFALL DATA'!Q212","v":"N/A"},{"$f":"'RAINFALL DATA'!R212","v":"N/A"},{"$f":"'RAINFALL DATA'!S212","v":"N/A"}]
[null,null,null,null,null,null,null,null,null,null,null,null,null,null,{"$f":"'RAINFALL DATA'!H213","v":"N/A"},{"$f":"'RAINFALL DATA'!I213","v":"N/A"},{"$f":"'RAINFALL DATA'!J213","v":"N/A"},{"$f":"'RAINFALL DATA'!K213","v":"N/A"},{"$f":"'RAINFALL DATA'!L213","v":"N/A"},{"$f":"'RAINFALL DATA'!M213","v":"N/A"},{"$f":"'RAINFALL DATA'!N213","v":"N/A"},{"$f":"'RAINFALL DATA'!O213","v":"N/A"},{"$f":"'RAINFALL DATA'!P213","v":"N/A"},{"$f":"'RAINFALL DATA'!Q213","v":"N/A"},{"$f":"'RAINFALL DATA'!R213","v":"N/A"},{"$f":"'RAINFALL DATA'!S213","v":"N/A"}]
[null,null,null,null,null,null,null,null,null,null,null,null,null,null,{"$f":"'RAINFALL DATA'!H214","v":"N/A"},{"$f":"'RAINFALL DATA'!I214","v":"N/A"},{"$f":"'RAINFALL DATA'!J214","v":"N/A"},{"$f":"'RAINFALL DATA'!K214","v":"N/A"},{"$f":"'RAINFALL DATA'!L214","v":"N/A"},{"$f":"'RAINFALL DATA'!M214","v":"N/A"},{"$f":"'RAINFALL DATA'!N214","v":"N/A"},{"$f":"'RAINFALL DATA'!O214","v":"N/A"},{"$f":"'RAINFALL DATA'!P214","v":"N/A"},{"$f":"'RAINFALL DATA'!Q214","v":"N/A"},{"$f":"'RAINFALL DATA'!R214","v":"N/A"},{"$f":"'RAINFALL DATA'!S214","v":"N/A"}]
[null,null,null,null,null,null,null,null,null,null,null,null,null,null,{"$f":"'RAINFALL DATA'!H215","v":"N/A"},{"$f":"'RAINFALL DATA'!I215","v":"N/A"},{"$f":"'RAINFALL DATA'!J215","v":"N/A"},{"$f":"'RAINFALL DATA'!K215","v":"N/A"},{"$f":"'RAINFALL DATA'!L215","v":"N/A"},{"$f":"'RAINFALL DATA'!M215","v":"N/A"},{"$f":"'RAINFALL DATA'!N215","v":"N/A"},{"$f":"'RAINFALL DATA'!O215","v":"N/A"},{"$f":"'RAINFALL DATA'!P215","v":"N/A"},{"$f":"'RAINFALL DATA'!Q215","v":"N/A"},{"$f":"'RAINFALL DATA'!R215","v":"N/A"},{"$f":"'RAINFALL DATA'!S215","v":"N/A"}]
[null,null,null,null,null,null,null,null,null,null,null,null,null,null,{"$f":"'RAINFALL DATA'!H216","v":"N/A"},{"$f":"'RAINFALL DATA'!I216","v":"N/A"},{"$f":"'RAINFALL DATA'!J216","v":"N/A"},{"$f":"'RAINFALL DATA'!K216","v":"N/A"},{"$f":"'RAINFALL DATA'!L216","v":"N/A"},{"$f":"'RAINFALL DATA'!M216","v":"N/A"},{"$f":"'RAINFALL DATA'!N216","v":"N/A"},{"$f":"'RAINFALL DATA'!O216","v":"N/A"},{"$f":"'RAINFALL DATA'!P216","v":"N/A"},{"$f":"'RAINFALL DATA'!Q216","v":"N/A"},{"$f":"'RAINFALL DATA'!R216","v":"N/A"},{"$f":"'RAINFALL DATA'!S216","v":"N/A"}]
[null,null,null,null,null,null,null,null,null,null,null,null,null,null,{"$f":"'RAINFALL DATA'!H217","v":"N/A"},{"$f":"'RAINFALL DATA'!I217","v":"N/A"},{"$f":"'RAINFALL DATA'!J217","v":"N/A"},{"$f":"'RAINFALL DATA'!K217","v":"N/A"},{"$f":"'RAINFALL DATA'!L217","v":"N/A"},{"$f":"'RAINFALL DATA'!M217","v":"N/A"},{"$f":"'RAINFALL DATA'!N217","v":"N/A"},{"$f":"'RAINFALL DATA'!O217","v":"N/A"},{"$f":"'RAINFALL DATA'!P217","v":"N/A"},{"$f":"'RAINFALL DATA'!Q217","v":"N/A"},{"$f":"'RAINFALL DATA'!R217","v":"N/A"},{"$f":"'RAINFALL DATA'!S217","v":"N/A"}]
[null,null,null,null,null,null,null,null,null,null,null,null,null,null,{"$f":"'RAINFALL DATA'!H218","v":"N/A"},{"$f":"'RAINFALL DATA'!I218","v":"N/A"},{"$f":"'RAINFALL DATA'!J218","v":"N/A"},{"$f":"'RAINFALL DATA'!K218","v":"N/A"},{"$f":"'RAINFALL DATA'!L218","v":"N/A"},{"$f":"'RAINFALL DATA'!M218","v":"N/A"},{"$f":"'RAINFALL DATA'!N218","v":"N/A"},{"$f":"'RAINFALL DATA'!O218","v":"N/A"},{"$f":"'RAINFALL DATA'!P218","v":"N/A"},{"$f":"'RAINFALL DATA'!Q218","v":"N/A"},{"$f":"'RAINFALL DATA'!R218","v":"N/A"},{"$f":"'RAINFALL DATA'!S218","v":"N/A"}]
[null,null,null,null,null,null,null,null,null,null,null,null,null,null,{"$f":"'RAINFALL DATA'!H219","v":"N/A"},{"$f":"'RAINFALL DATA'!I219","v":"N/A"},{"$f":"'RAINFALL DATA'!J219","v":"N/A"},{"$f":"'RAINFALL DATA'!K219","v":"N/A"},{"$f":"'RAINFALL DATA'!L219","v":"N/A"},{"$f":"'RAINFALL DATA'!M219","v":"N/A"},{"$f":"'RAINFALL DATA'!N219","v":"N/A"},{"$f":"'RAINFALL DATA'!O219","v":"N/A"},{"$f":"'RAINFALL DATA'!P219","v":"N/A"},{"$f":"'RAINFALL DATA'!Q219","v":"N/A"},{"$f":"'RAINFALL DATA'!R219","v":"N/A"},{"$f":"'RAINFALL DATA'!S219","v":"N/A"}]
[null,null,null,null,null,null,null,null,null,null,null,null,null,null,{"$f":"'RAINFALL DATA'!H220","v":"N/A"},{"$f":"'RAINFALL DATA'!I220","v":"N/A"},{"$f":"'RAINFALL DATA'!J220","v":"N/A"},{"$f":"'RAINFALL DATA'!K220","v":"N/A"},{"$f":"'RAINFALL DATA'!L220","v":"N/A"},{"$f":"'RAINFALL DATA'!M220","v":"N/A"},{"$f":"'RAINFALL DATA'!N220","v":"N/A"},{"$f":"'RAINFALL DATA'!O220","v":"N/A"},{"$f":"'RAINFALL DATA'!P220","v":"N/A"},{"$f":"'RAINFALL DATA'!Q220","v":"N/A"},{"$f":"'RAINFALL DATA'!R220","v":"N/A"},{"$f":"'RAINFALL DATA'!S220","v":"N/A"}]
[null,null,null,null,null,null,null,null,null,null,null,null,null,null,{"$f":"'RAINFALL DATA'!H221","v":"N/A"},{"$f":"'RAINFALL DATA'!I221","v":"N/A"},{"$f":"'RAINFALL DATA'!J221","v":"N/A"},{"$f":"'RAINFALL DATA'!K221","v":"N/A"},{"$f":"'RAINFALL DATA'!L221","v":"N/A"},{"$f":"'RAINFALL DATA'!M221","v":"N/A"},{"$f":"'RAINFALL DATA'!N221","v":"N/A"},{"$f":"'RAINFALL DATA'!O221","v":"N/A"},{"$f":"'RAINFALL DATA'!P221","v":"N/A"},{"$f":"'RAINFALL DATA'!Q221","v":"N/A"},{"$f":"'RAINFALL DATA'!R221","v":"N/A"},{"$f":"'RAINFALL DATA'!S221","v":"N/A"}]
[null,null,null,null,null,null,null,null,null,null,null,null,null,null,{"$f":"'RAINFALL DATA'!H222","v":"N/A"},{"$f":"'RAINFALL DATA'!I222","v":"N/A"},{"$f":"'RAINFALL DATA'!J222","v":"N/A"},{"$f":"'RAINFALL DATA'!K222","v":"N/A"},{"$f":"'RAINFALL DATA'!L222","v":"N/A"},{"$f":"'RAINFALL DATA'!M222","v":"N/A"},{"$f":"'RAINFALL DATA'!N222","v":"N/A"},{"$f":"'RAINFALL DATA'!O222","v":"N/A"},{"$f":"'RAINFALL DATA'!P222","v":"N/A"},{"$f":"'RAINFALL DATA'!Q222","v":"N/A"},{"$f":"'RAINFALL DATA'!R222","v":"N/A"},{"$f":"'RAINFALL DATA'!S222","v":"N/A"}]
[null,null,null,null,null,null,null,null,null,null,null,null,null,null,{"$f":"'RAINFALL DATA'!H223","v":"N/A"},{"$f":"'RAINFALL DATA'!I223","v":"N/A"},{"$f":"'RAINFALL DATA'!J223","v":"N/A"},{"$f":"'RAINFALL DATA'!K223","v":"N/A"},{"$f":"'RAINFALL DATA'!L223","v":"N/A"},{"$f":"'RAINFALL DATA'!M223","v":"N/A"},{"$f":"'RAINFALL DATA'!N223","v":"N/A"},{"$f":"'RAINFALL DATA'!O223","v":"N/A"},{"$f":"'RAINFALL DATA'!P223","v":"N/A"},{"$f":"'RAINFALL DATA'!Q223","v":"N/A"},{"$f":"'RAINFALL DATA'!R223","v":"N/A"},{"$f":"'RAINFALL DATA'!S223","v":"N/A"}]
[null,null,null,null,null,null,null,null,null,null,null,null,null,null,{"$f":"'RAINFALL DATA'!H224","v":"N/A"},{"$f":"'RAINFALL DATA'!I224","v":"N/A"},{"$f":"'RAINFALL DATA'!J224","v":"N/A"},{"$f":"'RAINFALL DATA'!K224","v":"N/A"},{"$f":"'RAINFALL DATA'!L224","v":"N/A"},{"$f":"'RAINFALL DATA'!M224","v":"N/A"},{"$f":"'RAINFALL DATA'!N224","v":"N/A"},{"$f":"'RAINFALL DATA'!O224","v":"N/A"},{"$f":"'RAINFALL DATA'!P224","v":"N/A"},{"$f":"'RAINFALL DATA'!Q224","v":"N/A"},{"$f":"'RAINFALL DATA'!R224","v":"N/A"},{"$f":"'RAINFALL DATA'!S224","v":"N/A"}]
[null,null,null,null,null,null,null,null,null,null,null,null,null,null,{"$f":"'RAINFALL DATA'!H225","v":"N/A"},{"$f":"'RAINFALL DATA'!I225","v":"N/A"},{"$f":"'RAINFALL DATA'!J225","v":"N/A"},{"$f":"'RAINFALL DATA'!K225","v":"N/A"},{"$f":"'RAINFALL DATA'!L225","v":"N/A"},{"$f":"'RAINFALL DATA'!M225","v":"N/A"},{"$f":"'RAINFALL DATA'!N225","v":"N/A"},{"$f":"'RAINFALL DATA'!O225","v":"N/A"},{"$f":"'RAINFALL DATA'!P225","v":"N/A"},{"$f":"'RAINFALL DATA'!Q225","v":"N/A"},{"$f":"'RAINFALL DATA'!R225","v":"N/A"},{"$f":"'RAINFALL DATA'!S225","v":"N/A"}]
[null,null,null,null,null,null,null,null,null,null,null,null,null,null,{"$f":"'RAINFALL DATA'!H226","v":"N/A"},{"$f":"'RAINFALL DATA'!I226","v":"N/A"},{"$f":"'RAINFALL DATA'!J226","v":"N/A"},{"$f":"'RAINFALL DATA'!K226","v":"N/A"},{"$f":"'RAINFALL DATA'!L226","v":"N/A"},{"$f":"'RAINFALL DATA'!M226","v":"N/A"},{"$f":"'RAINFALL DATA'!N226","v":"N/A"},{"$f":"'RAINFALL DATA'!O226","v":"N/A"},{"$f":"'RAINFALL DATA'!P226","v":"N/A"},{"$f":"'RAINFALL DATA'!Q226","v":"N/A"},{"$f":"'RAINFALL DATA'!R226","v":"N/A"},{"$f":"'RAINFALL DATA'!S226","v":"N/A"}]
[null,null,null,null,null,null,null,null,null,null,null,null,null,null,{"$f":"'RAINFALL DATA'!H227","v":"N/A"},{"$f":"'RAINFALL DATA'!I227","v":"N/A"},{"$f":"'RAINFALL DATA'!J227","v":"N/A"},{"$f":"'RAINFALL DATA'!K227","v":"N/A"},{"$f":"'RAINFALL DATA'!L227","v":"N/A"},{"$f":"'RAINFALL DATA'!M227","v":"N/A"},{"$f":"'RAINFALL DATA'!N227","v":"N/A"},{"$f":"'RAINFALL DATA'!O227","v":"N/A"},{"$f":"'RAINFALL DATA'!P227","v":"N/A"},{"$f":"'RAINFALL DATA'!Q227","v":"N/A"},{"$f":"'RAINFALL DATA'!R227","v":"N/A"},{"$f":"'RAINFALL DATA'!S227","v":"N/A"}]
[null,null,null,null,null,null,null,null,null,null,null,null,null,null,{"$f":"'RAINFALL DATA'!H228","v":"N/A"},{"$f":"'RAINFALL DATA'!I228","v":"N/A"},{"$f":"'RAINFALL DATA'!J228","v":"N/A"},{"$f":"'RAINFALL DATA'!K228","v":"N/A"},{"$f":"'RAINFALL DATA'!L228","v":"N/A"},{"$f":"'RAINFALL DATA'!M228","v":"N/A"},{"$f":"'RAINFALL DATA'!N228","v":"N/A"},{"$f":"'RAINFALL DATA'!O228","v":"N/A"},{"$f":"'RAINFALL DATA'!P228","v":"N/A"},{"$f":"'RAINFALL DATA'!Q228","v":"N/A"},{"$f":"'RAINFALL DATA'!R228","v":"N/A"},{"$f":"'RAINFALL DATA'!S228","v":"N/A"}]
[null,null,null,null,null,null,null,null,null,null,null,null,null,null,{"$f":"'RAINFALL DATA'!H229","v":"N/A"},{"$f":"'RAINFALL DATA'!I229","v":"N/A"},{"$f":"'RAINFALL DATA'!J229","v":"N/A"},{"$f":"'RAINFALL DATA'!K229","v":"N/A"},{"$f":"'RAINFALL DATA'!L229","v":"N/A"},{"$f":"'RAINFALL DATA'!M229","v":"N/A"},{"$f":"'RAINFALL DATA'!N229","v":"N/A"},{"$f":"'RAINFALL DATA'!O229","v":"N/A"},{"$f":"'RAINFALL DATA'!P229","v":"N/A"},{"$f":"'RAINFALL DATA'!Q229","v":"N/A"},{"$f":"'RAINFALL DATA'!R229","v":"N/A"},{"$f":"'RAINFALL DATA'!S229","v":"N/A"}]
[null,null,null,null,null,null,null,null,null,null,null,null,null,null,{"$f":"'RAINFALL DATA'!H230","v":"N/A"},{"$f":"'RAINFALL DATA'!I230","v":"N/A"},{"$f":"'RAINFALL DATA'!J230","v":"N/A"},{"$f":"'RAINFALL DATA'!K230","v":"N/A"},{"$f":"'RAINFALL DATA'!L230","v":"N/A"},{"$f":"'RAINFALL DATA'!M230","v":"N/A"},{"$f":"'RAINFALL DATA'!N230","v":"N/A"},{"$f":"'RAINFALL DATA'!O230","v":"N/A"},{"$f":"'RAINFALL DATA'!P230","v":"N/A"},{"$f":"'RAINFALL DATA'!Q230","v":"N/A"},{"$f":"'RAINFALL DATA'!R230","v":"N/A"},{"$f":"'RAINFALL DATA'!S230","v":"N/A"}]
[null,null,null,null,null,null,null,null,null,null,null,null,null,null,{"$f":"'RAINFALL DATA'!H231","v":"N/A"},{"$f":"'RAINFALL DATA'!I231","v":"N/A"},{"$f":"'RAINFALL DATA'!J231","v":"N/A"},{"$f":"'RAINFALL DATA'!K231","v":"N/A"},{"$f":"'RAINFALL DATA'!L231","v":"N/A"},{"$f":"'RAINFALL DATA'!M231","v":"N/A"},{"$f":"'RAINFALL DATA'!N231","v":"N/A"},{"$f":"'RAINFALL DATA'!O231","v":"N/A"},{"$f":"'RAINFALL DATA'!P231","v":"N/A"},{"$f":"'RAINFALL DATA'!Q231","v":"N/A"},{"$f":"'RAINFALL DATA'!R231","v":"N/A"},{"$f":"'RAINFALL DATA'!S231","v":"N/A"}]
[null,null,null,null,null,null,null,null,null,null,null,null,null,null,{"$f":"'RAINFALL DATA'!H232","v":"N/A"},{"$f":"'RAINFALL DATA'!I232","v":"N/A"},{"$f":"'RAINFALL DATA'!J232","v":"N/A"},{"$f":"'RAINFALL DATA'!K232","v":"N/A"},{"$f":"'RAINFALL DATA'!L232","v":"N/A"},{"$f":"'RAINFALL DATA'!M232","v":"N/A"},{"$f":"'RAINFALL DATA'!N232","v":"N/A"},{"$f":"'RAINFALL DATA'!O232","v":"N/A"},{"$f":"'RAINFALL DATA'!P232","v":"N/A"},{"$f":"'RAINFALL DATA'!Q232","v":"N/A"},{"$f":"'RAINFALL DATA'!R232","v":"N/A"},{"$f":"'RAINFALL DATA'!S232","v":"N/A"}]
[null,null,null,null,null,null,null,null,null,null,null,null,null,null,{"$f":"'RAINFALL DATA'!H233","v":"N/A"},{"$f":"'RAINFALL DATA'!I233","v":"N/A"},{"$f":"'RAINFALL DATA'!J233","v":"N/A"},{"$f":"'RAINFALL DATA'!K233","v":"N/A"},{"$f":"'RAINFALL DATA'!L233","v":"N/A"},{"$f":"'RAINFALL DATA'!M233","v":"N/A"},{"$f":"'RAINFALL DATA'!N233","v":"N/A"},{"$f":"'RAINFALL DATA'!O233","v":"N/A"},{"$f":"'RAINFALL DATA'!P233","v":"N/A"},{"$f":"'RAINFALL DATA'!Q233","v":"N/A"},{"$f":"'RAINFALL DATA'!R233","v":"N/A"},{"$f":"'RAINFALL DATA'!S233","v":"N/A"}]
[null,null,null,null,null,null,null,null,null,null,null,null,null,null,{"$f":"'RAINFALL DATA'!H234","v":"N/A"},{"$f":"'RAINFALL DATA'!I234","v":"N/A"},{"$f":"'RAINFALL DATA'!J234","v":"N/A"},{"$f":"'RAINFALL DATA'!K234","v":"N/A"},{"$f":"'RAINFALL DATA'!L234","v":"N/A"},{"$f":"'RAINFALL DATA'!M234","v":"N/A"},{"$f":"'RAINFALL DATA'!N234","v":"N/A"},{"$f":"'RAINFALL DATA'!O234","v":"N/A"},{"$f":"'RAINFALL DATA'!P234","v":"N/A"},{"$f":"'RAINFALL DATA'!Q234","v":"N/A"},{"$f":"'RAINFALL DATA'!R234","v":"N/A"},{"$f":"'RAINFALL DATA'!S234","v":"N/A"}]
[null,null,null,null,null,null,null,null,null,null,null,null,null,null,{"$f":"'RAINFALL DATA'!H235","v":"N/A"},{"$f":"'RAINFALL DATA'!I235","v":"N/A"},{"$f":"'RAINFALL DATA'!J235","v":"N/A"},{"$f":"'RAINFALL DATA'!K235","v":"N/A"},{"$f":"'RAINFALL DATA'!L235","v":"N/A"},{"$f":"'RAINFALL DATA'!M235","v":"N/A"},{"$f":"'RAINFALL DATA'!N235","v":"N/A"},{"$f":"'RAINFALL DATA'!O235","v":"N/A"},{"$f":"'RAINFALL DATA'!P235","v":"N/A"},{"$f":"'RAINFALL DATA'!Q235","v":"N/A"},{"$f":"'RAINFALL DATA'!R235","v":"N/A"},{"$f":"'RAINFALL DATA'!S235","v":"N/A"}]
[null,null,null,null,null,null,null,null,null,null,null,null,null,null,{"$f":"'RAINFALL DATA'!H236","v":"N/A"},{"$f":"'RAINFALL DATA'!I236","v":"N/A"},{"$f":"'RAINFALL DATA'!J236","v":"N/A"},{"$f":"'RAINFALL DATA'!K236","v":"N/A"},{"$f":"'RAINFALL DATA'!L236","v":"N/A"},{"$f":"'RAINFALL DATA'!M236","v":"N/A"},{"$f":"'RAINFALL DATA'!N236","v":"N/A"},{"$f":"'RAINFALL DATA'!O236","v":"N/A"},{"$f":"'RAINFALL DATA'!P236","v":"N/A"},{"$f":"'RAINFALL DATA'!Q236","v":"N/A"},{"$f":"'RAINFALL DATA'!R236","v":"N/A"},{"$f":"'RAINFALL DATA'!S236","v":"N/A"}]
[null,null,null,null,null,null,null,null,null,null,null,null,null,null,{"$f":"'RAINFALL DATA'!H237","v":"N/A"},{"$f":"'RAINFALL DATA'!I237","v":"N/A"},{"$f":"'RAINFALL DATA'!J237","v":"N/A"},{"$f":"'RAINFALL DATA'!K237","v":"N/A"},{"$f":"'RAINFALL DATA'!L237","v":"N/A"},{"$f":"'RAINFALL DATA'!M237","v":"N/A"},{"$f":"'RAINFALL DATA'!N237","v":"N/A"},{"$f":"'RAINFALL DATA'!O237","v":"N/A"},{"$f":"'RAINFALL DATA'!P237","v":"N/A"},{"$f":"'RAINFALL DATA'!Q237","v":"N/A"},{"$f":"'RAINFALL DATA'!R237","v":"N/A"},{"$f":"'RAINFALL DATA'!S237","v":"N/A"}]
[null,null,null,null,null,null,null,null,null,null,null,null,null,null,{"$f":"'RAINFALL DATA'!H238","v":"N/A"},{"$f":"'RAINFALL DATA'!I238","v":"N/A"},{"$f":"'RAINFALL DATA'!J238","v":"N/A"},{"$f":"'RAINFALL DATA'!K238","v":"N/A"},{"$f":"'RAINFALL DATA'!L238","v":"N/A"},{"$f":"'RAINFALL DATA'!M238","v":"N/A"},{"$f":"'RAINFALL DATA'!N238","v":"N/A"},{"$f":"'RAINFALL DATA'!O238","v":"N/A"},{"$f":"'RAINFALL DATA'!P238","v":"N/A"},{"$f":"'RAINFALL DATA'!Q238","v":"N/A"},{"$f":"'RAINFALL DATA'!R238","v":"N/A"},{"$f":"'RAINFALL DATA'!S238","v":"N/A"}]
[null,null,null,null,null,null,null,null,null,null,null,null,null,null,{"$f":"'RAINFALL DATA'!H239","v":"N/A"},{"$f":"'RAINFALL DATA'!I239","v":"N/A"},{"$f":"'RAINFALL DATA'!J239","v":"N/A"},{"$f":"'RAINFALL DATA'!K239","v":"N/A"},{"$f":"'RAINFALL DATA'!L239","v":"N/A"},{"$f":"'RAINFALL DATA'!M239","v":"N/A"},{"$f":"'RAINFALL DATA'!N239","v":"N/A"},{"$f":"'RAINFALL DATA'!O239","v":"N/A"},{"$f":"'RAINFALL DATA'!P239","v":"N/A"},{"$f":"'RAINFALL DATA'!Q239","v":"N/A"},{"$f":"'RAINFALL DATA'!R239","v":"N/A"},{"$f":"'RAINFALL DATA'!S239","v":"N/A"}]
[null,null,null,null,null,null,null,null,null,null,null,null,null,null,{"$f":"'RAINFALL DATA'!H240","v":"N/A"},{"$f":"'RAINFALL DATA'!I240","v":"N/A"},{"$f":"'RAINFALL DATA'!J240","v":"N/A"},{"$f":"'RAINFALL DATA'!K240","v":"N/A"},{"$f":"'RAINFALL DATA'!L240","v":"N/A"},{"$f":"'RAINFALL DATA'!M240","v":"N/A"},{"$f":"'RAINFALL DATA'!N240","v":"N/A"},{"$f":"'RAINFALL DATA'!O240","v":"N/A"},{"$f":"'RAINFALL DATA'!P240","v":"N/A"},{"$f":"'RAINFALL DATA'!Q240","v":"N/A"},{"$f":"'RAINFALL DATA'!R240","v":"N/A"},{"$f":"'RAINFALL DATA'!S240","v":"N/A"}]
[null,null,null,null,null,null,null,null,null,null,null,null,null,null,{"$f":"'RAINFALL DATA'!H241","v":"N/A"},{"$f":"'RAINFALL DATA'!I241","v":"N/A"},{"$f":"'RAINFALL DATA'!J241","v":"N/A"},{"$f":"'RAINFALL DATA'!K241","v":"N/A"},{"$f":"'RAINFALL DATA'!L241","v":"N/A"},{"$f":"'RAINFALL DATA'!M241","v":"N/A"},{"$f":"'RAINFALL DATA'!N241","v":"N/A"},{"$f":"'RAINFALL DATA'!O241","v":"N/A"},{"$f":"'RAINFALL DATA'!P241","v":"N/A"},{"$f":"'RAINFALL DATA'!Q241","v":"N/A"},{"$f":"'RAINFALL DATA'!R241","v":"N/A"},{"$f":"'RAINFALL DATA'!S241","v":"N/A"}]
[null,null,null,null,null,null,null,null,null,null,null,null,null,null,{"$f":"'RAINFALL DATA'!H242","v":"N/A"},{"$f":"'RAINFALL DATA'!I242","v":"N/A"},{"$f":"'RAINFALL DATA'!J242","v":"N/A"},{"$f":"'RAINFALL DATA'!K242","v":"N/A"},{"$f":"'RAINFALL DATA'!L242","v":"N/A"},{"$f":"'RAINFALL DATA'!M242","v":"N/A"},{"$f":"'RAINFALL DATA'!N242","v":"N/A"},{"$f":"'RAINFALL DATA'!O242","v":"N/A"},{"$f":"'RAINFALL DATA'!P242","v":"N/A"},{"$f":"'RAINFALL DATA'!Q242","v":"N/A"},{"$f":"'RAINFALL DATA'!R242","v":"N/A"},{"$f":"'RAINFALL DATA'!S242","v":"N/A"}]
[null,null,null,null,null,null,null,null,null,null,null,null,null,null,{"$f":"'RAINFALL DATA'!H243","v":"N/A"},{"$f":"'RAINFALL DATA'!I243","v":"N/A"},{"$f":"'RAINFALL DATA'!J243","v":"N/A"},{"$f":"'RAINFALL DATA'!K243","v":"N/A"},{"$f":"'RAINFALL DATA'!L243","v":"N/A"},{"$f":"'RAINFALL DATA'!M243","v":"N/A"},{"$f":"'RAINFALL DATA'!N243","v":"N/A"},{"$f":"'RAINFALL DATA'!O243","v":"N/A"},{"$f":"'RAINFALL DATA'!P243","v":"N/A"},{"$f":"'RAINFALL DATA'!Q243","v":"N/A"},{"$f":"'RAINFALL DATA'!R243","v":"N/A"},{"$f":"'RAINFALL DATA'!S243","v":"N/A"}]
[null,null,null,null,null,null,null,null,null,null,null,null,null,null,{"$f":"'RAINFALL DATA'!H244","v":"N/A"},{"$f":"'RAINFALL DATA'!I244","v":"N/A"},{"$f":"'RAINFALL DATA'!J244","v":"N/A"},{"$f":"'RAINFALL DATA'!K244","v":"N/A"},{"$f":"'RAINFALL DATA'!L244","v":"N/A"},{"$f":"'RAINFALL DATA'!M244","v":"N/A"},{"$f":"'RAINFALL DATA'!N244","v":"N/A"},{"$f":"'RAINFALL DATA'!O244","v":"N/A"},{"$f":"'RAINFALL DATA'!P244","v":"N/A"},{"$f":"'RAINFALL DATA'!Q244","v":"N/A"},{"$f":"'RAINFALL DATA'!R244","v":"N/A"},{"$f":"'RAINFALL DATA'!S244","v":"N/A"}]
[null,null,null,null,null,null,null,null,null,null,null,null,null,null,{"$f":"'RAINFALL DATA'!H245","v":"N/A"},{"$f":"'RAINFALL DATA'!I245","v":"N/A"},{"$f":"'RAINFALL DATA'!J245","v":"N/A"},{"$f":"'RAINFALL DATA'!K245","v":"N/A"},{"$f":"'RAINFALL DATA'!L245","v":"N/A"},{"$f":"'RAINFALL DATA'!M245","v":"N/A"},{"$f":"'RAINFALL DATA'!N245","v":"N/A"},{"$f":"'RAINFALL DATA'!O245","v":"N/A"},{"$f":"'RAINFALL DATA'!P245","v":"N/A"},{"$f":"'RAINFALL DATA'!Q245","v":"N/A"},{"$f":"'RAINFALL DATA'!R245","v":"N/A"},{"$f":"'RAINFALL DATA'!S245","v":"N/A"}]
[null,null,null,null,null,null,null,null,null,null,null,null,null,null,{"$f":"'RAINFALL DATA'!H246","v":"N/A"},{"$f":"'RAINFALL DATA'!I246","v":"N/A"},{"$f":"'RAINFALL DATA'!J246","v":"N/A"},{"$f":"'RAINFALL DATA'!K246","v":"N/A"},{"$f":"'RAINFALL DATA'!L246","v":"N/A"},{"$f":"'RAINFALL DATA'!M246","v":"N/A"},{"$f":"'RAINFALL DATA'!N246","v":"N/A"},{"$f":"'RAINFALL DATA'!O246","v":"N/A"},{"$f":"'RAINFALL DATA'!P246","v":"N/A"},{"$f":"'RAINFALL DATA'!Q246","v":"N/A"},{"$f":"'RAINFALL DATA'!R246","v":"N/A"},{"$f":"'RAINFALL DATA'!S246","v":"N/A"}]
[null,null,null,null,null,null,null,null,null,null,null,null,null,null,{"$f":"'RAINFALL DATA'!H247","v":"N/A"},{"$f":"'RAINFALL DATA'!I247","v":"N/A"},{"$f":"'RAINFALL DATA'!J247","v":"N/A"},{"$f":"'RAINFALL DATA'!K247","v":"N/A"},{"$f":"'RAINFALL DATA'!L247","v":"N/A"},{"$f":"'RAINFALL DATA'!M247","v":"N/A"},{"$f":"'RAINFALL DATA'!N247","v":"N/A"},{"$f":"'RAINFALL DATA'!O247","v":"N/A"},{"$f":"'RAINFALL DATA'!P247","v":"N/A"},{"$f":"'RAINFALL DATA'!Q247","v":"N/A"},{"$f":"'RAINFALL DATA'!R247","v":"N/A"},{"$f":"'RAINFALL DATA'!S247","v":"N/A"}]
[null,null,null,null,null,null,null,null,null,null,null,null,null,null,{"$f":"'RAINFALL DATA'!H248","v":"N/A"},{"$f":"'RAINFALL DATA'!I248","v":"N/A"},{"$f":"'RAINFALL DATA'!J248","v":"N/A"},{"$f":"'RAINFALL DATA'!K248","v":"N/A"},{"$f":"'RAINFALL DATA'!L248","v":"N/A"},{"$f":"'RAINFALL DATA'!M248","v":"N/A"},{"$f":"'RAINFALL DATA'!N248","v":"N/A"},{"$f":"'RAINFALL DATA'!O248","v":"N/A"},{"$f":"'RAINFALL DATA'!P248","v":"N/A"},{"$f":"'RAINFALL DATA'!Q248","v":"N/A"},{"$f":"'RAINFALL DATA'!R248","v":"N/A"},{"$f":"'RAINFALL DATA'!S248","v":"N/A"}]
[null,null,null,null,null,null,null,null,null,null,null,null,null,null,{"$f":"'RAINFALL DATA'!H249","v":"N/A"},{"$f":"'RAINFALL DATA'!I249","v":"N/A"},{"$f":"'RAINFALL DATA'!J249","v":"N/A"},{"$f":"'RAINFALL DATA'!K249","v":"N/A"},{"$f":"'RAINFALL DATA'!L249","v":"N/A"},{"$f":"'RAINFALL DATA'!M249","v":"N/A"},{"$f":"'RAINFALL DATA'!N249","v":"N/A"},{"$f":"'RAINFALL DATA'!O249","v":"N/A"},{"$f":"'RAINFALL DATA'!P249","v":"N/A"},{"$f":"'RAINFALL DATA'!Q249","v":"N/A"},{"$f":"'RAINFALL DATA'!R249","v":"N/A"},{"$f":"'RAINFALL DATA'!S249","v":"N/A"}]
[null,null,null,null,null,null,null,null,null,null,null,null,null,null,{"$f":"'RAINFALL DATA'!H250","v":"N/A"},{"$f":"'RAINFALL DATA'!I250","v":"N/A"},{"$f":"'RAINFALL DATA'!J250","v":"N/A"},{"$f":"'RAINFALL DATA'!K250","v":"N/A"},{"$f":"'RAINFALL DATA'!L250","v":"N/A"},{"$f":"'RAINFALL DATA'!M250","v":"N/A"},{"$f":"'RAINFALL DATA'!N250","v":"N/A"},{"$f":"'RAINFALL DATA'!O250","v":"N/A"},{"$f":"'RAINFALL DATA'!P250","v":"N/A"},{"$f":"'RAINFALL DATA'!Q250","v":"N/A"},{"$f":"'RAINFALL DATA'!R250","v":"N/A"},{"$f":"'RAINFALL DATA'!S250","v":"N/A"}]
[null,null,null,null,null,null,null,null,null,null,null,null,null,null,{"$f":"'RAINFALL DATA'!H251","v":"N/A"},{"$f":"'RAINFALL DATA'!I251","v":"N/A"},{"$f":"'RAINFALL DATA'!J251","v":"N/A"},{"$f":"'RAINFALL DATA'!K251","v":"N/A"},{"$f":"'RAINFALL DATA'!L251","v":"N/A"},{"$f":"'RAINFALL DATA'!M251","v":"N/A"},{"$f":"'RAINFALL DATA'!N251","v":"N/A"},{"$f":"'RAINFALL DATA'!O251","v":"N/A"},{"$f":"'RAINFALL DATA'!P251","v":"N/A"},{"$f":"'RAINFALL DATA'!Q251","v":"N/A"},{"$f":"'RAINFALL DATA'!R251","v":"N/A"},{"$f":"'RAINFALL DATA'!S251","v":"N/A"}]
[null,null,null,null,null,null,null,null,null,null,null,null,null,null,{"$f":"'RAINFALL DATA'!H252","v":"N/A"},{"$f":"'RAINFALL DATA'!I252","v":"N/A"},{"$f":"'RAINFALL DATA'!J252","v":"N/A"},{"$f":"'RAINFALL DATA'!K252","v":"N/A"},{"$f":"'RAINFALL DATA'!L252","v":"N/A"},{"$f":"'RAINFALL DATA'!M252","v":"N/A"},{"$f":"'RAINFALL DATA'!N252","v":"N/A"},{"$f":"'RAINFALL DATA'!O252","v":"N/A"},{"$f":"'RAINFALL DATA'!P252","v":"N/A"},{"$f":"'RAINFALL DATA'!Q252","v":"N/A"},{"$f":"'RAINFALL DATA'!R252","v":"N/A"},{"$f":"'RAINFALL DATA'!S252","v":"N/A"}]
[null,null,null,null,null,null,null,null,null,null,null,null,null,null,{"$f":"'RAINFALL DATA'!H253","v":"N/A"},{"$f":"'RAINFALL DATA'!I253","v":"N/A"},{"$f":"'RAINFALL DATA'!J253","v":"N/A"},{"$f":"'RAINFALL DATA'!K253","v":"N/A"},{"$f":"'RAINFALL DATA'!L253","v":"N/A"},{"$f":"'RAINFALL DATA'!M253","v":"N/A"},{"$f":"'RAINFALL DATA'!N253","v":"N/A"},{"$f":"'RAINFALL DATA'!O253","v":"N/A"},{"$f":"'RAINFALL DATA'!P253","v":"N/A"},{"$f":"'RAINFALL DATA'!Q253","v":"N/A"},{"$f":"'RAINFALL DATA'!R253","v":"N/A"},{"$f":"'RAINFALL DATA'!S253","v":"N/A"}]
[null,null,null,null,null,null,null,null,null,null,null,null,null,null,{"$f":"'RAINFALL DATA'!H254","v":"N/A"},{"$f":"'RAINFALL DATA'!I254","v":"N/A"},{"$f":"'RAINFALL DATA'!J254","v":"N/A"},{"$f":"'RAINFALL DATA'!K254","v":"N/A"},{"$f":"'RAINFALL DATA'!L254","v":"N/A"},{"$f":"'RAINFALL DATA'!M254","v":"N/A"},{"$f":"'RAINFALL DATA'!N254","v":"N/A"},{"$f":"'RAINFALL DATA'!O254","v":"N/A"},{"$f":"'RAINFALL DATA'!P254","v":"N/A"},{"$f":"'RAINFALL DATA'!Q254","v":"N/A"},{"$f":"'RAINFALL DATA'!R254","v":"N/A"},{"$f":"'RAINFALL DATA'!S254","v":"N/A"}]
[null,null,null,null,null,null,null,null,null,null,null,null,null,null,{"$f":"'RAINFALL DATA'!H255","v":"N/A"},{"$f":"'RAINFALL DATA'!I255","v":"N/A"},{"$f":"'RAINFALL DATA'!J255","v":"N/A"},{"$f":"'RAINFALL DATA'!K255","v":"N/A"},{"$f":"'RAINFALL DATA'!L255","v":"N/A"},{"$f":"'RAINFALL DATA'!M255","v":"N/A"},{"$f":"'RAINFALL DATA'!N255","v":"N/A"},{"$f":"'RAINFALL DATA'!O255","v":"N/A"},{"$f":"'RAINFALL DATA'!P255","v":"N/A"},{"$f":"'RAINFALL DATA'!Q255","v":"N/A"},{"$f":"'RAINFALL DATA'!R255","v":"N/A"},{"$f":"'RAINFALL DATA'!S255","v":"N/A"}]
[null,null,null,null,null,null,null,null,null,null,null,null,null,null,{"$f":"'RAINFALL DATA'!H256","v":"N/A"},{"$f":"'RAINFALL DATA'!I256","v":"N/A"},{"$f":"'RAINFALL DATA'!J256","v":"N/A"},{"$f":"'RAINFALL DATA'!K256","v":"N/A"},{"$f":"'RAINFALL DATA'!L256","v":"N/A"},{"$f":"'RAINFALL DATA'!M256","v":"N/A"},{"$f":"'RAINFALL DATA'!N256","v":"N/A"},{"$f":"'RAINFALL DATA'!O256","v":"N/A"},{"$f":"'RAINFALL DATA'!P256","v":"N/A"},{"$f":"'RAINFALL DATA'!Q256","v":"N/A"},{"$f":"'RAINFALL DATA'!R256","v":"N/A"},{"$f":"'RAINFALL DATA'!S256","v":"N/A"}]
[null,null,null,null,null,null,null,null,null,null,null,null,null,null,{"$f":"'RAINFALL DATA'!H257","v":"N/A"},{"$f":"'RAINFALL DATA'!I257","v":"N/A"},{"$f":"'RAINFALL DATA'!J257","v":"N/A"},{"$f":"'RAINFALL DATA'!K257","v":"N/A"},{"$f":"'RAINFALL DATA'!L257","v":"N/A"},{"$f":"'RAINFALL DATA'!M257","v":"N/A"},{"$f":"'RAINFALL DATA'!N257","v":"N/A"},{"$f":"'RAINFALL DATA'!O257","v":"N/A"},{"$f":"'RAINFALL DATA'!P257","v":"N/A"},{"$f":"'RAINFALL DATA'!Q257","v":"N/A"},{"$f":"'RAINFALL DATA'!R257","v":"N/A"},{"$f":"'RAINFALL DATA'!S257","v":"N/A"}]
[null,null,null,null,null,null,null,null,null,null,null,null,null,null,{"$f":"'RAINFALL DATA'!H258","v":"N/A"},{"$f":"'RAINFALL DATA'!I258","v":"N/A"},{"$f":"'RAINFALL DATA'!J258","v":"N/A"},{"$f":"'RAINFALL DATA'!K258","v":"N/A"},{"$f":"'RAINFALL DATA'!L258","v":"N/A"},{"$f":"'RAINFALL DATA'!M258","v":"N/A"},{"$f":"'RAINFALL DATA'!N258","v":"N/A"},{"$f":"'RAINFALL DATA'!O258","v":"N/A"},{"$f":"'RAINFALL DATA'!P258","v":"N/A"},{"$f":"'RAINFALL DATA'!Q258","v":"N/A"},{"$f":"'RAINFALL DATA'!R258","v":"N/A"},{"$f":"'RAINFALL DATA'!S258","v":"N/A"}]
[null,null,null,null,null,null,null,null,null,null,null,null,null,null,{"$f":"'RAINFALL DATA'!H259","v":"N/A"},{"$f":"'RAINFALL DATA'!I259","v":"N/A"},{"$f":"'RAINFALL DATA'!J259","v":"N/A"},{"$f":"'RAINFALL DATA'!K259","v":"N/A"},{"$f":"'RAINFALL DATA'!L259","v":"N/A"},{"$f":"'RAINFALL DATA'!M259","v":"N/A"},{"$f":"'RAINFALL DATA'!N259","v":"N/A"},{"$f":"'RAINFALL DATA'!O259","v":"N/A"},{"$f":"'RAINFALL DATA'!P259","v":"N/A"},{"$f":"'RAINFALL DATA'!Q259","v":"N/A"},{"$f":"'RAINFALL DATA'!R259","v":"N/A"},{"$f":"'RAINFALL DATA'!S259","v":"N/A"}]
[null,null,null,null,null,null,null,null,null,null,null,null,null,null,{"$f":"'RAINFALL DATA'!H260","v":"N/A"},{"$f":"'RAINFALL DATA'!I260","v":"N/A"},{"$f":"'RAINFALL DATA'!J260","v":"N/A"},{"$f":"'RAINFALL DATA'!K260","v":"N/A"},{"$f":"'RAINFALL DATA'!L260","v":"N/A"},{"$f":"'RAINFALL DATA'!M260","v":"N/A"},{"$f":"'RAINFALL DATA'!N260","v":"N/A"},{"$f":"'RAINFALL DATA'!O260","v":"N/A"},{"$f":"'RAINFALL DATA'!P260","v":"N/A"},{"$f":"'RAINFALL DATA'!Q260","v":"N/A"},{"$f":"'RAINFALL DATA'!R260","v":"N/A"},{"$f":"'RAINFALL DATA'!S260","v":"N/A"}]
[null,null,null,null,null,null,null,null,null,null,null,null,null,null,{"$f":"'RAINFALL DATA'!H261","v":"N/A"},{"$f":"'RAINFALL DATA'!I261","v":"N/A"},{"$f":"'RAINFALL DATA'!J261","v":"N/A"},{"$f":"'RAINFALL DATA'!K261","v":"N/A"},{"$f":"'RAINFALL DATA'!L261","v":"N/A"},{"$f":"'RAINFALL DATA'!M261","v":"N/A"},{"$f":"'RAINFALL DATA'!N261","v":"N/A"},{"$f":"'RAINFALL DATA'!O261","v":"N/A"},{"$f":"'RAINFALL DATA'!P261","v":"N/A"},{"$f":"'RAINFALL DATA'!Q261","v":"N/A"},{"$f":"'RAINFALL DATA'!R261","v":"N/A"},{"$f":"'RAINFALL DATA'!S261","v":"N/A"}]
[null,null,null,null,null,null,null,null,null,null,null,null,null,null,{"$f":"'RAINFALL DATA'!H262","v":"N/A"},{"$f":"'RAINFALL DATA'!I262","v":"N/A"},{"$f":"'RAINFALL DATA'!J262","v":"N/A"},{"$f":"'RAINFALL DATA'!K262","v":"N/A"},{"$f":"'RAINFALL DATA'!L262","v":"N/A"},{"$f":"'RAINFALL DATA'!M262","v":"N/A"},{"$f":"'RAINFALL DATA'!N262","v":"N/A"},{"$f":"'RAINFALL DATA'!O262","v":"N/A"},{"$f":"'RAINFALL DATA'!P262","v":"N/A"},{"$f":"'RAINFALL DATA'!Q262","v":"N/A"},{"$f":"'RAINFALL DATA'!R262","v":"N/A"},{"$f":"'RAINFALL DATA'!S262","v":"N/A"}]
[null,null,null,null,null,null,null,null,null,null,null,null,null,null,{"$f":"'RAINFALL DATA'!H263","v":"N/A"},{"$f":"'RAINFALL DATA'!I263","v":"N/A"},{"$f":"'RAINFALL DATA'!J263","v":"N/A"},{"$f":"'RAINFALL DATA'!K263","v":"N/A"},{"$f":"'RAINFALL DATA'!L263","v":"N/A"},{"$f":"'RAINFALL DATA'!M263","v":"N/A"},{"$f":"'RAINFALL DATA'!N263","v":"N/A"},{"$f":"'RAINFALL DATA'!O263","v":"N/A"},{"$f":"'RAINFALL DATA'!P263","v":"N/A"},{"$f":"'RAINFALL DATA'!Q263","v":"N/A"},{"$f":"'RAINFALL DATA'!R263","v":"N/A"},{"$f":"'RAINFALL DATA'!S263","v":"N/A"}]
[null,null,null,null,null,null,null,null,null,null,null,null,null,null,{"$f":"'RAINFALL DATA'!H264","v":"N/A"},{"$f":"'RAINFALL DATA'!I264","v":"N/A"},{"$f":"'RAINFALL DATA'!J264","v":"N/A"},{"$f":"'RAINFALL DATA'!K264","v":"N/A"},{"$f":"'RAINFALL DATA'!L264","v":"N/A"},{"$f":"'RAINFALL DATA'!M264","v":"N/A"},{"$f":"'RAINFALL DATA'!N264","v":"N/A"},{"$f":"'RAINFALL DATA'!O264","v":"N/A"},{"$f":"'RAINFALL DATA'!P264","v":"N/A"},{"$f":"'RAINFALL DATA'!Q264","v":"N/A"},{"$f":"'RAINFALL DATA'!R264","v":"N/A"},{"$f":"'RAINFALL DATA'!S264","v":"N/A"}]
[null,null,null,null,null,null,null,null,null,null,null,null,null,null,{"$f":"'RAINFALL DATA'!H265","v":"N/A"},{"$f":"'RAINFALL DATA'!I265","v":"N/A"},{"$f":"'RAINFALL DATA'!J265","v":"N/A"},{"$f":"'RAINFALL DATA'!K265","v":"N/A"},{"$f":"'RAINFALL DATA'!L265","v":"N/A"},{"$f":"'RAINFALL DATA'!M265","v":"N/A"},{"$f":"'RAINFALL DATA'!N265","v":"N/A"},{"$f":"'RAINFALL DATA'!O265","v":"N/A"},{"$f":"'RAINFALL DATA'!P265","v":"N/A"},{"$f":"'RAINFALL DATA'!Q265","v":"N/A"},{"$f":"'RAINFALL DATA'!R265","v":"N/A"},{"$f":"'RAINFALL DATA'!S265","v":"N/A"}]
[null,null,null,null,null,null,null,null,null,null,null,null,null,null,{"$f":"'RAINFALL DATA'!H266","v":"N/A"},{"$f":"'RAINFALL DATA'!I266","v":"N/A"},{"$f":"'RAINFALL DATA'!J266","v":"N/A"},{"$f":"'RAINFALL DATA'!K266","v":"N/A"},{"$f":"'RAINFALL DATA'!L266","v":"N/A"},{"$f":"'RAINFALL DATA'!M266","v":"N/A"},{"$f":"'RAINFALL DATA'!N266","v":"N/A"},{"$f":"'RAINFALL DATA'!O266","v":"N/A"},{"$f":"'RAINFALL DATA'!P266","v":"N/A"},{"$f":"'RAINFALL DATA'!Q266","v":"N/A"},{"$f":"'RAINFALL DATA'!R266","v":"N/A"},{"$f":"'RAINFALL DATA'!S266","v":"N/A"}]
[null,null,null,null,null,null,null,null,null,null,null,null,null,null,{"$f":"'RAINFALL DATA'!H267","v":"N/A"},{"$f":"'RAINFALL DATA'!I267","v":"N/A"},{"$f":"'RAINFALL DATA'!J267","v":"N/A"},{"$f":"'RAINFALL DATA'!K267","v":"N/A"},{"$f":"'RAINFALL DATA'!L267","v":"N/A"},{"$f":"'RAINFALL DATA'!M267","v":"N/A"},{"$f":"'RAINFALL DATA'!N267","v":"N/A"},{"$f":"'RAINFALL DATA'!O267","v":"N/A"},{"$f":"'RAINFALL DATA'!P267","v":"N/A"},{"$f":"'RAINFALL DATA'!Q267","v":"N/A"},{"$f":"'RAINFALL DATA'!R267","v":"N/A"},{"$f":"'RAINFALL DATA'!S267","v":"N/A"}]
[null,null,null,null,null,null,null,null,null,null,null,null,null,null,{"$f":"'RAINFALL DATA'!H268","v":"N/A"},{"$f":"'RAINFALL DATA'!I268","v":"N/A"},{"$f":"'RAINFALL DATA'!J268","v":"N/A"},{"$f":"'RAINFALL DATA'!K268","v":"N/A"},{"$f":"'RAINFALL DATA'!L268","v":"N/A"},{"$f":"'RAINFALL DATA'!M268","v":"N/A"},{"$f":"'RAINFALL DATA'!N268","v":"N/A"},{"$f":"'RAINFALL DATA'!O268","v":"N/A"},{"$f":"'RAINFALL DATA'!P268","v":"N/A"},{"$f":"'RAINFALL DATA'!Q268","v":"N/A"},{"$f":"'RAINFALL DATA'!R268","v":"N/A"},{"$f":"'RAINFALL DATA'!S268","v":"N/A"}]
[null,null,null,null,null,null,null,null,null,null,null,null,null,null,{"$f":"'RAINFALL DATA'!H269","v":"N/A"},{"$f":"'RAINFALL DATA'!I269","v":"N/A"},{"$f":"'RAINFALL DATA'!J269","v":"N/A"},{"$f":"'RAINFALL DATA'!K269","v":"N/A"},{"$f":"'RAINFALL DATA'!L269","v":"N/A"},{"$f":"'RAINFALL DATA'!M269","v":"N/A"},{"$f":"'RAINFALL DATA'!N269","v":"N/A"},{"$f":"'RAINFALL DATA'!O269","v":"N/A"},{"$f":"'RAINFALL DATA'!P269","v":"N/A"},{"$f":"'RAINFALL DATA'!Q269","v":"N/A"},{"$f":"'RAINFALL DATA'!R269","v":"N/A"},{"$f":"'RAINFALL DATA'!S269","v":"N/A"}]
[null,null,null,null,null,null,null,null,null,null,null,null,null,null,{"$f":"'RAINFALL DATA'!H270","v":"N/A"},{"$f":"'RAINFALL DATA'!I270","v":"N/A"},{"$f":"'RAINFALL DATA'!J270","v":"N/A"},{"$f":"'RAINFALL DATA'!K270","v":"N/A"},{"$f":"'RAINFALL DATA'!L270","v":"N/A"},{"$f":"'RAINFALL DATA'!M270","v":"N/A"},{"$f":"'RAINFALL DATA'!N270","v":"N/A"},{"$f":"'RAINFALL DATA'!O270","v":"N/A"},{"$f":"'RAINFALL DATA'!P270","v":"N/A"},{"$f":"'RAINFALL DATA'!Q270","v":"N/A"},{"$f":"'RAINFALL DATA'!R270","v":"N/A"},{"$f":"'RAINFALL DATA'!S270","v":"N/A"}]
[null,null,null,null,null,null,null,null,null,null,null,null,null,null,{"$f":"'RAINFALL DATA'!H271","v":"N/A"},{"$f":"'RAINFALL DATA'!I271","v":"N/A"},{"$f":"'RAINFALL DATA'!J271","v":"N/A"},{"$f":"'RAINFALL DATA'!K271","v":"N/A"},{"$f":"'RAINFALL DATA'!L271","v":"N/A"},{"$f":"'RAINFALL DATA'!M271","v":"N/A"},{"$f":"'RAINFALL DATA'!N271","v":"N/A"},{"$f":"'RAINFALL DATA'!O271","v":"N/A"},{"$f":"'RAINFALL DATA'!P271","v":"N/A"},{"$f":"'RAINFALL DATA'!Q271","v":"N/A"},{"$f":"'RAINFALL DATA'!R271","v":"N/A"},{"$f":"'RAINFALL DATA'!S271","v":"N/A"}]
[null,null,null,null,null,null,null,null,null,null,null,null,null,null,{"$f":"'RAINFALL DATA'!H272","v":"N/A"},{"$f":"'RAINFALL DATA'!I272","v":"N/A"},{"$f":"'RAINFALL DATA'!J272","v":"N/A"},{"$f":"'RAINFALL DATA'!K272","v":"N/A"},{"$f":"'RAINFALL DATA'!L272","v":"N/A"},{"$f":"'RAINFALL DATA'!M272","v":"N/A"},{"$f":"'RAINFALL DATA'!N272","v":"N/A"},{"$f":"'RAINFALL DATA'!O272","v":"N/A"},{"$f":"'RAINFALL DATA'!P272","v":"N/A"},{"$f":"'RAINFALL DATA'!Q272","v":"N/A"},{"$f":"'RAINFALL DATA'!R272","v":"N/A"},{"$f":"'RAINFALL DATA'!S272","v":"N/A"}]
[null,null,null,null,null,null,null,null,null,null,null,null,null,null,{"$f":"'RAINFALL DATA'!H273","v":"N/A"},{"$f":"'RAINFALL DATA'!I273","v":"N/A"},{"$f":"'RAINFALL DATA'!J273","v":"N/A"},{"$f":"'RAINFALL DATA'!K273","v":"N/A"},{"$f":"'RAINFALL DATA'!L273","v":"N/A"},{"$f":"'RAINFALL DATA'!M273","v":"N/A"},{"$f":"'RAINFALL DATA'!N273","v":"N/A"},{"$f":"'RAINFALL DATA'!O273","v":"N/A"},{"$f":"'RAINFALL DATA'!P273","v":"N/A"},{"$f":"'RAINFALL DATA'!Q273","v":"N/A"},{"$f":"'RAINFALL DATA'!R273","v":"N/A"},{"$f":"'RAINFALL DATA'!S273","v":"N/A"}]
[null,null,null,null,null,null,null,null,null,null,null,null,null,null,{"$f":"'RAINFALL DATA'!H274","v":"N/A"},{"$f":"'RAINFALL DATA'!I274","v":"N/A"},{"$f":"'RAINFALL DATA'!J274","v":"N/A"},{"$f":"'RAINFALL DATA'!K274","v":"N/A"},{"$f":"'RAINFALL DATA'!L274","v":"N/A"},{"$f":"'RAINFALL DATA'!M274","v":"N/A"},{"$f":"'RAINFALL DATA'!N274","v":"N/A"},{"$f":"'RAINFALL DATA'!O274","v":"N/A"},{"$f":"'RAINFALL DATA'!P274","v":"N/A"},{"$f":"'RAINFALL DATA'!Q274","v":"N/A"},{"$f":"'RAINFALL DATA'!R274","v":"N/A"},{"$f":"'RAINFALL DATA'!S274","v":"N/A"}]
[null,null,null,null,null,null,null,null,null,null,null,null,null,null,{"$f":"'RAINFALL DATA'!H275","v":"N/A"},{"$f":"'RAINFALL DATA'!I275","v":"N/A"},{"$f":"'RAINFALL DATA'!J275","v":"N/A"},{"$f":"'RAINFALL DATA'!K275","v":"N/A"},{"$f":"'RAINFALL DATA'!L275","v":"N/A"},{"$f":"'RAINFALL DATA'!M275","v":"N/A"},{"$f":"'RAINFALL DATA'!N275","v":"N/A"},{"$f":"'RAINFALL DATA'!O275","v":"N/A"},{"$f":"'RAINFALL DATA'!P275","v":"N/A"},{"$f":"'RAINFALL DATA'!Q275","v":"N/A"},{"$f":"'RAINFALL DATA'!R275","v":"N/A"},{"$f":"'RAINFALL DATA'!S275","v":"N/A"}]
[null,null,null,null,null,null,null,null,null,null,null,null,null,null,{"$f":"'RAINFALL DATA'!H276","v":"N/A"},{"$f":"'RAINFALL DATA'!I276","v":"N/A"},{"$f":"'RAINFALL DATA'!J276","v":"N/A"},{"$f":"'RAINFALL DATA'!K276","v":"N/A"},{"$f":"'RAINFALL DATA'!L276","v":"N/A"},{"$f":"'RAINFALL DATA'!M276","v":"N/A"},{"$f":"'RAINFALL DATA'!N276","v":"N/A"},{"$f":"'RAINFALL DATA'!O276","v":"N/A"},{"$f":"'RAINFALL DATA'!P276","v":"N/A"},{"$f":"'RAINFALL DATA'!Q276","v":"N/A"},{"$f":"'RAINFALL DATA'!R276","v":"N/A"},{"$f":"'RAINFALL DATA'!S276","v":"N/A"}]
[null,null,null,null,null,null,null,null,null,null,null,null,null,null,{"$f":"'RAINFALL DATA'!H277","v":"N/A"},{"$f":"'RAINFALL DATA'!I277","v":"N/A"},{"$f":"'RAINFALL DATA'!J277","v":"N/A"},{"$f":"'RAINFALL DATA'!K277","v":"N/A"},{"$f":"'RAINFALL DATA'!L277","v":"N/A"},{"$f":"'RAINFALL DATA'!M277","v":"N/A"},{"$f":"'RAINFALL DATA'!N277","v":"N/A"},{"$f":"'RAINFALL DATA'!O277","v":"N/A"},{"$f":"'RAINFALL DATA'!P277","v":"N/A"},{"$f":"'RAINFALL DATA'!Q277","v":"N/A"},{"$f":"'RAINFALL DATA'!R277","v":"N/A"},{"$f":"'RAINFALL DATA'!S277","v":"N/A"}]
[null,null,null,null,null,null,null,null,null,null,null,null,null,null,{"$f":"'RAINFALL DATA'!H278","v":"N/A"},{"$f":"'RAINFALL DATA'!I278","v":"N/A"},{"$f":"'RAINFALL DATA'!J278","v":"N/A"},{"$f":"'RAINFALL DATA'!K278","v":"N/A"},{"$f":"'RAINFALL DATA'!L278","v":"N/A"},{"$f":"'RAINFALL DATA'!M278","v":"N/A"},{"$f":"'RAINFALL DATA'!N278","v":"N/A"},{"$f":"'RAINFALL DATA'!O278","v":"N/A"},{"$f":"'RAINFALL DATA'!P278","v":"N/A"},{"$f":"'RAINFALL DATA'!Q278","v":"N/A"},{"$f":"'RAINFALL DATA'!R278","v":"N/A"},{"$f":"'RAINFALL DATA'!S278","v":"N/A"}]
[null,null,null,null,null,null,null,null,null,null,null,null,null,null,{"$f":"'RAINFALL DATA'!H279","v":"N/A"},{"$f":"'RAINFALL DATA'!I279","v":"N/A"},{"$f":"'RAINFALL DATA'!J279","v":"N/A"},{"$f":"'RAINFALL DATA'!K279","v":"N/A"},{"$f":"'RAINFALL DATA'!L279","v":"N/A"},{"$f":"'RAINFALL DATA'!M279","v":"N/A"},{"$f":"'RAINFALL DATA'!N279","v":"N/A"},{"$f":"'RAINFALL DATA'!O279","v":"N/A"},{"$f":"'RAINFALL DATA'!P279","v":"N/A"},{"$f":"'RAINFALL DATA'!Q279","v":"N/A"},{"$f":"'RAINFALL DATA'!R279","v":"N/A"},{"$f":"'RAINFALL DATA'!S279","v":"N/A"}]
[null,null,null,null,null,null,null,null,null,null,null,null,null,null,{"$f":"'RAINFALL DATA'!H280","v":"N/A"},{"$f":"'RAINFALL DATA'!I280","v":"N/A"},{"$f":"'RAINFALL DATA'!J280","v":"N/A"},{"$f":"'RAINFALL DATA'!K280","v":"N/A"},{"$f":"'RAINFALL DATA'!L280","v":"N/A"},{"$f":"'RAINFALL DATA'!M280","v":"N/A"},{"$f":"'RAINFALL DATA'!N280","v":"N/A"},{"$f":"'RAINFALL DATA'!O280","v":"N/A"},{"$f":"'RAINFALL DATA'!P280","v":"N/A"},{"$f":"'RAINFALL DATA'!Q280","v":"N/A"},{"$f":"'RAINFALL DATA'!R280","v":"N/A"},{"$f":"'RAINFALL DATA'!S280","v":"N/A"}]
[null,null,null,null,null,null,null,null,null,null,null,null,null,null,{"$f":"'RAINFALL DATA'!H281","v":"N/A"},{"$f":"'RAINFALL DATA'!I281","v":"N/A"},{"$f":"'RAINFALL DATA'!J281","v":"N/A"},{"$f":"'RAINFALL DATA'!K281","v":"N/A"},{"$f":"'RAINFALL DATA'!L281","v":"N/A"},{"$f":"'RAINFALL DATA'!M281","v":"N/A"},{"$f":"'RAINFALL DATA'!N281","v":"N/A"},{"$f":"'RAINFALL DATA'!O281","v":"N/A"},{"$f":"'RAINFALL DATA'!P281","v":"N/A"},{"$f":"'RAINFALL DATA'!Q281","v":"N/A"},{"$f":"'RAINFALL DATA'!R281","v":"N/A"},{"$f":"'RAINFALL DATA'!S281","v":"N/A"}]
[null,null,null,null,null,null,null,null,null,null,null,null,null,null,{"$f":"'RAINFALL DATA'!H282","v":"N/A"},{"$f":"'RAINFALL DATA'!I282","v":"N/A"},{"$f":"'RAINFALL DATA'!J282","v":"N/A"},{"$f":"'RAINFALL DATA'!K282","v":"N/A"},{"$f":"'RAINFALL DATA'!L282","v":"N/A"},{"$f":"'RAINFALL DATA'!M282","v":"N/A"},{"$f":"'RAINFALL DATA'!N282","v":"N/A"},{"$f":"'RAINFALL DATA'!O282","v":"N/A"},{"$f":"'RAINFALL DATA'!P282","v":"N/A"},{"$f":"'RAINFALL DATA'!Q282","v":"N/A"},{"$f":"'RAINFALL DATA'!R282","v":"N/A"},{"$f":"'RAINFALL DATA'!S282","v":"N/A"}]
[null,null,null,null,null,null,null,null,null,null,null,null,null,null,{"$f":"'RAINFALL DATA'!H283","v":"N/A"},{"$f":"'RAINFALL DATA'!I283","v":"N/A"},{"$f":"'RAINFALL DATA'!J283","v":"N/A"},{"$f":"'RAINFALL DATA'!K283","v":"N/A"},{"$f":"'RAINFALL DATA'!L283","v":"N/A"},{"$f":"'RAINFALL DATA'!M283","v":"N/A"},{"$f":"'RAINFALL DATA'!N283","v":"N/A"},{"$f":"'RAINFALL DATA'!O283","v":"N/A"},{"$f":"'RAINFALL DATA'!P283","v":"N/A"},{"$f":"'RAINFALL DATA'!Q283","v":"N/A"},{"$f":"'RAINFALL DATA'!R283","v":"N/A"},{"$f":"'RAINFALL DATA'!S283","v":"N/A"}]
[null,null,null,null,null,null,null,null,null,null,null,null,null,null,{"$f":"'RAINFALL DATA'!H284","v":"N/A"},{"$f":"'RAINFALL DATA'!I284","v":"N/A"},{"$f":"'RAINFALL DATA'!J284","v":"N/A"},{"$f":"'RAINFALL DATA'!K284","v":"N/A"},{"$f":"'RAINFALL DATA'!L284","v":"N/A"},{"$f":"'RAINFALL DATA'!M284","v":"N/A"},{"$f":"'RAINFALL DATA'!N284","v":"N/A"},{"$f":"'RAINFALL DATA'!O284","v":"N/A"},{"$f":"'RAINFALL DATA'!P284","v":"N/A"},{"$f":"'RAINFALL DATA'!Q284","v":"N/A"},{"$f":"'RAINFALL DATA'!R284","v":"N/A"},{"$f":"'RAINFALL DATA'!S284","v":"N/A"}]
[null,null,null,null,null,null,null,null,null,null,null,null,null,null,{"$f":"'RAINFALL DATA'!H285","v":"N/A"},{"$f":"'RAINFALL DATA'!I285","v":"N/A"},{"$f":"'RAINFALL DATA'!J285","v":"N/A"},{"$f":"'RAINFALL DATA'!K285","v":"N/A"},{"$f":"'RAINFALL DATA'!L285","v":"N/A"},{"$f":"'RAINFALL DATA'!M285","v":"N/A"},{"$f":"'RAINFALL DATA'!N285","v":"N/A"},{"$f":"'RAINFALL DATA'!O285","v":"N/A"},{"$f":"'RAINFALL DATA'!P285","v":"N/A"},{"$f":"'RAINFALL DATA'!Q285","v":"N/A"},{"$f":"'RAINFALL DATA'!R285","v":"N/A"},{"$f":"'RAINFALL DATA'!S285","v":"N/A"}]
[null,null,null,null,null,null,null,null,null,null,null,null,null,null,{"$f":"'RAINFALL DATA'!H286","v":"N/A"},{"$f":"'RAINFALL DATA'!I286","v":"N/A"},{"$f":"'RAINFALL DATA'!J286","v":"N/A"},{"$f":"'RAINFALL DATA'!K286","v":"N/A"},{"$f":"'RAINFALL DATA'!L286","v":"N/A"},{"$f":"'RAINFALL DATA'!M286","v":"N/A"},{"$f":"'RAINFALL DATA'!N286","v":"N/A"},{"$f":"'RAINFALL DATA'!O286","v":"N/A"},{"$f":"'RAINFALL DATA'!P286","v":"N/A"},{"$f":"'RAINFALL DATA'!Q286","v":"N/A"},{"$f":"'RAINFALL DATA'!R286","v":"N/A"},{"$f":"'RAINFALL DATA'!S286","v":"N/A"}]
[null,null,null,null,null,null,null,null,null,null,null,null,null,null,{"$f":"'RAINFALL DATA'!H287","v":"N/A"},{"$f":"'RAINFALL DATA'!I287","v":"N/A"},{"$f":"'RAINFALL DATA'!J287","v":"N/A"},{"$f":"'RAINFALL DATA'!K287","v":"N/A"},{"$f":"'RAINFALL DATA'!L287","v":"N/A"},{"$f":"'RAINFALL DATA'!M287","v":"N/A"},{"$f":"'RAINFALL DATA'!N287","v":"N/A"},{"$f":"'RAINFALL DATA'!O287","v":"N/A"},{"$f":"'RAINFALL DATA'!P287","v":"N/A"},{"$f":"'RAINFALL DATA'!Q287","v":"N/A"},{"$f":"'RAINFALL DATA'!R287","v":"N/A"},{"$f":"'RAINFALL DATA'!S287","v":"N/A"}]
[null,null,null,null,null,null,null,null,null,null,null,null,null,null,{"$f":"'RAINFALL DATA'!H288","v":"N/A"},{"$f":"'RAINFALL DATA'!I288","v":"N/A"},{"$f":"'RAINFALL DATA'!J288","v":"N/A"},{"$f":"'RAINFALL DATA'!K288","v":"N/A"},{"$f":"'RAINFALL DATA'!L288","v":"N/A"},{"$f":"'RAINFALL DATA'!M288","v":"N/A"},{"$f":"'RAINFALL DATA'!N288","v":"N/A"},{"$f":"'RAINFALL DATA'!O288","v":"N/A"},{"$f":"'RAINFALL DATA'!P288","v":"N/A"},{"$f":"'RAINFALL DATA'!Q288","v":"N/A"},{"$f":"'RAINFALL DATA'!R288","v":"N/A"},{"$f":"'RAINFALL DATA'!S288","v":"N/A"}]
[null,null,null,null,null,null,null,null,null,null,null,null,null,null,{"$f":"'RAINFALL DATA'!H289","v":"N/A"},{"$f":"'RAINFALL DATA'!I289","v":"N/A"},{"$f":"'RAINFALL DATA'!J289","v":"N/A"},{"$f":"'RAINFALL DATA'!K289","v":"N/A"},{"$f":"'RAINFALL DATA'!L289","v":"N/A"},{"$f":"'RAINFALL DATA'!M289","v":"N/A"},{"$f":"'RAINFALL DATA'!N289","v":"N/A"},{"$f":"'RAINFALL DATA'!O289","v":"N/A"},{"$f":"'RAINFALL DATA'!P289","v":"N/A"},{"$f":"'RAINFALL DATA'!Q289","v":"N/A"},{"$f":"'RAINFALL DATA'!R289","v":"N/A"},{"$f":"'RAINFALL DATA'!S289","v":"N/A"}]
[null,null,null,null,null,null,null,null,null,null,null,null,null,null,{"$f":"'RAINFALL DATA'!H290","v":"N/A"},{"$f":"'RAINFALL DATA'!I290","v":"N/A"},{"$f":"'RAINFALL DATA'!J290","v":"N/A"},{"$f":"'RAINFALL DATA'!K290","v":"N/A"},{"$f":"'RAINFALL DATA'!L290","v":"N/A"},{"$f":"'RAINFALL DATA'!M290","v":"N/A"},{"$f":"'RAINFALL DATA'!N290","v":"N/A"},{"$f":"'RAINFALL DATA'!O290","v":"N/A"},{"$f":"'RAINFALL DATA'!P290","v":"N/A"},{"$f":"'RAINFALL DATA'!Q290","v":"N/A"},{"$f":"'RAINFALL DATA'!R290","v":"N/A"},{"$f":"'RAINFALL DATA'!S290","v":"N/A"}]
[null,null,null,null,null,null,null,null,null,null,null,null,null,null,{"$f":"'RAINFALL DATA'!H291","v":"N/A"},{"$f":"'RAINFALL DATA'!I291","v":"N/A"},{"$f":"'RAINFALL DATA'!J291","v":"N/A"},{"$f":"'RAINFALL DATA'!K291","v":"N/A"},{"$f":"'RAINFALL DATA'!L291","v":"N/A"},{"$f":"'RAINFALL DATA'!M291","v":"N/A"},{"$f":"'RAINFALL DATA'!N291","v":"N/A"},{"$f":"'RAINFALL DATA'!O291","v":"N/A"},{"$f":"'RAINFALL DATA'!P291","v":"N/A"},{"$f":"'RAINFALL DATA'!Q291","v":"N/A"},{"$f":"'RAINFALL DATA'!R291","v":"N/A"},{"$f":"'RAINFALL DATA'!S291","v":"N/A"}]
[null,null,null,null,null,null,null,null,null,null,null,null,null,null,{"$f":"'RAINFALL DATA'!H292","v":"N/A"},{"$f":"'RAINFALL DATA'!I292","v":"N/A"},{"$f":"'RAINFALL DATA'!J292","v":"N/A"},{"$f":"'RAINFALL DATA'!K292","v":"N/A"},{"$f":"'RAINFALL DATA'!L292","v":"N/A"},{"$f":"'RAINFALL DATA'!M292","v":"N/A"},{"$f":"'RAINFALL DATA'!N292","v":"N/A"},{"$f":"'RAINFALL DATA'!O292","v":"N/A"},{"$f":"'RAINFALL DATA'!P292","v":"N/A"},{"$f":"'RAINFALL DATA'!Q292","v":"N/A"},{"$f":"'RAINFALL DATA'!R292","v":"N/A"},{"$f":"'RAINFALL DATA'!S292","v":"N/A"}]
[null,null,null,null,null,null,null,null,null,null,null,null,null,null,{"$f":"'RAINFALL DATA'!H293","v":"N/A"},{"$f":"'RAINFALL DATA'!I293","v":"N/A"},{"$f":"'RAINFALL DATA'!J293","v":"N/A"},{"$f":"'RAINFALL DATA'!K293","v":"N/A"},{"$f":"'RAINFALL DATA'!L293","v":"N/A"},{"$f":"'RAINFALL DATA'!M293","v":"N/A"},{"$f":"'RAINFALL DATA'!N293","v":"N/A"},{"$f":"'RAINFALL DATA'!O293","v":"N/A"},{"$f":"'RAINFALL DATA'!P293","v":"N/A"},{"$f":"'RAINFALL DATA'!Q293","v":"N/A"},{"$f":"'RAINFALL DATA'!R293","v":"N/A"},{"$f":"'RAINFALL DATA'!S293","v":"N/A"}]
[null,null,null,null,null,null,null,null,null,null,null,null,null,null,{"$f":"'RAINFALL DATA'!H294","v":"N/A"},{"$f":"'RAINFALL DATA'!I294","v":"N/A"},{"$f":"'RAINFALL DATA'!J294","v":"N/A"},{"$f":"'RAINFALL DATA'!K294","v":"N/A"},{"$f":"'RAINFALL DATA'!L294","v":"N/A"},{"$f":"'RAINFALL DATA'!M294","v":"N/A"},{"$f":"'RAINFALL DATA'!N294","v":"N/A"},{"$f":"'RAINFALL DATA'!O294","v":"N/A"},{"$f":"'RAINFALL DATA'!P294","v":"N/A"},{"$f":"'RAINFALL DATA'!Q294","v":"N/A"},{"$f":"'RAINFALL DATA'!R294","v":"N/A"},{"$f":"'RAINFALL DATA'!S294","v":"N/A"}]
[null,null,null,null,null,null,null,null,null,null,null,null,null,null,{"$f":"'RAINFALL DATA'!H295","v":"N/A"},{"$f":"'RAINFALL DATA'!I295","v":"N/A"},{"$f":"'RAINFALL DATA'!J295","v":"N/A"},{"$f":"'RAINFALL DATA'!K295","v":"N/A"},{"$f":"'RAINFALL DATA'!L295","v":"N/A"},{"$f":"'RAINFALL DATA'!M295","v":"N/A"},{"$f":"'RAINFALL DATA'!N295","v":"N/A"},{"$f":"'RAINFALL DATA'!O295","v":"N/A"},{"$f":"'RAINFALL DATA'!P295","v":"N/A"},{"$f":"'RAINFALL DATA'!Q295","v":"N/A"},{"$f":"'RAINFALL DATA'!R295","v":"N/A"},{"$f":"'RAINFALL DATA'!S295","v":"N/A"}]
[null,null,null,null,null,null,null,null,null,null,null,null,null,null,{"$f":"'RAINFALL DATA'!H296","v":"N/A"},{"$f":"'RAINFALL DATA'!I296","v":"N/A"},{"$f":"'RAINFALL DATA'!J296","v":"N/A"},{"$f":"'RAINFALL DATA'!K296","v":"N/A"},{"$f":"'RAINFALL DATA'!L296","v":"N/A"},{"$f":"'RAINFALL DATA'!M296","v":"N/A"},{"$f":"'RAINFALL DATA'!N296","v":"N/A"},{"$f":"'RAINFALL DATA'!O296","v":"N/A"},{"$f":"'RAINFALL DATA'!P296","v":"N/A"},{"$f":"'RAINFALL DATA'!Q296","v":"N/A"},{"$f":"'RAINFALL DATA'!R296","v":"N/A"},{"$f":"'RAINFALL DATA'!S296","v":"N/A"}]
[null,null,null,null,null,null,null,null,null,null,null,null,null,null,{"$f":"'RAINFALL DATA'!H297","v":"N/A"},{"$f":"'RAINFALL DATA'!I297","v":"N/A"},{"$f":"'RAINFALL DATA'!J297","v":"N/A"},{"$f":"'RAINFALL DATA'!K297","v":"N/A"},{"$f":"'RAINFALL DATA'!L297","v":"N/A"},{"$f":"'RAINFALL DATA'!M297","v":"N/A"},{"$f":"'RAINFALL DATA'!N297","v":"N/A"},{"$f":"'RAINFALL DATA'!O297","v":"N/A"},{"$f":"'RAINFALL DATA'!P297","v":"N/A"},{"$f":"'RAINFALL DATA'!Q297","v":"N/A"},{"$f":"'RAINFALL DATA'!R297","v":"N/A"},{"$f":"'RAINFALL DATA'!S297","v":"N/A"}]
[null,null,null,null,null,null,null,null,null,null,null,null,null,null,{"$f":"'RAINFALL DATA'!H298","v":"N/A"},{"$f":"'RAINFALL DATA'!I298","v":"N/A"},{"$f":"'RAINFALL DATA'!J298","v":"N/A"},{"$f":"'RAINFALL DATA'!K298","v":"N/A"},{"$f":"'RAINFALL DATA'!L298","v":"N/A"},{"$f":"'RAINFALL DATA'!M298","v":"N/A"},{"$f":"'RAINFALL DATA'!N298","v":"N/A"},{"$f":"'RAINFALL DATA'!O298","v":"N/A"},{"$f":"'RAINFALL DATA'!P298","v":"N/A"},{"$f":"'RAINFALL DATA'!Q298","v":"N/A"},{"$f":"'RAINFALL DATA'!R298","v":"N/A"},{"$f":"'RAINFALL DATA'!S298","v":"N/A"}]
[null,null,null,null,null,null,null,null,null,null,null,null,null,null,{"$f":"'RAINFALL DATA'!H299","v":"N/A"},{"$f":"'RAINFALL DATA'!I299","v":"N/A"},{"$f":"'RAINFALL DATA'!J299","v":"N/A"},{"$f":"'RAINFALL DATA'!K299","v":"N/A"},{"$f":"'RAINFALL DATA'!L299","v":"N/A"},{"$f":"'RAINFALL DATA'!M299","v":"N/A"},{"$f":"'RAINFALL DATA'!N299","v":"N/A"},{"$f":"'RAINFALL DATA'!O299","v":"N/A"},{"$f":"'RAINFALL DATA'!P299","v":"N/A"},{"$f":"'RAINFALL DATA'!Q299","v":"N/A"},{"$f":"'RAINFALL DATA'!R299","v":"N/A"},{"$f":"'RAINFALL DATA'!S299","v":"N/A"}]
[null,null,null,null,null,null,null,null,null,null,null,null,null,null,{"$f":"'RAINFALL DATA'!H300","v":"N/A"},{"$f":"'RAINFALL DATA'!I300","v":"N/A"},{"$f":"'RAINFALL DATA'!J300","v":"N/A"},{"$f":"'RAINFALL DATA'!K300","v":"N/A"},{"$f":"'RAINFALL DATA'!L300","v":"N/A"},{"$f":"'RAINFALL DATA'!M300","v":"N/A"},{"$f":"'RAINFALL DATA'!N300","v":"N/A"},{"$f":"'RAINFALL DATA'!O300","v":"N/A"},{"$f":"'RAINFALL DATA'!P300","v":"N/A"},{"$f":"'RAINFALL DATA'!Q300","v":"N/A"},{"$f":"'RAINFALL DATA'!R300","v":"N/A"},{"$f":"'RAINFALL DATA'!S300","v":"N/A"}]
[null,null,null,null,null,null,null,null,null,null,null,null,null,null,{"$f":"'RAINFALL DATA'!H301","v":"N/A"},{"$f":"'RAINFALL DATA'!I301","v":"N/A"},{"$f":"'RAINFALL DATA'!J301","v":"N/A"},{"$f":"'RAINFALL DATA'!K301","v":"N/A"},{"$f":"'RAINFALL DATA'!L301","v":"N/A"},{"$f":"'RAINFALL DATA'!M301","v":"N/A"},{"$f":"'RAINFALL DATA'!N301","v":"N/A"},{"$f":"'RAINFALL DATA'!O301","v":"N/A"},{"$f":"'RAINFALL DATA'!P301","v":"N/A"},{"$f":"'RAINFALL DATA'!Q301","v":"N/A"},{"$f":"'RAINFALL DATA'!R301","v":"N/A"},{"$f":"'RAINFALL DATA'!S301","v":"N/A"}]
[null,null,null,null,null,null,null,null,null,null,null,null,null,null,{"$f":"'RAINFALL DATA'!H302","v":"N/A"},{"$f":"'RAINFALL DATA'!I302","v":"N/A"},{"$f":"'RAINFALL DATA'!J302","v":"N/A"},{"$f":"'RAINFALL DATA'!K302","v":"N/A"},{"$f":"'RAINFALL DATA'!L302","v":"N/A"},{"$f":"'RAINFALL DATA'!M302","v":"N/A"},{"$f":"'RAINFALL DATA'!N302","v":"N/A"},{"$f":"'RAINFALL DATA'!O302","v":"N/A"},{"$f":"'RAINFALL DATA'!P302","v":"N/A"},{"$f":"'RAINFALL DATA'!Q302","v":"N/A"},{"$f":"'RAINFALL DATA'!R302","v":"N/A"},{"$f":"'RAINFALL DATA'!S302","v":"N/A"}]
[null,null,null,null,null,null,null,null,null,null,null,null,null,null,{"$f":"'RAINFALL DATA'!H303","v":"N/A"},{"$f":"'RAINFALL DATA'!I303","v":"N/A"},{"$f":"'RAINFALL DATA'!J303","v":"N/A"},{"$f":"'RAINFALL DATA'!K303","v":"N/A"},{"$f":"'RAINFALL DATA'!L303","v":"N/A"},{"$f":"'RAINFALL DATA'!M303","v":"N/A"},{"$f":"'RAINFALL DATA'!N303","v":"N/A"},{"$f":"'RAINFALL DATA'!O303","v":"N/A"},{"$f":"'RAINFALL DATA'!P303","v":"N/A"},{"$f":"'RAINFALL DATA'!Q303","v":"N/A"},{"$f":"'RAINFALL DATA'!R303","v":"N/A"},{"$f":"'RAINFALL DATA'!S303","v":"N/A"}]
[null,null,null,null,null,null,null,null,null,null,null,null,null,null,{"$f":"'RAINFALL DATA'!H304","v":"N/A"},{"$f":"'RAINFALL DATA'!I304","v":"N/A"},{"$f":"'RAINFALL DATA'!J304","v":"N/A"},{"$f":"'RAINFALL DATA'!K304","v":"N/A"},{"$f":"'RAINFALL DATA'!L304","v":"N/A"},{"$f":"'RAINFALL DATA'!M304","v":"N/A"},{"$f":"'RAINFALL DATA'!N304","v":"N/A"},{"$f":"'RAINFALL DATA'!O304","v":"N/A"},{"$f":"'RAINFALL DATA'!P304","v":"N/A"},{"$f":"'RAINFALL DATA'!Q304","v":"N/A"},{"$f":"'RAINFALL DATA'!R304","v":"N/A"},{"$f":"'RAINFALL DATA'!S304","v":"N/A"}]
[null,null,null,null,null,null,null,null,null,null,null,null,null,null,{"$f":"'RAINFALL DATA'!H305","v":"N/A"},{"$f":"'RAINFALL DATA'!I305","v":"N/A"},{"$f":"'RAINFALL DATA'!J305","v":"N/A"},{"$f":"'RAINFALL DATA'!K305","v":"N/A"},{"$f":"'RAINFALL DATA'!L305","v":"N/A"},{"$f":"'RAINFALL DATA'!M305","v":"N/A"},{"$f":"'RAINFALL DATA'!N305","v":"N/A"},{"$f":"'RAINFALL DATA'!O305","v":"N/A"},{"$f":"'RAINFALL DATA'!P305","v":"N/A"},{"$f":"'RAINFALL DATA'!Q305","v":"N/A"},{"$f":"'RAINFALL DATA'!R305","v":"N/A"},{"$f":"'RAINFALL DATA'!S305","v":"N/A"}]
[null,null,null,null,null,null,null,null,null,null,null,null,null,null,{"$f":"'RAINFALL DATA'!H306","v":"N/A"},{"$f":"'RAINFALL DATA'!I306","v":"N/A"},{"$f":"'RAINFALL DATA'!J306","v":"N/A"},{"$f":"'RAINFALL DATA'!K306","v":"N/A"},{"$f":"'RAINFALL DATA'!L306","v":"N/A"},{"$f":"'RAINFALL DATA'!M306","v":"N/A"},{"$f":"'RAINFALL DATA'!N306","v":"N/A"},{"$f":"'RAINFALL DATA'!O306","v":"N/A"},{"$f":"'RAINFALL DATA'!P306","v":"N/A"},{"$f":"'RAINFALL DATA'!Q306","v":"N/A"},{"$f":"'RAINFALL DATA'!R306","v":"N/A"},{"$f":"'RAINFALL DATA'!S306","v":"N/A"}]
[null,null,null,null,null,null,null,null,null,null,null,null,null,null,{"$f":"'RAINFALL DATA'!H307","v":"N/A"},{"$f":"'RAINFALL DATA'!I307","v":"N/A"},{"$f":"'RAINFALL DATA'!J307","v":"N/A"},{"$f":"'RAINFALL DATA'!K307","v":"N/A"},{"$f":"'RAINFALL DATA'!L307","v":"N/A"},{"$f":"'RAINFALL DATA'!M307","v":"N/A"},{"$f":"'RAINFALL DATA'!N307","v":"N/A"},{"$f":"'RAINFALL DATA'!O307","v":"N/A"},{"$f":"'RAINFALL DATA'!P307","v":"N/A"},{"$f":"'RAINFALL DATA'!Q307","v":"N/A"},{"$f":"'RAINFALL DATA'!R307","v":"N/A"},{"$f":"'RAINFALL DATA'!S307","v":"N/A"}]
[null,null,null,null,null,null,null,null,null,null,null,null,null,null,{"$f":"'RAINFALL DATA'!H308","v":"N/A"},{"$f":"'RAINFALL DATA'!I308","v":"N/A"},{"$f":"'RAINFALL DATA'!J308","v":"N/A"},{"$f":"'RAINFALL DATA'!K308","v":"N/A"},{"$f":"'RAINFALL DATA'!L308","v":"N/A"},{"$f":"'RAINFALL DATA'!M308","v":"N/A"},{"$f":"'RAINFALL DATA'!N308","v":"N/A"},{"$f":"'RAINFALL DATA'!O308","v":"N/A"},{"$f":"'RAINFALL DATA'!P308","v":"N/A"},{"$f":"'RAINFALL DATA'!Q308","v":"N/A"},{"$f":"'RAINFALL DATA'!R308","v":"N/A"},{"$f":"'RAINFALL DATA'!S308","v":"N/A"}]
[null,null,null,null,null,null,null,null,null,null,null,null,null,null,{"$f":"'RAINFALL DATA'!H309","v":"N/A"},{"$f":"'RAINFALL DATA'!I309","v":"N/A"},{"$f":"'RAINFALL DATA'!J309","v":"N/A"},{"$f":"'RAINFALL DATA'!K309","v":"N/A"},{"$f":"'RAINFALL DATA'!L309","v":"N/A"},{"$f":"'RAINFALL DATA'!M309","v":"N/A"},{"$f":"'RAINFALL DATA'!N309","v":"N/A"},{"$f":"'RAINFALL DATA'!O309","v":"N/A"},{"$f":"'RAINFALL DATA'!P309","v":"N/A"},{"$f":"'RAINFALL DATA'!Q309","v":"N/A"},{"$f":"'RAINFALL DATA'!R309","v":"N/A"},{"$f":"'RAINFALL DATA'!S309","v":"N/A"}]
[null,null,null,null,null,null,null,null,null,null,null,null,null,null,{"$f":"'RAINFALL DATA'!H310","v":"N/A"},{"$f":"'RAINFALL DATA'!I310","v":"N/A"},{"$f":"'RAINFALL DATA'!J310","v":"N/A"},{"$f":"'RAINFALL DATA'!K310","v":"N/A"},{"$f":"'RAINFALL DATA'!L310","v":"N/A"},{"$f":"'RAINFALL DATA'!M310","v":"N/A"},{"$f":"'RAINFALL DATA'!N310","v":"N/A"},{"$f":"'RAINFALL DATA'!O310","v":"N/A"},{"$f":"'RAINFALL DATA'!P310","v":"N/A"},{"$f":"'RAINFALL DATA'!Q310","v":"N/A"},{"$f":"'RAINFALL DATA'!R310","v":"N/A"},{"$f":"'RAINFALL DATA'!S310","v":"N/A"}]
[null,null,null,null,null,null,null,null,null,null,null,null,null,null,{"$f":"'RAINFALL DATA'!H311","v":"N/A"},{"$f":"'RAINFALL DATA'!I311","v":"N/A"},{"$f":"'RAINFALL DATA'!J311","v":"N/A"},{"$f":"'RAINFALL DATA'!K311","v":"N/A"},{"$f":"'RAINFALL DATA'!L311","v":"N/A"},{"$f":"'RAINFALL DATA'!M311","v":"N/A"},{"$f":"'RAINFALL DATA'!N311","v":"N/A"},{"$f":"'RAINFALL DATA'!O311","v":"N/A"},{"$f":"'RAINFALL DATA'!P311","v":"N/A"},{"$f":"'RAINFALL DATA'!Q311","v":"N/A"},{"$f":"'RAINFALL DATA'!R311","v":"N/A"},{"$f":"'RAINFALL DATA'!S311","v":"N/A"}]
[null,null,null,null,null,null,null,null,null,null,null,null,null,null,{"$f":"'RAINFALL DATA'!H312","v":"N/A"},{"$f":"'RAINFALL DATA'!I312","v":"N/A"},{"$f":"'RAINFALL DATA'!J312","v":"N/A"},{"$f":"'RAINFALL DATA'!K312","v":"N/A"},{"$f":"'RAINFALL DATA'!L312","v":"N/A"},{"$f":"'RAINFALL DATA'!M312","v":"N/A"},{"$f":"'RAINFALL DATA'!N312","v":"N/A"},{"$f":"'RAINFALL DATA'!O312","v":"N/A"},{"$f":"'RAINFALL DATA'!P312","v":"N/A"},{"$f":"'RAINFALL DATA'!Q312","v":"N/A"},{"$f":"'RAINFALL DATA'!R312","v":"N/A"},{"$f":"'RAINFALL DATA'!S312","v":"N/A"}]
[null,null,null,null,null,null,null,null,null,null,null,null,null,null,{"$f":"'RAINFALL DATA'!H313","v":"N/A"},{"$f":"'RAINFALL DATA'!I313","v":"N/A"},{"$f":"'RAINFALL DATA'!J313","v":"N/A"},{"$f":"'RAINFALL DATA'!K313","v":"N/A"},{"$f":"'RAINFALL DATA'!L313","v":"N/A"},{"$f":"'RAINFALL DATA'!M313","v":"N/A"},{"$f":"'RAINFALL DATA'!N313","v":"N/A"},{"$f":"'RAINFALL DATA'!O313","v":"N/A"},{"$f":"'RAINFALL DATA'!P313","v":"N/A"},{"$f":"'RAINFALL DATA'!Q313","v":"N/A"},{"$f":"'RAINFALL DATA'!R313","v":"N/A"},{"$f":"'RAINFALL DATA'!S313","v":"N/A"}]
[null,null,null,null,null,null,null,null,null,null,null,null,null,null,{"$f":"'RAINFALL DATA'!H314","v":"N/A"},{"$f":"'RAINFALL DATA'!I314","v":"N/A"},{"$f":"'RAINFALL DATA'!J314","v":"N/A"},{"$f":"'RAINFALL DATA'!K314","v":"N/A"},{"$f":"'RAINFALL DATA'!L314","v":"N/A"},{"$f":"'RAINFALL DATA'!M314","v":"N/A"},{"$f":"'RAINFALL DATA'!N314","v":"N/A"},{"$f":"'RAINFALL DATA'!O314","v":"N/A"},{"$f":"'RAINFALL DATA'!P314","v":"N/A"},{"$f":"'RAINFALL DATA'!Q314","v":"N/A"},{"$f":"'RAINFALL DATA'!R314","v":"N/A"},{"$f":"'RAINFALL DATA'!S314","v":"N/A"}]
[null,null,null,null,null,null,null,null,null,null,null,null,null,null,{"$f":"'RAINFALL DATA'!H315","v":"N/A"},{"$f":"'RAINFALL DATA'!I315","v":"N/A"},{"$f":"'RAINFALL DATA'!J315","v":"N/A"},{"$f":"'RAINFALL DATA'!K315","v":"N/A"},{"$f":"'RAINFALL DATA'!L315","v":"N/A"},{"$f":"'RAINFALL DATA'!M315","v":"N/A"},{"$f":"'RAINFALL DATA'!N315","v":"N/A"},{"$f":"'RAINFALL DATA'!O315","v":"N/A"},{"$f":"'RAINFALL DATA'!P315","v":"N/A"},{"$f":"'RAINFALL DATA'!Q315","v":"N/A"},{"$f":"'RAINFALL DATA'!R315","v":"N/A"},{"$f":"'RAINFALL DATA'!S315","v":"N/A"}]
[null,null,null,null,null,null,null,null,null,null,null,null,null,null,{"$f":"'RAINFALL DATA'!H316","v":"N/A"},{"$f":"'RAINFALL DATA'!I316","v":"N/A"},{"$f":"'RAINFALL DATA'!J316","v":"N/A"},{"$f":"'RAINFALL DATA'!K316","v":"N/A"},{"$f":"'RAINFALL DATA'!L316","v":"N/A"},{"$f":"'RAINFALL DATA'!M316","v":"N/A"},{"$f":"'RAINFALL DATA'!N316","v":"N/A"},{"$f":"'RAINFALL DATA'!O316","v":"N/A"},{"$f":"'RAINFALL DATA'!P316","v":"N/A"},{"$f":"'RAINFALL DATA'!Q316","v":"N/A"},{"$f":"'RAINFALL DATA'!R316","v":"N/A"},{"$f":"'RAINFALL DATA'!S316","v":"N/A"}]
[null,null,null,null,null,null,null,null,null,null,null,null,null,null,{"$f":"'RAINFALL DATA'!H317","v":"N/A"},{"$f":"'RAINFALL DATA'!I317","v":"N/A"},{"$f":"'RAINFALL DATA'!J317","v":"N/A"},{"$f":"'RAINFALL DATA'!K317","v":"N/A"},{"$f":"'RAINFALL DATA'!L317","v":"N/A"},{"$f":"'RAINFALL DATA'!M317","v":"N/A"},{"$f":"'RAINFALL DATA'!N317","v":"N/A"},{"$f":"'RAINFALL DATA'!O317","v":"N/A"},{"$f":"'RAINFALL DATA'!P317","v":"N/A"},{"$f":"'RAINFALL DATA'!Q317","v":"N/A"},{"$f":"'RAINFALL DATA'!R317","v":"N/A"},{"$f":"'RAINFALL DATA'!S317","v":"N/A"}]
[null,null,null,null,null,null,null,null,null,null,null,null,null,null,{"$f":"'RAINFALL DATA'!H318","v":"N/A"},{"$f":"'RAINFALL DATA'!I318","v":"N/A"},{"$f":"'RAINFALL DATA'!J318","v":"N/A"},{"$f":"'RAINFALL DATA'!K318","v":"N/A"},{"$f":"'RAINFALL DATA'!L318","v":"N/A"},{"$f":"'RAINFALL DATA'!M318","v":"N/A"},{"$f":"'RAINFALL DATA'!N318","v":"N/A"},{"$f":"'RAINFALL DATA'!O318","v":"N/A"},{"$f":"'RAINFALL DATA'!P318","v":"N/A"},{"$f":"'RAINFALL DATA'!Q318","v":"N/A"},{"$f":"'RAINFALL DATA'!R318","v":"N/A"},{"$f":"'RAINFALL DATA'!S318","v":"N/A"}]
[null,null,null,null,null,null,null,null,null,null,null,null,null,null,{"$f":"'RAINFALL DATA'!H319","v":"N/A"},{"$f":"'RAINFALL DATA'!I319","v":"N/A"},{"$f":"'RAINFALL DATA'!J319","v":"N/A"},{"$f":"'RAINFALL DATA'!K319","v":"N/A"},{"$f":"'RAINFALL DATA'!L319","v":"N/A"},{"$f":"'RAINFALL DATA'!M319","v":"N/A"},{"$f":"'RAINFALL DATA'!N319","v":"N/A"},{"$f":"'RAINFALL DATA'!O319","v":"N/A"},{"$f":"'RAINFALL DATA'!P319","v":"N/A"},{"$f":"'RAINFALL DATA'!Q319","v":"N/A"},{"$f":"'RAINFALL DATA'!R319","v":"N/A"},{"$f":"'RAINFALL DATA'!S319","v":"N/A"}]
[null,null,null,null,null,null,null,null,null,null,null,null,null,null,{"$f":"'RAINFALL DATA'!H320","v":"N/A"},{"$f":"'RAINFALL DATA'!I320","v":"N/A"},{"$f":"'RAINFALL DATA'!J320","v":"N/A"},{"$f":"'RAINFALL DATA'!K320","v":"N/A"},{"$f":"'RAINFALL DATA'!L320","v":"N/A"},{"$f":"'RAINFALL DATA'!M320","v":"N/A"},{"$f":"'RAINFALL DATA'!N320","v":"N/A"},{"$f":"'RAINFALL DATA'!O320","v":"N/A"},{"$f":"'RAINFALL DATA'!P320","v":"N/A"},{"$f":"'RAINFALL DATA'!Q320","v":"N/A"},{"$f":"'RAINFALL DATA'!R320","v":"N/A"},{"$f":"'RAINFALL DATA'!S320","v":"N/A"}]
[null,null,null,null,null,null,null,null,null,null,null,null,null,null,{"$f":"'RAINFALL DATA'!H321","v":"N/A"},{"$f":"'RAINFALL DATA'!I321","v":"N/A"},{"$f":"'RAINFALL DATA'!J321","v":"N/A"},{"$f":"'RAINFALL DATA'!K321","v":"N/A"},{"$f":"'RAINFALL DATA'!L321","v":"N/A"},{"$f":"'RAINFALL DATA'!M321","v":"N/A"},{"$f":"'RAINFALL DATA'!N321","v":"N/A"},{"$f":"'RAINFALL DATA'!O321","v":"N/A"},{"$f":"'RAINFALL DATA'!P321","v":"N/A"},{"$f":"'RAINFALL DATA'!Q321","v":"N/A"},{"$f":"'RAINFALL DATA'!R321","v":"N/A"},{"$f":"'RAINFALL DATA'!S321","v":"N/A"}]
[null,null,null,null,null,null,null,null,null,null,null,null,null,null,{"$f":"'RAINFALL DATA'!H322","v":"N/A"},{"$f":"'RAINFALL DATA'!I322","v":"N/A"},{"$f":"'RAINFALL DATA'!J322","v":"N/A"},{"$f":"'RAINFALL DATA'!K322","v":"N/A"},{"$f":"'RAINFALL DATA'!L322","v":"N/A"},{"$f":"'RAINFALL DATA'!M322","v":"N/A"},{"$f":"'RAINFALL DATA'!N322","v":"N/A"},{"$f":"'RAINFALL DATA'!O322","v":"N/A"},{"$f":"'RAINFALL DATA'!P322","v":"N/A"},{"$f":"'RAINFALL DATA'!Q322","v":"N/A"},{"$f":"'RAINFALL DATA'!R322","v":"N/A"},{"$f":"'RAINFALL DATA'!S322","v":"N/A"}]
[null,null,null,null,null,null,null,null,null,null,null,null,null,null,{"$f":"'RAINFALL DATA'!H323","v":"N/A"},{"$f":"'RAINFALL DATA'!I323","v":"N/A"},{"$f":"'RAINFALL DATA'!J323","v":"N/A"},{"$f":"'RAINFALL DATA'!K323","v":"N/A"},{"$f":"'RAINFALL DATA'!L323","v":"N/A"},{"$f":"'RAINFALL DATA'!M323","v":"N/A"},{"$f":"'RAINFALL DATA'!N323","v":"N/A"},{"$f":"'RAINFALL DATA'!O323","v":"N/A"},{"$f":"'RAINFALL DATA'!P323","v":"N/A"},{"$f":"'RAINFALL DATA'!Q323","v":"N/A"},{"$f":"'RAINFALL DATA'!R323","v":"N/A"},{"$f":"'RAINFALL DATA'!S323","v":"N/A"}]
[null,null,null,null,null,null,null,null,null,null,null,null,null,null,{"$f":"'RAINFALL DATA'!H324","v":"N/A"},{"$f":"'RAINFALL DATA'!I324","v":"N/A"},{"$f":"'RAINFALL DATA'!J324","v":"N/A"},{"$f":"'RAINFALL DATA'!K324","v":"N/A"},{"$f":"'RAINFALL DATA'!L324","v":"N/A"},{"$f":"'RAINFALL DATA'!M324","v":"N/A"},{"$f":"'RAINFALL DATA'!N324","v":"N/A"},{"$f":"'RAINFALL DATA'!O324","v":"N/A"},{"$f":"'RAINFALL DATA'!P324","v":"N/A"},{"$f":"'RAINFALL DATA'!Q324","v":"N/A"},{"$f":"'RAINFALL DATA'!R324","v":"N/A"},{"$f":"'RAINFALL DATA'!S324","v":"N/A"}]
[null,null,null,null,null,null,null,null,null,null,null,null,null,null,{"$f":"'RAINFALL DATA'!H325","v":"N/A"},{"$f":"'RAINFALL DATA'!I325","v":"N/A"},{"$f":"'RAINFALL DATA'!J325","v":"N/A"},{"$f":"'RAINFALL DATA'!K325","v":"N/A"},{"$f":"'RAINFALL DATA'!L325","v":"N/A"},{"$f":"'RAINFALL DATA'!M325","v":"N/A"},{"$f":"'RAINFALL DATA'!N325","v":"N/A"},{"$f":"'RAINFALL DATA'!O325","v":"N/A"},{"$f":"'RAINFALL DATA'!P325","v":"N/A"},{"$f":"'RAINFALL DATA'!Q325","v":"N/A"},{"$f":"'RAINFALL DATA'!R325","v":"N/A"},{"$f":"'RAINFALL DATA'!S325","v":"N/A"}]
[null,null,null,null,null,null,null,null,null,null,null,null,null,null,{"$f":"'RAINFALL DATA'!H326","v":"N/A"},{"$f":"'RAINFALL DATA'!I326","v":"N/A"},{"$f":"'RAINFALL DATA'!J326","v":"N/A"},{"$f":"'RAINFALL DATA'!K326","v":"N/A"},{"$f":"'RAINFALL DATA'!L326","v":"N/A"},{"$f":"'RAINFALL DATA'!M326","v":"N/A"},{"$f":"'RAINFALL DATA'!N326","v":"N/A"},{"$f":"'RAINFALL DATA'!O326","v":"N/A"},{"$f":"'RAINFALL DATA'!P326","v":"N/A"},{"$f":"'RAINFALL DATA'!Q326","v":"N/A"},{"$f":"'RAINFALL DATA'!R326","v":"N/A"},{"$f":"'RAINFALL DATA'!S326","v":"N/A"}]
[null,null,null,null,null,null,null,null,null,null,null,null,null,null,{"$f":"'RAINFALL DATA'!H327","v":"N/A"},{"$f":"'RAINFALL DATA'!I327","v":"N/A"},{"$f":"'RAINFALL DATA'!J327","v":"N/A"},{"$f":"'RAINFALL DATA'!K327","v":"N/A"},{"$f":"'RAINFALL DATA'!L327","v":"N/A"},{"$f":"'RAINFALL DATA'!M327","v":"N/A"},{"$f":"'RAINFALL DATA'!N327","v":"N/A"},{"$f":"'RAINFALL DATA'!O327","v":"N/A"},{"$f":"'RAINFALL DATA'!P327","v":"N/A"},{"$f":"'RAINFALL DATA'!Q327","v":"N/A"},{"$f":"'RAINFALL DATA'!R327","v":"N/A"},{"$f":"'RAINFALL DATA'!S327","v":"N/A"}]
[null,null,null,null,null,null,null,null,null,null,null,null,null,null,{"$f":"'RAINFALL DATA'!H328","v":"N/A"},{"$f":"'RAINFALL DATA'!I328","v":"N/A"},{"$f":"'RAINFALL DATA'!J328","v":"N/A"},{"$f":"'RAINFALL DATA'!K328","v":"N/A"},{"$f":"'RAINFALL DATA'!L328","v":"N/A"},{"$f":"'RAINFALL DATA'!M328","v":"N/A"},{"$f":"'RAINFALL DATA'!N328","v":"N/A"},{"$f":"'RAINFALL DATA'!O328","v":"N/A"},{"$f":"'RAINFALL DATA'!P328","v":"N/A"},{"$f":"'RAINFALL DATA'!Q328","v":"N/A"},{"$f":"'RAINFALL DATA'!R328","v":"N/A"},{"$f":"'RAINFALL DATA'!S328","v":"N/A"}]
[null,null,null,null,null,null,null,null,null,null,null,null,null,null,{"$f":"'RAINFALL DATA'!H329","v":"N/A"},{"$f":"'RAINFALL DATA'!I329","v":"N/A"},{"$f":"'RAINFALL DATA'!J329","v":"N/A"},{"$f":"'RAINFALL DATA'!K329","v":"N/A"},{"$f":"'RAINFALL DATA'!L329","v":"N/A"},{"$f":"'RAINFALL DATA'!M329","v":"N/A"},{"$f":"'RAINFALL DATA'!N329","v":"N/A"},{"$f":"'RAINFALL DATA'!O329","v":"N/A"},{"$f":"'RAINFALL DATA'!P329","v":"N/A"},{"$f":"'RAINFALL DATA'!Q329","v":"N/A"},{"$f":"'RAINFALL DATA'!R329","v":"N/A"},{"$f":"'RAINFALL DATA'!S329","v":"N/A"}]
[null,null,null,null,null,null,null,null,null,null,null,null,null,null,{"$f":"'RAINFALL DATA'!H330","v":"N/A"},{"$f":"'RAINFALL DATA'!I330","v":"N/A"},{"$f":"'RAINFALL DATA'!J330","v":"N/A"},{"$f":"'RAINFALL DATA'!K330","v":"N/A"},{"$f":"'RAINFALL DATA'!L330","v":"N/A"},{"$f":"'RAINFALL DATA'!M330","v":"N/A"},{"$f":"'RAINFALL DATA'!N330","v":"N/A"},{"$f":"'RAINFALL DATA'!O330","v":"N/A"},{"$f":"'RAINFALL DATA'!P330","v":"N/A"},{"$f":"'RAINFALL DATA'!Q330","v":"N/A"},{"$f":"'RAINFALL DATA'!R330","v":"N/A"},{"$f":"'RAINFALL DATA'!S330","v":"N/A"}]
[null,null,null,null,null,null,null,null,null,null,null,null,null,null,{"$f":"'RAINFALL DATA'!H331","v":"N/A"},{"$f":"'RAINFALL DATA'!I331","v":"N/A"},{"$f":"'RAINFALL DATA'!J331","v":"N/A"},{"$f":"'RAINFALL DATA'!K331","v":"N/A"},{"$f":"'RAINFALL DATA'!L331","v":"N/A"},{"$f":"'RAINFALL DATA'!M331","v":"N/A"},{"$f":"'RAINFALL DATA'!N331","v":"N/A"},{"$f":"'RAINFALL DATA'!O331","v":"N/A"},{"$f":"'RAINFALL DATA'!P331","v":"N/A"},{"$f":"'RAINFALL DATA'!Q331","v":"N/A"},{"$f":"'RAINFALL DATA'!R331","v":"N/A"},{"$f":"'RAINFALL DATA'!S331","v":"N/A"}]
[null,null,null,null,null,null,null,null,null,null,null,null,null,null,{"$f":"'RAINFALL DATA'!H332","v":"N/A"},{"$f":"'RAINFALL DATA'!I332","v":"N/A"},{"$f":"'RAINFALL DATA'!J332","v":"N/A"},{"$f":"'RAINFALL DATA'!K332","v":"N/A"},{"$f":"'RAINFALL DATA'!L332","v":"N/A"},{"$f":"'RAINFALL DATA'!M332","v":"N/A"},{"$f":"'RAINFALL DATA'!N332","v":"N/A"},{"$f":"'RAINFALL DATA'!O332","v":"N/A"},{"$f":"'RAINFALL DATA'!P332","v":"N/A"},{"$f":"'RAINFALL DATA'!Q332","v":"N/A"},{"$f":"'RAINFALL DATA'!R332","v":"N/A"},{"$f":"'RAINFALL DATA'!S332","v":"N/A"}]
[null,null,null,null,null,null,null,null,null,null,null,null,null,null,{"$f":"'RAINFALL DATA'!H333","v":"N/A"},{"$f":"'RAINFALL DATA'!I333","v":"N/A"},{"$f":"'RAINFALL DATA'!J333","v":"N/A"},{"$f":"'RAINFALL DATA'!K333","v":"N/A"},{"$f":"'RAINFALL DATA'!L333","v":"N/A"},{"$f":"'RAINFALL DATA'!M333","v":"N/A"},{"$f":"'RAINFALL DATA'!N333","v":"N/A"},{"$f":"'RAINFALL DATA'!O333","v":"N/A"},{"$f":"'RAINFALL DATA'!P333","v":"N/A"},{"$f":"'RAINFALL DATA'!Q333","v":"N/A"},{"$f":"'RAINFALL DATA'!R333","v":"N/A"},{"$f":"'RAINFALL DATA'!S333","v":"N/A"}]
[null,null,null,null,null,null,null,null,null,null,null,null,null,null,{"$f":"'RAINFALL DATA'!H334","v":"N/A"},{"$f":"'RAINFALL DATA'!I334","v":"N/A"},{"$f":"'RAINFALL DATA'!J334","v":"N/A"},{"$f":"'RAINFALL DATA'!K334","v":"N/A"},{"$f":"'RAINFALL DATA'!L334","v":"N/A"},{"$f":"'RAINFALL DATA'!M334","v":"N/A"},{"$f":"'RAINFALL DATA'!N334","v":"N/A"},{"$f":"'RAINFALL DATA'!O334","v":"N/A"},{"$f":"'RAINFALL DATA'!P334","v":"N/A"},{"$f":"'RAINFALL DATA'!Q334","v":"N/A"},{"$f":"'RAINFALL DATA'!R334","v":"N/A"},{"$f":"'RAINFALL DATA'!S334","v":"N/A"}]
[null,null,null,null,null,null,null,null,null,null,null,null,null,null,{"$f":"'RAINFALL DATA'!H335","v":"N/A"},{"$f":"'RAINFALL DATA'!I335","v":"N/A"},{"$f":"'RAINFALL DATA'!J335","v":"N/A"},{"$f":"'RAINFALL DATA'!K335","v":"N/A"},{"$f":"'RAINFALL DATA'!L335","v":"N/A"},{"$f":"'RAINFALL DATA'!M335","v":"N/A"},{"$f":"'RAINFALL DATA'!N335","v":"N/A"},{"$f":"'RAINFALL DATA'!O335","v":"N/A"},{"$f":"'RAINFALL DATA'!P335","v":"N/A"},{"$f":"'RAINFALL DATA'!Q335","v":"N/A"},{"$f":"'RAINFALL DATA'!R335","v":"N/A"},{"$f":"'RAINFALL DATA'!S335","v":"N/A"}]
[null,null,null,null,null,null,null,null,null,null,null,null,null,null,{"$f":"'RAINFALL DATA'!H336","v":"N/A"},{"$f":"'RAINFALL DATA'!I336","v":"N/A"},{"$f":"'RAINFALL DATA'!J336","v":"N/A"},{"$f":"'RAINFALL DATA'!K336","v":"N/A"},{"$f":"'RAINFALL DATA'!L336","v":"N/A"},{"$f":"'RAINFALL DATA'!M336","v":"N/A"},{"$f":"'RAINFALL DATA'!N336","v":"N/A"},{"$f":"'RAINFALL DATA'!O336","v":"N/A"},{"$f":"'RAINFALL DATA'!P336","v":"N/A"},{"$f":"'RAINFALL DATA'!Q336","v":"N/A"},{"$f":"'RAINFALL DATA'!R336","v":"N/A"},{"$f":"'RAINFALL DATA'!S336","v":"N/A"}]
[null,null,null,null,null,null,null,null,null,null,null,null,null,null,{"$f":"'RAINFALL DATA'!H337","v":"N/A"},{"$f":"'RAINFALL DATA'!I337","v":"N/A"},{"$f":"'RAINFALL DATA'!J337","v":"N/A"},{"$f":"'RAINFALL DATA'!K337","v":"N/A"},{"$f":"'RAINFALL DATA'!L337","v":"N/A"},{"$f":"'RAINFALL DATA'!M337","v":"N/A"},{"$f":"'RAINFALL DATA'!N337","v":"N/A"},{"$f":"'RAINFALL DATA'!O337","v":"N/A"},{"$f":"'RAINFALL DATA'!P337","v":"N/A"},{"$f":"'RAINFALL DATA'!Q337","v":"N/A"},{"$f":"'RAINFALL DATA'!R337","v":"N/A"},{"$f":"'RAINFALL DATA'!S337","v":"N/A"}]
[null,null,null,null,null,null,null,null,null,null,null,null,null,null,{"$f":"'RAINFALL DATA'!H338","v":"N/A"},{"$f":"'RAINFALL DATA'!I338","v":"N/A"},{"$f":"'RAINFALL DATA'!J338","v":"N/A"},{"$f":"'RAINFALL DATA'!K338","v":"N/A"},{"$f":"'RAINFALL DATA'!L338","v":"N/A"},{"$f":"'RAINFALL DATA'!M338","v":"N/A"},{"$f":"'RAINFALL DATA'!N338","v":"N/A"},{"$f":"'RAINFALL DATA'!O338","v":"N/A"},{"$f":"'RAINFALL DATA'!P338","v":"N/A"},{"$f":"'RAINFALL DATA'!Q338","v":"N/A"},{"$f":"'RAINFALL DATA'!R338","v":"N/A"},{"$f":"'RAINFALL DATA'!S338","v":"N/A"}]
[null,null,null,null,null,null,null,null,null,null,null,null,null,null,{"$f":"'RAINFALL DATA'!H339","v":"N/A"},{"$f":"'RAINFALL DATA'!I339","v":"N/A"},{"$f":"'RAINFALL DATA'!J339","v":"N/A"},{"$f":"'RAINFALL DATA'!K339","v":"N/A"},{"$f":"'RAINFALL DATA'!L339","v":"N/A"},{"$f":"'RAINFALL DATA'!M339","v":"N/A"},{"$f":"'RAINFALL DATA'!N339","v":"N/A"},{"$f":"'RAINFALL DATA'!O339","v":"N/A"},{"$f":"'RAINFALL DATA'!P339","v":"N/A"},{"$f":"'RAINFALL DATA'!Q339","v":"N/A"},{"$f":"'RAINFALL DATA'!R339","v":"N/A"},{"$f":"'RAINFALL DATA'!S339","v":"N/A"}]
[null,null,null,null,null,null,null,null,null,null,null,null,null,null,{"$f":"'RAINFALL DATA'!H340","v":"N/A"},{"$f":"'RAINFALL DATA'!I340","v":"N/A"},{"$f":"'RAINFALL DATA'!J340","v":"N/A"},{"$f":"'RAINFALL DATA'!K340","v":"N/A"},{"$f":"'RAINFALL DATA'!L340","v":"N/A"},{"$f":"'RAINFALL DATA'!M340","v":"N/A"},{"$f":"'RAINFALL DATA'!N340","v":"N/A"},{"$f":"'RAINFALL DATA'!O340","v":"N/A"},{"$f":"'RAINFALL DATA'!P340","v":"N/A"},{"$f":"'RAINFALL DATA'!Q340","v":"N/A"},{"$f":"'RAINFALL DATA'!R340","v":"N/A"},{"$f":"'RAINFALL DATA'!S340","v":"N/A"}]
[null,null,null,null,null,null,null,null,null,null,null,null,null,null,{"$f":"'RAINFALL DATA'!H341","v":"N/A"},{"$f":"'RAINFALL DATA'!I341","v":"N/A"},{"$f":"'RAINFALL DATA'!J341","v":"N/A"},{"$f":"'RAINFALL DATA'!K341","v":"N/A"},{"$f":"'RAINFALL DATA'!L341","v":"N/A"},{"$f":"'RAINFALL DATA'!M341","v":"N/A"},{"$f":"'RAINFALL DATA'!N341","v":"N/A"},{"$f":"'RAINFALL DATA'!O341","v":"N/A"},{"$f":"'RAINFALL DATA'!P341","v":"N/A"},{"$f":"'RAINFALL DATA'!Q341","v":"N/A"},{"$f":"'RAINFALL DATA'!R341","v":"N/A"},{"$f":"'RAINFALL DATA'!S341","v":"N/A"}]
[null,null,null,null,null,null,null,null,null,null,null,null,null,null,{"$f":"'RAINFALL DATA'!H342","v":"N/A"},{"$f":"'RAINFALL DATA'!I342","v":"N/A"},{"$f":"'RAINFALL DATA'!J342","v":"N/A"},{"$f":"'RAINFALL DATA'!K342","v":"N/A"},{"$f":"'RAINFALL DATA'!L342","v":"N/A"},{"$f":"'RAINFALL DATA'!M342","v":"N/A"},{"$f":"'RAINFALL DATA'!N342","v":"N/A"},{"$f":"'RAINFALL DATA'!O342","v":"N/A"},{"$f":"'RAINFALL DATA'!P342","v":"N/A"},{"$f":"'RAINFALL DATA'!Q342","v":"N/A"},{"$f":"'RAINFALL DATA'!R342","v":"N/A"},{"$f":"'RAINFALL DATA'!S342","v":"N/A"}]
[null,null,null,null,null,null,null,null,null,null,null,null,null,null,{"$f":"'RAINFALL DATA'!H343","v":"N/A"},{"$f":"'RAINFALL DATA'!I343","v":"N/A"},{"$f":"'RAINFALL DATA'!J343","v":"N/A"},{"$f":"'RAINFALL DATA'!K343","v":"N/A"},{"$f":"'RAINFALL DATA'!L343","v":"N/A"},{"$f":"'RAINFALL DATA'!M343","v":"N/A"},{"$f":"'RAINFALL DATA'!N343","v":"N/A"},{"$f":"'RAINFALL DATA'!O343","v":"N/A"},{"$f":"'RAINFALL DATA'!P343","v":"N/A"},{"$f":"'RAINFALL DATA'!Q343","v":"N/A"},{"$f":"'RAINFALL DATA'!R343","v":"N/A"},{"$f":"'RAINFALL DATA'!S343","v":"N/A"}]
[null,null,null,null,null,null,null,null,null,null,null,null,null,null,{"$f":"'RAINFALL DATA'!H344","v":"N/A"},{"$f":"'RAINFALL DATA'!I344","v":"N/A"},{"$f":"'RAINFALL DATA'!J344","v":"N/A"},{"$f":"'RAINFALL DATA'!K344","v":"N/A"},{"$f":"'RAINFALL DATA'!L344","v":"N/A"},{"$f":"'RAINFALL DATA'!M344","v":"N/A"},{"$f":"'RAINFALL DATA'!N344","v":"N/A"},{"$f":"'RAINFALL DATA'!O344","v":"N/A"},{"$f":"'RAINFALL DATA'!P344","v":"N/A"},{"$f":"'RAINFALL DATA'!Q344","v":"N/A"},{"$f":"'RAINFALL DATA'!R344","v":"N/A"},{"$f":"'RAINFALL DATA'!S344","v":"N/A"}]
[null,null,null,null,null,null,null,null,null,null,null,null,null,null,{"$f":"'RAINFALL DATA'!H345","v":"N/A"},{"$f":"'RAINFALL DATA'!I345","v":"N/A"},{"$f":"'RAINFALL DATA'!J345","v":"N/A"},{"$f":"'RAINFALL DATA'!K345","v":"N/A"},{"$f":"'RAINFALL DATA'!L345","v":"N/A"},{"$f":"'RAINFALL DATA'!M345","v":"N/A"},{"$f":"'RAINFALL DATA'!N345","v":"N/A"},{"$f":"'RAINFALL DATA'!O345","v":"N/A"},{"$f":"'RAINFALL DATA'!P345","v":"N/A"},{"$f":"'RAINFALL DATA'!Q345","v":"N/A"},{"$f":"'RAINFALL DATA'!R345","v":"N/A"},{"$f":"'RAINFALL DATA'!S345","v":"N/A"}]
[null,null,null,null,null,null,null,null,null,null,null,null,null,null,{"$f":"'RAINFALL DATA'!H346","v":"N/A"},{"$f":"'RAINFALL DATA'!I346","v":"N/A"},{"$f":"'RAINFALL DATA'!J346","v":"N/A"},{"$f":"'RAINFALL DATA'!K346","v":"N/A"},{"$f":"'RAINFALL DATA'!L346","v":"N/A"},{"$f":"'RAINFALL DATA'!M346","v":"N/A"},{"$f":"'RAINFALL DATA'!N346","v":"N/A"},{"$f":"'RAINFALL DATA'!O346","v":"N/A"},{"$f":"'RAINFALL DATA'!P346","v":"N/A"},{"$f":"'RAINFALL DATA'!Q346","v":"N/A"},{"$f":"'RAINFALL DATA'!R346","v":"N/A"},{"$f":"'RAINFALL DATA'!S346","v":"N/A"}]
[null,null,null,null,null,null,null,null,null,null,null,null,null,null,{"$f":"'RAINFALL DATA'!H347","v":"N/A"},{"$f":"'RAINFALL DATA'!I347","v":"N/A"},{"$f":"'RAINFALL DATA'!J347","v":"N/A"},{"$f":"'RAINFALL DATA'!K347","v":"N/A"},{"$f":"'RAINFALL DATA'!L347","v":"N/A"},{"$f":"'RAINFALL DATA'!M347","v":"N/A"},{"$f":"'RAINFALL DATA'!N347","v":"N/A"},{"$f":"'RAINFALL DATA'!O347","v":"N/A"},{"$f":"'RAINFALL DATA'!P347","v":"N/A"},{"$f":"'RAINFALL DATA'!Q347","v":"N/A"},{"$f":"'RAINFALL DATA'!R347","v":"N/A"},{"$f":"'RAINFALL DATA'!S347","v":"N/A"}]
[null,null,null,null,null,null,null,null,null,null,null,null,null,null,{"$f":"'RAINFALL DATA'!H348","v":"N/A"},{"$f":"'RAINFALL DATA'!I348","v":"N/A"},{"$f":"'RAINFALL DATA'!J348","v":"N/A"},{"$f":"'RAINFALL DATA'!K348","v":"N/A"},{"$f":"'RAINFALL DATA'!L348","v":"N/A"},{"$f":"'RAINFALL DATA'!M348","v":"N/A"},{"$f":"'RAINFALL DATA'!N348","v":"N/A"},{"$f":"'RAINFALL DATA'!O348","v":"N/A"},{"$f":"'RAINFALL DATA'!P348","v":"N/A"},{"$f":"'RAINFALL DATA'!Q348","v":"N/A"},{"$f":"'RAINFALL DATA'!R348","v":"N/A"},{"$f":"'RAINFALL DATA'!S348","v":"N/A"}]
[null,null,null,null,null,null,null,null,null,null,null,null,null,null,{"$f":"'RAINFALL DATA'!H349","v":"N/A"},{"$f":"'RAINFALL DATA'!I349","v":"N/A"},{"$f":"'RAINFALL DATA'!J349","v":"N/A"},{"$f":"'RAINFALL DATA'!K349","v":"N/A"},{"$f":"'RAINFALL DATA'!L349","v":"N/A"},{"$f":"'RAINFALL DATA'!M349","v":"N/A"},{"$f":"'RAINFALL DATA'!N349","v":"N/A"},{"$f":"'RAINFALL DATA'!O349","v":"N/A"},{"$f":"'RAINFALL DATA'!P349","v":"N/A"},{"$f":"'RAINFALL DATA'!Q349","v":"N/A"},{"$f":"'RAINFALL DATA'!R349","v":"N/A"},{"$f":"'RAINFALL DATA'!S349","v":"N/A"}]
[null,null,null,null,null,null,null,null,null,null,null,null,null,null,{"$f":"'RAINFALL DATA'!H350","v":"N/A"},{"$f":"'RAINFALL DATA'!I350","v":"N/A"},{"$f":"'RAINFALL DATA'!J350","v":"N/A"},{"$f":"'RAINFALL DATA'!K350","v":"N/A"},{"$f":"'RAINFALL DATA'!L350","v":"N/A"},{"$f":"'RAINFALL DATA'!M350","v":"N/A"},{"$f":"'RAINFALL DATA'!N350","v":"N/A"},{"$f":"'RAINFALL DATA'!O350","v":"N/A"},{"$f":"'RAINFALL DATA'!P350","v":"N/A"},{"$f":"'RAINFALL DATA'!Q350","v":"N/A"},{"$f":"'RAINFALL DATA'!R350","v":"N/A"},{"$f":"'RAINFALL DATA'!S350","v":"N/A"}]
[null,null,null,null,null,null,null,null,null,null,null,null,null,null,{"$f":"'RAINFALL DATA'!H351","v":"N/A"},{"$f":"'RAINFALL DATA'!I351","v":"N/A"},{"$f":"'RAINFALL DATA'!J351","v":"N/A"},{"$f":"'RAINFALL DATA'!K351","v":"N/A"},{"$f":"'RAINFALL DATA'!L351","v":"N/A"},{"$f":"'RAINFALL DATA'!M351","v":"N/A"},{"$f":"'RAINFALL DATA'!N351","v":"N/A"},{"$f":"'RAINFALL DATA'!O351","v":"N/A"},{"$f":"'RAINFALL DATA'!P351","v":"N/A"},{"$f":"'RAINFALL DATA'!Q351","v":"N/A"},{"$f":"'RAINFALL DATA'!R351","v":"N/A"},{"$f":"'RAINFALL DATA'!S351","v":"N/A"}]
[null,null,null,null,null,null,null,null,null,null,null,null,null,null,{"$f":"'RAINFALL DATA'!H352","v":"N/A"},{"$f":"'RAINFALL DATA'!I352","v":"N/A"},{"$f":"'RAINFALL DATA'!J352","v":"N/A"},{"$f":"'RAINFALL DATA'!K352","v":"N/A"},{"$f":"'RAINFALL DATA'!L352","v":"N/A"},{"$f":"'RAINFALL DATA'!M352","v":"N/A"},{"$f":"'RAINFALL DATA'!N352","v":"N/A"},{"$f":"'RAINFALL DATA'!O352","v":"N/A"},{"$f":"'RAINFALL DATA'!P352","v":"N/A"},{"$f":"'RAINFALL DATA'!Q352","v":"N/A"},{"$f":"'RAINFALL DATA'!R352","v":"N/A"},{"$f":"'RAINFALL DATA'!S352","v":"N/A"}]
[null,null,null,null,null,null,null,null,null,null,null,null,null,null,{"$f":"'RAINFALL DATA'!H353","v":"N/A"},{"$f":"'RAINFALL DATA'!I353","v":"N/A"},{"$f":"'RAINFALL DATA'!J353","v":"N/A"},{"$f":"'RAINFALL DATA'!K353","v":"N/A"},{"$f":"'RAINFALL DATA'!L353","v":"N/A"},{"$f":"'RAINFALL DATA'!M353","v":"N/A"},{"$f":"'RAINFALL DATA'!N353","v":"N/A"},{"$f":"'RAINFALL DATA'!O353","v":"N/A"},{"$f":"'RAINFALL DATA'!P353","v":"N/A"},{"$f":"'RAINFALL DATA'!Q353","v":"N/A"},{"$f":"'RAINFALL DATA'!R353","v":"N/A"},{"$f":"'RAINFALL DATA'!S353","v":"N/A"}]
[null,null,null,null,null,null,null,null,null,null,null,null,null,null,{"$f":"'RAINFALL DATA'!H354","v":"N/A"},{"$f":"'RAINFALL DATA'!I354","v":"N/A"},{"$f":"'RAINFALL DATA'!J354","v":"N/A"},{"$f":"'RAINFALL DATA'!K354","v":"N/A"},{"$f":"'RAINFALL DATA'!L354","v":"N/A"},{"$f":"'RAINFALL DATA'!M354","v":"N/A"},{"$f":"'RAINFALL DATA'!N354","v":"N/A"},{"$f":"'RAINFALL DATA'!O354","v":"N/A"},{"$f":"'RAINFALL DATA'!P354","v":"N/A"},{"$f":"'RAINFALL DATA'!Q354","v":"N/A"},{"$f":"'RAINFALL DATA'!R354","v":"N/A"},{"$f":"'RAINFALL DATA'!S354","v":"N/A"}]
[null,null,null,null,null,null,null,null,null,null,null,null,null,null,{"$f":"'RAINFALL DATA'!H355","v":"N/A"},{"$f":"'RAINFALL DATA'!I355","v":"N/A"},{"$f":"'RAINFALL DATA'!J355","v":"N/A"},{"$f":"'RAINFALL DATA'!K355","v":"N/A"},{"$f":"'RAINFALL DATA'!L355","v":"N/A"},{"$f":"'RAINFALL DATA'!M355","v":"N/A"},{"$f":"'RAINFALL DATA'!N355","v":"N/A"},{"$f":"'RAINFALL DATA'!O355","v":"N/A"},{"$f":"'RAINFALL DATA'!P355","v":"N/A"},{"$f":"'RAINFALL DATA'!Q355","v":"N/A"},{"$f":"'RAINFALL DATA'!R355","v":"N/A"},{"$f":"'RAINFALL DATA'!S355","v":"N/A"}]
[null,null,null,null,null,null,null,null,null,null,null,null,null,null,{"$f":"'RAINFALL DATA'!H356","v":"N/A"},{"$f":"'RAINFALL DATA'!I356","v":"N/A"},{"$f":"'RAINFALL DATA'!J356","v":"N/A"},{"$f":"'RAINFALL DATA'!K356","v":"N/A"},{"$f":"'RAINFALL DATA'!L356","v":"N/A"},{"$f":"'RAINFALL DATA'!M356","v":"N/A"},{"$f":"'RAINFALL DATA'!N356","v":"N/A"},{"$f":"'RAINFALL DATA'!O356","v":"N/A"},{"$f":"'RAINFALL DATA'!P356","v":"N/A"},{"$f":"'RAINFALL DATA'!Q356","v":"N/A"},{"$f":"'RAINFALL DATA'!R356","v":"N/A"},{"$f":"'RAINFALL DATA'!S356","v":"N/A"}]
[null,null,null,null,null,null,null,null,null,null,null,null,null,null,{"$f":"'RAINFALL DATA'!H357","v":"N/A"},{"$f":"'RAINFALL DATA'!I357","v":"N/A"},{"$f":"'RAINFALL DATA'!J357","v":"N/A"},{"$f":"'RAINFALL DATA'!K357","v":"N/A"},{"$f":"'RAINFALL DATA'!L357","v":"N/A"},{"$f":"'RAINFALL DATA'!M357","v":"N/A"},{"$f":"'RAINFALL DATA'!N357","v":"N/A"},{"$f":"'RAINFALL DATA'!O357","v":"N/A"},{"$f":"'RAINFALL DATA'!P357","v":"N/A"},{"$f":"'RAINFALL DATA'!Q357","v":"N/A"},{"$f":"'RAINFALL DATA'!R357","v":"N/A"},{"$f":"'RAINFALL DATA'!S357","v":"N/A"}]
[null,null,null,null,null,null,null,null,null,null,null,null,null,null,{"$f":"'RAINFALL DATA'!H358","v":"N/A"},{"$f":"'RAINFALL DATA'!I358","v":"N/A"},{"$f":"'RAINFALL DATA'!J358","v":"N/A"},{"$f":"'RAINFALL DATA'!K358","v":"N/A"},{"$f":"'RAINFALL DATA'!L358","v":"N/A"},{"$f":"'RAINFALL DATA'!M358","v":"N/A"},{"$f":"'RAINFALL DATA'!N358","v":"N/A"},{"$f":"'RAINFALL DATA'!O358","v":"N/A"},{"$f":"'RAINFALL DATA'!P358","v":"N/A"},{"$f":"'RAINFALL DATA'!Q358","v":"N/A"},{"$f":"'RAINFALL DATA'!R358","v":"N/A"},{"$f":"'RAINFALL DATA'!S358","v":"N/A"}]
[null,null,null,null,null,null,null,null,null,null,null,null,null,null,{"$f":"'RAINFALL DATA'!H359","v":"N/A"},{"$f":"'RAINFALL DATA'!I359","v":"N/A"},{"$f":"'RAINFALL DATA'!J359","v":"N/A"},{"$f":"'RAINFALL DATA'!K359","v":"N/A"},{"$f":"'RAINFALL DATA'!L359","v":"N/A"},{"$f":"'RAINFALL DATA'!M359","v":"N/A"},{"$f":"'RAINFALL DATA'!N359","v":"N/A"},{"$f":"'RAINFALL DATA'!O359","v":"N/A"},{"$f":"'RAINFALL DATA'!P359","v":"N/A"},{"$f":"'RAINFALL DATA'!Q359","v":"N/A"},{"$f":"'RAINFALL DATA'!R359","v":"N/A"},{"$f":"'RAINFALL DATA'!S359","v":"N/A"}]
[null,null,null,null,null,null,null,null,null,null,null,null,null,null,{"$f":"'RAINFALL DATA'!H360","v":"N/A"},{"$f":"'RAINFALL DATA'!I360","v":"N/A"},{"$f":"'RAINFALL DATA'!J360","v":"N/A"},{"$f":"'RAINFALL DATA'!K360","v":"N/A"},{"$f":"'RAINFALL DATA'!L360","v":"N/A"},{"$f":"'RAINFALL DATA'!M360","v":"N/A"},{"$f":"'RAINFALL DATA'!N360","v":"N/A"},{"$f":"'RAINFALL DATA'!O360","v":"N/A"},{"$f":"'RAINFALL DATA'!P360","v":"N/A"},{"$f":"'RAINFALL DATA'!Q360","v":"N/A"},{"$f":"'RAINFALL DATA'!R360","v":"N/A"},{"$f":"'RAINFALL DATA'!S360","v":"N/A"}]
[null,null,null,null,null,null,null,null,null,null,null,null,null,null,{"$f":"'RAINFALL DATA'!H361","v":"N/A"},{"$f":"'RAINFALL DATA'!I361","v":"N/A"},{"$f":"'RAINFALL DATA'!J361","v":"N/A"},{"$f":"'RAINFALL DATA'!K361","v":"N/A"},{"$f":"'RAINFALL DATA'!L361","v":"N/A"},{"$f":"'RAINFALL DATA'!M361","v":"N/A"},{"$f":"'RAINFALL DATA'!N361","v":"N/A"},{"$f":"'RAINFALL DATA'!O361","v":"N/A"},{"$f":"'RAINFALL DATA'!P361","v":"N/A"},{"$f":"'RAINFALL DATA'!Q361","v":"N/A"},{"$f":"'RAINFALL DATA'!R361","v":"N/A"},{"$f":"'RAINFALL DATA'!S361","v":"N/A"}]
[null,null,null,null,null,null,null,null,null,null,null,null,null,null,{"$f":"'RAINFALL DATA'!H362","v":"N/A"},{"$f":"'RAINFALL DATA'!I362","v":"N/A"},{"$f":"'RAINFALL DATA'!J362","v":"N/A"},{"$f":"'RAINFALL DATA'!K362","v":"N/A"},{"$f":"'RAINFALL DATA'!L362","v":"N/A"},{"$f":"'RAINFALL DATA'!M362","v":"N/A"},{"$f":"'RAINFALL DATA'!N362","v":"N/A"},{"$f":"'RAINFALL DATA'!O362","v":"N/A"},{"$f":"'RAINFALL DATA'!P362","v":"N/A"},{"$f":"'RAINFALL DATA'!Q362","v":"N/A"},{"$f":"'RAINFALL DATA'!R362","v":"N/A"},{"$f":"'RAINFALL DATA'!S362","v":"N/A"}]
[null,null,null,null,null,null,null,null,null,null,null,null,null,null,{"$f":"'RAINFALL DATA'!H363","v":"N/A"},{"$f":"'RAINFALL DATA'!I363","v":"N/A"},{"$f":"'RAINFALL DATA'!J363","v":"N/A"},{"$f":"'RAINFALL DATA'!K363","v":"N/A"},{"$f":"'RAINFALL DATA'!L363","v":"N/A"},{"$f":"'RAINFALL DATA'!M363","v":"N/A"},{"$f":"'RAINFALL DATA'!N363","v":"N/A"},{"$f":"'RAINFALL DATA'!O363","v":"N/A"},{"$f":"'RAINFALL DATA'!P363","v":"N/A"},{"$f":"'RAINFALL DATA'!Q363","v":"N/A"},{"$f":"'RAINFALL DATA'!R363","v":"N/A"},{"$f":"'RAINFALL DATA'!S363","v":"N/A"}]
[null,null,null,null,null,null,null,null,null,null,null,null,null,null,{"$f":"'RAINFALL DATA'!H364","v":"N/A"},{"$f":"'RAINFALL DATA'!I364","v":"N/A"},{"$f":"'RAINFALL DATA'!J364","v":"N/A"},{"$f":"'RAINFALL DATA'!K364","v":"N/A"},{"$f":"'RAINFALL DATA'!L364","v":"N/A"},{"$f":"'RAINFALL DATA'!M364","v":"N/A"},{"$f":"'RAINFALL DATA'!N364","v":"N/A"},{"$f":"'RAINFALL DATA'!O364","v":"N/A"},{"$f":"'RAINFALL DATA'!P364","v":"N/A"},{"$f":"'RAINFALL DATA'!Q364","v":"N/A"},{"$f":"'RAINFALL DATA'!R364","v":"N/A"},{"$f":"'RAINFALL DATA'!S364","v":"N/A"}]
[null,null,null,null,null,null,null,null,null,null,null,null,null,null,{"$f":"'RAINFALL DATA'!H365","v":"N/A"},{"$f":"'RAINFALL DATA'!I365","v":"N/A"},{"$f":"'RAINFALL DATA'!J365","v":"N/A"},{"$f":"'RAINFALL DATA'!K365","v":"N/A"},{"$f":"'RAINFALL DATA'!L365","v":"N/A"},{"$f":"'RAINFALL DATA'!M365","v":"N/A"},{"$f":"'RAINFALL DATA'!N365","v":"N/A"},{"$f":"'RAINFALL DATA'!O365","v":"N/A"},{"$f":"'RAINFALL DATA'!P365","v":"N/A"},{"$f":"'RAINFALL DATA'!Q365","v":"N/A"},{"$f":"'RAINFALL DATA'!R365","v":"N/A"},{"$f":"'RAINFALL DATA'!S365","v":"N/A"}]
[null,null,null,null,null,null,null,null,null,null,null,null,null,null,{"$f":"'RAINFALL DATA'!H366","v":"N/A"},{"$f":"'RAINFALL DATA'!I366","v":"N/A"},{"$f":"'RAINFALL DATA'!J366","v":"N/A"},{"$f":"'RAINFALL DATA'!K366","v":"N/A"},{"$f":"'RAINFALL DATA'!L366","v":"N/A"},{"$f":"'RAINFALL DATA'!M366","v":"N/A"},{"$f":"'RAINFALL DATA'!N366","v":"N/A"},{"$f":"'RAINFALL DATA'!O366","v":"N/A"},{"$f":"'RAINFALL DATA'!P366","v":"N/A"},{"$f":"'RAINFALL DATA'!Q366","v":"N/A"},{"$f":"'RAINFALL DATA'!R366","v":"N/A"},{"$f":"'RAINFALL DATA'!S366","v":"N/A"}]
[null,null,null,null,null,null,null,null,null,null,null,null,null,null,{"$f":"'RAINFALL DATA'!H367","v":"N/A"},{"$f":"'RAINFALL DATA'!I367","v":"N/A"},{"$f":"'RAINFALL DATA'!J367","v":"N/A"},{"$f":"'RAINFALL DATA'!K367","v":"N/A"},{"$f":"'RAINFALL DATA'!L367","v":"N/A"},{"$f":"'RAINFALL DATA'!M367","v":"N/A"},{"$f":"'RAINFALL DATA'!N367","v":"N/A"},{"$f":"'RAINFALL DATA'!O367","v":"N/A"},{"$f":"'RAINFALL DATA'!P367","v":"N/A"},{"$f":"'RAINFALL DATA'!Q367","v":"N/A"},{"$f":"'RAINFALL DATA'!R367","v":"N/A"},{"$f":"'RAINFALL DATA'!S367","v":"N/A"}]
[null,null,null,null,null,null,null,null,null,null,null,null,null,null,{"$f":"'RAINFALL DATA'!H368","v":"N/A"},{"$f":"'RAINFALL DATA'!I368","v":"N/A"},{"$f":"'RAINFALL DATA'!J368","v":"N/A"},{"$f":"'RAINFALL DATA'!K368","v":"N/A"},{"$f":"'RAINFALL DATA'!L368","v":"N/A"},{"$f":"'RAINFALL DATA'!M368","v":"N/A"},{"$f":"'RAINFALL DATA'!N368","v":"N/A"},{"$f":"'RAINFALL DATA'!O368","v":"N/A"},{"$f":"'RAINFALL DATA'!P368","v":"N/A"},{"$f":"'RAINFALL DATA'!Q368","v":"N/A"},{"$f":"'RAINFALL DATA'!R368","v":"N/A"},{"$f":"'RAINFALL DATA'!S368","v":"N/A"}]
[null,null,null,null,null,null,null,null,null,null,null,null,null,null,{"$f":"'RAINFALL DATA'!H369","v":"N/A"},{"$f":"'RAINFALL DATA'!I369","v":"N/A"},{"$f":"'RAINFALL DATA'!J369","v":"N/A"},{"$f":"'RAINFALL DATA'!K369","v":"N/A"},{"$f":"'RAINFALL DATA'!L369","v":"N/A"},{"$f":"'RAINFALL DATA'!M369","v":"N/A"},{"$f":"'RAINFALL DATA'!N369","v":"N/A"},{"$f":"'RAINFALL DATA'!O369","v":"N/A"},{"$f":"'RAINFALL DATA'!P369","v":"N/A"},{"$f":"'RAINFALL DATA'!Q369","v":"N/A"},{"$f":"'RAINFALL DATA'!R369","v":"N/A"},{"$f":"'RAINFALL DATA'!S369","v":"N/A"}]

{"sheet":"SWIMMING POOL","index":6,"n_rows":35,"n_cols":65,"rows_kept":35,"cut":false,"hidden":false,"merged":[[3,0,15,0],[17,5,17,6],[21,0,33,0]]}
["6. SWIMMING POOL",null,null,null,null,{"$f":"IF(AND('Potable Water Calculator'!H32=\"No\"),\"THE PROJECT TEAM HAS INDICATED THAT SWIMMING POOLS ARE NOT INCLUDED IN THE PROJECT, PLEASE PROCEED TO THE NEXT SECTION.\",\"\")","v":""}]
[]
[null,null,null,null,null,null,null,null,null,null,null,null,null,null,null,null,null,null,null,null,"PROPOSED POOL EVAPORATION",null,null,null,null,null,null,null,null,null,null,null,null,null,null,null,null,null,null,null,null,null,null,null,null,null,null,null,null,null,"PROPOSED POOL TDS BLEED",null,null,null,null,"LOOKUP TABLES"]
["Proposed Pools","Potable Water Consumption (L/day)",null,"Reference / Pool Name","Is the swimming pool indoor or outdoor?","What is the pool type?","Height above sea level (m)","Pool surface area (m²)","Pool volume (m³)","Pool water temperature setpoint (°C)","TDS bleed control type","Are the bathers encouraged to preshower?","Total pool open hours per day (0-24)","Does the pool use covers?","Pool hall temperature setpoint (°C)","Pool hall relative humidity setpoint (%)","Average outdoor temperature when pool is open (°C)","Average outdoor relative humidity when pool is open (%)",null,null,"Air temp for calcs","RH for calcs","Bathers","Altitude AtmoP","Magnus Dew Point",null,"satVap Pressure",null,null,null,"Humidity Ratio",null,"Specific Volume",null,null,null,"Water Density","Occ Evap",null,null,"Unnocc Evap",null,null,null,null,"Unocc covers Evap",null,"Max of occ and unocc","Total Evap",null,"TDS bleed baseline (%volume/day)","Control factor","preshowering factor","TDS Bleed (L/day)",null,"Evap",null,null,null,"Pool type",null,"Manual","Controlled","preshowering factor","Typical bather density"]
[null,{"$f":"IF(AND(ISNUMBER(BB5),ISNUMBER(AW5)),ROUND(SUM(AW5,BB5),-1),\"\")","v":""},null,null,null,null,null,null,null,null,null,null,null,null,null,null,15,0.5,null,null,{"$f":"IF($E5=$BF$6,IF(ISBLANK(O5),\"\",O5),IF(ISBLANK(Q5),\"\",Q5))","v":15},{"$f":"IF($E5=$BF$6,IF(ISBLANK(P5),\"\",P5),IF(ISBLANK(R5),\"\",R5))","v":0.5},{"$f":"ROUNDUP(INDEX($BM$5:$BM$10,MATCH(F5,$BH$5:$BH$10,0))*H5,0)","v":{"$error":"#N/A"}},{"$f":"101325*(1-2.25577*10^-5*G5)^5.25588","v":101325},{"$f":"LN(V5)+17.67*U5/(243.5+U5)","v":0.33219131073599295},{"$f":" 243.5*Y5/(17.67-Y5)","v":4.6654444984332102},{"$f":"IF(ISNUMBER(J5),J5+273.15,\"Need Temp\")","v":"Need Temp"},{"$f":"EXP(($BE$9/AA5)+$BE$10+$BE$11*AA5+$BE$12*AA5^2+$BE$13*AA5^3+$BE$14*LN(AA5))","v":{"$error":"#VALUE!"}},{"$f":"U5+273.15","v":288.14999999999998},{"$f":"V5*EXP(($BE$9/AC5)+$BE$10+$BE$11*AC5+$BE$12*AC5^2+$BE$13*AC5^3+$BE$14*LN(AC5))","v":852.72389722075866},{"$f":"(18.015268/28.966)*AB5/(X5-AB5)","v":{"$error":"#VALUE!"}},{"$f":"(18.015268/28.966)*AD5/(X5-AD5)","v":5.2785470142088014E-3},{"$f":"287.042*(J5+273.15)*(1+(1.607858*AE5))/X5","v":{"$error":"#VALUE!"}},{"$f":"287.042*(U5+273.15)*(1+(1.607858*AF5))/X5","v":0.82322363277398214},{"$f":"1/AG5","v":{"$error":"#VALUE!"}},{"$f":"1/AH5","v":1.2147367497581938},{"$f":"999.87/(1+0.0002*(J5))","v":999.87},{"$f":"AQ5*(1.9-21*(AJ5-AI5)+5.3*(W5/H5))","v":{"$error":"#VALUE!"}},{"$f":"AL5*H5","v":{"$error":"#VALUE!"}},{"$f":"(AM5/AK5)*1000","v":{"$error":"#VALUE!"}},{"$f":"$BE$5*AI5*(AJ5-AI5)^(1/3)*(AE5-AF5)","v":{"$error":"#VALUE!"}},{"$f":"$BE$6*(AB5-AD5)","v":{"$error":"#VALUE!"}},{"$f":"MAX(AO5,AP5)","v":{"$error":"#VALUE!"}},{"$f":"AQ5*H5","v":{"$error":"#VALUE!"}},{"$f":"(AR5/$AK$5)*1000","v":{"$error":"#VALUE!"}},{"$f":"AR5*0.1","v":{"$error":"#VALUE!"}},{"$f":"(AT5/$AK$5)*1000","v":{"$error":"#VALUE!"}},{"$f":"MAX(AN5,AS5)","v":{"$error":"#VALUE!"}},{"$f":"IF(N5=$BG$6,(M5*AV5+(24-M5)*AU5), (M5*AV5+(24-M5)*AS5))","v":{"$error":"#VALUE!"}},null,{"$f":"INDEX($BJ$5:$BJ$10,MATCH(F5,$BH$5:$BH$10,0))","v":{"$error":"#N/A"}},{"$f":"IF(K5=$BK$4,INDEX($BK$5:$BK$10,MATCH(F5,$BH$5:$BH$10,0)),0)","v":0},{"$f":"IF(L5=$BF$9,INDEX($BL$5:$BL$10,MATCH(F5,$BH$5:$BH$10,0)),0)","v":0},{"$f":"IF(K5=$BI$4,0,IF(ISNUMBER(I5),I5*1000*(AY5+AZ5+BA5),\"\"))","v":0},null,"C",35,"In/Out Check","Covers Check","Lap Pool",null,5.0000000000000001E-3,-2E-3,-2E-3,0.1]
[null,{"$f":"IF(AND(ISNUMBER(BB6),ISNUMBER(AW6)),ROUND(SUM(AW6,BB6),-1),\"\")","v":""},null,null,null,null,null,null,null,null,null,null,null,null,null,null,null,null,null,null,{"$f":"IF($E6=$BF$6,IF(ISBLANK(O6),\"\",O6),IF(ISBLANK(Q6),\"\",Q6))","v":""},"",{"$error":"#N/A"},101325,{"$error":"#VALUE!"},{"$f":" 243.5*Y6/(17.67-Y6)","v":{"$error":"#VALUE!"}},{"$f":"IF(ISNUMBER(J6),J6+273.15,\"Need Temp\")","v":"Need Temp"},{"$error":"#VALUE!"},{"$error":"#VALUE!"},{"$error":"#VALUE!"},{"$f":"(18.015268/28.966)*AB6/(X6-AB6)","v":{"$error":"#VALUE!"}},{"$f":"(18.015268/28.966)*AD6/(X6-AD6)","v":{"$error":"#VALUE!"}},{"$error":"#VALUE!"},{"$error":"#VALUE!"},{"$f":"1/AG6","v":{"$error":"#VALUE!"}},{"$f":"1/AH6","v":{"$error":"#VALUE!"}},999.87,{"$error":"#VALUE!"},{"$error":"#VALUE!"},{"$f":"(AM6/AK6)*1000","v":{"$error":"#VALUE!"}},{"$error":"#VALUE!"},{"$error":"#VALUE!"},{"$f":"MAX(AO6,AP6)","v":{"$error":"#VALUE!"}},{"$error":"#VALUE!"},{"$error":"#VALUE!"},{"$f":"AR6*0.1","v":{"$error":"#VALUE!"}},{"$error":"#VALUE!"},{"$f":"MAX(AN6,AS6)","v":{"$error":"#VALUE!"}},{"$f":"IF(N6=$BG$6,(M6*AV6+(24-M6)*AU6), (M6*AV6+(24-M6)*AS6))","v":{"$error":"#VALUE!"}},null,{"$f":"INDEX($BJ$5:$BJ$10,MATCH(F6,$BH$5:$BH$10,0))","v":{"$error":"#N/A"}},{"$f":"IF(K6=$BK$4,INDEX($BK$5:$BK$10,MATCH(F6,$BH$5:$BH$10,0)),0)","v":0},{"$f":"IF(L6=$BF$9,INDEX($BL$5:$BL$10,MATCH(F6,$BH$5:$BH$10,0)),0)","v":0},0,null,"b",5.0000000000000002E-5,"Indoor","Yes","Programmes Pool",null,0.1,-0.03,-0.04,0.2]
[null,{"$f":"IF(AND(ISNUMBER(BB7),ISNUMBER(AW7)),ROUND(SUM(AW7,BB7),-1),\"\")","v":""},null,null,null,null,null,null,null,null,null,null,null,null,null,null,null,null,null,null,"","",{"$error":"#N/A"},101325,{"$error":"#VALUE!"},{"$f":" 243.5*Y7/(17.67-Y7)","v":{"$error":"#VALUE!"}},"Need Temp",{"$error":"#VALUE!"},{"$error":"#VALUE!"},{"$error":"#VALUE!"},{"$f":"(18.015268/28.966)*AB7/(X7-AB7)","v":{"$error":"#VALUE!"}},{"$f":"(18.015268/28.966)*AD7/(X7-AD7)","v":{"$error":"#VALUE!"}},{"$error":"#VALUE!"},{"$error":"#VALUE!"},{"$f":"1/AG7","v":{"$error":"#VALUE!"}},{"$error":"#VALUE!"},999.87,{"$error":"#VALUE!"},{"$error":"#VALUE!"},{"$error":"#VALUE!"},{"$error":"#VALUE!"},{"$error":"#VALUE!"},{"$f":"MAX(AO7,AP7)","v":{"$error":"#VALUE!"}},{"$error":"#VALUE!"},{"$error":"#VALUE!"},{"$f":"AR7*0.1","v":{"$error":"#VALUE!"}},{"$error":"#VALUE!"},{"$error":"#VALUE!"},{"$error":"#VALUE!"},null,{"$error":"#N/A"},0,0,0,null,"hw_20C",2453.6,"Outdoor","No","Leisure Pool",null,0.1,-0.03,-0.04,0.2]
[null,{"$f":"IF(AND(ISNUMBER(BB8),ISNUMBER(AW8)),ROUND(SUM(AW8,BB8),-1),\"\")","v":""},null,null,null,null,null,null,null,null,null,null,null,null,null,null,null,null,null,null,"","",{"$error":"#N/A"},101325,{"$error":"#VALUE!"},{"$error":"#VALUE!"},"Need Temp",{"$error":"#VALUE!"},{"$error":"#VALUE!"},{"$error":"#VALUE!"},{"$error":"#VALUE!"},{"$error":"#VALUE!"},{"$error":"#VALUE!"},{"$error":"#VALUE!"},{"$error":"#VALUE!"},{"$error":"#VALUE!"},999.87,{"$error":"#VALUE!"},{"$error":"#VALUE!"},{"$error":"#VALUE!"},{"$error":"#VALUE!"},{"$error":"#VALUE!"},{"$error":"#VALUE!"},{"$error":"#VALUE!"},{"$error":"#VALUE!"},{"$error":"#VALUE!"},{"$error":"#VALUE!"},{"$error":"#VALUE!"},{"$error":"#VALUE!"},null,{"$error":"#N/A"},0,0,{"$f":"IF(K8=$BI$4,0,IF(ISNUMBER(I8),I8*1000*(AY8+AZ8+BA8),\"\"))","v":0},null,"hw_40C",2406,"Pre-wash Check",null,"Toddlers Pool",null,0.15,-0.03,-0.03,0.1]
[null,{"$f":"IF(AND(ISNUMBER(BB9),ISNUMBER(AW9)),ROUND(SUM(AW9,BB9),-1),\"\")","v":""},null,null,null,null,null,null,null,null,null,null,null,null,null,null,null,null,null,null,"","",{"$error":"#N/A"},101325,{"$error":"#VALUE!"},{"$error":"#VALUE!"},"Need Temp",{"$error":"#VALUE!"},{"$error":"#VALUE!"},{"$error":"#VALUE!"},{"$error":"#VALUE!"},{"$error":"#VALUE!"},{"$error":"#VALUE!"},{"$error":"#VALUE!"},{"$error":"#VALUE!"},{"$error":"#VALUE!"},999.87,{"$error":"#VALUE!"},{"$error":"#VALUE!"},{"$error":"#VALUE!"},{"$error":"#VALUE!"},{"$error":"#VALUE!"},{"$error":"#VALUE!"},{"$error":"#VALUE!"},{"$error":"#VALUE!"},{"$error":"#VALUE!"},{"$error":"#VALUE!"},{"$error":"#VALUE!"},{"$error":"#VALUE!"},null,{"$error":"#N/A"},0,0,0,null,"C8",{"$f":"-5.8002206*10^(3)","v":-5800.2206000000006},"Yes",null,"Spa Pool",null,0.2,-0.05,-0.05,0.2]
[null,"",null,null,null,null,null,null,null,null,null,null,null,null,null,null,null,null,null,null,"","",{"$error":"#N/A"},101325,{"$error":"#VALUE!"},{"$error":"#VALUE!"},"Need Temp",{"$error":"#VALUE!"},{"$error":"#VALUE!"},{"$error":"#VALUE!"},{"$error":"#VALUE!"},{"$error":"#VALUE!"},{"$error":"#VALUE!"},{"$error":"#VALUE!"},{"$error":"#VALUE!"},{"$error":"#VALUE!"},999.87,{"$error":"#VALUE!"},{"$error":"#VALUE!"},{"$error":"#VALUE!"},{"$error":"#VALUE!"},{"$error":"#VALUE!"},{"$error":"#VALUE!"},{"$error":"#VALUE!"},{"$error":"#VALUE!"},{"$error":"#VALUE!"},{"$error":"#VALUE!"},{"$error":"#VALUE!"},{"$error":"#VALUE!"},null,{"$error":"#N/A"},0,0,0,null,"C9",1.3914993,"No",null,"Dive Pool",null,0.01,-2.5000000000000001E-3,-2.5000000000000001E-3,0.05]
[null,"",null,null,null,null,null,null,null,null,null,null,null,null,null,null,null,null,null,null,"","",{"$error":"#N/A"},101325,{"$error":"#VALUE!"},{"$error":"#VALUE!"},"Need Temp",{"$error":"#VALUE!"},{"$error":"#VALUE!"},{"$error":"#VALUE!"},{"$error":"#VALUE!"},{"$error":"#VALUE!"},{"$error":"#VALUE!"},{"$error":"#VALUE!"},{"$error":"#VALUE!"},{"$error":"#VALUE!"},999.87,{"$error":"#VALUE!"},{"$error":"#VALUE!"},{"$error":"#VALUE!"},{"$error":"#VALUE!"},{"$error":"#VALUE!"},{"$error":"#VALUE!"},{"$error":"#VALUE!"},{"$error":"#VALUE!"},{"$error":"#VALUE!"},{"$error":"#VALUE!"},{"$error":"#VALUE!"},{"$error":"#VALUE!"},null,{"$error":"#N/A"},0,0,0,null,"C10",{"$f":"-4.8640239*10^(-2)","v":-4.8640239000000002E-2}]
[null,"",null,null,null,null,null,null,null,null,null,null,null,null,null,null,null,null,null,null,"","",{"$error":"#N/A"},101325,{"$error":"#VALUE!"},{"$error":"#VALUE!"},"Need Temp",{"$error":"#VALUE!"},{"$error":"#VALUE!"},{"$error":"#VALUE!"},{"$error":"#VALUE!"},{"$error":"#VALUE!"},{"$error":"#VALUE!"},{"$error":"#VALUE!"},{"$error":"#VALUE!"},{"$error":"#VALUE!"},999.87,{"$error":"#VALUE!"},{"$error":"#VALUE!"},{"$error":"#VALUE!"},{"$error":"#VALUE!"},{"$error":"#VALUE!"},{"$error":"#VALUE!"},{"$error":"#VALUE!"},{"$error":"#VALUE!"},{"$error":"#VALUE!"},{"$error":"#VALUE!"},{"$error":"#VALUE!"},{"$error":"#VALUE!"},null,{"$error":"#N/A"},0,0,0,null,"C11",{"$f":"4.1764768*10^(-5)","v":4.1764768000000003E-5}]
[null,"",null,null,null,null,null,null,null,null,null,null,null,null,null,null,null,null,null,null,"","",{"$error":"#N/A"},101325,{"$error":"#VALUE!"},{"$error":"#VALUE!"},"Need Temp",{"$error":"#VALUE!"},{"$error":"#VALUE!"},{"$error":"#VALUE!"},{"$error":"#VALUE!"},{"$error":"#VALUE!"},{"$error":"#VALUE!"},{"$error":"#VALUE!"},{"$error":"#VALUE!"},{"$error":"#VALUE!"},999.87,{"$error":"#VALUE!"},{"$error":"#VALUE!"},{"$error":"#VALUE!"},{"$error":"#VALUE!"},{"$error":"#VALUE!"},{"$error":"#VALUE!"},{"$error":"#VALUE!"},{"$error":"#VALUE!"},{"$error":"#VALUE!"},{"$error":"#VALUE!"},{"$error":"#VALUE!"},{"$error":"#VALUE!"},null,{"$error":"#N/A"},0,0,0,null,"C12",{"$f":"-1.4452093*10^(-8)","v":-1.4452092999999999E-8}]
[null,"",null,null,null,null,null,null,null,null,null,null,null,null,null,null,null,null,null,null,"","",{"$error":"#N/A"},101325,{"$error":"#VALUE!"},{"$error":"#VALUE!"},"Need Temp",{"$error":"#VALUE!"},{"$error":"#VALUE!"},{"$error":"#VALUE!"},{"$error":"#VALUE!"},{"$error":"#VALUE!"},{"$error":"#VALUE!"},{"$error":"#VALUE!"},{"$error":"#VALUE!"},{"$error":"#VALUE!"},999.87,{"$error":"#VALUE!"},{"$error":"#VALUE!"},{"$error":"#VALUE!"},{"$error":"#VALUE!"},{"$error":"#VALUE!"},{"$error":"#VALUE!"},{"$error":"#VALUE!"},{"$error":"#VALUE!"},{"$error":"#VALUE!"},{"$error":"#VALUE!"},{"$error":"#VALUE!"},{"$error":"#VALUE!"},null,{"$error":"#N/A"},0,0,0,null,"C13",6.5459673]
[null,"",null,null,null,null,null,null,null,null,null,null,null,null,null,null,null,null,null,null,"","",{"$error":"#N/A"},101325,{"$error":"#VALUE!"},{"$error":"#VALUE!"},"Need Temp",{"$error":"#VALUE!"},{"$error":"#VALUE!"},{"$error":"#VALUE!"},{"$error":"#VALUE!"},{"$error":"#VALUE!"},{"$error":"#VALUE!"},{"$error":"#VALUE!"},{"$error":"#VALUE!"},{"$error":"#VALUE!"},999.87,{"$error":"#VALUE!"},{"$error":"#VALUE!"},{"$error":"#VALUE!"},{"$error":"#VALUE!"},{"$error":"#VALUE!"},{"$error":"#VALUE!"},{"$error":"#VALUE!"},{"$error":"#VALUE!"},{"$error":"#VALUE!"},{"$error":"#VALUE!"},{"$error":"#VALUE!"},{"$error":"#VALUE!"},null,{"$error":"#N/A"},0,0,0]
[null,"",null,null,null,null,null,null,null,null,null,null,null,null,null,null,null,null,null,null,"","",{"$error":"#N/A"},101325,{"$error":"#VALUE!"},{"$f":" 243.5*Y16/(17.67-Y16)","v":{"$error":"#VALUE!"}},"Need Temp",{"$error":"#VALUE!"},{"$error":"#VALUE!"},{"$error":"#VALUE!"},{"$f":"(18.015268/28.966)*AB16/(X16-AB16)","v":{"$error":"#VALUE!"}},{"$f":"(18.015268/28.966)*AD16/(X16-AD16)","v":{"$error":"#VALUE!"}},{"$error":"#VALUE!"},{"$error":"#VALUE!"},{"$f":"1/AG16","v":{"$error":"#VALUE!"}},{"$f":"1/AH16","v":{"$error":"#VALUE!"}},999.87,{"$error":"#VALUE!"},{"$error":"#VALUE!"},{"$error":"#VALUE!"},{"$error":"#VALUE!"},{"$error":"#VALUE!"},{"$f":"MAX(AO16,AP16)","v":{"$error":"#VALUE!"}},{"$error":"#VALUE!"},{"$error":"#VALUE!"},{"$f":"AR16*0.1","v":{"$error":"#VALUE!"}},{"$error":"#VALUE!"},{"$error":"#VALUE!"},{"$error":"#VALUE!"},null,{"$error":"#N/A"},0,0,0]
[null,null,null,null,null,null,null,null,null,null,null,null,null,null,null,null,null,null,null,null,null,null,null,"pressure (Pa)","y","Tdew (°C)","T pool (K)","P pool","T hall (K)","P hall","W pool","W hall","V pool","V hall","Rho pool","Rho hall","rho water","Eocc","Gocc","Gocc (converted)","Eo_nat","Eo_mech","Eo","Go","Go (converted)","Go covers","Go covers (converted)","fixes errors","evap (L/day)"]
[null,"Proposed Total",null,"Reference Total",null,"Difference"]
[null,{"$f":"ROUND(SUM(B5:B16),-2)","v":0},{"$f":"IF(B19=D19,\"=\",IF(B19<D19,\"<\",\">\"))","v":"="},{"$f":"ROUND(SUM(B23:B34),-2)","v":0},null,{"$f":"B19-D19","v":0},{"$f":"F19/D19","v":{"$error":"#DIV/0!"}}]
[null,{"$f":"B19*365/1000","v":0},{"$f":"IF(B20=D20,\"=\",IF(B20<D20,\"<\",\">\"))","v":"="},{"$f":"D19*365/1000","v":0}]
[null,null,null,null,null,null,null,null,null,null,null,null,null,null,null,null,null,null,null,null,"REFERENCE POOL EVAPORATION",null,null,null,null,null,null,null,null,null,null,null,null,null,null,null,null,null,null,null,null,null,null,null,null,null,null,null,null,null,"REFERENCE POOL TDS BLEED"]
["Reference Pools","Potable Water Consumption (L/day)",null,"Reference Pool Name (mirrored)","Reference pool environment (mirrored)","Reference pool type (mirrored)","Reference pool elevation (m, mirrored)","Reference pool surface area (m²m mirrored)","Reference pool volume (m³, mirrored)","Reference pool water temperature setpoint (°C, mirrored)","Reference TDS bleed control type","Reference pre-showering assumption","Reference total pool open hours (0-24, mirrored)","Reference cover usage","Reference pool hall temperature (°C)","Reference pool hall RH (%)","Reference outdoor temperature (°C)","Reference outdoor relative humidity (%)",null,null,"Temp for calcs",null,"Bathers","Altitude AtmoP","Magnus Dew Point",null,"satVap Pressure",null,null,null,"Humidity Ratio",null,"Specific Volume",null,null,null,"Water Density","Occ Evap",null,null,"Unnocc Evap",null,null,null,null,"Unocc covers Evap",null,"Max of occ and unocc","Total Evap",null,"TDS bleed baseline (%volume/day)",null,null,"TDS Bleed (L/day)"]
[null,{"$f":"IF(AND(ISNUMBER(BB23),ISNUMBER(AW23),ISNUMBER(B5)),ROUND(SUM(AW23,BB23),-1),\"\")","v":""},null,{"$f":"IF(ISBLANK(D5),\"\",D5)","v":""},"","","","","","",{"$f":"IF(ISBLANK(I5),\"\",IF(K5=$BI$4,K5,$BJ$4))","v":""},{"$f":"IF(ISBLANK(I5),\"\",\"No\")","v":""},{"$f":"IF(ISBLANK(M5),\"\",M5)","v":""},{"$f":"IF(ISBLANK(N5),\"\",\"No\")","v":""},{"$f":"IF(ISBLANK(E5),\"\",IF(E5=\"Indoor\",26,IF(E5=\"Outdoor\",Q5,\"Input error\")))","v":""},{"$f":"IF(ISBLANK(E5),\"\",0.4)","v":""},{"$f":"IF(ISBLANK(Q5),\"\",Q5)","v":15},0.5,null,null,{"$f":"IF(E23=$BF$6,O23,Q23)","v":15},{"$f":"IF(E23=$BF$6,P23,R23)","v":0.5},{"$f":"ROUNDUP(INDEX($BM$5:$BM$10,MATCH(F23,$BH$5:$BH$10,0))*H23,0)","v":{"$error":"#N/A"}},{"$f":"101325*(1-2.25577*10^-5*G23)^5.25588","v":{"$error":"#VALUE!"}},{"$f":"LN(V23)+17.67*U23/(243.5+U23)","v":0.33219131073599295},{"$f":" 243.5*Y23/(17.67-Y23)","v":4.6654444984332102},{"$f":"J23+273.15","v":{"$error":"#VALUE!"}},{"$f":"EXP(($BE$9/AA23)+$BE$10+$BE$11*AA23+$BE$12*AA23^2+$BE$13*AA23^3+$BE$14*LN(AA23))","v":{"$error":"#VALUE!"}},{"$f":"U23+273.15","v":288.14999999999998},{"$f":"V23*EXP(($BE$9/AC23)+$BE$10+$BE$11*AC23+$BE$12*AC23^2+$BE$13*AC23^3+$BE$14*LN(AC23))","v":852.72389722075866},{"$f":"(18.015268/28.966)*AB23/(X23-AB23)","v":{"$error":"#VALUE!"}},{"$f":"(18.015268/28.966)*AD23/(X23-AD23)","v":{"$error":"#VALUE!"}},{"$f":"287.042*(J23+273.15)*(1+(1.607858*AE23))/X23","v":{"$error":"#VALUE!"}},{"$f":"287.042*(U23+273.15)*(1+(1.607858*AF23))/X23","v":{"$error":"#VALUE!"}},{"$f":"1/AG23","v":{"$error":"#VALUE!"}},{"$f":"1/AH23","v":{"$error":"#VALUE!"}},{"$f":"999.87/(1+0.0002*(J23))","v":{"$error":"#VALUE!"}},{"$f":"AQ23*(1.9-21*(AJ23-AI23)+5.3*(W23/H23))","v":{"$error":"#VALUE!"}},{"$f":"AL23*H23","v":{"$error":"#VALUE!"}},{"$f":"(AM23/AK23)*1000","v":{"$error":"#VALUE!"}},{"$f":"$BE$5*AI23*(AJ23-AI23)^(1/3)*(AE23-AF23)","v":{"$error":"#VALUE!"}},{"$f":"$BE$6*(AB23-AD23)","v":{"$error":"#VALUE!"}},{"$f":"MAX(AO23,AP23)","v":{"$error":"#VALUE!"}},{"$f":"AQ23*H23","v":{"$error":"#VALUE!"}},{"$f":"(AR23/$AK$5)*1000","v":{"$error":"#VALUE!"}},{"$f":"AR23*0.1","v":{"$error":"#VALUE!"}},{"$f":"(AT23/$AK$5)*1000","v":{"$error":"#VALUE!"}},{"$f":"MAX(AN23,AS23)","v":{"$error":"#VALUE!"}},{"$f":"IF(N23=$BG$6,(M23*AV23+(24-M23)*AU23), (M23*AV23+(24-M23)*AS23))","v":{"$error":"#VALUE!"}},null,{"$f":"INDEX($BJ$5:$BJ$10,MATCH(F23,$BH$5:$BH$10,0))","v":{"$error":"#N/A"}},null,null,{"$f":"IF(K23=$BI$4,0,IF(ISNUMBER(I23),I23*1000*(AY23+AZ23+BA23),\"\"))","v":0}]
[null,"",null,"","","","","","","",{"$f":"IF(ISBLANK(I6),\"\",IF(K6=$BI$4,K6,$BJ$4))","v":""},"","","","",{"$f":"IF(ISBLANK(E6),\"\",0.4)","v":""},"","",null,null,{"$f":"IF(E24=$BF$6,O24,Q24)","v":""},{"$f":"IF(E24=$BF$6,P24,R24)","v":""},{"$error":"#N/A"},{"$error":"#VALUE!"},{"$error":"#VALUE!"},{"$f":" 243.5*Y24/(17.67-Y24)","v":{"$error":"#VALUE!"}},{"$f":"J24+273.15","v":{"$error":"#VALUE!"}},{"$error":"#VALUE!"},{"$error":"#VALUE!"},{"$error":"#VALUE!"},{"$f":"(18.015268/28.966)*AB24/(X24-AB24)","v":{"$error":"#VALUE!"}},{"$f":"(18.015268/28.966)*AD24/(X24-AD24)","v":{"$error":"#VALUE!"}},{"$error":"#VALUE!"},{"$error":"#VALUE!"},{"$f":"1/AG24","v":{"$error":"#VALUE!"}},{"$f":"1/AH24","v":{"$error":"#VALUE!"}},{"$error":"#VALUE!"},{"$error":"#VALUE!"},{"$error":"#VALUE!"},{"$f":"(AM24/AK24)*1000","v":{"$error":"#VALUE!"}},{"$error":"#VALUE!"},{"$error":"#VALUE!"},{"$f":"MAX(AO24,AP24)","v":{"$error":"#VALUE!"}},{"$error":"#VALUE!"},{"$error":"#VALUE!"},{"$f":"AR24*0.1","v":{"$error":"#VALUE!"}},{"$error":"#VALUE!"},{"$f":"MAX(AN24,AS24)","v":{"$error":"#VALUE!"}},{"$error":"#VALUE!"},null,{"$f":"INDEX($BJ$5:$BJ$10,MATCH(F24,$BH$5:$BH$10,0))","v":{"$error":"#N/A"}},null,null,0,null,null,"50m category","0.5% tds"]
[null,"",null,"","","","","","","",{"$f":"IF(ISBLANK(I7),\"\",IF(K7=$BI$4,K7,$BJ$4))","v":""},"","","","",{"$f":"IF(ISBLANK(E7),\"\",0.4)","v":""},"","",null,null,"","",{"$error":"#N/A"},{"$error":"#VALUE!"},{"$error":"#VALUE!"},{"$f":" 243.5*Y25/(17.67-Y25)","v":{"$error":"#VALUE!"}},{"$error":"#VALUE!"},{"$error":"#VALUE!"},{"$error":"#VALUE!"},{"$error":"#VALUE!"},{"$f":"(18.015268/28.966)*AB25/(X25-AB25)","v":{"$error":"#VALUE!"}},{"$f":"(18.015268/28.966)*AD25/(X25-AD25)","v":{"$error":"#VALUE!"}},{"$error":"#VALUE!"},{"$error":"#VALUE!"},{"$f":"1/AG25","v":{"$error":"#VALUE!"}},{"$error":"#VALUE!"},{"$error":"#VALUE!"},{"$error":"#VALUE!"},{"$error":"#VALUE!"},{"$error":"#VALUE!"},{"$error":"#VALUE!"},{"$error":"#VALUE!"},{"$f":"MAX(AO25,AP25)","v":{"$error":"#VALUE!"}},{"$error":"#VALUE!"},{"$error":"#VALUE!"},{"$f":"AR25*0.1","v":{"$error":"#VALUE!"}},{"$error":"#VALUE!"},{"$error":"#VALUE!"},{"$error":"#VALUE!"},null,{"$error":"#N/A"},null,null,0,null,null,"25m category 0.7%"]
[null,"",null,"","","","","","","",{"$f":"IF(ISBLANK(I8),\"\",IF(K8=$BI$4,K8,$BJ$4))","v":""},"","","","",{"$f":"IF(ISBLANK(E8),\"\",0.4)","v":""},"","",null,null,"","",{"$error":"#N/A"},{"$error":"#VALUE!"},{"$error":"#VALUE!"},{"$error":"#VALUE!"},{"$error":"#VALUE!"},{"$error":"#VALUE!"},{"$error":"#VALUE!"},{"$error":"#VALUE!"},{"$error":"#VALUE!"},{"$error":"#VALUE!"},{"$error":"#VALUE!"},{"$error":"#VALUE!"},{"$error":"#VALUE!"},{"$error":"#VALUE!"},{"$error":"#VALUE!"},{"$error":"#VALUE!"},{"$error":"#VALUE!"},{"$error":"#VALUE!"},{"$error":"#VALUE!"},{"$error":"#VALUE!"},{"$error":"#VALUE!"},{"$error":"#VALUE!"},{"$error":"#VALUE!"},{"$error":"#VALUE!"},{"$error":"#VALUE!"},{"$error":"#VALUE!"},{"$error":"#VALUE!"},null,{"$error":"#N/A"},null,null,0]
[null,"",null,"","","","","","","",{"$f":"IF(ISBLANK(I9),\"\",IF(K9=$BI$4,K9,$BJ$4))","v":""},"","","","",{"$f":"IF(ISBLANK(E9),\"\",0.4)","v":""},"","",null,null,"","",{"$error":"#N/A"},{"$error":"#VALUE!"},{"$error":"#VALUE!"},{"$error":"#VALUE!"},{"$error":"#VALUE!"},{"$error":"#VALUE!"},{"$error":"#VALUE!"},{"$error":"#VALUE!"},{"$error":"#VALUE!"},{"$error":"#VALUE!"},{"$error":"#VALUE!"},{"$error":"#VALUE!"},{"$error":"#VALUE!"},{"$error":"#VALUE!"},{"$error":"#VALUE!"},{"$error":"#VALUE!"},{"$error":"#VALUE!"},{"$error":"#VALUE!"},{"$error":"#VALUE!"},{"$error":"#VALUE!"},{"$error":"#VALUE!"},{"$error":"#VALUE!"},{"$error":"#VALUE!"},{"$error":"#VALUE!"},{"$error":"#VALUE!"},{"$error":"#VALUE!"},{"$error":"#VALUE!"},null,{"$error":"#N/A"},null,null,0]
[null,"",null,"","","","","","","","","","","","","","","",null,null,"","",{"$error":"#N/A"},{"$error":"#VALUE!"},{"$error":"#VALUE!"},{"$error":"#VALUE!"},{"$error":"#VALUE!"},{"$error":"#VALUE!"},{"$error":"#VALUE!"},{"$error":"#VALUE!"},{"$error":"#VALUE!"},{"$error":"#VALUE!"},{"$error":"#VALUE!"},{"$error":"#VALUE!"},{"$error":"#VALUE!"},{"$error":"#VALUE!"},{"$error":"#VALUE!"},{"$error":"#VALUE!"},{"$error":"#VALUE!"},{"$error":"#VALUE!"},{"$error":"#VALUE!"},{"$error":"#VALUE!"},{"$error":"#VALUE!"},{"$error":"#VALUE!"},{"$error":"#VALUE!"},{"$error":"#VALUE!"},{"$error":"#VALUE!"},{"$error":"#VALUE!"},{"$error":"#VALUE!"},null,{"$error":"#N/A"},null,null,0]
[null,"",null,"","","","","","","","","","","","","","","",null,null,"","",{"$error":"#N/A"},{"$error":"#VALUE!"},{"$error":"#VALUE!"},{"$error":"#VALUE!"},{"$error":"#VALUE!"},{"$error":"#VALUE!"},{"$error":"#VALUE!"},{"$error":"#VALUE!"},{"$error":"#VALUE!"},{"$error":"#VALUE!"},{"$error":"#VALUE!"},{"$error":"#VALUE!"},{"$error":"#VALUE!"},{"$error":"#VALUE!"},{"$error":"#VALUE!"},{"$error":"#VALUE!"},{"$error":"#VALUE!"},{"$error":"#VALUE!"},{"$error":"#VALUE!"},{"$error":"#VALUE!"},{"$error":"#VALUE!"},{"$error":"#VALUE!"},{"$error":"#VALUE!"},{"$error":"#VALUE!"},{"$error":"#VALUE!"},{"$error":"#VALUE!"},{"$error":"#VALUE!"},null,{"$error":"#N/A"},null,null,0]
[null,"",null,"","","","","","","","","","","","","","","",null,null,"","",{"$error":"#N/A"},{"$error":"#VALUE!"},{"$error":"#VALUE!"},{"$error":"#VALUE!"},{"$error":"#VALUE!"},{"$error":"#VALUE!"},{"$error":"#VALUE!"},{"$error":"#VALUE!"},{"$error":"#VALUE!"},{"$error":"#VALUE!"},{"$error":"#VALUE!"},{"$error":"#VALUE!"},{"$error":"#VALUE!"},{"$error":"#VALUE!"},{"$error":"#VALUE!"},{"$error":"#VALUE!"},{"$error":"#VALUE!"},{"$error":"#VALUE!"},{"$error":"#VALUE!"},{"$error":"#VALUE!"},{"$error":"#VALUE!"},{"$error":"#VALUE!"},{"$error":"#VALUE!"},{"$error":"#VALUE!"},{"$error":"#VALUE!"},{"$error":"#VALUE!"},{"$error":"#VALUE!"},null,{"$error":"#N/A"},null,null,0]
[null,"",null,"","","","","","","","","","","","","","","",null,null,"","",{"$error":"#N/A"},{"$error":"#VALUE!"},{"$error":"#VALUE!"},{"$error":"#VALUE!"},{"$error":"#VALUE!"},{"$error":"#VALUE!"},{"$error":"#VALUE!"},{"$error":"#VALUE!"},{"$error":"#VALUE!"},{"$error":"#VALUE!"},{"$error":"#VALUE!"},{"$error":"#VALUE!"},{"$error":"#VALUE!"},{"$error":"#VALUE!"},{"$error":"#VALUE!"},{"$error":"#VALUE!"},{"$error":"#VALUE!"},{"$error":"#VALUE!"},{"$error":"#VALUE!"},{"$error":"#VALUE!"},{"$error":"#VALUE!"},{"$error":"#VALUE!"},{"$error":"#VALUE!"},{"$error":"#VALUE!"},{"$error":"#VALUE!"},{"$error":"#VALUE!"},{"$error":"#VALUE!"},null,{"$error":"#N/A"},null,null,0]
[null,"",null,"","","","","","","","","","","","","","","",null,null,"","",{"$error":"#N/A"},{"$error":"#VALUE!"},{"$error":"#VALUE!"},{"$error":"#VALUE!"},{"$error":"#VALUE!"},{"$error":"#VALUE!"},{"$error":"#VALUE!"},{"$error":"#VALUE!"},{"$error":"#VALUE!"},{"$error":"#VALUE!"},{"$error":"#VALUE!"},{"$error":"#VALUE!"},{"$error":"#VALUE!"},{"$error":"#VALUE!"},{"$error":"#VALUE!"},{"$error":"#VALUE!"},{"$error":"#VALUE!"},{"$error":"#VALUE!"},{"$error":"#VALUE!"},{"$error":"#VALUE!"},{"$error":"#VALUE!"},{"$error":"#VALUE!"},{"$error":"#VALUE!"},{"$error":"#VALUE!"},{"$error":"#VALUE!"},{"$error":"#VALUE!"},{"$error":"#VALUE!"},null,{"$error":"#N/A"},null,null,0]
[null,"",null,"","","","","","","","","","","","","","","",null,null,"","",{"$error":"#N/A"},{"$error":"#VALUE!"},{"$error":"#VALUE!"},{"$error":"#VALUE!"},{"$error":"#VALUE!"},{"$error":"#VALUE!"},{"$error":"#VALUE!"},{"$error":"#VALUE!"},{"$error":"#VALUE!"},{"$error":"#VALUE!"},{"$error":"#VALUE!"},{"$error":"#VALUE!"},{"$error":"#VALUE!"},{"$error":"#VALUE!"},{"$error":"#VALUE!"},{"$error":"#VALUE!"},{"$error":"#VALUE!"},{"$error":"#VALUE!"},{"$error":"#VALUE!"},{"$error":"#VALUE!"},{"$error":"#VALUE!"},{"$error":"#VALUE!"},{"$error":"#VALUE!"},{"$error":"#VALUE!"},{"$error":"#VALUE!"},{"$error":"#VALUE!"},{"$error":"#VALUE!"},null,{"$error":"#N/A"},null,null,0]
[null,"",null,"","","","","","","","","","","","","","","",null,null,"","",{"$error":"#N/A"},{"$error":"#VALUE!"},{"$error":"#VALUE!"},{"$f":" 243.5*Y34/(17.67-Y34)","v":{"$error":"#VALUE!"}},{"$error":"#VALUE!"},{"$error":"#VALUE!"},{"$error":"#VALUE!"},{"$error":"#VALUE!"},{"$f":"(18.015268/28.966)*AB34/(X34-AB34)","v":{"$error":"#VALUE!"}},{"$f":"(18.015268/28.966)*AD34/(X34-AD34)","v":{"$error":"#VALUE!"}},{"$error":"#VALUE!"},{"$error":"#VALUE!"},{"$f":"1/AG34","v":{"$error":"#VALUE!"}},{"$f":"1/AH34","v":{"$error":"#VALUE!"}},{"$error":"#VALUE!"},{"$error":"#VALUE!"},{"$error":"#VALUE!"},{"$error":"#VALUE!"},{"$error":"#VALUE!"},{"$error":"#VALUE!"},{"$f":"MAX(AO34,AP34)","v":{"$error":"#VALUE!"}},{"$error":"#VALUE!"},{"$error":"#VALUE!"},{"$f":"AR34*0.1","v":{"$error":"#VALUE!"}},{"$error":"#VALUE!"},{"$error":"#VALUE!"},{"$error":"#VALUE!"},null,{"$error":"#N/A"},null,null,0]
[null,null,null,null,null,null,null,null,null,null,null,null,null,null,null,null,null,null,null,null,null,null,null,"pressure (Pa)","y","Tdew (°C)","T pool (K)","P pool","T hall (K)","P hall","W pool","W hall","V pool","V hall","Rho pool","Rho hall","rho water","Eocc","Gocc","Gocc (converted)","Eo_nat","Eo_mech","Eo","Go","Go (converted)","Go covers","Go covers (converted)","fixes errors","evap (L/day)"]

{"sheet":"hidden","index":7,"n_rows":35,"n_cols":10,"rows_kept":35,"cut":false,"hidden":true,"merged":[]}
[]
[]
["Upload Path","\\\\syd-data\\greenstar\\Tool Devt & Review\\GS Public Building\\Version 1\\05. Release (all latest docs)\\Excel\\Upload\\"]
["Tool Name","Green Star - Interiors Scorecard"]
[]
[]
[]
[]
[]
[]
["data for graphical summary page",null,null,null,"data for graphical summary page"]
["Rating Chart","Green Star","Achieved",null,"Rating Chart","Green Star","Achieved",null,"Scores required for GBRT Ratings"]
["No Rating",{"$f":"I14-I13","v":10},{"$f":"MAX(0,MIN($B13,$B$32-$I13))","v":0},null,"No Rating",{"$f":"IF(C13=B13,0,0)","v":0},1,null,0,"No Rating"]
["One Star",10,0,null,"One Star",{"$f":"IF(ROUND(C13,0)=ROUND(B13,0),0,1)","v":1},{"$f":"IF(ROUND(C13,0)=ROUND(B13,0),1,0)","v":0},null,10,1]
["Two Star",10,0,null,"Two Star",1,0,null,20,2]
["Three Star",15,0,null,"Three Star",1,0,null,30,3]
["Four Star",15,0,null,"Four Star",1,0,null,45,4]
["Five Star",15,0,null,"Five Star",1,0,null,60,5]
["Six Stars",25,0,null,"Six Stars",1,0,null,75,6]
[null,null,null,null,null,null,null,null,100,"Max score"]
["Potential",null,{"$error":"#REF!"},null,"Potential",null,{"$error":"#REF!"}]
[null,"weighted points"]
["Management",0]
["IEQ",0]
["Energy",0]
["Transport",0]
["Water",0]
["Materials",0]
["Ecology",0]
["Emissions",0]
["Innovation",0]
["Total",{"$f":"SUM(B23:B31)","v":0}]
["For conditional requirement and questions"]
["yes"]
["no"]